{"text_format":"1","workbook":"xlsx","n_sheets":3,"sheets":["DATA","Accuracy","Reports"],"not_rendered":{"charts":0,"images":0,"macros":1,"external_links":0,"defined_names":3,"comments":0,"pivot_tables":0},"unopened":[],"bounds":{"document_bytes":16777216,"sheet_cells":100000,"rows_first":2000,"rows_last":500,"rows_between":2000,"halvings":0,"cell_chars":16384,"cell_head_chars":4096},"cells_cut":0,"cells_raw":0,"read":"whole","date_system":"1900"}

{"sheet":"DATA","index":0,"n_rows":3972,"n_cols":47,"rows_kept":3972,"cut":false,"hidden":false,"merged":[]}
["Name","Team","Church","Year","Meet","QuizType","Room","Quiz#","QM","Correct","Error","Foul","BonusCorrect","BonusError","3rd","4th","5th","QuizOut","ErrOut","Score","TOTAL_QUIZ",null,null,null,null,null,null,null,null,null,"NAME","COUNT","Correct","Corr/Q","Error","Error/Q","Foul","BonusCorrect","BonusError","3rd","4th","5th","QuizOut","ErrOut","Score","TOTAL_QUIZ","per quiz"]
["Aaron Maier","LH4","Lighthouse","2014-2015",1,"Pre",4,16,"Cutty Welt",0,3,null,null,null,null,null,null,{"$f":"IF(J2=4,1,0)","v":0},{"$f":"IF(K2=3,1,0)","v":1},{"$f":"quizscore(J2,K2)","v":-20},{"$f":"T2+M2*(20) + (SUM(O2:Q2)*(10)) - L2*(5) - N2*(5)","v":-20},{"$f":"AVERAGEIFS(U:U,A:A,A2,F:F,\"Pre\")","v":15.666666666666666},null,null,null,"Meet","Corr","Err","Accuracy",null,"David Steinke",{"$f":"COUNTIFS(A:A,AE2,H:H,\"j\")","v":6},{"$f":"SUMIFS(J:J,A:A,AE2,H:H,\"j\")","v":19},{"$f":"AG2/AF2","v":3.1666666666666665},{"$f":"SUMIFS(K:K,A:A,AE2,H:H,\"j\")","v":10},{"$f":"AI2/AF2","v":1.6666666666666667},{"$f":"SUMIFS(L:L,A:A,AE2,H:H,\"J\")","v":0},{"$f":"SUMIFS(M:M,A:A,AE2,H:H,\"J\")","v":1},{"$f":"SUMIFS(N:N,A:A,AE2,H:H,\"J\")","v":0},{"$f":"SUMIFS(O:O,A:A,AE2,H:H,\"J\")","v":0},{"$f":"SUMIFS(P:P,A:A,AE2,H:H,\"J\")","v":0},{"$f":"SUMIFS(Q:Q,A:A,AE2,H:H,\"J\")","v":0},{"$f":"SUMIFS(R:R,A:A,AE2,H:H,\"J\")","v":3},{"$f":"SUMIFS(S:S,A:A,AE2,H:H,\"J\")","v":1},{"$f":"SUMIFS(T:T,A:A,AE2,H:H,\"J\")","v":280},{"$f":"SUMIFS(U:U,A:A,AE2,H:H,\"J\")","v":300},{"$f":"AT2/AF2","v":50}]
["Aaron Maier","LH4","Lighthouse","2014-2015",2,"ConB",4,"B-5","Cutty Welt",0,2,null,null,null,null,null,null,0,0,-10,-10,15.666666666666666,null,null,null,1,{"$f":"SUMIF(E:E,Z3,J:J)","v":1164},{"$f":"SUMIF(E:E,Z3,K:K)","v":479},{"$f":"AA3/(AA3+AB3)","v":0.70846013390139984},null,"Abi Carlson",4,12,3,8,2,0,1,0,0,0,0,2,2,200,220,55]
["Aaron Maier","LH4","Lighthouse","2014-2015",2,"Pre",2,6,"Jeremy Swingle",0,1,null,null,null,null,null,null,0,0,0,0,15.666666666666666,null,null,null,2,{"$f":"SUMIF(E:E,Z4,J:J)","v":1047},{"$f":"SUMIF(E:E,Z4,K:K)","v":520},{"$f":"AA4/(AA4+AB4)","v":0.66815571155073383},null,"Anna Kong",9,27,3,14,1.5555555555555556,0,5,0,0,0,0,6,3,420,520,57.777777777777779]
["Aaron Maier","LH4","Lighthouse","2014-2015",4,"Pre",3,7,"Tony Kong",0,0,null,null,1,null,null,null,0,0,0,-5,15.666666666666666,null,null,null,3,{"$f":"SUMIF(E:E,Z5,J:J)","v":986},{"$f":"SUMIF(E:E,Z5,K:K)","v":498},0.66442048517520214,null,"Lydia Taw",13,37,2.8461538461538463,9,0.69230769230769229,6,5,0,0,0,0,6,1,710,780,60]
["Aaron Maier","LH4","Lighthouse","2014-2015",2,"Pre",1,21,"Scott Peterson",0,1,null,null,null,null,null,null,0,0,0,0,15.666666666666666,null,null,null,4,{"$f":"SUMIF(E:E,Z6,J:J)","v":933},{"$f":"SUMIF(E:E,Z6,K:K)","v":531},0.63729508196721307,null,"Emilee Pope",4,6,1.5,4,1,0,0,0,1,0,0,0,0,110,120,30]
["Aaron Maier","LH4","Lighthouse","2014-2015",3,"Pre",4,28,"Cutty Welt",0,0,null,null,1,null,null,null,0,0,0,-5,15.666666666666666,null,null,null,5,{"$f":"SUMIF(E:E,Z7,J:J)","v":983},{"$f":"SUMIF(E:E,Z7,K:K)","v":456},0.68311327310632386,null,"Melinda Borden",2,3,1.5,1,0.5,0,0,0,0,0,0,0,0,60,60,30]
["Aaron Maier","LH4","Lighthouse","2014-2015",1,"Pre",2,30,"Jeremy Swingle",0,0,null,null,null,null,null,null,0,0,0,0,15.666666666666666,null,null,null,null,null,null,null,null,"James Taw",2,3,1.5,1,0.5,2,0,0,0,0,0,0,0,60,50,25]
["Aaron Maier","LH4","Lighthouse","2014-2015",2,"Pre",1,33,"Scott Peterson",0,0,null,null,null,null,null,null,0,0,0,0,15.666666666666666,null,"Name","Bracket","Room","Corr","Incorr","Accuracy",null,"Daniel Do",13,19,1.4615384615384615,9,0.69230769230769229,0,1,1,2,0,0,0,1,270,305,23.46153846153846]
["Aaron Maier","LH4","Lighthouse","2014-2015",1,"Pre",1,41,"Scott Peterson",0,1,null,null,null,null,null,null,0,0,0,0,15.666666666666666,null,"Abigail Taw","Pre",1,{"$f":"SUMIFS(J:J,A:A,X10,F:F,Y10,G:G,Z10)","v":27},{"$f":"SUMIFS(K:K,A:A,X10,F:F,Y10,G:G,Z10)","v":5},0.84375,null,"Isabel Bammer",13,15,1.1538461538461537,20,1.5384615384615385,0,0,1,5,0,0,0,1,200,245,18.846153846153847]
["Aaron Maier","LH4","Lighthouse","2014-2015",2,"Pre",4,44,"Cutty Welt",0,0,null,null,null,null,null,null,0,0,0,0,15.666666666666666,null,"Abigail Taw","Pre",2,17,8,0.68,null,"Emma Carlson",6,10,1.6666666666666667,2,0.33333333333333331,0,3,0,0,0,0,0,0,70,130,21.666666666666668]
["Aaron Maier","LH4","Lighthouse","2014-2015",3,"Pre",4,44,"Cutty Welt",0,0,null,null,null,null,null,null,0,0,0,0,15.666666666666666,null,"Abigail Taw","Pre",3,28,8,0.77777777777777779,null,"Kendra Gross",5,11,2.2000000000000002,5,1,0,1,0,0,0,0,0,0,210,230,46]
["Aaron Maier","LH4","Lighthouse","2014-2015",3,"Pre",2,50,"Jeremy Swingle",0,0,null,null,1,null,null,null,0,0,0,-5,15.666666666666666,null,"Abigail Taw","Pre",4,26,6,0.8125,null,"Micah Hollen",5,8,1.6,9,1.8,0,1,0,0,0,0,0,0,120,140,28]
["Aaron Maier","LH4","Lighthouse","2014-2015",4,"Pre",2,50,"Jeremy Swingle",0,0,null,null,2,null,null,null,0,0,0,-10,15.666666666666666,null,"Abigail Taw","Semi",1,27,14,0.65853658536585369,null,"Abigail Taw",2,1,0.5,3,1.5,0,1,0,0,0,0,0,0,10,30,15]
["Aaron Maier","LH4","Lighthouse","2014-2015",3,"ConA",3,"A-E","Tiffany Bye",0,0,null,null,null,null,null,null,0,0,0,0,15.666666666666666,null,"Abigail Taw","Semi",2,14,7,0.66666666666666663,null,"Jonathan Steinke",4,1,0.25,1,0.25,0,1,0,0,0,0,0,0,20,40,10]
["Aaron Maier","LH4","Lighthouse","2014-2015",1,"ConB",4,"B-3","Cutty Welt",1,3,null,null,null,null,null,null,0,1,0,0,15.666666666666666,null,null,null,null,null,null,null,null,"Claire Kong",9,6,0.66666666666666663,6,0.66666666666666663,0,0,0,0,0,0,0,0,100,100,11.111111111111111]
["Aaron Maier","LH4","Lighthouse","2014-2015",2,"ConB",4,"B-4","Cutty Welt",0,1,null,null,null,null,null,null,0,0,0,0,15.666666666666666,null,null,"Bracket","Room","Corr","Incorr","Accuracy",null,"Austin Watkins",2,0,0,0,0,0,0,0,0,0,0,0,0,0,0,0]
["Aaron Maier","LH4","Lighthouse","2014-2015",2,"ConB",4,"B-6","Cutty Welt",0,0,null,null,null,null,null,null,0,0,0,0,15.666666666666666,null,null,"Pre",1,{"$f":"SUMIFS(J:J,F:F,Y18,G:G,Z18)","v":857},{"$f":"SUMIFS(K:K,F:F,Y18,G:G,Z18)","v":391},{"$f":"AA18/(AA18+AB18)","v":0.68669871794871795},null,"Danny Herzog",9,0,0,0,0,0,0,0,0,0,0,0,0,0,0,0]
["Aaron Maier","LH4","Lighthouse","2014-2015",4,"ConA",2,"A-C","Jeremy Swingle",1,2,null,null,null,null,null,null,0,0,10,10,15.666666666666666,null,null,"Pre",2,{"$f":"SUMIFS(J:J,F:F,Y19,G:G,Z19)","v":791},{"$f":"SUMIFS(K:K,F:F,Y19,G:G,Z19)","v":422},0.65210222588623246,null,"Ethan Shipps",6,0,0,0,0,0,0,0,0,0,0,0,0,0,0,0]
["Aaron Maier","LH4","Lighthouse","2014-2015",3,"Pre",1,13,"Scott Peterson",1,0,null,null,null,null,null,null,0,0,20,20,15.666666666666666,null,null,"Pre",3,{"$f":"SUMIFS(J:J,F:F,Y20,G:G,Z20)","v":790},{"$f":"SUMIFS(K:K,F:F,Y20,G:G,Z20)","v":355},0.68995633187772931,null,"Joseph Winters",2,0,0,0,0,0,0,0,0,0,0,0,0,0,0,0]
["Aaron Maier","LH4","Lighthouse","2014-2015",2,"Pre",3,19,"Tiffany Bye",1,1,null,null,null,null,null,null,0,0,20,20,15.666666666666666,null,null,"Pre",4,{"$f":"SUMIFS(J:J,F:F,Y21,G:G,Z21)","v":814},{"$f":"SUMIFS(K:K,F:F,Y21,G:G,Z21)","v":327},0.71340929009640663]
["Aaron Maier","LH4","Lighthouse","2014-2015",3,"Pre",4,20,"Cutty Welt",1,0,null,null,null,null,null,null,0,0,20,20,15.666666666666666]
["Aaron Maier","LH4","Lighthouse","2014-2015",4,"Pre",1,21,"Scott Peterson",1,0,null,null,null,null,null,null,0,0,20,20,15.666666666666666]
["Aaron Maier","LH4","Lighthouse","2014-2015",1,"Pre",3,23,"Tiffany Bye",1,0,null,2,1,null,null,null,0,0,20,55,15.666666666666666]
["Aaron Maier","LH4","Lighthouse","2014-2015",3,"Pre",3,31,"Tiffany Bye",1,0,null,null,null,null,null,null,0,0,20,20,15.666666666666666]
["Aaron Maier","LH4","Lighthouse","2014-2015",4,"Pre",4,36,"Cutty Welt",1,1,null,null,null,null,null,null,0,0,20,20,15.666666666666666,null,null,null,"Micah Hollen",{"$f":"SUMIFS(T:T,A:A,Z26,E:E,5)","v":680}]
["Aaron Maier","LH4","Lighthouse","2014-2015",3,"ConA",3,"A-B","Tiffany Bye",1,1,null,null,null,null,null,null,0,0,20,20,15.666666666666666,null,null,null,"Abigail Taw",{"$f":"SUMIFS(T:T,A:A,Z27,E:E,5)","v":770}]
["Aaron Maier","LH4","Lighthouse","2014-2015",4,"Pre",2,14,"Jeremy Swingle",2,1,null,null,null,null,null,null,0,0,40,40,15.666666666666666,null,null,null,"Anna Kong",580]
["Aaron Maier","LH4","Lighthouse","2014-2015",3,"ConA",3,"A-H","Tiffany Bye",2,1,null,null,null,null,null,null,0,0,40,40,15.666666666666666,null,null,null,"Bryce Asberg",730]
["Aaron Maier","LH4","Lighthouse","2014-2015",1,"ConB",4,"B-1","Cutty Welt",2,1,null,null,null,null,null,null,0,0,40,40,15.666666666666666,null,null,null,"Lydia Taw",630]
["Aaron Maier","LH4","Lighthouse","2014-2015",1,"Pre",2,6,"Jeremy Swingle",3,1,null,null,1,null,null,null,0,0,60,55,15.666666666666666,null,null,null,"Emma Carlson",680]
["Aaron Maier","LH4","Lighthouse","2014-2015",2,"Pre",3,15,"Tiffany Bye",3,0,null,null,null,null,null,null,0,0,60,60,15.666666666666666,null,null,null,"David Steinke",590]
["Aaron Maier","LH4","Lighthouse","2014-2015",4,"Pre",3,27,"Tony Kong",3,0,null,null,null,null,null,null,0,0,60,60,15.666666666666666,null,null,null,"Maddie Ashcraft",580]
["Aaron Maier","LH4","Lighthouse","2014-2015",1,"Pre",1,49,"Scott Peterson",3,1,null,null,null,null,null,null,0,0,60,60,15.666666666666666,null,null,null,"Joshua Hole",530]
["Aaron Maier","LH4","Lighthouse","2014-2015",4,"ConA",3,"A-F","Abby Ashcraft",3,1,null,null,1,null,null,null,0,0,60,55,15.666666666666666,null,null,null,"Benjamin Malchert",480]
["Aaron Maier","LH4","Lighthouse","2014-2015",1,"ConB",4,"B-6","Cutty Welt",4,2,null,1,null,null,null,null,1,0,70,90,15.666666666666666,null,null,null,"Daniel Do",470]
["Aaron Maier","LH4","Lighthouse","2014-2015",5,"Pre",2,2,"Jeremy Swingle",2,1,null,null,1,null,null,null,0,0,40,35,15.666666666666666,null,null,null,"Abi Carlson",390]
["Aaron Maier","LH4","Lighthouse","2014-2015",5,"Pre",1,9,"Scott Peterson",1,0,null,null,null,1,null,null,0,0,20,30,15.666666666666666,null,null,null,"Stephen Miller",400]
["Aaron Maier","LH4","Lighthouse","2014-2015",5,"Pre",4,16,"Cutty Welt",0,0,null,null,null,null,null,null,0,0,0,0,15.666666666666666,null,null,null,"Teresa Derr",550]
["Aaron Maier","LH4","Lighthouse","2014-2015",5,"Pre",1,21,"Scott Peterson",0,0,null,null,null,null,null,null,0,0,0,0,15.666666666666666,null,null,null,"James Taw",460]
["Aaron Maier","LH4","Lighthouse","2014-2015",5,"Pre",3,35,"Tony Kong",0,0,null,null,null,null,null,null,0,0,0,0,15.666666666666666,null,null,null,"Stephen Nguyen",450]
["Aaron Maier","LH4","Lighthouse","2014-2015",5,"Pre",4,44,"Cutty Welt",0,0,null,null,null,null,null,null,0,0,0,0,15.666666666666666,null,null,null,"Kimberly Bonar",510]
["Aaron Maier","LH4","Lighthouse","2014-2015",5,"ConA",2,"A-C","Jeremy Swingle",0,1,null,null,null,null,null,null,0,0,0,0,15.666666666666666,null,null,null,"Samuel Do",420]
["Aaron Maier","LH4","Lighthouse","2014-2015",5,"ConA",2,"A-D","Jeremy Swingle",0,1,null,null,null,null,null,null,0,0,0,0,15.666666666666666,null,null,null,"Jamie Rand",380]
["Aaron Maier","LH4","Lighthouse","2014-2015",5,"ConA",2,"A-G","Jeremy Swingle",1,1,null,null,null,1,null,null,0,0,20,30,15.666666666666666,null,null,null,"Justin Widmer",480]
["Aaron Maier","LH4",{"$f":"VLOOKUP(B46,$B$2:$C$3219,2,FALSE)","v":"Lighthouse"},"2014-2015",5,"ConA",3,"A-I","Abby Ashcraft",2,0,null,null,null,null,null,null,0,0,40,40,15.666666666666666,null,null,null,"Nathan Bonar",360]
["Aaron Maier","LH4",{"$f":"VLOOKUP(B47,$B$2:$C$3219,2,FALSE)","v":"Lighthouse"},"2014-2015",5,"ConA",3,"A-J","Abby Ashcraft",1,1,null,null,null,null,null,null,0,0,null,0,15.666666666666666,null,null,null,"Ryan Small",380]
["Abi Carlson","DAC1","Dallas","2014-2015",4,"Semi",1,"A","Scott Peterson",0,3,null,null,null,null,null,null,0,1,{"$f":"quizscore(J48,K48)","v":-20},-20,71.5,null,null,null,"Andrew Borden",400]
["Abi Carlson","DAC1","Dallas","2014-2015",2,"Pre",4,8,"Cutty Welt",1,3,null,null,null,null,null,null,0,1,0,0,71.5,null,null,null,"Ashly Barrios",340]
["Abi Carlson","DAC1","Dallas","2014-2015",2,"Semi",2,"H","Jeremy Swingle",1,3,null,null,null,null,null,null,0,1,0,0,71.5,null,null,null,"Claire Kong",300]
["Abi Carlson","DAC1","Dallas","2014-2015",1,"Semi",1,"J","Scott Peterson",1,3,null,null,null,null,null,null,0,1,0,0,71.5,null,null,null,"Sam Ashcraft",300]
["Abi Carlson","DAC1","Dallas","2014-2015",2,"Pre",2,38,"Jeremy Swingle",2,3,null,null,null,null,null,null,0,1,20,20,71.5,null,null,null,"Peter Stuart",390]
["Abi Carlson","DAC1","Dallas","2014-2015",3,"Pre",3,39,"Tiffany Bye",2,3,null,null,null,null,null,null,0,1,20,20,71.5,null,null,null,"Inez Yoon",400]
["Abi Carlson","DAC1","Dallas","2014-2015",3,"Semi",1,"A","Scott Peterson",2,3,null,null,1,null,null,null,0,1,20,15,71.5,null,null,null,"Emilee Pope",270]
["Abi Carlson","DAC1","Dallas","2014-2015",3,"Semi",2,"H","Jeremy Swingle",2,3,null,null,null,null,null,null,0,1,20,20,71.5,null,null,null,"Aidan McKee",250]
["Abi Carlson","DAC1","Dallas","2014-2015",2,"Semi",2,"F","Jeremy Swingle",2,2,null,null,null,null,null,null,0,0,30,30,71.5,null,null,null,"Kendra Gross",240]
["Abi Carlson","DAC1","Dallas","2014-2015",4,"Pre",2,34,"Jeremy Swingle",3,3,null,null,null,null,null,null,0,1,40,40,71.5,null,null,null,"Ruth Stuart",250]
["Abi Carlson","DAC1","Dallas","2014-2015",4,"Semi",1,"I","Scott Peterson",3,3,null,null,null,null,null,null,0,1,40,40,71.5,null,null,null,"Isabel Bammer",240]
["Abi Carlson","DAC1","Dallas","2014-2015",1,"Semi",1,"J","Scott Peterson",3,3,null,1,null,null,null,null,0,1,40,60,71.5,null,null,null,"Esther Derr",350]
["Abi Carlson","DAC1","Dallas","2014-2015",4,"Pre",2,42,"Jeremy Swingle",3,2,null,null,null,null,null,null,0,0,50,50,71.5,null,null,null,"Zoe Walters",280]
["Abi Carlson","DAC1","Dallas","2014-2015",2,"Semi",1,"B","Scott Peterson",3,2,null,null,null,null,null,null,0,0,50,50,71.5,null,null,null,"Daniel Newman",270]
["Abi Carlson","DAC1","Dallas","2014-2015",4,"Semi",2,"F","Jeremy Swingle",3,2,null,1,null,null,null,null,0,0,50,70,71.5,null,null,null,"Daniel Emme",200]
["Abi Carlson","DAC1","Dallas","2014-2015",3,"Pre",1,5,"Scott Peterson",4,2,null,null,null,null,null,null,1,0,70,70,71.5,null,null,null,"Jason Small",180]
["Abi Carlson","DAC1","Dallas","2014-2015",2,"Pre",1,21,"Scott Peterson",4,2,null,1,null,null,null,null,1,0,70,90,71.5,null,null,null,"Camden Kositzky",160]
["Abi Carlson","DAC1","Dallas","2014-2015",3,"Pre",2,22,"Jeremy Swingle",4,2,null,1,null,null,null,null,1,0,70,90,71.5,null,null,null,"Makya Warren",160]
["Abi Carlson","DAC1","Dallas","2014-2015",1,"Pre",2,26,"Jeremy Swingle",4,2,null,null,null,null,null,null,{"$f":"IF(J66=4,1,0)","v":1},{"$f":"IF(K66=3,1,0)","v":0},70,{"$f":"T66+M66*(20) + (SUM(O66:Q66)*(10)) - L66*(5) - N66*(5)","v":70},{"$f":"AVERAGEIFS(U:U,A:A,A66,F:F,\"Pre\")","v":71.5},null,null,null,"Miriam Van Bergeyk",120]
["Abi Carlson","DAC1","Dallas","2014-2015",2,"Pre",3,31,"Tiffany Bye",4,2,null,null,null,null,null,null,1,0,70,70,71.5,null,null,null,"Becca Derr",200]
["Abi Carlson","DAC1","Dallas","2014-2015",1,"Pre",3,43,"Tiffany Bye",4,2,null,null,null,1,null,null,1,0,70,80,71.5,null,null,null,"Rachel Wallace",120]
["Abi Carlson","DAC1","Dallas","2014-2015",1,"Semi",1,"D","Scott Peterson",4,2,null,null,null,null,null,null,1,0,70,70,71.5,null,null,null,"Aaron Maier",120]
["Abi Carlson","DAC1","Dallas","2014-2015",4,"Pre",3,7,"Tony Kong",4,1,null,null,null,null,null,null,1,0,80,80,71.5,null,null,null,"Lexi Swanson",100]
["Abi Carlson","DAC1","Dallas","2014-2015",1,"Pre",2,10,"Jeremy Swingle",4,1,null,null,null,null,null,null,1,0,80,80,71.5,null,null,null,"Annie McKee",80]
["Abi Carlson","DAC1","Dallas","2014-2015",2,"Pre",2,14,"Jeremy Swingle",4,1,null,null,null,null,null,null,1,0,80,80,71.5,null,null,null,"Maddy Cliffe",60]
["Abi Carlson","DAC1","Dallas","2014-2015",4,"Pre",4,16,"Cutty Welt",4,1,null,null,null,null,null,null,1,0,80,80,71.5,null,null,null,"Skotland Hammerstrom",70]
["Abi Carlson","DAC1","Dallas","2014-2015",4,"Pre",4,24,"Cutty Welt",4,1,null,null,null,null,null,null,1,0,80,80,71.5,null,null,null,"Melinda Borden",60]
["Abi Carlson","DAC1","Dallas","2014-2015",3,"Pre",1,29,"Scott Peterson",4,1,null,null,null,null,null,null,1,0,80,80,71.5,null,null,null,"Emily Van Bergeyk",60]
["Abi Carlson","DAC1","Dallas","2014-2015",4,"Pre",1,49,"Scott Peterson",4,1,null,null,null,null,null,null,1,0,80,80,71.5,null,null,null,"Ruby Borden",80]
["Abi Carlson","DAC1","Dallas","2014-2015",1,"Semi",1,"B","Scott Peterson",4,1,null,null,null,null,null,null,1,0,80,80,71.5,null,null,null,"Isaiah Magnuson",40]
["Abi Carlson","DAC1","Dallas","2014-2015",4,"Semi",2,"H","Jeremy Swingle",4,1,null,null,null,null,null,null,1,0,80,80,71.5,null,null,null,"David Swindler",70]
["Abi Carlson","DAC1","Dallas","2014-2015",1,"Semi",1,"J","Scott Peterson",4,1,null,null,null,null,null,null,1,0,80,80,71.5,null,null,null,"Lam Dang",40]
["Abi Carlson","DAC1","Dallas","2014-2015",1,"Semi",1,"J","Scott Peterson",4,1,null,null,null,null,null,null,1,0,80,80,71.5,null,null,null,"Abigail Van Doorne",60]
["Abi Carlson","DAC1","Dallas","2014-2015",1,"Pre",4,4,"Cutty Welt",4,0,null,null,null,null,null,null,1,0,90,90,71.5,null,null,null,"Eliana Swindler",40]
["Abi Carlson","DAC1","Dallas","2014-2015",1,"Pre",3,15,"Tiffany Bye",4,0,null,null,null,null,null,null,1,0,90,90,71.5,null,null,null,"Joshua Miller",40]
["Abi Carlson","DAC1","Dallas","2014-2015",3,"Pre",3,15,"Tiffany Bye",4,0,null,1,null,null,null,null,1,0,90,110,71.5,null,null,null,"Emma Madsen",30]
["Abi Carlson","DAC1","Dallas","2014-2015",1,"Pre",1,33,"Scott Peterson",4,0,null,null,null,null,null,null,1,0,90,90,71.5,null,null,null,"Jonathon Derr",30]
["Abi Carlson","DAC1","Dallas","2014-2015",2,"Pre",1,45,"Scott Peterson",4,0,null,null,null,null,null,null,1,0,90,90,71.5,null,null,null,"Jonathan Steinke",20]
["Abi Carlson","DAC1","Dallas","2014-2015",3,"Pre",2,46,"Jeremy Swingle",4,0,null,null,null,null,null,null,1,0,90,90,71.5,null,null,null,"Calvin Baker",20]
["Abi Carlson","DAC1","Dallas","2014-2015",3,"Semi",2,"F","Jeremy Swingle",4,0,null,1,null,null,null,null,1,0,90,110,71.5,null,null,null,"Emily Ashcraft",20]
["Abi Carlson","DAC1","Dallas","2014-2015",5,"Pre",3,11,"Tony Kong",4,1,null,1,null,null,null,null,1,0,80,100,71.5,null,null,null,"Jacob Pope",20]
["Abi Carlson","DAC1","Dallas","2014-2015",5,"Pre",3,23,"Tony Kong",4,2,null,null,1,null,null,null,1,0,70,65,71.5,null,null,null,"Tyler Marchese",20]
["Abi Carlson","DAC1","Dallas","2014-2015",5,"Pre",4,28,"Cutty Welt",4,0,null,null,null,null,null,null,1,0,90,90,71.5,null,null,null,"Johnathan Lehrkind",20]
["Abi Carlson","DAC1","Dallas","2014-2015",5,"Pre",1,33,"Scott Peterson",4,0,null,null,null,null,null,null,1,0,90,90,71.5,null,null,null,"Anna Magnuson",{"$f":"SUMIFS(T:T,A:A,Z91,E:E,5)","v":40}]
["Abi Carlson","DAC1","Dallas","2014-2015",5,"Pre",2,42,"Jeremy Swingle",3,3,null,null,null,null,null,null,0,1,40,40,71.5,null,null,null,"JoePaul Appockal",20]
["Abi Carlson","DAC1","Dallas","2014-2015",5,"Pre",1,49,"Scott Peterson",3,3,null,null,null,null,null,null,0,1,40,40,71.5,null,null,null,"Natalie Crabtree",20]
["Abi Carlson","DAC1","Dallas","2014-2015",5,"Semi",1,"B","Scott Peterson",0,3,null,null,null,null,null,null,0,1,-20,-20,71.5,null,null,null,"Micah Magnuson",20]
["Abi Carlson","DAC1","Dallas","2014-2015",5,"Semi",2,"F","Jeremy Swingle",1,3,null,null,null,null,null,null,0,1,0,0,71.5,null,null,null,"Tyler Slothower",10]
["Abigail Taw","ABC2","ABC","2014-2015",4,"Pre",2,26,"Jeremy Swingle",0,3,null,null,null,null,null,null,0,1,-20,-20,69.833333333333329,null,null,null,"Sabrina Kelsey",20]
["Abigail Taw","ABC2","ABC","2014-2015",1,"Semi",1,"I","Scott Peterson",0,3,null,null,null,null,null,null,0,1,-20,-20,69.833333333333329,null,null,null,"Roshan Truax",20]
["Abigail Taw","ABC2","ABC","2014-2015",1,"Pre",2,10,"Jeremy Swingle",0,1,null,null,null,null,null,null,0,0,0,0,69.833333333333329,null,null,null,"Bryanna Hurd",0]
["Abigail Taw","ABC2","ABC","2014-2015",3,"Semi",1,"B","Scott Peterson",1,3,null,null,null,null,null,null,0,1,0,0,69.833333333333329,null,null,null,"Iliana Hammerstrom",0]
["Abigail Taw","ABC2","ABC","2014-2015",1,"Semi",1,"D","Scott Peterson",0,0,null,null,1,null,null,null,0,0,0,-5,69.833333333333329,null,null,null,"Deborah Dvorak",0]
["Abigail Taw","ABC2","ABC","2014-2015",2,"Semi",1,"J","Scott Peterson",0,1,null,1,null,null,null,null,0,0,0,20,69.833333333333329,null,null,null,"Joseph Winters",0]
["Abigail Taw","ABC2","ABC","2014-2015",1,"Pre",1,1,"Scott Peterson",1,2,null,null,null,null,null,null,0,0,10,10,69.833333333333329,null,null,null,"Kate Sweborg",0]
["Abigail Taw","ABC2","ABC","2014-2015",4,"Pre",3,43,"Tony Kong",1,2,null,1,null,null,null,null,0,0,10,30,69.833333333333329,null,null,null,"Blake Camacho",0]
["Abigail Taw","ABC2","ABC","2014-2015",2,"Semi",1,"J","Scott Peterson",1,2,null,null,null,null,null,null,0,0,10,10,69.833333333333329,null,null,null,"Kaden Meredith",0]
["Abigail Taw","ABC2","ABC","2014-2015",2,"Pre",2,38,"Jeremy Swingle",1,1,null,null,1,null,null,null,0,0,20,15,69.833333333333329,null,null,null,"Colton Berge",0]
["Abigail Taw","ABC2","ABC","2014-2015",4,"Pre",3,11,"Tony Kong",3,3,null,null,null,null,null,null,0,1,40,40,69.833333333333329,null,null,null,"Ruby McClung",0]
["Abigail Taw","ABC2","ABC","2014-2015",1,"Pre",4,36,"Cutty Welt",3,3,null,null,null,null,null,null,0,1,40,40,69.833333333333329,null,null,null,"Danny Herzog",0]
["Abigail Taw","ABC2","ABC","2014-2015",3,"Semi",2,"F","Jeremy Swingle",3,3,null,null,null,null,null,null,0,1,40,40,69.833333333333329,null,null,null,"Ethan Shipps",0]
["Abigail Taw","ABC2","ABC","2014-2015",1,"Semi",1,"G","Scott Peterson",2,0,null,1,null,null,null,null,0,0,40,60,69.833333333333329,null,null,null,"Ha Tien Nguyen",-10]
["Abigail Taw","ABC2","ABC","2014-2015",4,"Semi",2,"F","Jeremy Swingle",3,2,null,null,1,null,null,null,0,0,50,45,69.833333333333329]
["Abigail Taw","ABC2","ABC","2014-2015",2,"Pre",4,48,"Cutty Welt",3,0,null,null,null,null,null,null,0,0,60,60,69.833333333333329]
["Abigail Taw","ABC2","ABC","2014-2015",2,"Pre",1,5,"Scott Peterson",4,2,null,null,null,null,null,null,1,0,{"$f":"quizscore(J112,K112)","v":70},70,69.833333333333329]
["Abigail Taw","ABC2","ABC","2014-2015",4,"Pre",4,16,"Cutty Welt",4,2,null,null,null,null,null,null,1,0,70,70,69.833333333333329]
["Abigail Taw","ABC2","ABC","2014-2015",2,"Pre",2,22,"Jeremy Swingle",4,2,null,1,null,null,null,null,1,0,70,90,69.833333333333329]
["Abigail Taw","ABC2","ABC","2014-2015",3,"Pre",3,35,"Tiffany Bye",4,2,null,null,null,null,null,null,1,0,70,70,69.833333333333329]
["Abigail Taw","ABC2","ABC","2014-2015",4,"Pre",4,4,"Cutty Welt",4,1,null,null,null,null,null,null,1,0,80,80,69.833333333333329]
["Abigail Taw","ABC2","ABC","2014-2015",3,"Pre",3,7,"Tiffany Bye",4,1,null,null,null,1,null,null,1,0,80,90,69.833333333333329]
["Abigail Taw","ABC2","ABC","2014-2015",2,"Semi",1,"A","Scott Peterson",4,1,null,null,1,null,null,null,1,0,80,75,69.833333333333329]
["Abigail Taw","ABC2","ABC","2014-2015",2,"Semi",1,"D","Scott Peterson",4,1,1,null,null,null,null,null,1,0,80,75,69.833333333333329]
["Abigail Taw","ABC2","ABC","2014-2015",3,"Pre",2,14,"Jeremy Swingle",4,0,null,null,null,null,null,null,1,0,90,90,69.833333333333329]
["Abigail Taw","ABC2","ABC","2014-2015",2,"Pre",3,15,"Tiffany Bye",4,0,null,null,null,null,null,null,1,0,90,90,69.833333333333329]
["Abigail Taw","ABC2","ABC","2014-2015",1,"Pre",3,19,"Tiffany Bye",4,0,null,null,null,null,null,null,1,0,90,90,69.833333333333329]
["Abigail Taw","ABC2","ABC","2014-2015",4,"Pre",1,21,"Scott Peterson",4,0,null,1,null,null,null,null,1,0,90,110,69.833333333333329]
["Abigail Taw","ABC2","ABC","2014-2015",3,"Pre",1,25,"Tiffany Bye",4,0,null,null,null,null,null,null,1,0,90,90,69.833333333333329]
["Abigail Taw","ABC2","ABC","2014-2015",1,"Pre",4,32,"Cutty Welt",4,0,null,null,null,null,null,null,1,0,90,90,69.833333333333329]
["Abigail Taw","ABC2","ABC","2014-2015",2,"Pre",4,32,"Cutty Welt",4,0,null,null,null,null,null,null,1,0,90,90,69.833333333333329]
["Abigail Taw","ABC2","ABC","2014-2015",1,"Pre",1,41,"Scott Peterson",4,0,null,1,null,null,null,null,1,0,90,110,69.833333333333329]
["Abigail Taw","ABC2","ABC","2014-2015",3,"Pre",1,41,"Scott Peterson",4,0,1,1,1,null,null,null,1,0,90,100,69.833333333333329]
["Abigail Taw","ABC2","ABC","2014-2015",3,"Pre",2,50,"Jeremy Swingle",4,0,null,null,null,null,null,null,1,0,90,90,69.833333333333329]
["Abigail Taw","ABC2","ABC","2014-2015",1,"Semi",1,"A","Scott Peterson",4,0,null,null,null,null,null,null,{"$f":"IF(J130=4,1,0)","v":1},{"$f":"IF(K130=3,1,0)","v":0},90,{"$f":"T130+M130*(20) + (SUM(O130:Q130)*(10)) - L130*(5) - N130*(5)","v":90},{"$f":"AVERAGEIFS(U:U,A:A,A130,F:F,\"Pre\")","v":69.833333333333329}]
["Abigail Taw","ABC2","ABC","2014-2015",4,"Semi",1,"C","Scott Peterson",4,0,null,null,null,null,null,null,1,0,90,90,69.833333333333329]
["Abigail Taw","ABC2","ABC","2014-2015",5,"Pre",1,1,"Scott Peterson",2,1,null,null,null,null,null,null,0,0,40,40,69.833333333333329]
["Abigail Taw","ABC2","ABC","2014-2015",5,"Pre",4,8,"Cutty Welt",4,0,null,null,null,null,null,null,1,0,90,90,69.833333333333329]
["Abigail Taw","ABC2","ABC","2014-2015",5,"Pre",2,14,"Jeremy Swingle",4,1,null,null,null,null,null,null,1,0,80,80,69.833333333333329]
["Abigail Taw","ABC2","ABC","2014-2015",5,"Pre",3,27,"Tony Kong",4,0,null,null,null,null,null,null,1,0,90,90,69.833333333333329]
["Abigail Taw","ABC2","ABC","2014-2015",5,"Pre",3,39,"Tony Kong",4,0,null,null,null,null,null,null,1,0,90,90,69.833333333333329]
["Abigail Taw","ABC2","ABC","2014-2015",5,"Pre",1,45,"Scott Peterson",4,0,null,1,null,null,null,null,1,0,90,110,69.833333333333329]
["Abigail Taw","ABC2","ABC","2014-2015",5,"Semi",1,"C","Scott Peterson",3,2,null,null,null,null,null,null,0,0,50,50,69.833333333333329]
["Abigail Taw","ABC2","ABC","2014-2015",5,"Semi",2,"F","Jeremy Swingle",4,1,null,null,null,null,null,null,1,0,80,80,69.833333333333329]
["Abigail Taw","ABC2","ABC","2014-2015",5,"Semi",2,"H","Jeremy Swingle",4,1,null,null,null,null,null,null,1,0,80,80,69.833333333333329]
["Abigail Taw","ABC2","ABC","2014-2015",5,"Semi",1,"I","Scott Peterson",4,1,null,null,null,null,null,null,1,0,80,80,69.833333333333329]
["Abigail Van Doorne","CH1","Chapel Hill","2014-2015",2,"Pre",4,4,"Cutty Welt",0,0,1,null,null,null,null,null,0,0,0,-5,5.166666666666667]
["Abigail Van Doorne","CH1","Chapel Hill","2014-2015",3,"Pre",4,4,"Cutty Welt",0,0,null,null,null,null,null,null,0,0,0,0,5.166666666666667]
["Abigail Van Doorne","CH1","Chapel Hill","2014-2015",1,"Pre",4,8,"Cutty Welt",0,0,null,null,null,null,null,null,0,0,0,0,5.166666666666667]
["Abigail Van Doorne","CH1","Chapel Hill","2014-2015",4,"Pre",2,10,"Jeremy Swingle",0,0,null,null,null,null,null,null,0,0,0,0,5.166666666666667]
["Abigail Van Doorne","CH1","Chapel Hill","2014-2015",2,"Pre",3,11,"Tiffany Bye",0,0,null,null,null,null,null,null,0,0,0,0,5.166666666666667]
["Abigail Van Doorne","CH1","Chapel Hill","2014-2015",3,"Pre",4,12,"Cutty Welt",0,0,null,null,null,null,null,null,0,0,0,0,5.166666666666667]
["Abigail Van Doorne","CH1","Chapel Hill","2014-2015",1,"Pre",2,14,"Jeremy Swingle",0,0,null,1,null,null,null,null,0,0,0,20,5.166666666666667]
["Abigail Van Doorne","CH1","Chapel Hill","2014-2015",4,"Pre",3,15,"Tony Kong",0,0,null,null,null,null,null,null,0,0,0,0,5.166666666666667]
["Abigail Van Doorne","CH1","Chapel Hill","2014-2015",3,"Pre",2,18,"Jeremy Swingle",0,0,null,1,null,null,null,null,0,0,0,20,5.166666666666667]
["Abigail Van Doorne","CH1","Chapel Hill","2014-2015",2,"Pre",3,19,"Tiffany Bye",0,1,null,null,null,null,null,null,0,0,0,0,5.166666666666667]
["Abigail Van Doorne","CH1","Chapel Hill","2014-2015",1,"Pre",3,27,"Tiffany Bye",0,0,null,null,null,null,null,null,0,0,0,0,5.166666666666667]
["Abigail Van Doorne","CH1","Chapel Hill","2014-2015",3,"Pre",3,27,"Tiffany Bye",0,1,null,null,null,null,null,null,0,0,0,0,5.166666666666667]
["Abigail Van Doorne","CH1","Chapel Hill","2014-2015",2,"Pre",1,29,"Scott Peterson",0,0,null,null,null,null,null,null,0,0,0,0,5.166666666666667]
["Abigail Van Doorne","CH1","Chapel Hill","2014-2015",4,"Pre",2,30,"Jeremy Swingle",0,0,null,null,null,null,null,null,0,0,0,0,5.166666666666667]
["Abigail Van Doorne","CH1","Chapel Hill","2014-2015",3,"Pre",1,33,"Scott Peterson",0,1,null,null,null,null,null,null,0,0,0,0,5.166666666666667]
["Abigail Van Doorne","CH1","Chapel Hill","2014-2015",2,"Pre",4,40,"Cutty Welt",0,0,1,1,null,null,null,null,0,0,0,15,5.166666666666667]
["Abigail Van Doorne","CH1","Chapel Hill","2014-2015",3,"Pre",1,41,"Scott Peterson",0,1,null,null,null,null,null,null,0,0,0,0,5.166666666666667]
["Abigail Van Doorne","CH1","Chapel Hill","2014-2015",1,"Pre",3,43,"Tiffany Bye",0,1,null,null,null,null,null,null,0,0,0,0,5.166666666666667]
["Abigail Van Doorne","CH1","Chapel Hill","2014-2015",1,"Pre",1,49,"Scott Peterson",0,0,1,null,null,null,null,null,0,0,0,-5,5.166666666666667]
["Abigail Van Doorne","CH1","Chapel Hill","2014-2015",1,"ConA",2,"A-A","Jeremy Swingle",0,0,null,null,null,null,null,null,0,0,0,0,5.166666666666667]
["Abigail Van Doorne","CH1","Chapel Hill","2014-2015",2,"ConA",2,"A-D","Jeremy Swingle",0,0,null,null,null,null,null,null,0,0,0,0,5.166666666666667]
["Abigail Van Doorne","CH1","Chapel Hill","2014-2015",1,"ConA",3,"A-E","Tiffany Bye",0,0,1,null,null,null,null,null,0,0,0,-5,5.166666666666667]
["Abigail Van Doorne","CH1","Chapel Hill","2014-2015",4,"ConA",3,"A-E","Abby Ashcraft",0,1,null,null,null,null,null,null,0,0,0,0,5.166666666666667]
["Abigail Van Doorne","CH1","Chapel Hill","2014-2015",1,"ConA",3,"A-H","Tiffany Bye",0,0,null,null,null,null,null,null,0,0,0,0,5.166666666666667]
["Abigail Van Doorne","CH1","Chapel Hill","2014-2015",4,"ConA",3,"A-H","Abby Ashcraft",0,0,null,null,null,null,null,null,0,0,0,0,5.166666666666667]
["Abigail Van Doorne","CH1","Chapel Hill","2014-2015",2,"ConA",2,"A-J","Jeremy Swingle",0,0,null,null,null,null,null,null,0,0,0,0,5.166666666666667]
["Abigail Van Doorne","CH1","Chapel Hill","2014-2015",3,"ConB",4,"B-3","Cutty Welt",0,0,null,null,null,null,null,null,0,0,0,0,5.166666666666667]
["Abigail Van Doorne","CH1","Chapel Hill","2014-2015",3,"ConB",4,"B-J","Cutty Welt",0,1,null,null,null,null,null,null,0,0,0,0,5.166666666666667]
["Abigail Van Doorne","CH1","Chapel Hill","2014-2015",4,"Pre",4,24,"Cutty Welt",1,0,1,null,null,null,null,null,0,0,20,15,5.166666666666667]
["Abigail Van Doorne","CH1","Chapel Hill","2014-2015",1,"Pre",4,36,"Cutty Welt",1,0,null,null,null,null,null,null,0,0,20,20,5.166666666666667]
["Abigail Van Doorne","CH1","Chapel Hill","2014-2015",4,"Pre",1,37,"Scott Peterson",1,0,null,null,null,null,null,null,0,0,20,20,5.166666666666667]
["Abigail Van Doorne","CH1","Chapel Hill","2014-2015",2,"Pre",2,46,"Jeremy Swingle",1,0,null,null,null,null,null,null,0,0,20,20,5.166666666666667]
["Abigail Van Doorne","CH1","Chapel Hill","2014-2015",4,"Pre",4,48,"Cutty Welt",1,0,null,null,null,null,null,null,0,0,20,20,5.166666666666667]
["Abigail Van Doorne","CH1","Chapel Hill","2014-2015",2,"ConA",2,"A-A","Jeremy Swingle",1,0,null,null,null,1,null,null,0,0,20,30,5.166666666666667]
["Abigail Van Doorne","CH1","Chapel Hill","2014-2015",4,"ConA",2,"A-C","Jeremy Swingle",1,0,1,null,null,null,null,null,0,0,{"$f":"quizscore(J176,K176)","v":20},15,5.166666666666667]
["Abigail Van Doorne","CH1","Chapel Hill","2014-2015",3,"ConB",4,"B-4","Cutty Welt",1,0,null,null,null,1,null,null,0,0,20,30,5.166666666666667]
["Abigail Van Doorne","CH1","Chapel Hill","2014-2015",3,"ConB",4,"B-2","Cutty Welt",2,0,null,null,null,null,null,null,0,0,40,40,5.166666666666667]
["Abigail Van Doorne","CH1","Chapel Hill","2014-2015",5,"Pre",1,5,"Scott Peterson",0,0,1,null,null,null,null,null,0,0,0,-5,5.166666666666667]
["Abigail Van Doorne","CH1","Chapel Hill","2014-2015",5,"Pre",4,20,"Cutty Welt",1,0,null,null,null,null,null,null,0,0,20,20,5.166666666666667]
["Abigail Van Doorne","CH1","Chapel Hill","2014-2015",5,"Pre",2,26,"Jeremy Swingle",0,0,null,null,null,null,null,null,0,0,0,0,5.166666666666667]
["Abigail Van Doorne","CH1","Chapel Hill","2014-2015",5,"Pre",2,34,"Jeremy Swingle",0,0,null,null,null,null,null,null,0,0,0,0,5.166666666666667]
["Abigail Van Doorne","CH1","Chapel Hill","2014-2015",5,"Pre",3,39,"Tony Kong",0,1,null,null,null,null,null,null,0,0,0,0,5.166666666666667]
["Abigail Van Doorne","CH1","Chapel Hill","2014-2015",5,"Pre",4,48,"Cutty Welt",0,0,null,null,null,null,null,null,0,0,0,0,5.166666666666667]
["Abigail Van Doorne","CH1","Chapel Hill","2014-2015",5,"ConA",2,"A-C","Jeremy Swingle",1,0,null,null,null,null,null,null,0,0,20,20,5.166666666666667]
["Abigail Van Doorne","CH1","Chapel Hill","2014-2015",5,"ConA",3,"A-E","Abby Ashcraft",0,0,null,null,null,null,null,null,0,0,0,0,5.166666666666667]
["Abigail Van Doorne","CH1","Chapel Hill","2014-2015",5,"ConA",3,"A-H","Abby Ashcraft",0,1,null,null,null,null,null,null,0,0,0,0,5.166666666666667]
["Abigail Van Doorne","CH1",{"$f":"VLOOKUP(B188,$B$2:$C$3219,2,FALSE)","v":"Chapel Hill"},"2014-2015",5,"ConA",3,"A-I","Abby Ashcraft",1,0,null,null,null,null,null,null,0,0,20,20,5.166666666666667]
["Aidan McKee","LH5","Lighthouse","2014-2015",1,"Pre",3,7,"Tiffany Bye",0,2,null,null,null,null,null,null,0,0,-10,-10,26.5]
["Aidan McKee","LH5","Lighthouse","2014-2015",2,"Pre",2,2,"Jeremy Swingle",0,0,null,null,null,null,null,null,0,0,0,0,26.5]
["Aidan McKee","LH5","Lighthouse","2014-2015",2,"Pre",4,8,"Cutty Welt",0,0,null,1,null,null,null,null,0,0,0,20,26.5]
["Aidan McKee","LH5","Lighthouse","2014-2015",1,"Pre",3,15,"Tiffany Bye",0,0,null,null,null,null,null,null,0,0,0,0,26.5]
["Aidan McKee","LH5","Lighthouse","2014-2015",3,"Pre",3,15,"Tiffany Bye",0,0,null,null,null,null,null,null,0,0,0,0,26.5]
["Aidan McKee","LH5","Lighthouse","2014-2015",2,"Pre",2,22,"Jeremy Swingle",0,1,null,null,null,null,null,null,{"$f":"IF(J194=4,1,0)","v":0},{"$f":"IF(K194=3,1,0)","v":0},0,{"$f":"T194+M194*(20) + (SUM(O194:Q194)*(10)) - L194*(5) - N194*(5)","v":0},{"$f":"AVERAGEIFS(U:U,A:A,A194,F:F,\"Pre\")","v":26.5}]
["Aidan McKee","LH5","Lighthouse","2014-2015",3,"Pre",4,24,"Cutty Welt",0,0,null,null,1,null,null,null,0,0,0,-5,26.5]
["Aidan McKee","LH5","Lighthouse","2014-2015",1,"Pre",1,29,"Scott Peterson",0,1,null,null,null,null,null,null,0,0,0,0,26.5]
["Aidan McKee","LH5","Lighthouse","2014-2015",3,"Pre",2,30,"Jeremy Swingle",0,0,null,null,null,null,null,null,0,0,0,0,26.5]
["Aidan McKee","LH5","Lighthouse","2014-2015",2,"Pre",1,41,"Scott Peterson",0,1,null,null,null,null,null,null,0,0,0,0,26.5]
["Aidan McKee","LH5","Lighthouse","2014-2015",3,"Pre",2,50,"Jeremy Swingle",0,0,null,null,null,null,null,null,0,0,0,0,26.5]
["Aidan McKee","LH5","Lighthouse","2014-2015",1,"ConA",3,"A-E","Tiffany Bye",0,0,null,1,null,null,null,null,0,0,0,20,26.5]
["Aidan McKee","LH5","Lighthouse","2014-2015",2,"ConB",4,"B-2","Cutty Welt",0,0,null,null,null,null,null,null,0,0,0,0,26.5]
["Aidan McKee","LH5","Lighthouse","2014-2015",2,"ConB",4,"B-3","Cutty Welt",0,0,null,null,null,null,null,null,0,0,0,0,26.5]
["Aidan McKee","LH5","Lighthouse","2014-2015",3,"ConB",4,"B-3","Cutty Welt",0,0,null,null,1,null,null,null,0,0,0,-5,26.5]
["Aidan McKee","LH5","Lighthouse","2014-2015",2,"ConB",4,"B-4","Cutty Welt",0,0,null,null,null,null,null,null,0,0,0,0,26.5]
["Aidan McKee","LH5","Lighthouse","2014-2015",2,"ConB",4,"B-J","Cutty Welt",0,0,null,null,null,null,null,null,0,0,0,0,26.5]
["Aidan McKee","LH5","Lighthouse","2014-2015",4,"Semi",1,"E","Scott Peterson",0,0,null,null,null,null,null,null,0,0,0,0,26.5]
["Aidan McKee","LH5","Lighthouse","2014-2015",1,"Pre",1,21,"Scott Peterson",1,2,null,null,null,null,null,null,0,0,10,10,26.5]
["Aidan McKee","LH5","Lighthouse","2014-2015",2,"Pre",3,39,"Tiffany Bye",1,2,null,null,null,1,null,null,0,0,10,20,26.5]
["Aidan McKee","LH5","Lighthouse","2014-2015",3,"Pre",2,42,"Jeremy Swingle",1,0,null,null,null,null,null,null,0,0,20,20,26.5]
["Aidan McKee","LH5","Lighthouse","2014-2015",1,"Pre",2,46,"Jeremy Swingle",1,0,null,null,null,null,null,null,0,0,20,20,26.5]
["Aidan McKee","LH5","Lighthouse","2014-2015",1,"ConA",2,"A-C","Jeremy Swingle",1,0,null,null,null,null,1,null,0,0,20,30,26.5]
["Aidan McKee","LH5","Lighthouse","2014-2015",1,"ConA",2,"A-G","Jeremy Swingle",1,0,null,null,null,null,null,null,0,0,20,20,26.5]
["Aidan McKee","LH5","Lighthouse","2014-2015",1,"ConA",3,"A-I","Tiffany Bye",1,0,null,null,null,null,null,null,0,0,20,20,26.5]
["Aidan McKee","LH5","Lighthouse","2014-2015",4,"Semi",2,"H","Jeremy Swingle",1,0,null,null,1,null,null,null,0,0,20,15,26.5]
["Aidan McKee","LH5","Lighthouse","2014-2015",3,"Pre",1,1,"Scott Peterson",2,0,null,null,null,null,null,null,0,0,40,40,26.5]
["Aidan McKee","LH5","Lighthouse","2014-2015",4,"Pre",3,11,"Tony Kong",2,0,null,null,null,null,null,null,0,0,40,40,26.5]
["Aidan McKee","LH5","Lighthouse","2014-2015",4,"Pre",1,37,"Scott Peterson",2,0,null,null,null,null,null,null,0,0,40,40,26.5]
["Aidan McKee","LH5","Lighthouse","2014-2015",4,"Pre",2,46,"Jeremy Swingle",2,0,null,null,null,null,null,null,0,0,40,40,26.5]
["Aidan McKee","LH5","Lighthouse","2014-2015",4,"Semi",1,"A","Scott Peterson",2,0,null,null,null,null,null,null,0,0,40,40,26.5]
["Aidan McKee","LH5","Lighthouse","2014-2015",3,"ConB",4,"B-5","Cutty Welt",2,1,null,null,null,null,null,null,0,0,40,40,26.5]
["Aidan McKee","LH5","Lighthouse","2014-2015",3,"ConB",4,"B-7","Cutty Welt",2,0,null,null,null,1,null,null,0,0,40,50,26.5]
["Aidan McKee","LH5","Lighthouse","2014-2015",3,"ConB",4,"B-J","Cutty Welt",2,0,null,1,null,null,null,null,0,0,40,60,26.5]
["Aidan McKee","LH5","Lighthouse","2014-2015",4,"Pre",4,8,"Cutty Welt",3,0,null,null,null,null,null,null,0,0,60,60,26.5]
["Aidan McKee","LH5","Lighthouse","2014-2015",2,"Pre",1,29,"Scott Peterson",3,0,null,null,null,null,null,null,0,0,60,60,26.5]
["Aidan McKee","LH5","Lighthouse","2014-2015",4,"Pre",1,33,"Scott Peterson",3,0,null,null,null,null,null,null,0,0,60,60,26.5]
["Aidan McKee","LH5","Lighthouse","2014-2015",1,"Pre",4,40,"Cutty Welt",3,1,null,null,null,null,null,null,0,0,60,60,26.5]
["Aidan McKee","LH5","Lighthouse","2014-2015",4,"Pre",3,19,"Tony Kong",4,0,null,null,null,null,null,null,1,0,90,90,26.5]
["Aidan McKee","LH5","Lighthouse","2014-2015",5,"Pre",2,6,"Jeremy Swingle",4,0,null,null,null,null,null,null,1,0,90,90,26.5]
["Aidan McKee","LH5","Lighthouse","2014-2015",5,"Pre",4,16,"Cutty Welt",0,0,null,null,null,null,null,null,0,0,0,0,26.5]
["Aidan McKee","LH5","Lighthouse","2014-2015",5,"Pre",3,23,"Tony Kong",3,0,null,null,null,null,null,null,0,0,60,60,26.5]
["Aidan McKee","LH5","Lighthouse","2014-2015",5,"Pre",1,29,"Scott Peterson",0,0,null,null,null,null,null,null,0,0,0,0,26.5]
["Aidan McKee","LH5","Lighthouse","2014-2015",5,"Pre",1,41,"Scott Peterson",3,0,null,null,null,null,null,null,0,0,60,60,26.5]
["Aidan McKee","LH5","Lighthouse","2014-2015",5,"Pre",2,46,"Jeremy Swingle",1,1,null,null,null,null,null,null,0,0,20,20,26.5]
["Aidan McKee","LH5","Lighthouse","2014-2015",5,"ConA",2,"A-C","Jeremy Swingle",0,2,null,null,null,null,null,null,0,0,-10,-10,26.5]
["Aidan McKee","LH5","Lighthouse","2014-2015",5,"ConA",3,"A-F","Abby Ashcraft",2,2,null,null,null,null,null,null,0,0,30,30,26.5]
["Andrew Borden","ABC3","ABC","2014-2015",2,"Pre",1,49,"Scott Peterson",0,3,null,null,null,null,null,null,0,1,-20,-20,57.833333333333336]
["Andrew Borden","ABC3","ABC","2014-2015",2,"ConA",2,"A-D","Jeremy Swingle",0,3,null,null,null,null,null,null,0,1,-20,-20,57.833333333333336]
["Andrew Borden","ABC3","ABC","2014-2015",2,"ConA",2,"A-J","Jeremy Swingle",0,3,null,null,null,null,null,null,0,1,-20,-20,57.833333333333336]
["Andrew Borden","ABC3","ABC","2014-2015",3,"Semi",1,"G","Scott Peterson",0,1,null,null,null,null,null,null,0,0,0,0,57.833333333333336]
["Andrew Borden","ABC3","ABC","2014-2015",1,"Semi",1,"I","Scott Peterson",1,2,null,null,null,null,null,null,0,0,{"$f":"quizscore(J240,K240)","v":10},10,57.833333333333336]
["Andrew Borden","ABC3","ABC","2014-2015",3,"Semi",1,"I","Scott Peterson",1,2,null,null,null,null,null,null,0,0,10,10,57.833333333333336]
["Andrew Borden","ABC3","ABC","2014-2015",3,"Pre",2,34,"Jeremy Swingle",1,0,null,null,null,null,null,null,0,0,20,20,57.833333333333336]
["Andrew Borden","ABC3","ABC","2014-2015",1,"Semi",1,"C","Scott Peterson",1,0,null,null,null,null,null,null,0,0,20,20,57.833333333333336]
["Andrew Borden","ABC3","ABC","2014-2015",3,"Semi",1,"D","Scott Peterson",1,1,null,1,null,null,null,null,0,0,20,40,57.833333333333336]
["Andrew Borden","ABC3","ABC","2014-2015",4,"Pre",3,35,"Tony Kong",2,2,null,null,null,null,null,null,0,0,30,30,57.833333333333336]
["Andrew Borden","ABC3","ABC","2014-2015",4,"Semi",1,"E","Scott Peterson",2,2,null,null,null,null,null,null,0,0,30,30,57.833333333333336]
["Andrew Borden","ABC3","ABC","2014-2015",4,"Semi",2,"H","Jeremy Swingle",2,2,null,null,null,null,null,null,0,0,30,30,57.833333333333336]
["Andrew Borden","ABC3","ABC","2014-2015",2,"Pre",3,3,"Tiffany Bye",2,0,1,null,null,null,null,null,0,0,40,35,57.833333333333336]
["Andrew Borden","ABC3","ABC","2014-2015",1,"Pre",4,4,"Cutty Welt",2,0,null,null,null,null,null,null,0,0,40,40,57.833333333333336]
["Andrew Borden","ABC3","ABC","2014-2015",2,"Pre",3,11,"Tiffany Bye",2,0,null,null,null,null,null,null,0,0,40,40,57.833333333333336]
["Andrew Borden","ABC3","ABC","2014-2015",2,"Pre",2,42,"Jeremy Swingle",2,1,null,null,null,null,null,null,0,0,40,40,57.833333333333336]
["Andrew Borden","ABC3","ABC","2014-2015",4,"Pre",2,42,"Jeremy Swingle",2,1,null,null,null,null,null,null,0,0,40,40,57.833333333333336]
["Andrew Borden","ABC3","ABC","2014-2015",1,"Pre",2,50,"Jeremy Swingle",2,0,null,null,null,null,null,null,0,0,40,40,57.833333333333336]
["Andrew Borden","ABC3","ABC","2014-2015",3,"Semi",1,"A","Scott Peterson",2,0,null,null,null,null,null,null,0,0,40,40,57.833333333333336]
["Andrew Borden","ABC3","ABC","2014-2015",4,"Semi",1,"C","Scott Peterson",2,1,null,null,null,null,null,null,0,0,40,40,57.833333333333336]
["Andrew Borden","ABC3","ABC","2014-2015",1,"Semi",2,"F","Jeremy Swingle",2,1,null,1,null,null,null,null,0,0,40,60,57.833333333333336]
["Andrew Borden","ABC3","ABC","2014-2015",1,"Pre",3,7,"Tiffany Bye",3,2,null,null,null,null,null,null,0,0,50,50,57.833333333333336]
["Andrew Borden","ABC3","ABC","2014-2015",3,"Pre",2,10,"Jeremy Swingle",3,2,null,null,null,null,null,null,{"$f":"IF(J258=4,1,0)","v":0},{"$f":"IF(K258=3,1,0)","v":0},50,{"$f":"T258+M258*(20) + (SUM(O258:Q258)*(10)) - L258*(5) - N258*(5)","v":50},{"$f":"AVERAGEIFS(U:U,A:A,A258,F:F,\"Pre\")","v":57.833333333333336}]
["Andrew Borden","ABC3","ABC","2014-2015",1,"Pre",2,14,"Jeremy Swingle",3,0,null,null,null,null,null,null,0,0,60,60,57.833333333333336]
["Andrew Borden","ABC3","ABC","2014-2015",3,"Pre",3,19,"Tiffany Bye",3,0,null,null,null,null,null,null,0,0,60,60,57.833333333333336]
["Andrew Borden","ABC3","ABC","2014-2015",2,"Pre",1,21,"Scott Peterson",3,1,null,1,null,null,null,null,0,0,60,80,57.833333333333336]
["Andrew Borden","ABC3","ABC","2014-2015",4,"Pre",1,25,"Scott Peterson",3,0,null,null,null,null,null,null,0,0,60,60,57.833333333333336]
["Andrew Borden","ABC3","ABC","2014-2015",2,"Pre",4,36,"Cutty Welt",3,1,null,null,null,null,null,null,0,0,60,60,57.833333333333336]
["Andrew Borden","ABC3","ABC","2014-2015",1,"Semi",2,"H","Jeremy Swingle",3,0,null,null,null,null,null,null,0,0,60,60,57.833333333333336]
["Andrew Borden","ABC3","ABC","2014-2015",4,"Pre",4,12,"Cutty Welt",4,2,null,null,null,null,null,null,1,0,70,70,57.833333333333336]
["Andrew Borden","ABC3","ABC","2014-2015",4,"Pre",3,3,"Tony Kong",4,1,null,null,null,null,null,null,1,0,80,80,57.833333333333336]
["Andrew Borden","ABC3","ABC","2014-2015",1,"Pre",1,25,"Scott Peterson",4,1,null,null,null,null,null,null,1,0,80,80,57.833333333333336]
["Andrew Borden","ABC3","ABC","2014-2015",3,"Pre",1,1,"Scott Peterson",4,0,null,null,null,null,null,null,1,0,90,90,57.833333333333336]
["Andrew Borden","ABC3","ABC","2014-2015",4,"Pre",1,17,"Scott Peterson",4,0,null,null,null,null,null,null,1,0,90,90,57.833333333333336]
["Andrew Borden","ABC3","ABC","2014-2015",3,"Pre",4,28,"Cutty Welt",4,0,null,1,null,null,null,null,1,0,90,110,57.833333333333336]
["Andrew Borden","ABC3","ABC","2014-2015",1,"Pre",1,41,"Scott Peterson",4,0,null,null,null,null,null,null,1,0,90,90,57.833333333333336]
["Andrew Borden","ABC3","ABC","2014-2015",3,"Pre",4,48,"Cutty Welt",4,0,null,null,null,null,null,null,1,0,90,90,57.833333333333336]
["Andrew Borden","ABC3","ABC","2014-2015",2,"ConA",3,"A-B","Tiffany Bye",4,0,null,1,null,null,null,null,1,0,90,110,57.833333333333336]
["Andrew Borden","ABC3","ABC","2014-2015",2,"ConA",2,"A-G","Jeremy Swingle",4,0,null,null,null,null,null,null,1,0,90,90,57.833333333333336]
["Andrew Borden","ABC3","ABC","2014-2015",5,"Pre",3,7,"Tony Kong",2,1,null,null,null,null,null,null,0,0,40,40,57.833333333333336]
["Andrew Borden","ABC3","ABC","2014-2015",5,"Pre",4,16,"Cutty Welt",0,3,null,null,null,null,null,null,0,1,-20,-20,57.833333333333336]
["Andrew Borden","ABC3","ABC","2014-2015",5,"Pre",4,24,"Cutty Welt",4,0,null,null,null,null,null,null,1,0,90,90,57.833333333333336]
["Andrew Borden","ABC3","ABC","2014-2015",5,"Pre",3,31,"Tony Kong",4,1,null,null,null,null,null,null,1,0,80,80,57.833333333333336]
["Andrew Borden","ABC3","ABC","2014-2015",5,"Pre",2,38,"Jeremy Swingle",4,1,null,null,null,null,null,null,1,0,80,80,57.833333333333336]
["Andrew Borden","ABC3","ABC","2014-2015",5,"Pre",4,48,"Cutty Welt",4,1,null,null,null,null,null,null,1,0,80,80,57.833333333333336]
["Andrew Borden","ABC3","ABC","2014-2015",5,"Semi",1,"B","Scott Peterson",1,2,null,null,null,null,null,null,0,0,10,10,57.833333333333336]
["Andrew Borden","ABC3","ABC","2014-2015",5,"Semi",1,"D","Scott Peterson",0,1,null,null,null,null,null,null,0,0,0,0,57.833333333333336]
["Andrew Borden","ABC3","ABC","2014-2015",5,"Semi",1,"G","Scott Peterson",0,1,null,1,null,null,null,null,0,0,0,20,57.833333333333336]
["Andrew Borden","ABC3","ABC","2014-2015",5,"Semi",1,"I","Scott Peterson",2,1,null,null,null,null,null,null,0,0,40,40,57.833333333333336]
["Anna Kong","WOOD","Woodinville","2014-2015",2,"Pre",1,29,"Scott Peterson",0,3,null,null,null,null,null,null,0,1,-20,-20,80.666666666666671]
["Anna Kong","WOOD","Woodinville","2014-2015",1,"Semi",1,"J","Scott Peterson",1,3,null,null,null,null,null,null,0,1,0,0,80.666666666666671]
["Anna Kong","WOOD","Woodinville","2014-2015",2,"Semi",1,"E","Scott Peterson",2,3,null,null,null,null,null,null,0,1,20,20,80.666666666666671]
["Anna Kong","WOOD","Woodinville","2014-2015",1,"Semi",1,"I","Scott Peterson",2,3,null,1,1,null,null,null,0,1,20,35,80.666666666666671]
["Anna Kong","WOOD","Woodinville","2014-2015",2,"Semi",1,"I","Scott Peterson",2,3,null,null,null,null,null,null,0,1,20,20,80.666666666666671]
["Anna Kong","WOOD","Woodinville","2014-2015",2,"Pre",2,38,"Jeremy Swingle",2,2,null,1,1,null,null,null,0,0,30,45,80.666666666666671]
["Anna Kong","WOOD","Woodinville","2014-2015",4,"Semi",1,"G","Scott Peterson",3,2,null,null,null,null,null,null,0,0,50,50,80.666666666666671]
["Anna Kong","WOOD","Woodinville","2014-2015",2,"Pre",4,16,"Cutty Welt",3,1,null,1,null,null,null,null,0,0,60,80,80.666666666666671]
["Anna Kong","WOOD","Woodinville","2014-2015",2,"Semi",1,"B","Scott Peterson",3,0,null,null,null,null,null,null,0,0,60,60,80.666666666666671]
["Anna Kong","WOOD","Woodinville","2014-2015",4,"Pre",1,13,"Scott Peterson",4,2,null,null,1,null,null,null,1,0,70,65,80.666666666666671]
["Anna Kong","WOOD","Woodinville","2014-2015",3,"Semi",1,"C","Scott Peterson",4,2,null,null,null,null,null,null,1,0,70,70,80.666666666666671]
["Anna Kong","WOOD","Woodinville","2014-2015",1,"Semi",1,"G","Scott Peterson",4,2,null,null,null,null,null,null,1,0,70,70,80.666666666666671]
["Anna Kong","WOOD","Woodinville","2014-2015",3,"Semi",1,"I","Scott Peterson",4,2,null,null,null,null,null,null,1,0,70,70,80.666666666666671]
["Anna Kong","WOOD","Woodinville","2014-2015",1,"Semi",1,"J","Scott Peterson",4,2,null,null,null,null,null,null,1,0,70,70,80.666666666666671]
["Anna Kong","WOOD","Woodinville","2014-2015",1,"Pre",1,1,"Scott Peterson",4,1,null,null,null,null,null,null,1,0,80,80,80.666666666666671]
["Anna Kong","WOOD","Woodinville","2014-2015",3,"Pre",2,10,"Jeremy Swingle",4,1,null,2,null,null,null,null,1,0,80,120,80.666666666666671]
["Anna Kong","WOOD","Woodinville","2014-2015",2,"Pre",4,12,"Cutty Welt",4,1,null,null,null,null,null,null,1,0,80,80,80.666666666666671]
["Anna Kong","WOOD","Woodinville","2014-2015",3,"Pre",4,16,"Cutty Welt",4,1,null,null,null,null,null,null,1,0,80,80,80.666666666666671]
["Anna Kong","WOOD","Woodinville","2014-2015",4,"Pre",3,23,"Tony Kong",4,1,null,null,null,null,null,null,1,0,80,80,80.666666666666671]
["Anna Kong","WOOD","Woodinville","2014-2015",4,"Pre",1,29,"Scott Peterson",4,1,null,null,null,null,null,null,1,0,{"$f":"quizscore(J304,K304)","v":80},80,80.666666666666671]
["Anna Kong","WOOD","Woodinville","2014-2015",4,"Semi",1,"B","Scott Peterson",4,1,null,1,null,null,null,null,1,0,80,100,80.666666666666671]
["Anna Kong","WOOD","Woodinville","2014-2015",2,"Semi",2,"H","Jeremy Swingle",4,1,null,null,null,null,null,null,1,0,80,80,80.666666666666671]
["Anna Kong","WOOD","Woodinville","2014-2015",4,"Semi",1,"I","Scott Peterson",4,1,null,1,null,null,null,null,1,0,80,100,80.666666666666671]
["Anna Kong","WOOD","Woodinville","2014-2015",2,"Pre",1,1,"Scott Peterson",4,0,null,null,null,null,null,null,1,0,90,90,80.666666666666671]
["Anna Kong","WOOD","Woodinville","2014-2015",3,"Pre",3,3,"Tiffany Bye",4,0,null,1,null,null,null,null,1,0,90,110,80.666666666666671]
["Anna Kong","WOOD","Woodinville","2014-2015",4,"Pre",4,4,"Cutty Welt",4,0,null,null,null,null,null,null,1,0,90,90,80.666666666666671]
["Anna Kong","WOOD","Woodinville","2014-2015",1,"Pre",4,20,"Cutty Welt",4,0,null,null,null,null,null,null,1,0,90,90,80.666666666666671]
["Anna Kong","WOOD","Woodinville","2014-2015",2,"Pre",3,23,"Tiffany Bye",4,0,null,null,null,null,null,null,1,0,90,90,80.666666666666671]
["Anna Kong","WOOD","Woodinville","2014-2015",3,"Pre",1,25,"Tiffany Bye",4,0,null,null,null,null,null,null,1,0,90,90,80.666666666666671]
["Anna Kong","WOOD","Woodinville","2014-2015",1,"Pre",4,28,"Cutty Welt",4,0,null,null,null,null,null,null,1,0,90,90,80.666666666666671]
["Anna Kong","WOOD","Woodinville","2014-2015",3,"Pre",1,33,"Scott Peterson",4,0,null,null,null,null,null,null,1,0,90,90,80.666666666666671]
["Anna Kong","WOOD","Woodinville","2014-2015",1,"Pre",3,35,"Tiffany Bye",4,0,null,null,null,null,null,null,1,0,90,90,80.666666666666671]
["Anna Kong","WOOD","Woodinville","2014-2015",4,"Pre",2,38,"Jeremy Swingle",4,0,null,null,null,null,null,null,1,0,90,90,80.666666666666671]
["Anna Kong","WOOD","Woodinville","2014-2015",1,"Pre",2,42,"Jeremy Swingle",4,0,null,1,null,null,null,null,1,0,90,110,80.666666666666671]
["Anna Kong","WOOD","Woodinville","2014-2015",3,"Pre",2,42,"Jeremy Swingle",4,0,null,null,null,null,null,null,1,0,90,90,80.666666666666671]
["Anna Kong","WOOD","Woodinville","2014-2015",4,"Pre",2,42,"Jeremy Swingle",4,0,null,null,null,null,null,null,1,0,90,90,80.666666666666671]
["Anna Kong","WOOD","Woodinville","2014-2015",1,"Pre",1,49,"Scott Peterson",4,0,null,1,null,null,null,null,1,0,90,110,80.666666666666671]
["Anna Kong","WOOD","Woodinville","2014-2015",1,"Semi",1,"C","Scott Peterson",4,0,null,1,null,null,null,null,{"$f":"IF(J322=4,1,0)","v":1},{"$f":"IF(K322=3,1,0)","v":0},90,{"$f":"T322+M322*(20) + (SUM(O322:Q322)*(10)) - L322*(5) - N322*(5)","v":110},{"$f":"AVERAGEIFS(U:U,A:A,A322,F:F,\"Pre\")","v":80.666666666666671}]
["Anna Kong","WOOD","Woodinville","2014-2015",1,"Semi",1,"E","Scott Peterson",4,0,null,null,null,null,null,null,1,0,90,90,80.666666666666671]
["Anna Kong","WOOD","Woodinville","2014-2015",3,"Semi",1,"E","Scott Peterson",4,0,null,1,null,null,null,null,1,0,90,110,80.666666666666671]
["Anna Kong","WOOD","Woodinville","2014-2015",4,"Semi",1,"E","Scott Peterson",4,0,null,null,null,null,null,null,1,0,90,90,80.666666666666671]
["Anna Kong","WOOD","Woodinville","2014-2015",3,"Semi",1,"G","Scott Peterson",4,0,null,null,null,null,null,null,1,0,90,90,80.666666666666671]
["Anna Kong","WOOD","Woodinville","2014-2015",1,"Semi",1,"J","Scott Peterson",4,0,null,2,null,null,null,null,1,0,90,130,80.666666666666671]
["Anna Kong","WOOD","Woodinville","2014-2015",1,"Semi",1,"J","Scott Peterson",4,0,null,null,null,null,null,null,1,0,90,90,80.666666666666671]
["Anna Kong","WOOD","Woodinville","2014-2015",4,"Semi",1,"J","Scott Peterson",4,0,null,2,null,null,null,null,1,0,90,130,80.666666666666671]
["Anna Kong","WOOD","Woodinville","2014-2015",4,"Semi",1,"J","Scott Peterson",4,1,null,1,null,null,null,null,1,0,80,100,80.666666666666671]
["Anna Kong","WOOD","Woodinville","2014-2015",4,"Semi",1,"J","Scott Peterson",1,3,null,null,null,null,null,null,0,1,0,0,80.666666666666671]
["Anna Kong","WOOD","Woodinville","2014-2015",5,"Pre",4,4,"Cutty Welt",4,1,null,null,null,null,null,null,1,0,80,80,80.666666666666671]
["Anna Kong","WOOD","Woodinville","2014-2015",5,"Pre",2,10,"Jeremy Swingle",0,3,null,null,null,null,null,null,0,1,-20,-20,80.666666666666671]
["Anna Kong","WOOD","Woodinville","2014-2015",5,"Pre",2,26,"Jeremy Swingle",4,0,null,null,null,null,null,null,1,0,90,90,80.666666666666671]
["Anna Kong","WOOD","Woodinville","2014-2015",5,"Pre",3,35,"Tony Kong",4,0,null,null,null,null,null,null,1,0,90,90,80.666666666666671]
["Anna Kong","WOOD","Woodinville","2014-2015",5,"Pre",1,41,"Scott Peterson",4,1,null,null,null,null,null,null,1,0,80,80,80.666666666666671]
["Anna Kong","WOOD","Woodinville","2014-2015",5,"Pre",1,45,"Scott Peterson",4,0,null,null,null,null,null,null,1,0,90,90,80.666666666666671]
["Anna Kong","WOOD","Woodinville","2014-2015",5,"Semi",1,"C","Scott Peterson",4,0,null,null,null,null,null,null,1,0,90,90,80.666666666666671]
["Anna Kong","WOOD","Woodinville","2014-2015",5,"Semi",1,"D","Scott Peterson",4,1,null,null,null,null,null,null,1,0,80,80,80.666666666666671]
["Anna Kong","WOOD","Woodinville","2014-2015",5,"Semi",1,"J","Scott Peterson",4,2,null,null,null,null,null,null,1,0,null,0,80.666666666666671]
["Anna Kong","WOOD","Woodinville","2014-2015",5,"Semi",1,"J","Scott Peterson",1,3,null,null,null,null,null,null,0,1,null,0,80.666666666666671]
["Anna Magnuson","TAC1","Tacoma","2014-2015",1,"Pre",1,5,"Scott Peterson",0,0,null,null,null,null,null,null,0,0,{"$f":"quizscore(J342,K342)","v":0},0,0.83333333333333337]
["Anna Magnuson","TAC1","Tacoma","2014-2015",2,"Pre",1,5,"Scott Peterson",0,1,null,null,null,null,null,null,0,0,0,0,0.83333333333333337]
["Anna Magnuson","TAC1","Tacoma","2014-2015",3,"Pre",3,7,"Tiffany Bye",0,0,null,null,null,null,null,null,0,0,0,0,0.83333333333333337]
["Anna Magnuson","TAC1","Tacoma","2014-2015",4,"Pre",4,8,"Cutty Welt",0,0,null,null,null,null,null,null,0,0,0,0,0.83333333333333337]
["Anna Magnuson","TAC1","Tacoma","2014-2015",1,"Pre",4,12,"Cutty Welt",0,0,null,null,null,null,null,null,0,0,0,0,0.83333333333333337]
["Anna Magnuson","TAC1","Tacoma","2014-2015",3,"Pre",4,12,"Cutty Welt",0,0,null,null,null,null,null,null,0,0,0,0,0.83333333333333337]
["Anna Magnuson","TAC1","Tacoma","2014-2015",2,"Pre",2,14,"Jeremy Swingle",0,0,null,null,null,null,null,null,0,0,0,0,0.83333333333333337]
["Anna Magnuson","TAC1","Tacoma","2014-2015",4,"Pre",3,15,"Tony Kong",0,0,null,null,null,null,null,null,0,0,0,0,0.83333333333333337]
["Anna Magnuson","TAC1","Tacoma","2014-2015",3,"Pre",1,17,"Scott Peterson",0,0,null,null,1,null,null,null,0,0,0,-5,0.83333333333333337]
["Anna Magnuson","TAC1","Tacoma","2014-2015",4,"Pre",1,17,"Scott Peterson",0,0,null,null,null,null,null,null,0,0,0,0,0.83333333333333337]
["Anna Magnuson","TAC1","Tacoma","2014-2015",2,"Pre",2,18,"Jeremy Swingle",0,0,null,null,null,null,null,null,0,0,0,0,0.83333333333333337]
["Anna Magnuson","TAC1","Tacoma","2014-2015",1,"Pre",3,23,"Tiffany Bye",0,0,null,null,null,null,null,null,0,0,0,0,0.83333333333333337]
["Anna Magnuson","TAC1","Tacoma","2014-2015",2,"Pre",1,25,"Scott Peterson",0,0,1,null,null,null,null,null,0,0,0,-5,0.83333333333333337]
["Anna Magnuson","TAC1","Tacoma","2014-2015",3,"Pre",2,26,"Jeremy Swingle",0,0,null,null,null,null,null,null,0,0,0,0,0.83333333333333337]
["Anna Magnuson","TAC1","Tacoma","2014-2015",4,"Pre",2,26,"Jeremy Swingle",0,0,null,null,null,null,null,null,0,0,0,0,0.83333333333333337]
["Anna Magnuson","TAC1","Tacoma","2014-2015",1,"Pre",3,31,"Tiffany Bye",0,0,null,null,null,null,null,null,0,0,0,0,0.83333333333333337]
["Anna Magnuson","TAC1","Tacoma","2014-2015",2,"Pre",3,35,"Tiffany Bye",0,0,null,1,null,null,null,null,0,0,0,20,0.83333333333333337]
["Anna Magnuson","TAC1","Tacoma","2014-2015",1,"Pre",2,38,"Jeremy Swingle",0,0,null,null,null,null,null,null,0,0,0,0,0.83333333333333337]
["Anna Magnuson","TAC1","Tacoma","2014-2015",4,"Pre",2,38,"Jeremy Swingle",0,0,null,null,null,null,null,null,0,0,0,0,0.83333333333333337]
["Anna Magnuson","TAC1","Tacoma","2014-2015",3,"Pre",4,40,"Cutty Welt",0,1,null,null,1,null,null,null,0,0,0,-5,0.83333333333333337]
["Anna Magnuson","TAC1","Tacoma","2014-2015",3,"Pre",1,45,"Scott Peterson",0,0,null,null,null,null,null,null,0,0,0,0,0.83333333333333337]
["Anna Magnuson","TAC1","Tacoma","2014-2015",1,"Pre",4,48,"Cutty Welt",0,0,null,null,null,null,null,null,0,0,0,0,0.83333333333333337]
["Anna Magnuson","TAC1","Tacoma","2014-2015",4,"Pre",1,49,"Scott Peterson",0,0,null,null,null,null,null,null,0,0,0,0,0.83333333333333337]
["Anna Magnuson","TAC1","Tacoma","2014-2015",2,"ConA",2,"A-C","Jeremy Swingle",0,0,null,null,null,null,null,null,0,0,0,0,0.83333333333333337]
["Anna Magnuson","TAC1","Tacoma","2014-2015",2,"ConA",3,"A-E","Tiffany Bye",0,0,1,null,null,null,null,null,0,0,0,-5,0.83333333333333337]
["Anna Magnuson","TAC1","Tacoma","2014-2015",1,"ConA",3,"A-F","Tiffany Bye",0,0,null,null,null,null,null,null,0,0,0,0,0.83333333333333337]
["Anna Magnuson","TAC1","Tacoma","2014-2015",1,"ConA",3,"A-H","Tiffany Bye",0,0,null,null,null,null,null,null,0,0,0,0,0.83333333333333337]
["Anna Magnuson","TAC1","Tacoma","2014-2015",2,"ConA",3,"A-H","Tiffany Bye",0,0,null,null,null,null,null,null,0,0,0,0,0.83333333333333337]
["Anna Magnuson","TAC1","Tacoma","2014-2015",1,"ConA",3,"A-I","Tiffany Bye",0,0,null,null,null,null,null,null,0,0,0,0,0.83333333333333337]
["Anna Magnuson","TAC1","Tacoma","2014-2015",2,"ConA",3,"A-I","Tiffany Bye",0,0,null,null,null,null,null,null,0,0,0,0,0.83333333333333337]
["Anna Magnuson","TAC1","Tacoma","2014-2015",2,"ConA",2,"A-J","Jeremy Swingle",0,0,null,null,null,null,null,null,0,0,0,0,0.83333333333333337]
["Anna Magnuson","TAC1","Tacoma","2014-2015",4,"ConB",4,"B-1","Cutty Welt",0,0,null,null,null,null,null,null,0,0,0,0,0.83333333333333337]
["Anna Magnuson","TAC1","Tacoma","2014-2015",4,"ConB",4,"B-4","Cutty Welt",0,0,null,null,null,null,null,null,0,0,{"$f":"quizscore(J374,K374)","v":0},0,0.83333333333333337]
["Anna Magnuson","TAC1","Tacoma","2014-2015",3,"ConB",4,"B-7","Cutty Welt",0,0,null,null,null,null,null,null,0,0,0,0,0.83333333333333337]
["Anna Magnuson","TAC1","Tacoma","2014-2015",4,"ConB",4,"B-7","Cutty Welt",0,0,null,null,null,null,null,null,0,0,0,0,0.83333333333333337]
["Anna Magnuson","TAC1","Tacoma","2014-2015",2,"Pre",4,44,"Cutty Welt",1,1,null,null,null,null,null,null,0,0,20,20,0.83333333333333337]
["Anna Magnuson","TAC1","Tacoma","2014-2015",1,"ConA",2,"A-A","Jeremy Swingle",1,0,null,null,null,null,1,null,0,0,20,30,0.83333333333333337]
["Anna Magnuson","TAC1","Tacoma","2014-2015",3,"ConB",4,"B-1","Cutty Welt",1,1,null,null,null,1,null,null,0,0,20,30,0.83333333333333337]
["Anna Magnuson","TAC1","Tacoma","2014-2015",3,"ConB",4,"B-4","Cutty Welt",1,1,null,null,null,null,1,null,0,0,20,30,0.83333333333333337]
["Anna Magnuson","TAC1","Tacoma","2014-2015",3,"ConB",4,"B-J","Cutty Welt",1,1,null,null,null,null,null,null,0,0,20,20,0.83333333333333337]
["Anna Magnuson","TAC1","Tacoma","2014-2015",5,"Pre",2,6,"Jeremy Swingle",0,0,null,null,null,null,null,null,0,0,0,0,0.83333333333333337]
["Anna Magnuson","TAC1","Tacoma","2014-2015",5,"Pre",1,13,"Scott Peterson",0,0,null,null,null,null,null,null,0,0,0,0,0.83333333333333337]
["Anna Magnuson","TAC1","Tacoma","2014-2015",5,"Pre",4,24,"Cutty Welt",0,0,null,null,null,null,null,null,0,0,0,0,0.83333333333333337]
["Anna Magnuson","TAC1","Tacoma","2014-2015",5,"Pre",2,26,"Jeremy Swingle",0,0,null,null,null,null,null,null,0,0,0,0,0.83333333333333337]
["Anna Magnuson","TAC1","Tacoma","2014-2015",5,"Pre",1,37,"Scott Peterson",0,1,null,null,null,null,null,null,{"$f":"IF(J386=4,1,0)","v":0},{"$f":"IF(K386=3,1,0)","v":0},0,{"$f":"T386+M386*(20) + (SUM(O386:Q386)*(10)) - L386*(5) - N386*(5)","v":0},{"$f":"AVERAGEIFS(U:U,A:A,A386,F:F,\"Pre\")","v":0.83333333333333337}]
["Anna Magnuson","TAC1","Tacoma","2014-2015",5,"Pre",3,47,"Tony Kong",0,0,null,null,null,null,null,null,0,0,0,0,0.83333333333333337]
["Anna Magnuson","TAC1",{"$f":"VLOOKUP(B388,$B$2:$C$3219,2,FALSE)","v":"Tacoma"},"2014-2015",5,"ConB",4,"B-1","Cutty Welt",1,0,null,null,null,null,null,null,0,0,20,20,0.83333333333333337]
["Anna Magnuson","TAC1",{"$f":"VLOOKUP(B389,$B$2:$C$3219,2,FALSE)","v":"Tacoma"},"2014-2015",5,"ConB",4,"B-4","Cutty Welt",0,1,null,null,null,null,null,null,0,0,0,0,0.83333333333333337]
["Anna Magnuson","TAC1",{"$f":"VLOOKUP(B390,$B$2:$C$3219,2,FALSE)","v":"Tacoma"},"2014-2015",5,"ConB",4,"B-7","Cutty Welt",1,0,null,null,null,null,null,null,0,0,20,20,0.83333333333333337]
["Annie McKee","LH1","Lighthouse","2014-2015",2,"Pre",2,6,"Jeremy Swingle",0,3,null,null,null,null,null,null,0,1,-20,-20,6]
["Annie McKee","LH1","Lighthouse","2014-2015",2,"Pre",3,35,"Tiffany Bye",0,2,null,null,null,null,null,null,0,0,-10,-10,6]
["Annie McKee","LH1","Lighthouse","2014-2015",2,"Pre",2,2,"Jeremy Swingle",0,1,null,null,null,null,null,null,0,0,0,0,6]
["Annie McKee","LH1","Lighthouse","2014-2015",3,"Pre",4,8,"Cutty Welt",0,0,null,null,null,null,null,null,0,0,0,0,6]
["Annie McKee","LH1","Lighthouse","2014-2015",4,"Pre",4,8,"Cutty Welt",0,0,null,null,null,null,null,null,0,0,0,0,6]
["Annie McKee","LH1","Lighthouse","2014-2015",4,"Pre",1,13,"Scott Peterson",0,0,null,null,1,null,null,null,0,0,0,-5,6]
["Annie McKee","LH1","Lighthouse","2014-2015",3,"Pre",4,16,"Cutty Welt",0,0,null,null,null,null,null,null,0,0,0,0,6]
["Annie McKee","LH3","Lighthouse","2014-2015",1,"Pre",2,18,"Jeremy Swingle",0,1,null,1,null,null,null,null,0,0,0,20,6]
["Annie McKee","LH1","Lighthouse","2014-2015",4,"Pre",2,22,"Jeremy Swingle",0,0,1,null,null,null,null,null,0,0,0,-5,6]
["Annie McKee","LH1","Lighthouse","2014-2015",3,"Pre",3,23,"Tiffany Bye",0,0,null,null,1,null,null,null,0,0,0,-5,6]
["Annie McKee","LH3","Lighthouse","2014-2015",1,"Pre",1,25,"Scott Peterson",0,1,null,null,null,null,null,null,0,0,0,0,6]
["Annie McKee","LH1","Lighthouse","2014-2015",3,"Pre",3,31,"Tiffany Bye",0,0,null,null,null,null,null,null,0,0,0,0,6]
["Annie McKee","LH1","Lighthouse","2014-2015",4,"Pre",3,31,"Tony Kong",0,0,null,null,null,null,null,null,0,0,0,0,6]
["Annie McKee","LH3","Lighthouse","2014-2015",1,"Pre",3,35,"Tiffany Bye",0,0,null,null,null,null,null,null,0,0,0,0,6]
["Annie McKee","LH1","Lighthouse","2014-2015",3,"Pre",1,37,"Scott Peterson",0,1,null,null,null,null,null,null,0,0,0,0,6]
["Annie McKee","LH1","Lighthouse","2014-2015",2,"Pre",1,45,"Scott Peterson",0,0,null,null,1,null,null,null,0,0,{"$f":"quizscore(J406,K406)","v":0},-5,6]
["Annie McKee","LH1","Lighthouse","2014-2015",3,"Pre",2,46,"Jeremy Swingle",0,0,null,null,null,null,null,null,0,0,0,0,6]
["Annie McKee","LH3","Lighthouse","2014-2015",1,"Pre",4,48,"Cutty Welt",0,0,null,null,null,null,null,null,0,0,0,0,6]
["Annie McKee","LH1","Lighthouse","2014-2015",4,"Pre",4,48,"Cutty Welt",0,0,null,null,null,null,null,null,0,0,0,0,6]
["Annie McKee","LH1","Lighthouse","2014-2015",3,"ConA",2,"A-C","Jeremy Swingle",0,0,null,null,null,null,null,null,0,0,0,0,6]
["Annie McKee","LH1","Lighthouse","2014-2015",3,"ConA",2,"A-D","Jeremy Swingle",0,0,null,null,null,null,null,null,0,0,0,0,6]
["Annie McKee","LH1","Lighthouse","2014-2015",4,"ConA",2,"A-D","Jeremy Swingle",0,1,null,null,null,null,null,null,0,0,0,0,6]
["Annie McKee","LH1","Lighthouse","2014-2015",2,"ConA",3,"A-E","Tiffany Bye",0,1,null,null,1,null,null,null,0,0,0,-5,6]
["Annie McKee","LH1","Lighthouse","2014-2015",3,"ConA",2,"A-G","Jeremy Swingle",0,0,null,null,null,null,null,null,0,0,0,0,6]
["Annie McKee","LH1","Lighthouse","2014-2015",4,"ConA",2,"A-G","Jeremy Swingle",0,0,null,null,null,null,null,null,0,0,0,0,6]
["Annie McKee","LH1","Lighthouse","2014-2015",2,"ConA",3,"A-H","Tiffany Bye",0,0,null,null,null,null,null,null,0,0,0,0,6]
["Annie McKee","LH1","Lighthouse","2014-2015",4,"ConA",3,"A-I","Abby Ashcraft",0,0,null,null,null,null,null,null,0,0,0,0,6]
["Annie McKee","LH1","Lighthouse","2014-2015",3,"ConA",2,"A-J","Jeremy Swingle",0,0,null,null,null,null,null,null,0,0,0,0,6]
["Annie McKee","LH3","Lighthouse","2014-2015",1,"ConB",4,"B-2","Cutty Welt",1,2,null,null,null,null,1,null,0,0,10,20,6]
["Annie McKee","LH1","Lighthouse","2014-2015",2,"Pre",4,28,"Cutty Welt",1,1,null,null,null,null,null,null,0,0,20,20,6]
["Annie McKee","LH1","Lighthouse","2014-2015",4,"Pre",3,39,"Tony Kong",1,0,null,null,null,null,null,null,0,0,20,20,6]
["Annie McKee","LH3","Lighthouse","2014-2015",1,"Pre",4,40,"Cutty Welt",1,1,null,null,null,null,null,null,0,0,20,20,6]
["Annie McKee","LH1","Lighthouse","2014-2015",2,"ConA",2,"A-A","Jeremy Swingle",1,0,1,null,null,null,1,null,0,0,20,25,6]
["Annie McKee","LH1","Lighthouse","2014-2015",4,"ConA",2,"A-C","Jeremy Swingle",1,0,null,null,null,null,1,null,0,0,20,30,6]
["Annie McKee","LH3","Lighthouse","2014-2015",1,"ConB",4,"B-1","Cutty Welt",1,1,null,null,null,null,null,null,0,0,20,20,6]
["Annie McKee","LH3","Lighthouse","2014-2015",1,"Pre",2,6,"Jeremy Swingle",2,1,null,1,null,null,null,null,0,0,40,60,6]
["Annie McKee","LH1","Lighthouse","2014-2015",2,"Pre",4,20,"Cutty Welt",2,0,null,null,null,null,null,null,0,0,40,40,6]
["Annie McKee","LH3","Lighthouse","2014-2015",1,"ConB",4,"B-5","Cutty Welt",2,0,null,null,null,null,null,null,0,0,40,40,6]
["Annie McKee","LH3","Lighthouse","2014-2015",1,"ConB",4,"B-J","Cutty Welt",2,0,null,null,null,null,null,null,0,0,40,40,6]
["Annie McKee","LH1","Lighthouse","2014-2015",5,"Pre",3,7,"Tony Kong",1,0,null,null,null,null,null,null,0,0,20,20,6]
["Annie McKee","LH1","Lighthouse","2014-2015",5,"Pre",4,20,"Cutty Welt",0,0,null,null,null,null,null,null,0,0,0,0,6]
["Annie McKee","LH1","Lighthouse","2014-2015",5,"Pre",2,22,"Jeremy Swingle",0,0,null,null,null,null,null,null,0,0,0,0,6]
["Annie McKee","LH1","Lighthouse","2014-2015",5,"Pre",2,30,"Jeremy Swingle",0,0,null,null,null,null,null,null,0,0,0,0,6]
["Annie McKee","LH1","Lighthouse","2014-2015",5,"Pre",1,37,"Scott Peterson",1,0,null,null,null,1,null,null,0,0,20,30,6]
["Annie McKee","LH1","Lighthouse","2014-2015",5,"Pre",1,45,"Scott Peterson",0,0,null,null,null,null,null,null,0,0,0,0,6]
["Annie McKee","LH1","Lighthouse","2014-2015",5,"ConA",2,"A-A","Jeremy Swingle",0,0,null,null,null,null,null,null,0,0,0,0,6]
["Annie McKee","LH1","Lighthouse","2014-2015",5,"ConA",2,"A-D","Jeremy Swingle",1,1,null,null,null,null,null,null,0,0,20,20,6]
["Annie McKee","LH1","Lighthouse","2014-2015",5,"ConA",2,"A-G","Jeremy Swingle",1,1,null,null,null,null,null,null,0,0,20,20,6]
["Annie McKee","LH1",{"$f":"VLOOKUP(B439,$B$2:$C$3219,2,FALSE)","v":"Lighthouse"},"2014-2015",5,"ConA",3,"A-J","Abby Ashcraft",2,0,null,null,null,null,null,null,0,0,null,0,6]
["Ashly Barrios","EBC2","EBC","2014-2015",2,"Pre",3,7,"Tiffany Bye",0,0,null,null,null,null,null,null,0,0,{"$f":"quizscore(J440,K440)","v":0},0,40.5]
["Ashly Barrios","EBC2","EBC","2014-2015",2,"Pre",4,16,"Cutty Welt",0,1,null,null,null,null,null,null,0,0,0,0,40.5]
["Ashly Barrios","EBC2","EBC","2014-2015",3,"Pre",2,22,"Jeremy Swingle",0,1,null,null,null,null,null,null,0,0,0,0,40.5]
["Ashly Barrios","EBC2","EBC","2014-2015",3,"Pre",2,30,"Jeremy Swingle",1,3,null,null,null,null,null,null,0,1,0,0,40.5]
["Ashly Barrios","EBC2","EBC","2014-2015",2,"Pre",4,36,"Cutty Welt",0,0,null,null,null,null,null,null,0,0,0,0,40.5]
["Ashly Barrios","EBC2","EBC","2014-2015",4,"Pre",2,46,"Jeremy Swingle",0,1,null,null,null,null,null,null,0,0,0,0,40.5]
["Ashly Barrios","EBC2","EBC","2014-2015",3,"Pre",1,49,"Scott Peterson",0,0,null,null,null,null,null,null,0,0,0,0,40.5]
["Ashly Barrios","EBC2","EBC","2014-2015",2,"Pre",2,50,"Jeremy Swingle",0,0,null,null,null,null,null,null,0,0,0,0,40.5]
["Ashly Barrios","EBC2","EBC","2014-2015",2,"Semi",1,"C","Scott Peterson",0,0,null,null,null,null,null,null,0,0,0,0,40.5]
["Ashly Barrios","EBC2","EBC","2014-2015",2,"Semi",1,"E","Scott Peterson",0,0,null,null,null,null,null,null,0,0,0,0,40.5]
["Ashly Barrios","EBC2","EBC","2014-2015",3,"Semi",1,"E","Scott Peterson",0,0,null,null,null,null,null,null,{"$f":"IF(J450=4,1,0)","v":0},{"$f":"IF(K450=3,1,0)","v":0},0,{"$f":"T450+M450*(20) + (SUM(O450:Q450)*(10)) - L450*(5) - N450*(5)","v":0},{"$f":"AVERAGEIFS(U:U,A:A,A450,F:F,\"Pre\")","v":40.5}]
["Ashly Barrios","EBC2","EBC","2014-2015",2,"Semi",2,"H","Jeremy Swingle",0,0,null,null,null,null,null,null,0,0,0,0,40.5]
["Ashly Barrios","EBC2","EBC","2014-2015",3,"Semi",2,"H","Jeremy Swingle",0,0,null,null,null,null,null,null,0,0,0,0,40.5]
["Ashly Barrios","EBC2","EBC","2014-2015",4,"Semi",2,"F","Jeremy Swingle",1,2,null,null,null,null,null,null,0,0,10,10,40.5]
["Ashly Barrios","EBC2","EBC","2014-2015",4,"Pre",2,6,"Jeremy Swingle",1,0,null,null,null,null,null,null,0,0,20,20,40.5]
["Ashly Barrios","EBC2","EBC","2014-2015",4,"Pre",4,40,"Cutty Welt",1,1,null,null,null,null,null,null,0,0,20,20,40.5]
["Ashly Barrios","EBC2","EBC","2014-2015",2,"Pre",1,41,"Scott Peterson",2,3,null,null,null,null,null,null,0,1,20,20,40.5]
["Ashly Barrios","EBC2","EBC","2014-2015",3,"Semi",1,"B","Scott Peterson",1,0,null,null,null,null,null,null,0,0,20,20,40.5]
["Ashly Barrios","EBC2","EBC","2014-2015",4,"Semi",1,"B","Scott Peterson",1,0,null,null,null,1,null,null,0,0,20,30,40.5]
["Ashly Barrios","EBC1","EBC","2014-2015",1,"Pre",2,14,"Jeremy Swingle",2,2,null,1,null,null,null,null,0,0,30,50,40.5]
["Ashly Barrios","EBC2","EBC","2014-2015",4,"Pre",1,13,"Scott Peterson",2,1,2,null,null,null,null,null,0,0,40,30,40.5]
["Ashly Barrios","EBC2","EBC","2014-2015",4,"Pre",1,21,"Scott Peterson",2,1,null,null,null,null,null,null,0,0,40,40,40.5]
["Ashly Barrios","EBC2","EBC","2014-2015",3,"Pre",3,43,"Tiffany Bye",2,0,null,null,null,1,null,null,0,0,40,50,40.5]
["Ashly Barrios","EBC2","EBC","2014-2015",3,"Pre",4,8,"Cutty Welt",3,1,null,null,null,1,null,null,0,0,60,70,40.5]
["Ashly Barrios","EBC2","EBC","2014-2015",3,"Pre",1,13,"Scott Peterson",3,1,null,null,1,null,null,null,0,0,60,55,40.5]
["Ashly Barrios","EBC2","EBC","2014-2015",4,"Pre",3,35,"Tony Kong",3,1,null,null,null,null,null,null,0,0,60,60,40.5]
["Ashly Barrios","EBC1","EBC","2014-2015",1,"ConA",2,"A-C","Jeremy Swingle",4,2,null,null,null,null,null,null,1,0,70,70,40.5]
["Ashly Barrios","EBC1","EBC","2014-2015",1,"Pre",1,5,"Scott Peterson",4,1,null,null,null,null,null,null,1,0,80,80,40.5]
["Ashly Barrios","EBC1","EBC","2014-2015",1,"Pre",2,22,"Jeremy Swingle",4,1,null,null,null,null,null,null,1,0,80,80,40.5]
["Ashly Barrios","EBC1","EBC","2014-2015",1,"Pre",4,28,"Cutty Welt",4,1,null,null,null,null,null,null,1,0,80,80,40.5]
["Ashly Barrios","EBC1","EBC","2014-2015",1,"ConA",3,"A-F","Tiffany Bye",4,1,null,null,null,null,null,null,1,0,80,80,40.5]
["Ashly Barrios","EBC2","EBC","2014-2015",2,"Pre",1,25,"Scott Peterson",4,0,null,null,null,1,null,null,1,0,90,100,40.5]
["Ashly Barrios","EBC1","EBC","2014-2015",1,"Pre",4,40,"Cutty Welt",4,0,null,1,null,null,null,null,1,0,{"$f":"quizscore(J472,K472)","v":90},110,40.5]
["Ashly Barrios","EBC1","EBC","2014-2015",1,"Pre",3,47,"Tiffany Bye",4,0,null,null,null,null,null,null,1,0,90,90,40.5]
["Ashly Barrios","EBC2","EBC","2014-2015",5,"Pre",3,3,"Tony Kong",4,1,null,null,null,null,null,null,1,0,80,80,40.5]
["Ashly Barrios","EBC2","EBC","2014-2015",5,"Pre",2,10,"Jeremy Swingle",0,0,null,null,null,null,null,null,0,0,0,0,40.5]
["Ashly Barrios","EBC2","EBC","2014-2015",5,"Pre",1,21,"Scott Peterson",4,0,null,null,null,null,null,null,1,0,90,90,40.5]
["Ashly Barrios","EBC2","EBC","2014-2015",5,"Pre",1,29,"Scott Peterson",2,1,null,null,null,null,null,null,0,0,40,40,40.5]
["Ashly Barrios","EBC2","EBC","2014-2015",5,"Pre",4,36,"Cutty Welt",2,0,null,null,null,null,null,null,0,0,40,40,40.5]
["Ashly Barrios","EBC2","EBC","2014-2015",5,"Pre",3,47,"Tony Kong",1,2,null,null,null,null,null,null,0,0,10,10,40.5]
["Ashly Barrios","EBC2","EBC","2014-2015",5,"Semi",1,"A","Scott Peterson",0,1,null,null,null,null,null,null,0,0,0,0,40.5]
["Ashly Barrios","EBC2","EBC","2014-2015",5,"Semi",1,"E","Scott Peterson",1,0,null,null,1,null,null,null,0,0,20,15,40.5]
["Ashly Barrios","EBC2","EBC","2014-2015",5,"Semi",2,"H","Jeremy Swingle",3,1,null,null,null,null,null,null,0,0,60,60,40.5]
["Austin Watkins","DAC2","Dallas","2014-2015",1,"Pre",1,9,"Scott Peterson",0,2,null,null,null,null,null,null,0,0,-10,-10,0.83333333333333337]
["Austin Watkins","DAC2","Dallas","2014-2015",1,"Pre",3,39,"Tiffany Bye",0,2,null,null,null,null,null,null,0,0,-10,-10,0.83333333333333337]
["Austin Watkins","DAC2","Dallas","2014-2015",2,"Pre",2,2,"Jeremy Swingle",0,0,null,null,null,null,null,null,0,0,0,0,0.83333333333333337]
["Austin Watkins","DAC2","Dallas","2014-2015",1,"Pre",3,3,"Tiffany Bye",0,1,null,null,null,null,null,null,0,0,0,0,0.83333333333333337]
["Austin Watkins","DAC2","Dallas","2014-2015",2,"Pre",4,12,"Cutty Welt",0,0,null,null,null,null,null,null,0,0,0,0,0.83333333333333337]
["Austin Watkins","DAC2","Dallas","2014-2015",1,"Pre",1,17,"Scott Peterson",0,1,null,null,null,null,null,null,0,0,0,0,0.83333333333333337]
["Austin Watkins","DAC2","Dallas","2014-2015",2,"Pre",3,27,"Tiffany Bye",0,0,null,null,null,null,null,null,0,0,0,0,0.83333333333333337]
["Austin Watkins","DAC2","Dallas","2014-2015",1,"Pre",2,30,"Jeremy Swingle",0,1,null,null,null,null,null,null,0,0,0,0,0.83333333333333337]
["Austin Watkins","DAC2","Dallas","2014-2015",2,"Pre",1,33,"Scott Peterson",0,0,null,null,null,null,null,null,0,0,0,0,0.83333333333333337]
["Austin Watkins","DAC2","Dallas","2014-2015",1,"Pre",4,48,"Cutty Welt",0,0,null,null,null,null,null,null,0,0,0,0,0.83333333333333337]
["Austin Watkins","DAC2","Dallas","2014-2015",2,"Pre",2,50,"Jeremy Swingle",0,0,null,null,null,null,null,null,0,0,0,0,0.83333333333333337]
["Austin Watkins","DAC2","Dallas","2014-2015",1,"ConA",2,"A-A","Jeremy Swingle",0,0,null,null,null,null,null,null,0,0,0,0,0.83333333333333337]
["Austin Watkins","DAC2","Dallas","2014-2015",1,"ConA",2,"A-D","Jeremy Swingle",0,0,null,null,null,null,null,null,0,0,0,0,0.83333333333333337]
["Austin Watkins","DAC2","Dallas","2014-2015",1,"ConA",2,"A-G","Jeremy Swingle",0,0,null,null,null,null,null,null,0,0,0,0,0.83333333333333337]
["Austin Watkins","DAC2","Dallas","2014-2015",1,"ConA",2,"A-J","Jeremy Swingle",0,0,null,null,null,null,null,null,0,0,0,0,0.83333333333333337]
["Austin Watkins","DAC2","Dallas","2014-2015",2,"Semi",1,"C","Scott Peterson",0,0,null,null,null,null,null,null,0,0,0,0,0.83333333333333337]
["Austin Watkins","DAC2","Dallas","2014-2015",2,"Semi",1,"D","Scott Peterson",0,1,null,null,null,null,null,null,0,0,0,0,0.83333333333333337]
["Austin Watkins","DAC2","Dallas","2014-2015",2,"Semi",1,"G","Scott Peterson",0,0,null,null,null,null,null,null,0,0,0,0,0.83333333333333337]
["Austin Watkins","DAC2","Dallas","2014-2015",2,"Semi",1,"I","Scott Peterson",0,0,null,null,1,null,null,null,0,0,0,-5,0.83333333333333337]
["Austin Watkins","DAC2","Dallas","2014-2015",2,"Semi",1,"J","Scott Peterson",0,0,null,null,null,null,null,null,0,0,0,0,0.83333333333333337]
["Austin Watkins","DAC2","Dallas","2014-2015",2,"Semi",1,"J","Scott Peterson",0,0,null,null,null,null,null,null,0,0,0,0,0.83333333333333337]
["Austin Watkins","DAC2","Dallas","2014-2015",2,"Pre",1,17,"Scott Peterson",1,0,null,null,null,1,null,null,0,0,{"$f":"quizscore(J504,K504)","v":20},30,0.83333333333333337]
["Becca Derr","CH2","Chapel Hill","2014-2015",2,"Pre",3,3,"Tiffany Bye",0,3,null,null,null,null,null,null,0,1,-20,-20,13.571428571428571]
["Becca Derr","CH2","Chapel Hill","2014-2015",3,"Pre",4,20,"Cutty Welt",0,3,null,null,null,null,null,null,0,1,-20,-20,13.571428571428571]
["Becca Derr","CH2","Chapel Hill","2014-2015",4,"Pre",2,38,"Jeremy Swingle",0,3,null,null,null,null,null,null,0,1,-20,-20,13.571428571428571]
["Becca Derr","CH2","Chapel Hill","2014-2015",2,"Pre",4,12,"Cutty Welt",0,0,null,null,null,null,null,null,0,0,0,0,13.571428571428571]
["Becca Derr","CH2","Chapel Hill","2014-2015",3,"Pre",1,25,"Tiffany Bye",0,0,null,null,null,null,null,null,0,0,0,0,13.571428571428571]
["Becca Derr","CH2","Chapel Hill","2014-2015",4,"Pre",3,31,"Tony Kong",0,0,null,1,null,null,null,null,0,0,0,20,13.571428571428571]
["Becca Derr","CH2","Chapel Hill","2014-2015",1,"Pre",2,42,"Jeremy Swingle",0,1,null,null,null,null,null,null,0,0,0,0,13.571428571428571]
["Becca Derr","CH2","Chapel Hill","2014-2015",2,"Pre",2,46,"Jeremy Swingle",1,3,null,null,null,null,null,null,0,1,0,0,13.571428571428571]
["Becca Derr","CH2","Chapel Hill","2014-2015",1,"ConA",3,"A-E","Tiffany Bye",0,1,null,null,null,null,null,null,0,0,0,0,13.571428571428571]
["Becca Derr","CH2","Chapel Hill","2014-2015",2,"ConA",2,"A-G","Jeremy Swingle",1,3,null,null,null,null,null,null,{"$f":"IF(J514=4,1,0)","v":0},{"$f":"IF(K514=3,1,0)","v":1},0,{"$f":"T514+M514*(20) + (SUM(O514:Q514)*(10)) - L514*(5) - N514*(5)","v":0},{"$f":"AVERAGEIFS(U:U,A:A,A514,F:F,\"Pre\")","v":13.571428571428571}]
["Becca Derr","CH2","Chapel Hill","2014-2015",4,"Pre",2,14,"Jeremy Swingle",1,2,null,null,null,null,null,null,0,0,10,10,13.571428571428571]
["Becca Derr","CH2","Chapel Hill","2014-2015",1,"Pre",2,18,"Jeremy Swingle",1,2,null,null,null,1,null,null,0,0,10,20,13.571428571428571]
["Becca Derr","CH2","Chapel Hill","2014-2015",1,"Pre",1,29,"Scott Peterson",1,2,null,null,null,null,null,null,0,0,10,10,13.571428571428571]
["Becca Derr","CH2","Chapel Hill","2014-2015",2,"ConA",3,"A-I","Tiffany Bye",1,2,null,null,null,null,null,null,0,0,10,10,13.571428571428571]
["Becca Derr","CH2","Chapel Hill","2014-2015",3,"Pre",2,2,"Jeremy Swingle",1,1,null,null,null,null,null,null,0,0,20,20,13.571428571428571]
["Becca Derr","CH2","Chapel Hill","2014-2015",1,"Pre",4,4,"Cutty Welt",1,0,null,null,null,null,null,null,0,0,20,20,13.571428571428571]
["Becca Derr","CH2","Chapel Hill","2014-2015",1,"Pre",1,9,"Scott Peterson",1,1,null,null,null,null,null,null,0,0,20,20,13.571428571428571]
["Becca Derr","CH2","Chapel Hill","2014-2015",4,"Pre",4,24,"Cutty Welt",1,1,null,null,null,null,null,null,0,0,20,20,13.571428571428571]
["Becca Derr","CH2","Chapel Hill","2014-2015",2,"Pre",1,25,"Scott Peterson",1,1,null,null,null,null,null,null,0,0,20,20,13.571428571428571]
["Becca Derr","CH2","Chapel Hill","2014-2015",1,"Pre",3,27,"Tiffany Bye",1,1,1,null,null,null,null,null,0,0,20,15,13.571428571428571]
["Becca Derr","CH2","Chapel Hill","2014-2015",2,"Pre",1,37,"Scott Peterson",1,1,null,null,null,null,null,null,0,0,20,20,13.571428571428571]
["Becca Derr","CH2","Chapel Hill","2014-2015",2,"ConA",3,"A-B","Tiffany Bye",1,1,null,null,null,null,null,null,0,0,20,20,13.571428571428571]
["Becca Derr","CH2","Chapel Hill","2014-2015",4,"ConA",3,"A-B","Abby Ashcraft",1,0,null,1,null,null,null,null,0,0,20,40,13.571428571428571]
["Becca Derr","CH2","Chapel Hill","2014-2015",4,"ConA",3,"A-I","Abby Ashcraft",1,0,null,null,null,1,null,null,0,0,20,30,13.571428571428571]
["Becca Derr","CH2","Chapel Hill","2014-2015",4,"Pre",1,5,"Scott Peterson",2,1,null,null,null,null,null,null,0,0,40,40,13.571428571428571]
["Becca Derr","CH2","Chapel Hill","2014-2015",4,"ConA",3,"A-F","Abby Ashcraft",2,1,null,null,null,null,null,null,0,0,40,40,13.571428571428571]
["Becca Derr","CH2","Chapel Hill","2014-2015",1,"ConA",3,"A-H","Tiffany Bye",2,1,null,null,null,null,null,null,0,0,40,40,13.571428571428571]
["Becca Derr","CH2","Chapel Hill","2014-2015",4,"ConA",3,"A-H","Abby Ashcraft",2,0,null,null,null,null,null,null,0,0,40,40,13.571428571428571]
["Becca Derr","CH2","Chapel Hill","2014-2015",3,"Pre",3,11,"Tiffany Bye",3,2,null,null,null,null,null,null,0,0,50,50,13.571428571428571]
["Becca Derr","CH2","Chapel Hill","2014-2015",1,"ConA",3,"A-B","Tiffany Bye",3,2,null,null,null,null,null,null,0,0,50,50,13.571428571428571]
["Becca Derr","CH2","Chapel Hill","2014-2015",2,"Pre",4,20,"Cutty Welt",3,0,null,null,null,null,null,null,0,0,60,60,13.571428571428571]
["Becca Derr","CH2","Chapel Hill","2014-2015",4,"Pre",1,45,"Scott Peterson",3,0,null,null,null,null,null,null,0,0,{"$f":"quizscore(J536,K536)","v":60},60,13.571428571428571]
["Becca Derr","CH2","Chapel Hill","2014-2015",2,"ConA",3,"A-E","Tiffany Bye",4,0,null,null,null,null,null,null,1,0,90,90,13.571428571428571]
["Becca Derr","CH2","Chapel Hill","2014-2015",4,"ConA",2,"A-J","Jeremy Swingle",1,1,null,null,null,null,null,null,0,0,20,20,13.571428571428571]
["Becca Derr","CH2","Chapel Hill","2014-2015",5,"Pre",3,3,"Tony Kong",1,1,null,null,null,null,null,null,0,0,20,20,13.571428571428571]
["Becca Derr","CH2","Chapel Hill","2014-2015",5,"Pre",2,14,"Jeremy Swingle",0,2,null,null,null,null,null,null,0,0,-10,-10,13.571428571428571]
["Becca Derr","CH2","Chapel Hill","2014-2015",5,"Pre",4,24,"Cutty Welt",0,1,null,null,null,null,null,null,0,0,0,0,13.571428571428571]
["Becca Derr","CH2","Chapel Hill","2014-2015",5,"Pre",1,25,"Scott Peterson",1,2,null,null,null,null,null,null,0,0,10,10,13.571428571428571]
["Becca Derr","CH2","Chapel Hill","2014-2015",5,"Pre",2,34,"Jeremy Swingle",0,0,null,null,null,null,null,null,0,0,0,0,13.571428571428571]
["Becca Derr","CH2","Chapel Hill","2014-2015",5,"Pre",3,43,"Tony Kong",1,0,null,null,1,null,null,null,0,0,20,15,13.571428571428571]
["Becca Derr","CH2",{"$f":"VLOOKUP(B545,$B$2:$C$3219,2,FALSE)","v":"Chapel Hill"},"2014-2015",5,"ConB",4,"B-1","Cutty Welt",4,0,null,null,null,null,null,null,1,0,90,90,13.571428571428571]
["Becca Derr","CH2",{"$f":"VLOOKUP(B546,$B$2:$C$3219,2,FALSE)","v":"Chapel Hill"},"2014-2015",5,"ConB",4,"B-2","Cutty Welt",3,2,null,null,null,null,null,null,0,0,50,50,13.571428571428571]
["Becca Derr","CH2",{"$f":"VLOOKUP(B547,$B$2:$C$3219,2,FALSE)","v":"Chapel Hill"},"2014-2015",5,"ConB",4,"B-5","Cutty Welt",1,0,1,null,null,null,null,null,0,0,20,15,13.571428571428571]
["Becca Derr","CH2",{"$f":"VLOOKUP(B548,$B$2:$C$3219,2,FALSE)","v":"Chapel Hill"},"2014-2015",5,"ConB",4,"B-J","Cutty Welt",1,2,null,null,null,null,null,null,0,0,null,0,13.571428571428571]
["Benjamin Malchert","GH2","Grays Harbor","2014-2015",3,"Semi",2,"F","Jeremy Swingle",0,2,null,null,null,null,null,null,0,0,{"$f":"quizscore(J549,K549)","v":-10},-10,41.333333333333336]
["Benjamin Malchert","GH2","Grays Harbor","2014-2015",1,"Pre",2,10,"Jeremy Swingle",0,0,null,null,null,null,null,null,0,0,0,0,41.333333333333336]
["Benjamin Malchert","GH2","Grays Harbor","2014-2015",2,"Pre",3,23,"Tiffany Bye",0,1,null,null,null,null,null,null,0,0,0,0,41.333333333333336]
["Benjamin Malchert","GH2","Grays Harbor","2014-2015",2,"Pre",2,30,"Jeremy Swingle",1,3,null,null,null,1,null,null,0,1,0,10,41.333333333333336]
["Benjamin Malchert","GH2","Grays Harbor","2014-2015",1,"Pre",3,31,"Tiffany Bye",0,0,null,null,null,null,null,null,0,0,0,0,41.333333333333336]
["Benjamin Malchert","GH2","Grays Harbor","2014-2015",3,"Pre",1,37,"Scott Peterson",1,3,null,null,null,null,null,null,0,1,0,0,41.333333333333336]
["Benjamin Malchert","GH2","Grays Harbor","2014-2015",4,"Pre",1,41,"Scott Peterson",1,3,null,null,null,null,null,null,0,1,0,0,41.333333333333336]
["Benjamin Malchert","GH2","Grays Harbor","2014-2015",1,"ConA",2,"A-D","Jeremy Swingle",0,0,null,null,null,null,null,null,0,0,0,0,41.333333333333336]
["Benjamin Malchert","GH2","Grays Harbor","2014-2015",4,"ConA",2,"A-D","Jeremy Swingle",1,3,null,null,null,null,null,null,0,1,0,0,41.333333333333336]
["Benjamin Malchert","GH2","Grays Harbor","2014-2015",2,"Semi",1,"C","Scott Peterson",0,1,2,null,null,null,null,null,0,0,0,-10,41.333333333333336]
["Benjamin Malchert","GH2","Grays Harbor","2014-2015",2,"Semi",2,"F","Jeremy Swingle",0,1,null,null,null,null,null,null,0,0,0,0,41.333333333333336]
["Benjamin Malchert","GH2","Grays Harbor","2014-2015",4,"Pre",4,12,"Cutty Welt",1,1,null,null,null,null,null,null,0,0,20,20,41.333333333333336]
["Benjamin Malchert","GH2","Grays Harbor","2014-2015",1,"Pre",3,35,"Tiffany Bye",1,1,null,null,null,null,null,null,0,0,20,20,41.333333333333336]
["Benjamin Malchert","GH2","Grays Harbor","2014-2015",1,"Pre",2,46,"Jeremy Swingle",1,0,null,null,null,null,null,null,0,0,20,20,41.333333333333336]
["Benjamin Malchert","GH2","Grays Harbor","2014-2015",2,"Pre",4,48,"Cutty Welt",1,0,null,null,null,null,null,null,0,0,20,20,41.333333333333336]
["Benjamin Malchert","GH2","Grays Harbor","2014-2015",1,"ConA",2,"A-C","Jeremy Swingle",1,0,null,null,null,1,null,null,0,0,20,30,41.333333333333336]
["Benjamin Malchert","GH2","Grays Harbor","2014-2015",1,"ConA",3,"A-I","Tiffany Bye",1,1,1,null,null,null,null,null,0,0,20,15,41.333333333333336]
["Benjamin Malchert","GH2","Grays Harbor","2014-2015",1,"ConA",2,"A-J","Jeremy Swingle",1,1,null,null,null,null,null,null,0,0,20,20,41.333333333333336]
["Benjamin Malchert","GH2","Grays Harbor","2014-2015",4,"Pre",1,1,"Scott Peterson",2,2,null,null,null,null,null,null,0,0,30,30,41.333333333333336]
["Benjamin Malchert","GH2","Grays Harbor","2014-2015",3,"Pre",3,7,"Tiffany Bye",2,2,null,null,null,null,null,null,0,0,30,30,41.333333333333336]
["Benjamin Malchert","GH2","Grays Harbor","2014-2015",4,"Pre",3,31,"Tony Kong",2,2,null,null,null,null,null,null,0,0,30,30,41.333333333333336]
["Benjamin Malchert","GH2","Grays Harbor","2014-2015",4,"Pre",2,50,"Jeremy Swingle",2,2,null,null,null,1,null,null,0,0,30,40,41.333333333333336]
["Benjamin Malchert","GH2","Grays Harbor","2014-2015",3,"Semi",1,"C","Scott Peterson",2,2,null,null,null,null,null,null,0,0,30,30,41.333333333333336]
["Benjamin Malchert","GH2","Grays Harbor","2014-2015",1,"Pre",1,17,"Scott Peterson",2,1,null,null,null,null,null,null,0,0,40,40,41.333333333333336]
["Benjamin Malchert","GH2","Grays Harbor","2014-2015",3,"Pre",3,47,"Tiffany Bye",2,1,null,null,null,null,null,null,0,0,40,40,41.333333333333336]
["Benjamin Malchert","GH2","Grays Harbor","2014-2015",1,"ConA",2,"A-G","Jeremy Swingle",2,0,null,null,null,null,null,null,0,0,40,40,41.333333333333336]
["Benjamin Malchert","GH2","Grays Harbor","2014-2015",4,"Pre",4,20,"Cutty Welt",3,2,null,null,null,null,null,null,0,0,50,50,41.333333333333336]
["Benjamin Malchert","GH2","Grays Harbor","2014-2015",3,"Pre",4,36,"Cutty Welt",3,2,null,null,null,null,null,null,0,0,50,50,41.333333333333336]
["Benjamin Malchert","GH2","Grays Harbor","2014-2015",2,"Pre",3,3,"Tiffany Bye",3,1,null,null,null,null,null,null,0,0,60,60,41.333333333333336]
["Benjamin Malchert","GH2","Grays Harbor","2014-2015",3,"Pre",4,28,"Cutty Welt",3,1,null,null,null,null,null,null,{"$f":"IF(J578=4,1,0)","v":0},{"$f":"IF(K578=3,1,0)","v":0},60,{"$f":"T578+M578*(20) + (SUM(O578:Q578)*(10)) - L578*(5) - N578*(5)","v":60},{"$f":"AVERAGEIFS(U:U,A:A,A578,F:F,\"Pre\")","v":41.333333333333336}]
["Benjamin Malchert","GH2","Grays Harbor","2014-2015",2,"Pre",2,10,"Jeremy Swingle",4,1,null,null,null,null,null,null,1,0,80,80,41.333333333333336]
["Benjamin Malchert","GH2","Grays Harbor","2014-2015",3,"Pre",2,18,"Jeremy Swingle",4,1,null,null,null,null,null,null,1,0,80,80,41.333333333333336]
["Benjamin Malchert","GH2","Grays Harbor","2014-2015",2,"Pre",1,33,"Scott Peterson",4,1,1,null,null,null,null,null,1,0,80,75,41.333333333333336]
["Benjamin Malchert","GH2","Grays Harbor","2014-2015",1,"Pre",4,24,"Cutty Welt",4,0,null,null,null,1,null,null,1,0,90,100,41.333333333333336]
["Benjamin Malchert","GH2","Grays Harbor","2014-2015",4,"ConA",3,"A-B","Abby Ashcraft",4,0,null,null,null,null,null,null,1,0,90,90,41.333333333333336]
["Benjamin Malchert","GH2","Grays Harbor","2014-2015",4,"ConA",2,"A-J","Jeremy Swingle",1,3,null,null,null,1,null,null,0,1,0,10,41.333333333333336]
["Benjamin Malchert","GH2","Grays Harbor","2014-2015",5,"Pre",4,4,"Cutty Welt",4,0,null,null,null,null,null,null,1,0,90,90,41.333333333333336]
["Benjamin Malchert","GH2","Grays Harbor","2014-2015",5,"Pre",3,11,"Tony Kong",1,1,null,null,null,1,null,null,0,0,20,30,41.333333333333336]
["Benjamin Malchert","GH2","Grays Harbor","2014-2015",5,"Pre",2,18,"Jeremy Swingle",3,1,1,null,null,null,null,null,0,0,60,55,41.333333333333336]
["Benjamin Malchert","GH2","Grays Harbor","2014-2015",5,"Pre",1,29,"Scott Peterson",3,1,null,null,null,null,null,null,0,0,60,60,41.333333333333336]
["Benjamin Malchert","GH2","Grays Harbor","2014-2015",5,"Pre",3,43,"Tony Kong",3,2,null,null,null,1,null,null,0,0,50,60,41.333333333333336]
["Benjamin Malchert","GH2","Grays Harbor","2014-2015",5,"Pre",2,50,"Jeremy Swingle",4,0,null,null,null,null,null,null,1,0,90,90,41.333333333333336]
["Benjamin Malchert","GH2","Grays Harbor","2014-2015",5,"Semi",1,"C","Scott Peterson",2,1,null,null,null,null,null,null,0,0,40,40,41.333333333333336]
["Benjamin Malchert","GH2","Grays Harbor","2014-2015",5,"Semi",1,"E","Scott Peterson",2,0,null,null,null,null,null,null,0,0,40,40,41.333333333333336]
["Benjamin Malchert","GH2","Grays Harbor","2014-2015",5,"Semi",2,"H","Jeremy Swingle",2,2,null,null,null,null,null,null,0,0,30,30,41.333333333333336]
["Blake Camacho","LH5","Lighthouse","2014-2015",2,"Pre",2,22,"Jeremy Swingle",0,2,null,null,null,null,null,null,0,0,-10,-10,5]
["Blake Camacho","LH5","Lighthouse","2014-2015",3,"Pre",4,24,"Cutty Welt",0,2,null,null,null,null,null,null,0,0,-10,-10,5]
["Blake Camacho","LH5","Lighthouse","2014-2015",2,"Pre",1,29,"Scott Peterson",0,2,null,null,null,null,null,null,0,0,-10,-10,5]
["Blake Camacho","LH5","Lighthouse","2014-2015",1,"ConA",3,"A-I","Tiffany Bye",0,2,null,null,null,null,null,null,0,0,-10,-10,5]
["Blake Camacho","LH5","Lighthouse","2014-2015",3,"Pre",1,1,"Scott Peterson",0,0,null,null,null,null,null,null,0,0,0,0,5]
["Blake Camacho","LH5","Lighthouse","2014-2015",2,"Pre",2,2,"Jeremy Swingle",0,0,null,null,null,null,null,null,0,0,0,0,5]
["Blake Camacho","LH5","Lighthouse","2014-2015",1,"Pre",3,7,"Tiffany Bye",0,1,null,null,null,null,null,null,0,0,0,0,5]
["Blake Camacho","LH5","Lighthouse","2014-2015",2,"Pre",4,8,"Cutty Welt",0,0,null,1,null,null,null,null,0,0,0,20,5]
["Blake Camacho","LH5","Lighthouse","2014-2015",4,"Pre",3,11,"Tony Kong",0,0,null,null,null,null,null,null,0,0,0,0,5]
["Blake Camacho","LH5","Lighthouse","2014-2015",1,"Pre",3,15,"Tiffany Bye",0,0,null,null,null,null,null,null,0,0,0,0,5]
["Blake Camacho","LH5","Lighthouse","2014-2015",3,"Pre",3,15,"Tiffany Bye",0,1,null,null,null,null,null,null,0,0,0,0,5]
["Blake Camacho","LH5","Lighthouse","2014-2015",4,"Pre",3,19,"Tony Kong",0,0,null,null,null,null,null,null,0,0,0,0,5]
["Blake Camacho","LH5","Lighthouse","2014-2015",1,"Pre",1,21,"Scott Peterson",0,0,null,1,null,null,null,null,0,0,0,20,5]
["Blake Camacho","LH5","Lighthouse","2014-2015",1,"Pre",1,29,"Scott Peterson",0,0,null,null,null,null,null,null,0,0,0,0,5]
["Blake Camacho","LH5","Lighthouse","2014-2015",3,"Pre",2,30,"Jeremy Swingle",0,0,null,null,null,null,null,null,0,0,0,0,5]
["Blake Camacho","LH5","Lighthouse","2014-2015",2,"Pre",3,39,"Tiffany Bye",0,0,null,null,null,null,null,null,0,0,0,0,5]
["Blake Camacho","LH5","Lighthouse","2014-2015",2,"Pre",1,41,"Scott Peterson",0,0,null,null,null,null,null,null,0,0,0,0,5]
["Blake Camacho","LH5","Lighthouse","2014-2015",3,"Pre",2,42,"Jeremy Swingle",0,0,null,null,null,null,null,null,0,0,0,0,5]
["Blake Camacho","LH5","Lighthouse","2014-2015",1,"Pre",2,46,"Jeremy Swingle",0,0,null,null,null,null,null,null,0,0,0,0,5]
["Blake Camacho","LH5","Lighthouse","2014-2015",4,"Pre",2,46,"Jeremy Swingle",0,0,null,null,null,null,null,null,0,0,{"$f":"quizscore(J613,K613)","v":0},0,5]
["Blake Camacho","LH5","Lighthouse","2014-2015",3,"Pre",2,50,"Jeremy Swingle",0,0,null,null,null,null,null,null,0,0,0,0,5]
["Blake Camacho","LH5","Lighthouse","2014-2015",1,"ConA",3,"A-E","Tiffany Bye",0,1,null,null,null,null,null,null,0,0,0,0,5]
["Blake Camacho","LH5","Lighthouse","2014-2015",1,"ConA",2,"A-G","Jeremy Swingle",0,0,null,null,null,null,null,null,0,0,0,0,5]
["Blake Camacho","LH5","Lighthouse","2014-2015",3,"ConB",4,"B-3","Cutty Welt",0,0,null,1,null,null,null,null,0,0,0,20,5]
["Blake Camacho","LH5","Lighthouse","2014-2015",3,"ConB",4,"B-5","Cutty Welt",0,1,null,null,null,null,null,null,0,0,0,0,5]
["Blake Camacho","LH5","Lighthouse","2014-2015",2,"ConB",4,"B-J","Cutty Welt",0,0,null,null,null,null,null,null,0,0,0,0,5]
["Blake Camacho","LH5","Lighthouse","2014-2015",4,"Semi",2,"H","Jeremy Swingle",0,1,null,null,null,null,null,null,0,0,0,0,5]
["Blake Camacho","LH5","Lighthouse","2014-2015",2,"ConB",4,"B-4","Cutty Welt",1,2,null,null,null,null,null,null,0,0,10,10,5]
["Blake Camacho","LH5","Lighthouse","2014-2015",4,"Pre",4,8,"Cutty Welt",1,0,null,null,null,1,null,null,0,0,20,30,5]
["Blake Camacho","LH5","Lighthouse","2014-2015",4,"Pre",1,33,"Scott Peterson",1,0,null,null,null,1,null,null,0,0,20,30,5]
["Blake Camacho","LH5","Lighthouse","2014-2015",4,"Pre",1,37,"Scott Peterson",1,1,null,null,null,null,null,null,0,0,20,20,5]
["Blake Camacho","LH5","Lighthouse","2014-2015",1,"Pre",4,40,"Cutty Welt",1,0,null,null,null,1,null,null,0,0,20,30,5]
["Blake Camacho","LH5","Lighthouse","2014-2015",4,"Semi",1,"A","Scott Peterson",1,0,null,null,1,null,null,null,0,0,20,15,5]
["Blake Camacho","LH5","Lighthouse","2014-2015",1,"ConA",2,"A-C","Jeremy Swingle",1,0,null,null,null,null,null,null,0,0,20,20,5]
["Blake Camacho","LH5","Lighthouse","2014-2015",3,"ConB",4,"B-7","Cutty Welt",1,0,null,null,null,null,1,null,0,0,20,30,5]
["Blake Camacho","LH5","Lighthouse","2014-2015",3,"ConB",4,"B-J","Cutty Welt",1,1,null,null,null,null,null,null,0,0,20,20,5]
["Blake Camacho","LH5","Lighthouse","2014-2015",2,"ConB",4,"B-3","Cutty Welt",2,0,null,null,null,null,null,null,0,0,40,40,5]
["Blake Camacho","LH5","Lighthouse","2014-2015",4,"Semi",1,"E","Scott Peterson",2,0,null,null,null,null,null,null,0,0,40,40,5]
["Blake Camacho","LH5","Lighthouse","2014-2015",2,"ConB",4,"B-2","Cutty Welt",3,1,null,1,null,null,null,null,0,0,60,80,5]
["Brennan Schwebke","LH4","Lighthouse","2014-2015",1,"Pre",4,16,"Cutty Welt",0,0,null,null,null,null,null,null,0,0,0,0,1.6666666666666667]
["Brennan Schwebke","LH4","Lighthouse","2014-2015",1,"Pre",3,23,"Tiffany Bye",0,0,null,null,null,null,null,null,0,0,0,0,1.6666666666666667]
["Brennan Schwebke","LH4","Lighthouse","2014-2015",1,"Pre",2,30,"Jeremy Swingle",0,0,null,null,1,null,null,null,0,0,0,-5,1.6666666666666667]
["Brennan Schwebke","LH4","Lighthouse","2014-2015",1,"Pre",1,41,"Scott Peterson",0,0,null,null,null,null,null,null,0,0,0,0,1.6666666666666667]
["Brennan Schwebke","LH4","Lighthouse","2014-2015",1,"Pre",1,49,"Scott Peterson",0,1,null,null,null,null,null,null,0,0,0,0,1.6666666666666667]
["Brennan Schwebke","LH4","Lighthouse","2014-2015",1,"ConB",4,"B-1","Cutty Welt",0,1,1,null,null,null,null,null,0,0,0,-5,1.6666666666666667]
["Brennan Schwebke","LH4","Lighthouse","2014-2015",1,"ConB",4,"B-3","Cutty Welt",0,1,null,null,null,null,null,null,0,0,0,0,1.6666666666666667]
["Brennan Schwebke","LH4","Lighthouse","2014-2015",1,"ConB",4,"B-6","Cutty Welt",0,0,null,null,null,null,null,null,0,0,0,0,1.6666666666666667]
["Brennan Schwebke","LH4","Lighthouse","2014-2015",1,"Pre",2,6,"Jeremy Swingle",1,1,1,null,null,null,null,null,0,0,20,15,1.6666666666666667]
["Bryanna Hurd","ABC4","ABC","2014-2015",4,"Pre",3,3,"Tony Kong",0,0,null,null,null,null,null,null,{"$f":"IF(J642=4,1,0)","v":0},{"$f":"IF(K642=3,1,0)","v":0},0,{"$f":"T642+M642*(20) + (SUM(O642:Q642)*(10)) - L642*(5) - N642*(5)","v":0},{"$f":"AVERAGEIFS(U:U,A:A,A642,F:F,\"Pre\")","v":0.83333333333333337}]
["Bryanna Hurd","ABC4","ABC","2014-2015",2,"Pre",2,6,"Jeremy Swingle",0,0,null,null,1,null,null,null,0,0,0,-5,0.83333333333333337]
["Bryanna Hurd","ABC4","ABC","2014-2015",1,"Pre",3,7,"Tiffany Bye",0,0,null,null,null,null,null,null,0,0,0,0,0.83333333333333337]
["Bryanna Hurd","ABC4","ABC","2014-2015",3,"Pre",4,8,"Cutty Welt",0,0,null,null,null,null,null,null,0,0,0,0,0.83333333333333337]
["Bryanna Hurd","ABC4","ABC","2014-2015",4,"Pre",1,9,"Scott Peterson",0,0,null,null,null,null,null,null,0,0,0,0,0.83333333333333337]
["Bryanna Hurd","ABC4","ABC","2014-2015",2,"Pre",2,14,"Jeremy Swingle",0,0,null,null,null,null,null,null,0,0,0,0,0.83333333333333337]
["Bryanna Hurd","ABC4","ABC","2014-2015",3,"Pre",2,14,"Jeremy Swingle",0,0,null,null,null,null,null,null,0,0,0,0,0.83333333333333337]
["Bryanna Hurd","ABC4","ABC","2014-2015",1,"Pre",2,18,"Jeremy Swingle",0,0,null,1,null,null,null,null,0,0,0,20,0.83333333333333337]
["Bryanna Hurd","ABC4","ABC","2014-2015",3,"Pre",1,21,"Scott Peterson",0,0,null,null,null,null,null,null,0,0,0,0,0.83333333333333337]
["Bryanna Hurd","ABC4","ABC","2014-2015",4,"Pre",3,23,"Tony Kong",0,0,null,null,null,null,null,null,0,0,0,0,0.83333333333333337]
["Bryanna Hurd","ABC4","ABC","2014-2015",1,"Pre",4,24,"Cutty Welt",0,0,null,null,null,null,null,null,0,0,0,0,0.83333333333333337]
["Bryanna Hurd","ABC4","ABC","2014-2015",2,"Pre",4,24,"Cutty Welt",0,0,null,null,null,null,null,null,0,0,0,0,0.83333333333333337]
["Bryanna Hurd","ABC4","ABC","2014-2015",3,"Pre",3,27,"Tiffany Bye",0,0,null,null,1,null,null,null,0,0,0,-5,0.83333333333333337]
["Bryanna Hurd","ABC4","ABC","2014-2015",2,"Pre",4,32,"Cutty Welt",0,0,null,null,null,null,null,null,0,0,0,0,0.83333333333333337]
["Bryanna Hurd","ABC4","ABC","2014-2015",3,"Pre",2,34,"Jeremy Swingle",0,0,null,null,null,null,null,null,0,0,0,0,0.83333333333333337]
["Bryanna Hurd","ABC4","ABC","2014-2015",1,"Pre",4,36,"Cutty Welt",0,0,null,null,null,null,null,null,0,0,0,0,0.83333333333333337]
["Bryanna Hurd","ABC4","ABC","2014-2015",4,"Pre",4,36,"Cutty Welt",0,0,null,null,null,null,null,null,0,0,0,0,0.83333333333333337]
["Bryanna Hurd","ABC4","ABC","2014-2015",1,"Pre",2,38,"Jeremy Swingle",0,0,null,null,null,null,null,null,0,0,0,0,0.83333333333333337]
["Bryanna Hurd","ABC4","ABC","2014-2015",4,"Pre",1,41,"Scott Peterson",0,0,null,null,null,null,null,null,0,0,0,0,0.83333333333333337]
["Bryanna Hurd","ABC4","ABC","2014-2015",1,"Pre",1,45,"Scott Peterson",0,0,null,null,null,null,null,null,0,0,0,0,0.83333333333333337]
["Bryanna Hurd","ABC4","ABC","2014-2015",3,"Pre",1,45,"Scott Peterson",0,0,null,null,null,null,null,null,0,0,0,0,0.83333333333333337]
["Bryanna Hurd","ABC4","ABC","2014-2015",4,"Pre",2,46,"Jeremy Swingle",0,0,null,null,null,null,null,null,0,0,0,0,0.83333333333333337]
["Bryanna Hurd","ABC4","ABC","2014-2015",2,"Pre",1,49,"Scott Peterson",0,0,null,null,null,null,null,null,0,0,0,0,0.83333333333333337]
["Bryanna Hurd","ABC4","ABC","2014-2015",2,"ConA",3,"A-F","Tiffany Bye",0,0,null,null,null,null,null,null,0,0,0,0,0.83333333333333337]
["Bryanna Hurd","ABC4","ABC","2014-2015",3,"ConB",4,"B-1","Cutty Welt",0,0,null,null,null,null,null,null,0,0,0,0,0.83333333333333337]
["Bryanna Hurd","ABC4","ABC","2014-2015",3,"ConB",4,"B-2","Cutty Welt",0,0,null,null,null,null,null,null,0,0,0,0,0.83333333333333337]
["Bryanna Hurd","ABC4","ABC","2014-2015",4,"ConB",4,"B-2","Cutty Welt",0,0,null,null,1,null,null,null,0,0,0,-5,0.83333333333333337]
["Bryanna Hurd","ABC4","ABC","2014-2015",1,"ConB",4,"B-4","Cutty Welt",0,0,null,null,1,null,null,null,0,0,0,-5,0.83333333333333337]
["Bryanna Hurd","ABC4","ABC","2014-2015",1,"ConB",4,"B-5","Cutty Welt",0,0,null,null,1,null,null,null,0,0,0,-5,0.83333333333333337]
["Bryanna Hurd","ABC4","ABC","2014-2015",3,"ConB",4,"B-5","Cutty Welt",0,0,null,null,null,null,null,null,0,0,0,0,0.83333333333333337]
["Bryanna Hurd","ABC4","ABC","2014-2015",4,"ConB",4,"B-6","Cutty Welt",0,0,null,null,null,null,null,null,0,0,0,0,0.83333333333333337]
["Bryanna Hurd","ABC4","ABC","2014-2015",4,"ConB",4,"B-7","Cutty Welt",0,0,null,null,null,null,null,null,0,0,0,0,0.83333333333333337]
["Bryanna Hurd","ABC4","ABC","2014-2015",2,"Pre",3,43,"Tiffany Bye",1,0,null,null,1,null,null,null,0,0,20,15,0.83333333333333337]
["Bryanna Hurd","ABC4","ABC","2014-2015",2,"ConA",3,"A-B","Tiffany Bye",1,0,null,null,null,null,null,null,0,0,20,20,0.83333333333333337]
["Bryanna Hurd","ABC4","ABC","2014-2015",1,"ConB",4,"B-6","Cutty Welt",1,0,null,null,null,null,null,null,0,0,20,20,0.83333333333333337]
["Bryanna Hurd","ABC4","ABC","2014-2015",4,"ConB",4,"B-J","Cutty Welt",0,0,null,null,null,null,null,null,0,0,{"$f":"quizscore(J677,K677)","v":0},0,0.83333333333333337]
["Bryanna Hurd","ABC4","ABC","2014-2015",5,"Pre",4,4,"Cutty Welt",0,0,null,null,null,null,null,null,0,0,0,0,0.83333333333333337]
["Bryanna Hurd","ABC4","ABC","2014-2015",5,"Pre",4,12,"Cutty Welt",0,0,null,null,null,null,null,null,0,0,0,0,0.83333333333333337]
["Bryanna Hurd","ABC4","ABC","2014-2015",5,"Pre",1,17,"Scott Peterson",0,0,null,null,null,null,null,null,0,0,0,0,0.83333333333333337]
["Bryanna Hurd","ABC4","ABC","2014-2015",5,"Pre",3,27,"Tony Kong",0,0,null,null,null,null,null,null,0,0,0,0,0.83333333333333337]
["Bryanna Hurd","ABC4","ABC","2014-2015",5,"Pre",2,38,"Jeremy Swingle",0,0,null,null,null,null,null,null,0,0,0,0,0.83333333333333337]
["Bryanna Hurd","ABC4","ABC","2014-2015",5,"Pre",1,49,"Scott Peterson",0,0,null,null,null,null,null,null,0,0,0,0,0.83333333333333337]
["Bryanna Hurd","ABC4","ABC","2014-2015",5,"ConA",2,"A-A","Jeremy Swingle",0,0,null,null,null,null,null,null,0,0,0,0,0.83333333333333337]
["Bryanna Hurd","ABC4","ABC","2014-2015",5,"ConA",3,"A-E","Abby Ashcraft",0,0,null,null,null,null,null,null,0,0,0,0,0.83333333333333337]
["Bryanna Hurd","ABC4","ABC","2014-2015",5,"ConA",3,"A-H","Abby Ashcraft",0,0,null,null,null,null,null,null,0,0,0,0,0.83333333333333337]
["Bryce Asberg","TAC2","Tacoma","2014-2015",4,"Pre",3,19,"Tony Kong",1,3,null,null,null,null,null,null,0,1,0,0,76.785714285714292]
["Bryce Asberg","TAC2","Tacoma","2014-2015",4,"Pre",4,40,"Cutty Welt",0,1,null,1,null,null,null,null,0,0,0,20,76.785714285714292]
["Bryce Asberg","TAC2","Tacoma","2014-2015",4,"ConA",2,"A-G","Jeremy Swingle",1,3,null,null,null,null,null,null,0,1,0,0,76.785714285714292]
["Bryce Asberg","TAC2","Tacoma","2014-2015",4,"Pre",4,12,"Cutty Welt",2,1,null,1,null,null,null,null,0,0,40,60,76.785714285714292]
["Bryce Asberg","TAC2","Tacoma","2014-2015",4,"Pre",3,27,"Tony Kong",2,1,null,null,null,null,null,null,0,0,40,40,76.785714285714292]
["Bryce Asberg","TAC2","Tacoma","2014-2015",1,"Pre",3,3,"Tiffany Bye",3,2,null,null,null,null,null,null,0,0,50,50,76.785714285714292]
["Bryce Asberg","TAC2","Tacoma","2014-2015",3,"Pre",3,15,"Tiffany Bye",3,1,null,null,null,null,null,null,0,0,60,60,76.785714285714292]
["Bryce Asberg","TAC2","Tacoma","2014-2015",2,"Pre",4,28,"Cutty Welt",4,2,null,null,null,null,null,null,1,0,70,70,76.785714285714292]
["Bryce Asberg","TAC2","Tacoma","2014-2015",2,"ConA",3,"A-H","Tiffany Bye",4,2,null,null,null,null,null,null,1,0,70,70,76.785714285714292]
["Bryce Asberg","TAC2","Tacoma","2014-2015",1,"Pre",3,11,"Tiffany Bye",4,1,null,null,null,null,null,null,1,0,80,80,76.785714285714292]
["Bryce Asberg","TAC2","Tacoma","2014-2015",3,"Pre",4,32,"Cutty Welt",4,1,null,null,null,null,null,null,1,0,80,80,76.785714285714292]
["Bryce Asberg","TAC2","Tacoma","2014-2015",2,"Pre",2,34,"Jeremy Swingle",4,1,null,null,null,null,null,null,1,0,80,80,76.785714285714292]
["Bryce Asberg","TAC2","Tacoma","2014-2015",4,"Pre",1,45,"Scott Peterson",4,1,null,1,null,null,null,null,1,0,80,100,76.785714285714292]
["Bryce Asberg","TAC2","Tacoma","2014-2015",2,"ConA",2,"A-A","Jeremy Swingle",4,1,null,null,null,null,null,null,1,0,80,80,76.785714285714292]
["Bryce Asberg","TAC2","Tacoma","2014-2015",4,"ConA",3,"A-E","Abby Ashcraft",4,1,null,1,null,null,null,null,1,0,80,100,76.785714285714292]
["Bryce Asberg","TAC2","Tacoma","2014-2015",2,"ConA",3,"A-F","Tiffany Bye",4,1,null,null,null,null,null,null,1,0,80,80,76.785714285714292]
["Bryce Asberg","TAC2","Tacoma","2014-2015",2,"Pre",1,1,"Scott Peterson",4,0,null,null,null,null,null,null,1,0,90,90,76.785714285714292]
["Bryce Asberg","TAC2","Tacoma","2014-2015",4,"Pre",2,2,"Jeremy Swingle",4,0,null,null,1,null,null,null,1,0,90,85,76.785714285714292]
["Bryce Asberg","TAC2","Tacoma","2014-2015",3,"Pre",2,6,"Jeremy Swingle",4,0,null,1,null,null,null,null,1,0,90,110,76.785714285714292]
["Bryce Asberg","TAC2","Tacoma","2014-2015",2,"Pre",2,10,"Jeremy Swingle",4,0,null,1,null,null,null,null,{"$f":"IF(J706=4,1,0)","v":1},{"$f":"IF(K706=3,1,0)","v":0},90,{"$f":"T706+M706*(20) + (SUM(O706:Q706)*(10)) - L706*(5) - N706*(5)","v":110},{"$f":"AVERAGEIFS(U:U,A:A,A706,F:F,\"Pre\")","v":76.785714285714292}]
["Bryce Asberg","TAC2","Tacoma","2014-2015",2,"Pre",3,19,"Tiffany Bye",4,0,null,null,null,null,null,null,1,0,90,90,76.785714285714292]
["Bryce Asberg","TAC2","Tacoma","2014-2015",1,"Pre",4,20,"Cutty Welt",4,0,null,null,null,null,null,null,1,0,90,90,76.785714285714292]
["Bryce Asberg","TAC2","Tacoma","2014-2015",3,"Pre",1,21,"Scott Peterson",4,0,null,null,null,null,null,null,1,0,90,90,76.785714285714292]
["Bryce Asberg","TAC2","Tacoma","2014-2015",1,"Pre",2,26,"Jeremy Swingle",4,0,null,null,null,null,null,null,1,0,90,90,76.785714285714292]
["Bryce Asberg","TAC2","Tacoma","2014-2015",1,"Pre",1,37,"Scott Peterson",4,0,null,null,null,null,null,null,1,0,90,90,76.785714285714292]
["Bryce Asberg","TAC2","Tacoma","2014-2015",2,"Pre",1,41,"Scott Peterson",4,0,null,null,null,null,null,null,1,0,90,90,76.785714285714292]
["Bryce Asberg","TAC2","Tacoma","2014-2015",1,"Pre",2,46,"Jeremy Swingle",4,0,null,1,1,null,null,null,1,0,90,105,76.785714285714292]
["Bryce Asberg","TAC2","Tacoma","2014-2015",1,"ConA",3,"A-B","Tiffany Bye",4,0,null,1,null,null,null,null,1,0,90,110,76.785714285714292]
["Bryce Asberg","TAC2","Tacoma","2014-2015",4,"ConA",3,"A-B","Abby Ashcraft",4,0,null,null,null,null,null,null,1,0,90,90,76.785714285714292]
["Bryce Asberg","TAC2","Tacoma","2014-2015",1,"ConA",2,"A-D","Jeremy Swingle",4,0,null,null,null,null,null,null,1,0,90,90,76.785714285714292]
["Bryce Asberg","TAC2","Tacoma","2014-2015",4,"ConA",3,"A-I","Abby Ashcraft",4,0,null,null,null,null,null,null,1,0,90,90,76.785714285714292]
["Bryce Asberg","TAC2","Tacoma","2014-2015",1,"ConA",2,"A-J","Jeremy Swingle",4,0,null,1,null,null,null,null,1,0,90,110,76.785714285714292]
["Bryce Asberg","TAC2","Tacoma","2014-2015",5,"Pre",2,6,"Jeremy Swingle",4,1,null,null,null,null,null,null,1,0,80,80,76.785714285714292]
["Bryce Asberg","TAC2","Tacoma","2014-2015",5,"Pre",3,15,"Tony Kong",4,0,null,null,null,null,null,null,1,0,90,90,76.785714285714292]
["Bryce Asberg","TAC2","Tacoma","2014-2015",5,"Pre",2,22,"Jeremy Swingle",3,1,null,null,null,null,null,null,0,0,60,60,76.785714285714292]
["Bryce Asberg","TAC2","Tacoma","2014-2015",5,"Pre",3,31,"Tony Kong",4,0,null,null,null,null,null,null,1,0,90,90,76.785714285714292]
["Bryce Asberg","TAC2","Tacoma","2014-2015",5,"Pre",1,33,"Scott Peterson",3,1,null,null,null,null,null,null,0,0,60,60,76.785714285714292]
["Bryce Asberg","TAC2","Tacoma","2014-2015",5,"Pre",4,44,"Cutty Welt",4,0,null,null,null,null,null,null,1,0,90,90,76.785714285714292]
["Bryce Asberg","TAC2","Tacoma","2014-2015",5,"ConA",2,"A-A","Jeremy Swingle",4,1,null,null,1,null,null,null,1,0,80,75,76.785714285714292]
["Bryce Asberg","TAC2","Tacoma","2014-2015",5,"ConA",3,"A-F","Abby Ashcraft",4,0,null,null,null,null,null,null,1,0,90,90,76.785714285714292]
["Bryce Asberg","TAC2",{"$f":"VLOOKUP(B727,$B$2:$C$3219,2,FALSE)","v":"Tacoma"},"2014-2015",5,"ConA",3,"A-H","Abby Ashcraft",4,0,null,null,null,null,null,null,1,0,90,90,76.785714285714292]
["Calvin Baker","DAC1","Dallas","2014-2015",3,"Pre",1,5,"Scott Peterson",0,1,null,null,null,null,null,null,0,0,0,0,1.7647058823529411]
["Calvin Baker","DAC1","Dallas","2014-2015",4,"Pre",3,7,"Tony Kong",0,0,null,null,null,null,null,null,0,0,0,0,1.7647058823529411]
["Calvin Baker","DAC1","Dallas","2014-2015",3,"Pre",3,15,"Tiffany Bye",0,0,null,null,null,null,null,null,0,0,0,0,1.7647058823529411]
["Calvin Baker","DAC1","Dallas","2014-2015",4,"Pre",4,16,"Cutty Welt",0,0,null,null,null,null,null,null,0,0,0,0,1.7647058823529411]
["Calvin Baker","DAC1","Dallas","2014-2015",3,"Pre",2,22,"Jeremy Swingle",0,0,null,null,null,null,null,null,0,0,0,0,1.7647058823529411]
["Calvin Baker","DAC1","Dallas","2014-2015",4,"Pre",4,24,"Cutty Welt",0,0,null,null,null,null,null,null,0,0,0,0,1.7647058823529411]
["Calvin Baker","DAC1","Dallas","2014-2015",3,"Pre",1,29,"Scott Peterson",0,0,null,null,null,null,null,null,0,0,0,0,1.7647058823529411]
["Calvin Baker","DAC1","Dallas","2014-2015",4,"Pre",2,34,"Jeremy Swingle",0,0,null,null,null,null,null,null,0,0,0,0,1.7647058823529411]
["Calvin Baker","DAC1","Dallas","2014-2015",3,"Pre",3,39,"Tiffany Bye",0,0,null,null,null,null,null,null,0,0,0,0,1.7647058823529411]
["Calvin Baker","DAC1","Dallas","2014-2015",4,"Pre",2,42,"Jeremy Swingle",0,0,null,null,null,null,null,null,0,0,0,0,1.7647058823529411]
["Calvin Baker","DAC1","Dallas","2014-2015",3,"Pre",2,46,"Jeremy Swingle",0,0,null,null,null,null,null,null,0,0,0,0,1.7647058823529411]
["Calvin Baker","DAC1","Dallas","2014-2015",4,"Pre",1,49,"Scott Peterson",0,1,null,null,null,null,null,null,0,0,0,0,1.7647058823529411]
["Calvin Baker","DAC1","Dallas","2014-2015",3,"Semi",1,"A","Scott Peterson",0,0,null,null,null,null,null,null,0,0,0,0,1.7647058823529411]
["Calvin Baker","DAC1","Dallas","2014-2015",4,"Semi",1,"A","Scott Peterson",0,0,null,null,null,null,null,null,0,0,{"$f":"quizscore(J741,K741)","v":0},0,1.7647058823529411]
["Calvin Baker","DAC1","Dallas","2014-2015",3,"Semi",2,"F","Jeremy Swingle",0,0,null,null,null,null,null,null,0,0,0,0,1.7647058823529411]
["Calvin Baker","DAC1","Dallas","2014-2015",4,"Semi",2,"F","Jeremy Swingle",0,1,null,null,null,null,null,null,0,0,0,0,1.7647058823529411]
["Calvin Baker","DAC1","Dallas","2014-2015",3,"Semi",2,"H","Jeremy Swingle",0,0,null,null,null,null,null,null,0,0,0,0,1.7647058823529411]
["Calvin Baker","DAC1","Dallas","2014-2015",4,"Semi",2,"H","Jeremy Swingle",0,0,null,null,null,null,null,null,0,0,0,0,1.7647058823529411]
["Calvin Baker","DAC1","Dallas","2014-2015",4,"Semi",1,"I","Scott Peterson",0,0,null,null,null,null,null,null,0,0,0,0,1.7647058823529411]
["Calvin Baker","DAC1","Dallas","2014-2015",5,"Pre",3,11,"Tony Kong",0,0,null,null,null,null,null,null,0,0,0,0,1.7647058823529411]
["Calvin Baker","DAC1","Dallas","2014-2015",5,"Pre",4,28,"Cutty Welt",1,0,null,null,null,1,null,null,0,0,20,30,1.7647058823529411]
["Calvin Baker","DAC1","Dallas","2014-2015",5,"Pre",1,33,"Scott Peterson",0,0,null,null,null,null,null,null,0,0,0,0,1.7647058823529411]
["Calvin Baker","FOX","Fox Island","2014-2015",5,"Pre",2,42,"Jeremy Swingle",0,0,null,null,null,null,null,null,0,0,0,0,1.7647058823529411]
["Calvin Baker","DAC1","Dallas","2014-2015",5,"Pre",1,49,"Scott Peterson",0,0,null,null,null,null,null,null,0,0,0,0,1.7647058823529411]
["Calvin Baker","DAC1","Dallas","2014-2015",5,"Semi",1,"B","Scott Peterson",0,0,null,null,null,null,null,null,0,0,0,0,1.7647058823529411]
["Calvin Baker","DAC1","Dallas","2014-2015",5,"Semi",2,"F","Jeremy Swingle",0,1,null,null,null,null,null,null,0,0,0,0,1.7647058823529411]
["Camden Kositzky","LH4","Lighthouse","2014-2015",3,"Pre",1,13,"Scott Peterson",0,0,null,null,null,null,null,null,0,0,0,0,11.166666666666666]
["Camden Kositzky","LH4","Lighthouse","2014-2015",4,"Pre",2,14,"Jeremy Swingle",0,0,null,null,null,null,null,null,0,0,0,0,11.166666666666666]
["Camden Kositzky","LH4","Lighthouse","2014-2015",2,"Pre",3,15,"Tiffany Bye",0,0,null,null,null,null,null,null,0,0,0,0,11.166666666666666]
["Camden Kositzky","LH4","Lighthouse","2014-2015",1,"Pre",4,16,"Cutty Welt",0,0,null,null,null,null,null,null,0,0,0,0,11.166666666666666]
["Camden Kositzky","LH4","Lighthouse","2014-2015",3,"Pre",4,20,"Cutty Welt",0,1,null,null,null,null,null,null,0,0,0,0,11.166666666666666]
["Camden Kositzky","LH4","Lighthouse","2014-2015",2,"Pre",1,21,"Scott Peterson",0,0,null,null,null,null,null,null,0,0,0,0,11.166666666666666]
["Camden Kositzky","LH4","Lighthouse","2014-2015",4,"Pre",1,21,"Scott Peterson",0,1,null,null,null,null,null,null,0,0,0,0,11.166666666666666]
["Camden Kositzky","LH4","Lighthouse","2014-2015",1,"Pre",3,23,"Tiffany Bye",0,0,null,null,null,null,null,null,0,0,0,0,11.166666666666666]
["Camden Kositzky","LH4","Lighthouse","2014-2015",4,"Pre",3,27,"Tony Kong",0,0,null,null,null,null,null,null,0,0,0,0,11.166666666666666]
["Camden Kositzky","LH4","Lighthouse","2014-2015",3,"Pre",4,28,"Cutty Welt",0,1,null,null,null,null,null,null,0,0,0,0,11.166666666666666]
["Camden Kositzky","LH4","Lighthouse","2014-2015",3,"Pre",3,31,"Tiffany Bye",0,1,null,null,null,null,null,null,0,0,0,0,11.166666666666666]
["Camden Kositzky","LH4","Lighthouse","2014-2015",2,"Pre",1,33,"Scott Peterson",0,0,null,null,null,null,null,null,0,0,0,0,11.166666666666666]
["Camden Kositzky","LH4","Lighthouse","2014-2015",4,"Pre",4,36,"Cutty Welt",0,0,null,null,null,null,null,null,0,0,0,0,11.166666666666666]
["Camden Kositzky","LH4","Lighthouse","2014-2015",1,"Pre",1,41,"Scott Peterson",0,0,null,null,null,null,null,null,0,0,0,0,11.166666666666666]
["Camden Kositzky","LH4","Lighthouse","2014-2015",2,"Pre",4,44,"Cutty Welt",0,1,null,null,null,null,null,null,0,0,0,0,11.166666666666666]
["Camden Kositzky","LH4","Lighthouse","2014-2015",1,"Pre",1,49,"Scott Peterson",0,0,null,null,null,null,null,null,0,0,0,0,11.166666666666666]
["Camden Kositzky","LH4","Lighthouse","2014-2015",4,"Pre",2,50,"Jeremy Swingle",0,0,null,1,null,null,null,null,{"$f":"IF(J770=4,1,0)","v":0},{"$f":"IF(K770=3,1,0)","v":0},0,{"$f":"T770+M770*(20) + (SUM(O770:Q770)*(10)) - L770*(5) - N770*(5)","v":20},{"$f":"AVERAGEIFS(U:U,A:A,A770,F:F,\"Pre\")","v":11.166666666666666}]
["Camden Kositzky","LH4","Lighthouse","2014-2015",3,"ConA",3,"A-E","Tiffany Bye",0,0,null,null,null,null,null,null,0,0,0,0,11.166666666666666]
["Camden Kositzky","LH4","Lighthouse","2014-2015",4,"ConA",3,"A-F","Abby Ashcraft",0,0,null,null,null,null,null,null,0,0,0,0,11.166666666666666]
["Camden Kositzky","LH4","Lighthouse","2014-2015",3,"ConA",3,"A-H","Tiffany Bye",0,0,null,null,null,null,null,null,0,0,0,0,11.166666666666666]
["Camden Kositzky","LH4","Lighthouse","2014-2015",1,"ConB",4,"B-3","Cutty Welt",0,1,null,null,null,null,null,null,0,0,0,0,11.166666666666666]
["Camden Kositzky","LH4","Lighthouse","2014-2015",2,"ConB",4,"B-4","Cutty Welt",0,1,null,null,null,null,null,null,0,0,0,0,11.166666666666666]
["Camden Kositzky","LH4","Lighthouse","2014-2015",2,"Pre",3,19,"Tiffany Bye",1,2,null,null,null,null,null,null,0,0,10,10,11.166666666666666]
["Camden Kositzky","LH4","Lighthouse","2014-2015",1,"Pre",2,6,"Jeremy Swingle",1,0,null,null,null,1,null,null,0,0,20,30,11.166666666666666]
["Camden Kositzky","LH4","Lighthouse","2014-2015",2,"Pre",2,6,"Jeremy Swingle",1,1,null,null,null,null,null,null,0,0,20,20,11.166666666666666]
["Camden Kositzky","LH4","Lighthouse","2014-2015",4,"Pre",3,7,"Tony Kong",1,1,null,null,1,null,null,null,0,0,20,15,11.166666666666666]
["Camden Kositzky","LH4","Lighthouse","2014-2015",1,"Pre",2,30,"Jeremy Swingle",1,0,null,null,null,null,null,null,0,0,20,20,11.166666666666666]
["Camden Kositzky","LH4","Lighthouse","2014-2015",3,"Pre",2,50,"Jeremy Swingle",1,0,null,null,null,null,null,null,0,0,20,20,11.166666666666666]
["Camden Kositzky","LH4","Lighthouse","2014-2015",3,"ConA",3,"A-B","Tiffany Bye",1,1,null,null,null,null,null,null,0,0,20,20,11.166666666666666]
["Camden Kositzky","LH4","Lighthouse","2014-2015",4,"ConA",2,"A-C","Jeremy Swingle",1,1,null,null,null,null,null,null,0,0,20,20,11.166666666666666]
["Camden Kositzky","LH4","Lighthouse","2014-2015",1,"ConB",4,"B-1","Cutty Welt",1,0,1,null,null,null,null,null,0,0,20,15,11.166666666666666]
["Camden Kositzky","LH4","Lighthouse","2014-2015",2,"ConB",4,"B-5","Cutty Welt",1,0,null,null,null,1,null,null,0,0,20,30,11.166666666666666]
["Camden Kositzky","LH4","Lighthouse","2014-2015",1,"ConB",4,"B-6","Cutty Welt",1,0,null,null,null,1,null,null,0,0,20,30,11.166666666666666]
["Camden Kositzky","LH4","Lighthouse","2014-2015",3,"Pre",4,44,"Cutty Welt",2,1,null,1,null,null,null,null,0,0,40,60,11.166666666666666]
["Camden Kositzky","LH4","Lighthouse","2014-2015",2,"ConB",4,"B-6","Cutty Welt",2,0,null,null,null,null,null,null,0,0,40,40,11.166666666666666]
["Camden Kositzky","LH4","Lighthouse","2014-2015",5,"Pre",2,2,"Jeremy Swingle",2,0,null,null,null,null,null,null,0,0,40,40,11.166666666666666]
["Camden Kositzky","LH4","Lighthouse","2014-2015",5,"Pre",1,9,"Scott Peterson",0,2,null,null,null,null,null,null,0,0,-10,-10,11.166666666666666]
["Camden Kositzky","LH4","Lighthouse","2014-2015",5,"Pre",4,16,"Cutty Welt",1,0,null,null,null,null,null,null,0,0,20,20,11.166666666666666]
["Camden Kositzky","LH4","Lighthouse","2014-2015",5,"Pre",1,21,"Scott Peterson",0,0,null,null,null,null,null,null,0,0,0,0,11.166666666666666]
["Camden Kositzky","LH4","Lighthouse","2014-2015",5,"Pre",3,35,"Tony Kong",1,0,null,null,null,1,null,null,0,0,20,30,11.166666666666666]
["Camden Kositzky","LH4","Lighthouse","2014-2015",5,"Pre",4,44,"Cutty Welt",3,0,null,null,null,null,null,null,0,0,60,60,11.166666666666666]
["Camden Kositzky","LH4","Lighthouse","2014-2015",5,"ConA",2,"A-C","Jeremy Swingle",1,0,null,null,null,1,null,null,0,0,20,30,11.166666666666666]
["Camden Kositzky","LH4","Lighthouse","2014-2015",5,"ConA",2,"A-D","Jeremy Swingle",0,2,null,null,null,null,null,null,0,0,-10,-10,11.166666666666666]
["Camden Kositzky","LH4","Lighthouse","2014-2015",5,"ConA",2,"A-G","Jeremy Swingle",1,0,null,null,null,null,null,null,0,0,20,20,11.166666666666666]
["Camden Kositzky","LH4",{"$f":"VLOOKUP(B798,$B$2:$C$3219,2,FALSE)","v":"Lighthouse"},"2014-2015",5,"ConA",3,"A-I","Abby Ashcraft",0,0,null,null,null,null,null,null,0,0,0,0,11.166666666666666]
["Camden Kositzky","LH4",{"$f":"VLOOKUP(B799,$B$2:$C$3219,2,FALSE)","v":"Lighthouse"},"2014-2015",5,"ConA",3,"A-J","Abby Ashcraft",0,0,null,null,null,null,null,null,0,0,null,0,11.166666666666666]
["Claire Kong","WOOD","Woodinville","2014-2015",1,"Semi",1,"J","Scott Peterson",0,2,null,null,null,null,null,null,0,0,{"$f":"quizscore(J800,K800)","v":-10},-10,55.333333333333336]
["Claire Kong","WOOD","Woodinville","2014-2015",1,"Semi",1,"J","Scott Peterson",0,2,null,null,null,null,null,null,0,0,-10,-10,55.333333333333336]
["Claire Kong","WOOD","Woodinville","2014-2015",3,"Pre",2,10,"Jeremy Swingle",0,0,null,1,null,null,null,null,0,0,0,20,55.333333333333336]
["Claire Kong","WOOD","Woodinville","2014-2015",1,"Pre",2,42,"Jeremy Swingle",0,0,null,null,null,null,null,null,0,0,0,0,55.333333333333336]
["Claire Kong","WOOD","Woodinville","2014-2015",4,"Pre",2,42,"Jeremy Swingle",0,0,null,2,null,null,null,null,0,0,0,40,55.333333333333336]
["Claire Kong","WOOD","Woodinville","2014-2015",1,"Semi",1,"C","Scott Peterson",0,0,null,null,null,null,null,null,0,0,0,0,55.333333333333336]
["Claire Kong","WOOD","Woodinville","2014-2015",3,"Semi",1,"C","Scott Peterson",0,1,null,null,null,null,null,null,0,0,0,0,55.333333333333336]
["Claire Kong","WOOD","Woodinville","2014-2015",3,"Pre",2,42,"Jeremy Swingle",1,2,null,null,null,null,null,null,0,0,10,10,55.333333333333336]
["Claire Kong","WOOD","Woodinville","2014-2015",2,"Pre",4,12,"Cutty Welt",1,0,null,null,null,1,null,null,0,0,20,30,55.333333333333336]
["Claire Kong","WOOD","Woodinville","2014-2015",2,"Semi",1,"B","Scott Peterson",1,0,null,null,null,null,null,null,0,0,20,20,55.333333333333336]
["Claire Kong","WOOD","Woodinville","2014-2015",4,"Semi",1,"B","Scott Peterson",1,0,null,null,null,null,null,null,0,0,20,20,55.333333333333336]
["Claire Kong","WOOD","Woodinville","2014-2015",3,"Semi",1,"E","Scott Peterson",1,0,null,null,null,null,null,null,0,0,20,20,55.333333333333336]
["Claire Kong","WOOD","Woodinville","2014-2015",4,"Semi",1,"E","Scott Peterson",1,0,null,null,null,null,null,null,0,0,20,20,55.333333333333336]
["Claire Kong","WOOD","Woodinville","2014-2015",1,"Semi",1,"G","Scott Peterson",1,0,null,null,null,null,null,null,0,0,20,20,55.333333333333336]
["Claire Kong","WOOD","Woodinville","2014-2015",4,"Semi",1,"G","Scott Peterson",1,0,null,1,null,null,null,null,0,0,20,40,55.333333333333336]
["Claire Kong","WOOD","Woodinville","2014-2015",2,"Semi",2,"H","Jeremy Swingle",1,0,null,null,null,null,null,null,0,0,20,20,55.333333333333336]
["Claire Kong","WOOD","Woodinville","2014-2015",3,"Semi",1,"I","Scott Peterson",1,0,null,null,null,null,null,null,0,0,20,20,55.333333333333336]
["Claire Kong","WOOD","Woodinville","2014-2015",1,"Semi",1,"J","Scott Peterson",1,1,null,null,null,null,null,null,0,0,20,20,55.333333333333336]
["Claire Kong","WOOD","Woodinville","2014-2015",2,"Pre",1,1,"Scott Peterson",2,2,null,null,null,null,null,null,0,0,30,30,55.333333333333336]
["Claire Kong","WOOD","Woodinville","2014-2015",3,"Pre",3,3,"Tiffany Bye",2,0,null,null,null,null,null,null,0,0,40,40,55.333333333333336]
["Claire Kong","WOOD","Woodinville","2014-2015",4,"Pre",1,13,"Scott Peterson",2,0,null,null,null,null,null,null,0,0,40,40,55.333333333333336]
["Claire Kong","WOOD","Woodinville","2014-2015",2,"Pre",3,23,"Tiffany Bye",2,0,null,1,null,null,null,null,0,0,40,60,55.333333333333336]
["Claire Kong","WOOD","Woodinville","2014-2015",2,"Pre",1,29,"Scott Peterson",2,0,null,1,null,null,null,null,0,0,40,60,55.333333333333336]
["Claire Kong","WOOD","Woodinville","2014-2015",4,"Pre",1,29,"Scott Peterson",2,0,null,null,null,null,null,null,0,0,40,40,55.333333333333336]
["Claire Kong","WOOD","Woodinville","2014-2015",2,"Pre",2,38,"Jeremy Swingle",2,1,null,null,null,null,null,null,0,0,40,40,55.333333333333336]
["Claire Kong","WOOD","Woodinville","2014-2015",2,"Semi",1,"E","Scott Peterson",2,0,null,null,null,null,null,null,0,0,40,40,55.333333333333336]
["Claire Kong","WOOD","Woodinville","2014-2015",3,"Semi",1,"G","Scott Peterson",2,1,null,null,null,null,null,null,0,0,40,40,55.333333333333336]
["Claire Kong","WOOD","Woodinville","2014-2015",1,"Semi",1,"I","Scott Peterson",2,0,null,1,null,null,null,null,0,0,40,60,55.333333333333336]
["Claire Kong","WOOD","Woodinville","2014-2015",2,"Semi",1,"I","Scott Peterson",2,0,null,null,null,null,null,null,0,0,40,40,55.333333333333336]
["Claire Kong","WOOD","Woodinville","2014-2015",4,"Semi",1,"I","Scott Peterson",2,0,null,null,null,null,null,null,0,0,40,40,55.333333333333336]
["Claire Kong","WOOD","Woodinville","2014-2015",1,"Semi",1,"J","Scott Peterson",2,1,null,null,null,null,null,null,0,0,40,40,55.333333333333336]
["Claire Kong","WOOD","Woodinville","2014-2015",1,"Pre",1,1,"Scott Peterson",3,2,null,null,null,null,null,null,0,0,50,50,55.333333333333336]
["Claire Kong","WOOD","Woodinville","2014-2015",1,"Semi",1,"E","Scott Peterson",3,1,null,null,null,null,null,null,0,0,{"$f":"quizscore(J832,K832)","v":60},60,55.333333333333336]
["Claire Kong","WOOD","Woodinville","2014-2015",1,"Pre",4,20,"Cutty Welt",4,1,null,null,null,null,null,null,1,0,80,80,55.333333333333336]
["Claire Kong","WOOD","Woodinville","2014-2015",4,"Pre",4,4,"Cutty Welt",4,0,null,null,null,null,null,null,{"$f":"IF(J834=4,1,0)","v":1},{"$f":"IF(K834=3,1,0)","v":0},90,{"$f":"T834+M834*(20) + (SUM(O834:Q834)*(10)) - L834*(5) - N834*(5)","v":90},{"$f":"AVERAGEIFS(U:U,A:A,A834,F:F,\"Pre\")","v":55.333333333333336}]
["Claire Kong","WOOD","Woodinville","2014-2015",2,"Pre",4,16,"Cutty Welt",4,0,null,null,null,null,null,null,1,0,90,90,55.333333333333336]
["Claire Kong","WOOD","Woodinville","2014-2015",3,"Pre",4,16,"Cutty Welt",4,0,null,null,null,null,null,null,1,0,90,90,55.333333333333336]
["Claire Kong","WOOD","Woodinville","2014-2015",4,"Pre",3,23,"Tony Kong",4,0,null,null,null,null,null,null,1,0,90,90,55.333333333333336]
["Claire Kong","WOOD","Woodinville","2014-2015",3,"Pre",1,25,"Tiffany Bye",4,0,null,null,null,null,null,null,1,0,90,90,55.333333333333336]
["Claire Kong","WOOD","Woodinville","2014-2015",1,"Pre",4,28,"Cutty Welt",4,0,null,null,null,null,null,null,1,0,90,90,55.333333333333336]
["Claire Kong","WOOD","Woodinville","2014-2015",3,"Pre",1,33,"Scott Peterson",4,0,null,null,null,null,null,null,1,0,90,90,55.333333333333336]
["Claire Kong","WOOD","Woodinville","2014-2015",1,"Pre",3,35,"Tiffany Bye",4,0,null,null,null,null,null,null,1,0,90,90,55.333333333333336]
["Claire Kong","WOOD","Woodinville","2014-2015",4,"Pre",2,38,"Jeremy Swingle",4,0,null,null,null,null,null,null,1,0,90,90,55.333333333333336]
["Claire Kong","WOOD","Woodinville","2014-2015",1,"Pre",1,49,"Scott Peterson",4,0,null,null,null,null,null,null,1,0,90,90,55.333333333333336]
["Claire Kong","WOOD","Woodinville","2014-2015",4,"Semi",1,"J","Scott Peterson",1,0,null,null,null,null,null,null,0,0,20,20,55.333333333333336]
["Claire Kong","WOOD","Woodinville","2014-2015",4,"Semi",1,"J","Scott Peterson",1,0,null,null,null,null,null,null,0,0,20,20,55.333333333333336]
["Claire Kong","WOOD","Woodinville","2014-2015",4,"Semi",1,"J","Scott Peterson",1,0,null,null,null,null,null,null,0,0,20,20,55.333333333333336]
["Claire Kong","WOOD","Woodinville","2014-2015",5,"Pre",4,4,"Cutty Welt",1,2,null,null,null,null,null,null,0,0,10,10,55.333333333333336]
["Claire Kong","WOOD","Woodinville","2014-2015",5,"Pre",2,10,"Jeremy Swingle",2,0,null,null,null,null,null,null,0,0,40,40,55.333333333333336]
["Claire Kong","WOOD","Woodinville","2014-2015",5,"Pre",2,26,"Jeremy Swingle",3,0,null,null,null,null,null,null,0,0,60,60,55.333333333333336]
["Claire Kong","WOOD","Woodinville","2014-2015",5,"Pre",3,35,"Tony Kong",2,0,null,null,null,null,null,null,0,0,40,40,55.333333333333336]
["Claire Kong","WOOD","Woodinville","2014-2015",5,"Pre",1,41,"Scott Peterson",2,1,null,null,null,null,null,null,0,0,40,40,55.333333333333336]
["Claire Kong","WOOD","Woodinville","2014-2015",5,"Pre",1,45,"Scott Peterson",2,2,null,null,null,null,null,null,0,0,30,30,55.333333333333336]
["Claire Kong","WOOD","Woodinville","2014-2015",5,"Semi",1,"C","Scott Peterson",2,0,null,1,null,null,null,null,0,0,40,60,55.333333333333336]
["Claire Kong","WOOD","Woodinville","2014-2015",5,"Semi",1,"D","Scott Peterson",2,0,null,1,null,null,null,null,0,0,40,60,55.333333333333336]
["Claire Kong","WOOD","Woodinville","2014-2015",5,"Semi",1,"J","Scott Peterson",0,0,null,null,null,null,null,null,0,0,null,0,55.333333333333336]
["Claire Kong","WOOD","Woodinville","2014-2015",5,"Semi",1,"J","Scott Peterson",0,0,null,null,null,null,null,null,0,0,null,0,55.333333333333336]
["Colton Berge","TAC1","Tacoma","2014-2015",1,"Pre",1,5,"Scott Peterson",0,2,null,null,null,null,null,null,0,0,{"$f":"quizscore(J857,K857)","v":-10},-10,0.16666666666666666]
["Colton Berge","TAC1","Tacoma","2014-2015",2,"Pre",1,5,"Scott Peterson",0,0,null,null,null,null,null,null,0,0,0,0,0.16666666666666666]
["Colton Berge","TAC1","Tacoma","2014-2015",3,"Pre",3,7,"Tiffany Bye",0,0,null,null,null,null,null,null,0,0,0,0,0.16666666666666666]
["Colton Berge","TAC1","Tacoma","2014-2015",4,"Pre",4,8,"Cutty Welt",0,0,null,null,null,null,null,null,0,0,0,0,0.16666666666666666]
["Colton Berge","TAC1","Tacoma","2014-2015",1,"Pre",4,12,"Cutty Welt",0,0,null,null,null,null,null,null,0,0,0,0,0.16666666666666666]
["Colton Berge","TAC1","Tacoma","2014-2015",3,"Pre",4,12,"Cutty Welt",0,0,null,null,null,null,null,null,0,0,0,0,0.16666666666666666]
["Colton Berge","TAC1","Tacoma","2014-2015",2,"Pre",2,14,"Jeremy Swingle",0,0,null,null,null,null,null,null,0,0,0,0,0.16666666666666666]
["Colton Berge","TAC1","Tacoma","2014-2015",4,"Pre",3,15,"Tony Kong",0,0,null,null,null,null,null,null,0,0,0,0,0.16666666666666666]
["Colton Berge","TAC1","Tacoma","2014-2015",3,"Pre",1,17,"Scott Peterson",0,0,1,null,null,null,null,null,0,0,0,-5,0.16666666666666666]
["Colton Berge","TAC1","Tacoma","2014-2015",4,"Pre",1,17,"Scott Peterson",0,0,null,null,null,null,null,null,0,0,0,0,0.16666666666666666]
["Colton Berge","TAC1","Tacoma","2014-2015",2,"Pre",2,18,"Jeremy Swingle",0,1,null,null,1,null,null,null,0,0,0,-5,0.16666666666666666]
["Colton Berge","TAC1","Tacoma","2014-2015",1,"Pre",3,23,"Tiffany Bye",0,0,null,null,null,null,null,null,0,0,0,0,0.16666666666666666]
["Colton Berge","TAC1","Tacoma","2014-2015",2,"Pre",1,25,"Scott Peterson",0,0,null,null,null,null,null,null,0,0,0,0,0.16666666666666666]
["Colton Berge","TAC1","Tacoma","2014-2015",4,"Pre",2,26,"Jeremy Swingle",0,0,null,null,null,null,null,null,0,0,0,0,0.16666666666666666]
["Colton Berge","TAC1","Tacoma","2014-2015",1,"Pre",3,31,"Tiffany Bye",0,0,null,null,null,null,null,null,0,0,0,0,0.16666666666666666]
["Colton Berge","TAC1","Tacoma","2014-2015",2,"Pre",3,35,"Tiffany Bye",0,0,null,null,null,null,null,null,0,0,0,0,0.16666666666666666]
["Colton Berge","TAC1","Tacoma","2014-2015",1,"Pre",2,38,"Jeremy Swingle",0,0,1,null,null,null,null,null,0,0,0,-5,0.16666666666666666]
["Colton Berge","TAC1","Tacoma","2014-2015",4,"Pre",2,38,"Jeremy Swingle",0,0,1,null,null,null,null,null,0,0,0,-5,0.16666666666666666]
["Colton Berge","TAC1","Tacoma","2014-2015",3,"Pre",4,40,"Cutty Welt",0,1,null,null,null,null,null,null,0,0,0,0,0.16666666666666666]
["Colton Berge","TAC1","Tacoma","2014-2015",2,"Pre",4,44,"Cutty Welt",0,0,null,null,null,null,null,null,0,0,0,0,0.16666666666666666]
["Colton Berge","TAC1","Tacoma","2014-2015",1,"Pre",4,48,"Cutty Welt",0,0,1,null,null,null,null,null,0,0,0,-5,0.16666666666666666]
["Colton Berge","TAC1","Tacoma","2014-2015",4,"Pre",1,49,"Scott Peterson",0,0,null,null,null,null,null,null,0,0,0,0,0.16666666666666666]
["Colton Berge","TAC1","Tacoma","2014-2015",2,"ConA",2,"A-C","Jeremy Swingle",0,0,null,null,null,null,null,null,0,0,0,0,0.16666666666666666]
["Colton Berge","TAC1","Tacoma","2014-2015",2,"ConA",3,"A-E","Tiffany Bye",0,0,null,null,null,null,null,null,0,0,0,0,0.16666666666666666]
["Colton Berge","TAC1","Tacoma","2014-2015",1,"ConA",3,"A-F","Tiffany Bye",0,1,null,null,null,null,null,null,0,0,0,0,0.16666666666666666]
["Colton Berge","TAC1","Tacoma","2014-2015",1,"ConA",3,"A-H","Tiffany Bye",0,0,null,null,null,null,null,null,0,0,0,0,0.16666666666666666]
["Colton Berge","TAC1","Tacoma","2014-2015",2,"ConA",3,"A-H","Tiffany Bye",0,1,null,null,null,null,null,null,0,0,0,0,0.16666666666666666]
["Colton Berge","TAC1","Tacoma","2014-2015",1,"ConA",3,"A-I","Tiffany Bye",0,0,null,null,null,null,null,null,0,0,0,0,0.16666666666666666]
["Colton Berge","TAC1","Tacoma","2014-2015",2,"ConA",3,"A-I","Tiffany Bye",0,0,null,null,null,null,null,null,0,0,0,0,0.16666666666666666]
["Colton Berge","TAC1","Tacoma","2014-2015",2,"ConA",2,"A-J","Jeremy Swingle",0,0,null,null,null,null,null,null,0,0,0,0,0.16666666666666666]
["Colton Berge","TAC1","Tacoma","2014-2015",3,"ConB",4,"B-1","Cutty Welt",0,0,null,null,null,null,null,null,0,0,0,0,0.16666666666666666]
["Colton Berge","TAC1","Tacoma","2014-2015",4,"ConB",4,"B-1","Cutty Welt",0,0,null,null,null,null,null,null,0,0,0,0,0.16666666666666666]
["Colton Berge","TAC1","Tacoma","2014-2015",4,"ConB",4,"B-4","Cutty Welt",0,1,null,null,null,null,null,null,0,0,{"$f":"quizscore(J889,K889)","v":0},0,0.16666666666666666]
["Colton Berge","TAC1","Tacoma","2014-2015",3,"ConB",4,"B-7","Cutty Welt",0,0,null,null,null,null,null,null,0,0,0,0,0.16666666666666666]
["Colton Berge","TAC1","Tacoma","2014-2015",3,"ConB",4,"B-J","Cutty Welt",0,0,null,null,null,null,null,null,0,0,0,0,0.16666666666666666]
["Colton Berge","TAC1","Tacoma","2014-2015",3,"Pre",2,26,"Jeremy Swingle",1,1,null,null,null,null,null,null,0,0,20,20,0.16666666666666666]
["Colton Berge","TAC1","Tacoma","2014-2015",3,"Pre",1,45,"Scott Peterson",1,1,null,null,null,null,null,null,0,0,20,20,0.16666666666666666]
["Colton Berge","TAC1","Tacoma","2014-2015",1,"ConA",2,"A-A","Jeremy Swingle",1,0,null,null,null,1,null,null,0,0,20,30,0.16666666666666666]
["Colton Berge","TAC1","Tacoma","2014-2015",3,"ConB",4,"B-4","Cutty Welt",1,0,null,null,null,null,null,null,0,0,20,20,0.16666666666666666]
["Colton Berge","TAC1","Tacoma","2014-2015",4,"ConB",4,"B-7","Cutty Welt",2,0,null,null,null,1,null,null,0,0,40,50,0.16666666666666666]
["Colton Berge","TAC1","Tacoma","2014-2015",5,"Pre",2,6,"Jeremy Swingle",0,0,null,null,null,null,null,null,0,0,0,0,0.16666666666666666]
["Colton Berge","TAC1","Tacoma","2014-2015",5,"Pre",1,13,"Scott Peterson",0,1,null,null,null,null,null,null,{"$f":"IF(J898=4,1,0)","v":0},{"$f":"IF(K898=3,1,0)","v":0},0,{"$f":"T898+M898*(20) + (SUM(O898:Q898)*(10)) - L898*(5) - N898*(5)","v":0},{"$f":"AVERAGEIFS(U:U,A:A,A898,F:F,\"Pre\")","v":0.16666666666666666}]
["Colton Berge","TAC1","Tacoma","2014-2015",5,"Pre",4,24,"Cutty Welt",0,0,null,null,null,null,null,null,0,0,0,0,0.16666666666666666]
["Colton Berge","TAC1","Tacoma","2014-2015",5,"Pre",2,26,"Jeremy Swingle",0,0,null,null,null,null,null,null,0,0,0,0,0.16666666666666666]
["Colton Berge","TAC1","Tacoma","2014-2015",5,"Pre",1,37,"Scott Peterson",0,1,null,null,null,null,null,null,0,0,0,0,0.16666666666666666]
["Colton Berge","TAC1","Tacoma","2014-2015",5,"Pre",3,47,"Tony Kong",0,0,null,null,null,null,null,null,0,0,0,0,0.16666666666666666]
["Colton Berge","TAC1",{"$f":"VLOOKUP(B903,$B$2:$C$3219,2,FALSE)","v":"Tacoma"},"2014-2015",5,"ConB",4,"B-1","Cutty Welt",0,0,null,null,null,null,null,null,0,0,0,0,0.16666666666666666]
["Colton Berge","TAC1",{"$f":"VLOOKUP(B904,$B$2:$C$3219,2,FALSE)","v":"Tacoma"},"2014-2015",5,"ConB",4,"B-4","Cutty Welt",0,0,null,null,null,null,null,null,0,0,0,0,0.16666666666666666]
["Colton Berge","TAC1",{"$f":"VLOOKUP(B905,$B$2:$C$3219,2,FALSE)","v":"Tacoma"},"2014-2015",5,"ConB",4,"B-7","Cutty Welt",0,0,null,null,null,null,null,null,0,0,0,0,0.16666666666666666]
["Daniel Do","ABC1","ABC","2014-2015",3,"Pre",4,24,"Cutty Welt",0,3,null,null,null,null,null,null,0,1,-20,-20,43.5]
["Daniel Do","ABC1","ABC","2014-2015",3,"Semi",1,"J","Scott Peterson",0,3,null,null,null,null,null,null,0,1,-20,-20,43.5]
["Daniel Do","ABC1","ABC","2014-2015",4,"Pre",2,18,"Jeremy Swingle",0,2,null,null,null,null,null,null,0,0,-10,-10,43.5]
["Daniel Do","ABC1","ABC","2014-2015",3,"Semi",1,"C","Scott Peterson",0,2,null,null,1,null,null,null,0,0,-10,-15,43.5]
["Daniel Do","ABC1","ABC","2014-2015",3,"Pre",1,9,"Scott Peterson",0,1,null,null,null,null,null,null,0,0,0,0,43.5]
["Daniel Do","ABC1","ABC","2014-2015",2,"Pre",4,40,"Cutty Welt",1,3,null,null,null,null,null,null,0,1,0,0,43.5]
["Daniel Do","ABC1","ABC","2014-2015",1,"Semi",1,"J","Scott Peterson",0,0,null,1,null,null,null,null,0,0,0,20,43.5]
["Daniel Do","ABC1","ABC","2014-2015",1,"Pre",1,13,"Scott Peterson",1,2,null,null,null,null,null,null,0,0,10,10,43.5]
["Daniel Do","ABC1","ABC","2014-2015",1,"Pre",3,23,"Tiffany Bye",1,2,null,null,null,1,null,null,0,0,10,20,43.5]
["Daniel Do","ABC1","ABC","2014-2015",2,"Pre",2,42,"Jeremy Swingle",1,2,null,null,null,1,null,null,0,0,10,20,43.5]
["Daniel Do","ABC1","ABC","2014-2015",4,"Semi",1,"A","Scott Peterson",1,2,null,null,null,null,null,null,0,0,10,10,43.5]
["Daniel Do","ABC1","ABC","2014-2015",4,"Pre",1,1,"Scott Peterson",1,1,null,null,null,1,null,null,0,0,20,30,43.5]
["Daniel Do","ABC1","ABC","2014-2015",3,"Pre",1,17,"Scott Peterson",1,1,null,null,null,1,null,null,0,0,20,30,43.5]
["Daniel Do","ABC1","ABC","2014-2015",4,"Pre",2,26,"Jeremy Swingle",1,1,null,1,null,null,null,null,0,0,20,40,43.5]
["Daniel Do","ABC1","ABC","2014-2015",1,"Pre",2,42,"Jeremy Swingle",1,1,null,null,null,1,null,null,0,0,20,30,43.5]
["Daniel Do","ABC1","ABC","2014-2015",2,"Semi",1,"G","Scott Peterson",1,1,null,null,null,null,null,null,0,0,{"$f":"quizscore(J921,K921)","v":20},20,43.5]
["Daniel Do","ABC1","ABC","2014-2015",1,"Semi",1,"J","Scott Peterson",1,1,null,null,null,null,null,null,0,0,20,20,43.5]
["Daniel Do","ABC1","ABC","2014-2015",2,"Semi",1,"J","Scott Peterson",1,0,null,null,null,1,null,null,0,0,20,30,43.5]
["Daniel Do","ABC1","ABC","2014-2015",1,"Pre",4,8,"Cutty Welt",2,2,null,null,null,1,null,null,0,0,30,40,43.5]
["Daniel Do","ABC1","ABC","2014-2015",1,"Pre",3,3,"Tiffany Bye",2,0,null,null,1,1,null,null,0,0,40,45,43.5]
["Daniel Do","ABC1","ABC","2014-2015",3,"Pre",3,3,"Tiffany Bye",2,1,null,null,null,null,null,null,0,0,40,40,43.5]
["Daniel Do","ABC1","ABC","2014-2015",2,"Pre",3,7,"Tiffany Bye",2,1,null,null,null,1,null,null,0,0,40,50,43.5]
["Daniel Do","ABC1","ABC","2014-2015",2,"Pre",1,9,"Scott Peterson",2,1,null,null,null,1,null,null,0,0,40,50,43.5]
["Daniel Do","ABC1","ABC","2014-2015",2,"Pre",1,17,"Scott Peterson",2,1,null,null,null,null,null,null,0,0,40,40,43.5]
["Daniel Do","ABC1","ABC","2014-2015",2,"Semi",1,"D","Scott Peterson",2,1,null,null,null,null,null,null,0,0,40,40,43.5]
["Daniel Do","ABC1","ABC","2014-2015",3,"Semi",1,"D","Scott Peterson",2,0,null,null,null,null,null,null,0,0,40,40,43.5]
["Daniel Do","ABC1","ABC","2014-2015",4,"Semi",1,"D","Scott Peterson",2,1,null,null,null,null,null,null,0,0,40,40,43.5]
["Daniel Do","ABC1","ABC","2014-2015",1,"Semi",1,"G","Scott Peterson",2,0,null,null,null,null,null,null,0,0,40,40,43.5]
["Daniel Do","ABC1","ABC","2014-2015",1,"Semi",1,"J","Scott Peterson",2,0,null,null,null,null,null,null,0,0,40,40,43.5]
["Daniel Do","ABC1","ABC","2014-2015",3,"Semi",1,"J","Scott Peterson",2,0,null,null,null,null,null,null,0,0,40,40,43.5]
["Daniel Do","ABC1","ABC","2014-2015",1,"Pre",2,34,"Jeremy Swingle",3,2,null,null,null,1,null,null,0,0,50,60,43.5]
["Daniel Do","ABC1","ABC","2014-2015",2,"Pre",2,30,"Jeremy Swingle",3,1,null,null,null,null,null,null,0,0,60,60,43.5]
["Daniel Do","ABC1","ABC","2014-2015",3,"Pre",2,34,"Jeremy Swingle",3,0,null,null,null,null,null,null,0,0,60,60,43.5]
["Daniel Do","ABC1","ABC","2014-2015",3,"Pre",4,44,"Cutty Welt",3,1,null,null,null,null,null,null,0,0,60,60,43.5]
["Daniel Do","ABC1","ABC","2014-2015",2,"Semi",1,"B","Scott Peterson",3,0,null,null,null,1,null,null,0,0,60,70,43.5]
["Daniel Do","ABC1","ABC","2014-2015",1,"Semi",1,"C","Scott Peterson",3,1,null,null,null,null,null,null,0,0,60,60,43.5]
["Daniel Do","ABC1","ABC","2014-2015",1,"Semi",1,"J","Scott Peterson",3,0,null,null,null,1,null,null,0,0,60,70,43.5]
["Daniel Do","ABC1","ABC","2014-2015",2,"Semi",1,"J","Scott Peterson",3,0,null,null,null,null,null,null,0,0,60,60,43.5]
["Daniel Do","ABC1","ABC","2014-2015",4,"Pre",4,36,"Cutty Welt",4,1,null,null,null,null,null,null,1,0,80,80,43.5]
["Daniel Do","ABC1","ABC","2014-2015",4,"Pre",4,40,"Cutty Welt",4,1,null,null,null,null,null,null,1,0,80,80,43.5]
["Daniel Do","ABC1","ABC","2014-2015",4,"Pre",3,47,"Tony Kong",4,0,null,null,null,null,null,null,1,0,90,90,43.5]
["Daniel Do","ABC1","ABC","2014-2015",1,"Semi",1,"D","Scott Peterson",4,0,null,null,null,null,null,null,1,0,90,90,43.5]
["Daniel Do","ABC1","ABC","2014-2015",4,"Semi",1,"J","Scott Peterson",1,1,null,null,null,null,null,null,0,0,20,20,43.5]
["Daniel Do","ABC1","ABC","2014-2015",4,"Semi",1,"J","Scott Peterson",2,1,null,null,null,null,null,null,0,0,40,40,43.5]
["Daniel Do","ABC1","ABC","2014-2015",4,"Semi",1,"J","Scott Peterson",0,2,null,null,null,null,null,null,0,0,-10,-10,43.5]
["Daniel Do","ABC1","ABC","2014-2015",5,"Pre",1,1,"Scott Peterson",4,2,null,null,null,1,null,null,1,0,70,80,43.5]
["Daniel Do","ABC1","ABC","2014-2015",5,"Pre",4,12,"Cutty Welt",4,0,null,null,null,null,null,null,1,0,90,90,43.5]
["Daniel Do","ABC1","ABC","2014-2015",5,"Pre",1,13,"Scott Peterson",4,1,null,null,null,1,null,null,1,0,{"$f":"quizscore(J953,K953)","v":80},90,43.5]
["Daniel Do","ABC1","ABC","2014-2015",5,"Pre",2,22,"Jeremy Swingle",3,1,null,null,null,null,null,null,0,0,60,60,43.5]
["Daniel Do","ABC1","ABC","2014-2015",5,"Pre",3,35,"Tony Kong",2,3,null,null,null,null,null,null,0,1,20,20,43.5]
["Daniel Do","ABC1","ABC","2014-2015",5,"Pre",2,42,"Jeremy Swingle",3,1,null,null,null,null,null,null,0,0,60,60,43.5]
["Daniel Do","ABC1","ABC","2014-2015",5,"Semi",1,"A","Scott Peterson",2,1,null,null,null,null,null,null,0,0,40,40,43.5]
["Daniel Do","ABC1","ABC","2014-2015",5,"Semi",1,"D","Scott Peterson",0,2,null,null,null,null,null,null,0,0,-10,-10,43.5]
["Daniel Do","ABC1","ABC","2014-2015",5,"Semi",1,"G","Scott Peterson",3,1,null,null,null,1,null,null,0,0,60,70,43.5]
["Daniel Do","ABC1","ABC","2014-2015",5,"Semi",1,"J","Scott Peterson",2,1,null,null,null,null,null,null,0,0,null,0,43.5]
["Daniel Do","ABC1","ABC","2014-2015",5,"Semi",1,"J","Scott Peterson",2,0,null,null,1,null,null,null,0,0,null,-5,43.5]
["Daniel Emme","EBC2","EBC","2014-2015",4,"Pre",2,46,"Jeremy Swingle",0,3,null,null,null,null,null,null,{"$f":"IF(J962=4,1,0)","v":0},{"$f":"IF(K962=3,1,0)","v":1},{"$f":"quizscore(J962,K962)","v":-20},{"$f":"T962+M962*(20) + (SUM(O962:Q962)*(10)) - L962*(5) - N962*(5)","v":-20},{"$f":"AVERAGEIFS(U:U,A:A,A962,F:F,\"Pre\")","v":56.666666666666664}]
["Daniel Emme","EBC2","EBC","2014-2015",3,"Pre",1,49,"Scott Peterson",0,2,null,null,null,null,null,null,0,0,-10,-10,56.666666666666664]
["Daniel Emme","EBC2","EBC","2014-2015",4,"Pre",2,6,"Jeremy Swingle",1,3,null,1,null,null,null,null,0,1,0,20,56.666666666666664]
["Daniel Emme","EBC2","EBC","2014-2015",2,"Semi",1,"C","Scott Peterson",1,3,null,null,null,null,null,null,0,1,0,0,56.666666666666664]
["Daniel Emme","EBC2","EBC","2014-2015",4,"Semi",2,"F","Jeremy Swingle",0,1,null,null,null,null,null,null,0,0,0,0,56.666666666666664]
["Daniel Emme","EBC2","EBC","2014-2015",3,"Semi",2,"H","Jeremy Swingle",0,1,null,null,1,null,null,null,0,0,0,-5,56.666666666666664]
["Daniel Emme","EBC2","EBC","2014-2015",4,"Pre",3,35,"Tony Kong",1,2,null,null,null,1,null,null,0,0,10,20,56.666666666666664]
["Daniel Emme","EBC2","EBC","2014-2015",4,"Pre",4,40,"Cutty Welt",1,0,null,null,null,1,null,null,0,0,20,30,56.666666666666664]
["Daniel Emme","EBC2","EBC","2014-2015",4,"Semi",1,"B","Scott Peterson",1,0,null,null,null,null,null,null,0,0,20,20,56.666666666666664]
["Daniel Emme","EBC2","EBC","2014-2015",4,"Pre",1,13,"Scott Peterson",2,2,null,null,null,null,null,null,0,0,30,30,56.666666666666664]
["Daniel Emme","EBC2","EBC","2014-2015",2,"Semi",1,"E","Scott Peterson",2,2,null,null,null,null,null,null,0,0,30,30,56.666666666666664]
["Daniel Emme","EBC2","EBC","2014-2015",1,"Semi",2,"F","Jeremy Swingle",2,2,null,null,null,null,null,null,0,0,30,30,56.666666666666664]
["Daniel Emme","EBC2","EBC","2014-2015",2,"Pre",3,7,"Tiffany Bye",2,1,null,null,null,null,null,null,0,0,40,40,56.666666666666664]
["Daniel Emme","EBC2","EBC","2014-2015",2,"Semi",2,"H","Jeremy Swingle",2,0,null,null,null,null,null,null,0,0,40,40,56.666666666666664]
["Daniel Emme","EBC2","EBC","2014-2015",3,"Pre",2,22,"Jeremy Swingle",3,2,null,null,null,null,null,null,0,0,50,50,56.666666666666664]
["Daniel Emme","EBC2","EBC","2014-2015",1,"Semi",1,"A","Scott Peterson",3,2,null,null,null,null,null,null,0,0,50,50,56.666666666666664]
["Daniel Emme","EBC2","EBC","2014-2015",4,"Pre",1,21,"Scott Peterson",3,0,null,null,null,1,null,null,0,0,60,70,56.666666666666664]
["Daniel Emme","EBC2","EBC","2014-2015",2,"Pre",4,36,"Cutty Welt",3,0,null,null,null,null,null,null,0,0,60,60,56.666666666666664]
["Daniel Emme","EBC2","EBC","2014-2015",3,"Semi",1,"B","Scott Peterson",3,0,null,1,null,null,null,null,0,0,60,80,56.666666666666664]
["Daniel Emme","EBC2","EBC","2014-2015",2,"Pre",4,16,"Cutty Welt",4,1,null,null,null,null,null,null,1,0,80,80,56.666666666666664]
["Daniel Emme","EBC2","EBC","2014-2015",1,"Pre",3,31,"Tiffany Bye",4,1,null,null,null,null,null,null,1,0,80,80,56.666666666666664]
["Daniel Emme","EBC2","EBC","2014-2015",2,"Pre",2,50,"Jeremy Swingle",4,1,null,null,null,null,null,null,1,0,80,80,56.666666666666664]
["Daniel Emme","EBC2","EBC","2014-2015",3,"Semi",1,"E","Scott Peterson",4,1,null,null,null,null,null,null,1,0,80,80,56.666666666666664]
["Daniel Emme","EBC2","EBC","2014-2015",1,"Pre",4,8,"Cutty Welt",4,0,null,null,null,null,null,null,1,0,90,90,56.666666666666664]
["Daniel Emme","EBC2","EBC","2014-2015",3,"Pre",4,8,"Cutty Welt",4,0,null,null,null,null,null,null,1,0,90,90,56.666666666666664]
["Daniel Emme","EBC2","EBC","2014-2015",3,"Pre",1,13,"Scott Peterson",4,0,null,1,null,null,null,null,1,0,90,110,56.666666666666664]
["Daniel Emme","EBC2","EBC","2014-2015",1,"Pre",3,15,"Tiffany Bye",4,0,null,null,null,null,null,null,1,0,90,90,56.666666666666664]
["Daniel Emme","EBC2","EBC","2014-2015",1,"Pre",2,22,"Jeremy Swingle",4,0,null,null,null,null,null,null,1,0,90,90,56.666666666666664]
["Daniel Emme","EBC2","EBC","2014-2015",2,"Pre",1,25,"Scott Peterson",4,0,null,null,null,null,null,null,1,0,90,90,56.666666666666664]
["Daniel Emme","EBC2","EBC","2014-2015",3,"Pre",2,30,"Jeremy Swingle",4,0,null,null,null,null,null,null,1,0,90,90,56.666666666666664]
["Daniel Emme","EBC2","EBC","2014-2015",1,"Pre",1,37,"Scott Peterson",4,0,null,null,null,null,null,null,1,0,90,90,56.666666666666664]
["Daniel Emme","EBC2","EBC","2014-2015",2,"Pre",1,41,"Scott Peterson",4,0,null,null,null,null,null,null,1,0,90,90,56.666666666666664]
["Daniel Emme","EBC2","EBC","2014-2015",3,"Pre",3,43,"Tiffany Bye",4,0,null,null,null,null,null,null,1,0,{"$f":"quizscore(J994,K994)","v":90},90,56.666666666666664]
["Daniel Emme","EBC2","EBC","2014-2015",1,"Pre",1,45,"Scott Peterson",4,0,null,null,null,null,null,null,1,0,90,90,56.666666666666664]
["Daniel Emme","EBC2","EBC","2014-2015",5,"Pre",3,3,"Tony Kong",2,0,null,null,null,1,null,null,0,0,40,50,56.666666666666664]
["Daniel Emme","EBC2","EBC","2014-2015",5,"Pre",2,10,"Jeremy Swingle",2,1,null,null,null,null,null,null,0,0,40,40,56.666666666666664]
["Daniel Emme","EBC2","EBC","2014-2015",5,"Pre",1,21,"Scott Peterson",2,1,null,null,null,1,null,null,0,0,40,50,56.666666666666664]
["Daniel Emme","EBC2","EBC","2014-2015",5,"Pre",1,29,"Scott Peterson",0,0,null,null,null,null,null,null,0,0,0,0,56.666666666666664]
["Daniel Emme","EBC2","EBC","2014-2015",5,"Pre",4,36,"Cutty Welt",1,1,null,null,null,null,null,null,0,0,20,20,56.666666666666664]
["Daniel Emme","EBC2","EBC","2014-2015",5,"Pre",3,47,"Tony Kong",0,0,null,null,null,null,null,null,0,0,0,0,56.666666666666664]
["Daniel Emme","EBC2","EBC","2014-2015",5,"Semi",1,"A","Scott Peterson",1,0,null,null,null,null,null,null,0,0,20,20,56.666666666666664]
["Daniel Emme","EBC2","EBC","2014-2015",5,"Semi",1,"E","Scott Peterson",1,0,null,null,null,null,null,null,0,0,20,20,56.666666666666664]
["Daniel Emme","EBC2","EBC","2014-2015",5,"Semi",2,"H","Jeremy Swingle",1,0,null,null,null,null,null,null,0,0,20,20,56.666666666666664]
["Daniel Newman","NSA","NSA","2014-2015",3,"Pre",4,40,"Cutty Welt",0,3,null,null,null,null,null,null,0,1,-20,-20,21.333333333333332]
["Daniel Newman","NSA","NSA","2014-2015",2,"Pre",2,26,"Jeremy Swingle",0,2,null,null,null,null,null,null,0,0,-10,-10,21.333333333333332]
["Daniel Newman","NSA","NSA","2014-2015",2,"Pre",4,24,"Cutty Welt",1,3,null,null,null,null,null,null,0,1,0,0,21.333333333333332]
["Daniel Newman","NSA","NSA","2014-2015",4,"Pre",1,25,"Scott Peterson",0,1,null,null,1,null,null,null,0,0,0,-5,21.333333333333332]
["Daniel Newman","NSA","NSA","2014-2015",2,"Pre",2,30,"Jeremy Swingle",0,1,null,null,1,null,null,null,0,0,0,-5,21.333333333333332]
["Daniel Newman","NSA","NSA","2014-2015",1,"Pre",3,39,"Tiffany Bye",0,1,null,1,null,null,null,null,0,0,0,20,21.333333333333332]
["Daniel Newman","NSA","NSA","2014-2015",4,"Pre",3,39,"Tony Kong",0,1,null,null,null,null,null,null,0,0,0,0,21.333333333333332]
["Daniel Newman","NSA","NSA","2014-2015",4,"Pre",3,47,"Tony Kong",0,1,null,null,null,null,null,null,0,0,0,0,21.333333333333332]
["Daniel Newman","NSA","NSA","2014-2015",4,"ConB",4,"B-7","Cutty Welt",0,1,null,1,null,null,null,null,0,0,0,20,21.333333333333332]
["Daniel Newman","NSA","NSA","2014-2015",2,"Pre",3,39,"Tiffany Bye",1,2,null,null,1,null,null,null,0,0,10,5,21.333333333333332]
["Daniel Newman","NSA","NSA","2014-2015",1,"ConB",4,"B-J","Cutty Welt",1,2,null,null,1,null,null,null,0,0,10,5,21.333333333333332]
["Daniel Newman","NSA","NSA","2014-2015",1,"Pre",2,2,"Jeremy Swingle",1,0,null,null,1,null,null,null,0,0,20,15,21.333333333333332]
["Daniel Newman","NSA","NSA","2014-2015",4,"Pre",1,5,"Scott Peterson",1,1,null,null,null,null,null,null,0,0,20,20,21.333333333333332]
["Daniel Newman","NSA","NSA","2014-2015",3,"Pre",3,11,"Tiffany Bye",1,1,null,1,1,null,null,null,0,0,20,35,21.333333333333332]
["Daniel Newman","NSA","NSA","2014-2015",2,"Pre",3,15,"Tiffany Bye",1,0,null,null,null,null,null,null,0,0,20,20,21.333333333333332]
["Daniel Newman","NSA","NSA","2014-2015",4,"Pre",4,16,"Cutty Welt",1,1,null,1,2,null,null,null,0,0,20,30,21.333333333333332]
["Daniel Newman","NSA","NSA","2014-2015",1,"Pre",2,26,"Jeremy Swingle",1,0,null,1,null,null,null,null,0,0,20,40,21.333333333333332]
["Daniel Newman","NSA","NSA","2014-2015",3,"Pre",2,30,"Jeremy Swingle",1,0,null,null,1,null,null,null,0,0,20,15,21.333333333333332]
["Daniel Newman","NSA","NSA","2014-2015",2,"Pre",1,45,"Scott Peterson",1,0,null,1,null,null,null,null,0,0,20,40,21.333333333333332]
["Daniel Newman","NSA","NSA","2014-2015",4,"ConB",4,"B-3","Cutty Welt",1,1,null,null,null,null,null,null,0,0,20,20,21.333333333333332]
["Daniel Newman","NSA","NSA","2014-2015",3,"Pre",4,4,"Cutty Welt",2,1,null,null,1,null,null,null,0,0,40,35,21.333333333333332]
["Daniel Newman","NSA","NSA","2014-2015",1,"Pre",4,12,"Cutty Welt",2,1,null,null,1,null,null,null,{"$f":"IF(J1026=4,1,0)","v":0},{"$f":"IF(K1026=3,1,0)","v":0},{"$f":"quizscore(J1026,K1026)","v":40},{"$f":"T1026+M1026*(20) + (SUM(O1026:Q1026)*(10)) - L1026*(5) - N1026*(5)","v":35},{"$f":"AVERAGEIFS(U:U,A:A,A1026,F:F,\"Pre\")","v":21.333333333333332}]
["Daniel Newman","NSA","NSA","2014-2015",1,"Pre",3,19,"Tiffany Bye",2,1,null,null,null,null,null,null,0,0,40,40,21.333333333333332]
["Daniel Newman","NSA","NSA","2014-2015",3,"Pre",1,21,"Scott Peterson",2,1,null,null,null,null,null,null,0,0,40,40,21.333333333333332]
["Daniel Newman","NSA","NSA","2014-2015",1,"Pre",1,45,"Scott Peterson",2,1,null,null,null,null,null,null,0,0,40,40,21.333333333333332]
["Daniel Newman","NSA","NSA","2014-2015",4,"ConB",4,"B-5","Cutty Welt",2,0,null,null,1,null,null,null,0,0,40,35,21.333333333333332]
["Daniel Newman","NSA","NSA","2014-2015",2,"ConB",4,"B-7","Cutty Welt",2,1,null,null,null,null,null,null,0,0,40,40,21.333333333333332]
["Daniel Newman","NSA","NSA","2014-2015",4,"Pre",2,30,"Jeremy Swingle",3,2,null,null,1,null,null,null,0,0,50,45,21.333333333333332]
["Daniel Newman","NSA","NSA","2014-2015",3,"Pre",2,46,"Jeremy Swingle",3,0,null,null,null,null,null,null,0,0,60,60,21.333333333333332]
["Daniel Newman","NSA","NSA","2014-2015",1,"ConB",4,"B-3","Cutty Welt",3,1,null,null,null,null,null,null,0,0,60,60,21.333333333333332]
["Daniel Newman","NSA","NSA","2014-2015",2,"ConB",4,"B-3","Cutty Welt",3,1,null,null,null,null,null,null,0,0,60,60,21.333333333333332]
["Daniel Newman","NSA","NSA","2014-2015",3,"ConB",4,"B-4","Cutty Welt",3,1,null,null,null,null,null,null,0,0,60,60,21.333333333333332]
["Daniel Newman","NSA","NSA","2014-2015",2,"ConB",4,"B-5","Cutty Welt",3,0,null,null,null,null,null,null,0,0,60,60,21.333333333333332]
["Daniel Newman","NSA","NSA","2014-2015",3,"ConB",4,"B-5","Cutty Welt",3,1,null,null,null,null,null,null,0,0,60,60,21.333333333333332]
["Daniel Newman","NSA","NSA","2014-2015",3,"ConB",4,"B-6","Cutty Welt",3,1,null,null,null,null,null,null,0,0,60,60,21.333333333333332]
["Daniel Newman","NSA","NSA","2014-2015",1,"ConB",4,"B-2","Cutty Welt",4,0,null,null,null,null,null,null,1,0,90,90,21.333333333333332]
["Daniel Newman","NSA","NSA","2014-2015",1,"ConB",4,"B-4","Cutty Welt",4,0,null,null,null,null,null,null,1,0,90,90,21.333333333333332]
["Daniel Newman","NSA","NSA","2014-2015",5,"Pre",4,8,"Cutty Welt",2,1,null,null,null,null,null,null,0,0,40,40,21.333333333333332]
["Daniel Newman","NSA","NSA","2014-2015",5,"Pre",3,15,"Tony Kong",0,1,null,null,null,null,null,null,0,0,0,0,21.333333333333332]
["Daniel Newman","NSA","NSA","2014-2015",5,"Pre",1,21,"Scott Peterson",0,2,null,null,1,null,null,null,0,0,-10,-15,21.333333333333332]
["Daniel Newman","NSA","NSA","2014-2015",5,"Pre",2,30,"Jeremy Swingle",2,1,null,null,null,null,null,null,0,0,40,40,21.333333333333332]
["Daniel Newman","NSA","NSA","2014-2015",5,"Pre",4,40,"Cutty Welt",3,1,null,null,null,null,null,null,0,0,60,60,21.333333333333332]
["Daniel Newman","NSA","NSA","2014-2015",5,"Pre",4,48,"Cutty Welt",1,1,null,null,null,null,null,null,0,0,20,20,21.333333333333332]
["Daniel Newman","NSA",{"$f":"VLOOKUP(B1048,$B$2:$C$3219,2,FALSE)","v":"NSA"},"2014-2015",5,"ConB",4,"B-1","Cutty Welt",2,1,null,null,null,null,null,null,0,0,40,40,21.333333333333332]
["Daniel Newman","NSA",{"$f":"VLOOKUP(B1049,$B$2:$C$3219,2,FALSE)","v":"NSA"},"2014-2015",5,"ConB",4,"B-3","Cutty Welt",2,0,null,null,1,null,null,null,0,0,40,35,21.333333333333332]
["Daniel Newman","NSA",{"$f":"VLOOKUP(B1050,$B$2:$C$3219,2,FALSE)","v":"NSA"},"2014-2015",5,"ConB",4,"B-6","Cutty Welt",2,1,null,null,null,null,null,null,0,0,40,40,21.333333333333332]
["Danny Herzog","WOOD","Woodinville","2014-2015",1,"Pre",1,1,"Scott Peterson",0,0,null,null,null,null,null,null,0,0,0,0,-0.16666666666666666]
["Danny Herzog","WOOD","Woodinville","2014-2015",2,"Pre",1,1,"Scott Peterson",0,0,null,null,null,null,null,null,0,0,0,0,-0.16666666666666666]
["Danny Herzog","WOOD","Woodinville","2014-2015",3,"Pre",3,3,"Tiffany Bye",0,0,null,null,null,null,null,null,0,0,0,0,-0.16666666666666666]
["Danny Herzog","WOOD","Woodinville","2014-2015",4,"Pre",4,4,"Cutty Welt",0,0,null,null,null,null,null,null,0,0,0,0,-0.16666666666666666]
["Danny Herzog","WOOD","Woodinville","2014-2015",3,"Pre",2,10,"Jeremy Swingle",0,0,null,null,null,null,null,null,0,0,0,0,-0.16666666666666666]
["Danny Herzog","WOOD","Woodinville","2014-2015",2,"Pre",4,12,"Cutty Welt",0,0,null,null,null,null,null,null,0,0,0,0,-0.16666666666666666]
["Danny Herzog","WOOD","Woodinville","2014-2015",4,"Pre",1,13,"Scott Peterson",0,0,null,null,null,null,null,null,0,0,0,0,-0.16666666666666666]
["Danny Herzog","WOOD","Woodinville","2014-2015",2,"Pre",4,16,"Cutty Welt",0,0,null,null,null,null,null,null,0,0,{"$f":"quizscore(J1058,K1058)","v":0},0,-0.16666666666666666]
["Danny Herzog","WOOD","Woodinville","2014-2015",3,"Pre",4,16,"Cutty Welt",0,0,null,null,null,null,null,null,0,0,0,0,-0.16666666666666666]
["Danny Herzog","WOOD","Woodinville","2014-2015",1,"Pre",4,20,"Cutty Welt",0,0,null,null,null,null,null,null,0,0,0,0,-0.16666666666666666]
["Danny Herzog","WOOD","Woodinville","2014-2015",2,"Pre",3,23,"Tiffany Bye",0,0,null,null,null,null,null,null,0,0,0,0,-0.16666666666666666]
["Danny Herzog","WOOD","Woodinville","2014-2015",4,"Pre",3,23,"Tony Kong",0,1,null,null,null,null,null,null,0,0,0,0,-0.16666666666666666]
["Danny Herzog","WOOD","Woodinville","2014-2015",3,"Pre",1,25,"Tiffany Bye",0,0,null,null,null,null,null,null,0,0,0,0,-0.16666666666666666]
["Danny Herzog","WOOD","Woodinville","2014-2015",1,"Pre",4,28,"Cutty Welt",0,0,null,null,null,null,null,null,0,0,0,0,-0.16666666666666666]
["Danny Herzog","WOOD","Woodinville","2014-2015",2,"Pre",1,29,"Scott Peterson",0,0,null,null,null,null,null,null,0,0,0,0,-0.16666666666666666]
["Danny Herzog","WOOD","Woodinville","2014-2015",4,"Pre",1,29,"Scott Peterson",0,0,null,null,null,null,null,null,0,0,0,0,-0.16666666666666666]
["Danny Herzog","WOOD","Woodinville","2014-2015",3,"Pre",1,33,"Scott Peterson",0,1,null,null,null,null,null,null,0,0,0,0,-0.16666666666666666]
["Danny Herzog","WOOD","Woodinville","2014-2015",1,"Pre",3,35,"Tiffany Bye",0,0,null,null,null,null,null,null,0,0,0,0,-0.16666666666666666]
["Danny Herzog","WOOD","Woodinville","2014-2015",2,"Pre",2,38,"Jeremy Swingle",0,0,null,null,null,null,null,null,0,0,0,0,-0.16666666666666666]
["Danny Herzog","WOOD","Woodinville","2014-2015",4,"Pre",2,38,"Jeremy Swingle",0,0,null,null,null,null,null,null,0,0,0,0,-0.16666666666666666]
["Danny Herzog","WOOD","Woodinville","2014-2015",1,"Pre",2,42,"Jeremy Swingle",0,0,null,null,null,null,null,null,0,0,0,0,-0.16666666666666666]
["Danny Herzog","WOOD","Woodinville","2014-2015",3,"Pre",2,42,"Jeremy Swingle",0,0,null,null,null,null,null,null,0,0,0,0,-0.16666666666666666]
["Danny Herzog","WOOD","Woodinville","2014-2015",4,"Pre",2,42,"Jeremy Swingle",0,0,null,null,null,null,null,null,0,0,0,0,-0.16666666666666666]
["Danny Herzog","WOOD","Woodinville","2014-2015",1,"Pre",1,49,"Scott Peterson",0,0,null,null,null,null,null,null,0,0,0,0,-0.16666666666666666]
["Danny Herzog","WOOD","Woodinville","2014-2015",2,"Semi",1,"B","Scott Peterson",0,0,null,null,null,null,null,null,0,0,0,0,-0.16666666666666666]
["Danny Herzog","WOOD","Woodinville","2014-2015",4,"Semi",1,"B","Scott Peterson",0,0,null,null,null,null,null,null,0,0,0,0,-0.16666666666666666]
["Danny Herzog","WOOD","Woodinville","2014-2015",1,"Semi",1,"C","Scott Peterson",0,0,null,null,null,null,null,null,0,0,0,0,-0.16666666666666666]
["Danny Herzog","WOOD","Woodinville","2014-2015",3,"Semi",1,"C","Scott Peterson",0,0,null,null,null,null,null,null,0,0,0,0,-0.16666666666666666]
["Danny Herzog","WOOD","Woodinville","2014-2015",1,"Semi",1,"E","Scott Peterson",0,0,null,null,null,null,null,null,0,0,0,0,-0.16666666666666666]
["Danny Herzog","WOOD","Woodinville","2014-2015",2,"Semi",1,"E","Scott Peterson",0,0,null,null,null,null,null,null,0,0,0,0,-0.16666666666666666]
["Danny Herzog","WOOD","Woodinville","2014-2015",3,"Semi",1,"E","Scott Peterson",0,0,null,null,null,null,null,null,0,0,0,0,-0.16666666666666666]
["Danny Herzog","WOOD","Woodinville","2014-2015",4,"Semi",1,"E","Scott Peterson",0,0,null,null,null,null,null,null,0,0,0,0,-0.16666666666666666]
["Danny Herzog","WOOD","Woodinville","2014-2015",1,"Semi",1,"G","Scott Peterson",0,0,null,null,null,null,null,null,0,0,0,0,-0.16666666666666666]
["Danny Herzog","WOOD","Woodinville","2014-2015",3,"Semi",1,"G","Scott Peterson",0,0,null,null,null,null,null,null,0,0,0,0,-0.16666666666666666]
["Danny Herzog","WOOD","Woodinville","2014-2015",4,"Semi",1,"G","Scott Peterson",0,0,null,null,null,null,null,null,0,0,0,0,-0.16666666666666666]
["Danny Herzog","WOOD","Woodinville","2014-2015",2,"Semi",2,"H","Jeremy Swingle",0,0,null,1,null,null,null,null,0,0,0,20,-0.16666666666666666]
["Danny Herzog","WOOD","Woodinville","2014-2015",1,"Semi",1,"I","Scott Peterson",0,0,null,null,null,null,null,null,0,0,0,0,-0.16666666666666666]
["Danny Herzog","WOOD","Woodinville","2014-2015",2,"Semi",1,"I","Scott Peterson",0,0,null,null,null,null,null,null,0,0,0,0,-0.16666666666666666]
["Danny Herzog","WOOD","Woodinville","2014-2015",3,"Semi",1,"I","Scott Peterson",0,0,null,null,null,null,null,null,0,0,0,0,-0.16666666666666666]
["Danny Herzog","WOOD","Woodinville","2014-2015",4,"Semi",1,"I","Scott Peterson",0,0,null,null,null,null,null,null,{"$f":"IF(J1090=4,1,0)","v":0},{"$f":"IF(K1090=3,1,0)","v":0},{"$f":"quizscore(J1090,K1090)","v":0},{"$f":"T1090+M1090*(20) + (SUM(O1090:Q1090)*(10)) - L1090*(5) - N1090*(5)","v":0},{"$f":"AVERAGEIFS(U:U,A:A,A1090,F:F,\"Pre\")","v":-0.16666666666666666}]
["Danny Herzog","WOOD","Woodinville","2014-2015",1,"Semi",1,"J","Scott Peterson",0,0,null,null,null,null,null,null,0,0,0,0,-0.16666666666666666]
["Danny Herzog","WOOD","Woodinville","2014-2015",1,"Semi",1,"J","Scott Peterson",0,0,null,null,null,null,null,null,0,0,0,0,-0.16666666666666666]
["Danny Herzog","WOOD","Woodinville","2014-2015",1,"Semi",1,"J","Scott Peterson",0,0,null,null,null,null,null,null,0,0,0,0,-0.16666666666666666]
["Danny Herzog","WOOD","Woodinville","2014-2015",1,"Semi",1,"J","Scott Peterson",0,0,null,null,null,null,null,null,0,0,0,0,-0.16666666666666666]
["Danny Herzog","WOOD","Woodinville","2014-2015",4,"Semi",1,"J","Scott Peterson",0,0,null,null,null,null,null,null,0,0,0,0,-0.16666666666666666]
["Danny Herzog","WOOD","Woodinville","2014-2015",4,"Semi",1,"J","Scott Peterson",0,0,null,null,null,null,null,null,0,0,0,0,-0.16666666666666666]
["Danny Herzog","WOOD","Woodinville","2014-2015",4,"Semi",1,"J","Scott Peterson",0,0,null,null,null,null,null,null,0,0,0,0,-0.16666666666666666]
["Danny Herzog","WOOD","Woodinville","2014-2015",5,"Pre",4,4,"Cutty Welt",0,0,null,null,null,null,null,null,0,0,0,0,-0.16666666666666666]
["Danny Herzog","WOOD","Woodinville","2014-2015",5,"Pre",2,10,"Jeremy Swingle",0,0,null,null,1,null,null,null,0,0,0,-5,-0.16666666666666666]
["Danny Herzog","WOOD","Woodinville","2014-2015",5,"Pre",2,26,"Jeremy Swingle",0,1,null,null,null,null,null,null,0,0,0,0,-0.16666666666666666]
["Danny Herzog","WOOD","Woodinville","2014-2015",5,"Pre",3,35,"Tony Kong",0,0,null,null,null,null,null,null,0,0,0,0,-0.16666666666666666]
["Danny Herzog","WOOD","Woodinville","2014-2015",5,"Pre",1,41,"Scott Peterson",0,0,null,null,null,null,null,null,0,0,0,0,-0.16666666666666666]
["Danny Herzog","WOOD","Woodinville","2014-2015",5,"Pre",1,45,"Scott Peterson",0,0,null,null,null,null,null,null,0,0,0,0,-0.16666666666666666]
["Danny Herzog","WOOD","Woodinville","2014-2015",5,"Semi",1,"C","Scott Peterson",0,0,null,null,null,null,null,null,0,0,0,0,-0.16666666666666666]
["Danny Herzog","WOOD","Woodinville","2014-2015",5,"Semi",1,"D","Scott Peterson",0,0,null,null,null,null,null,null,0,0,0,0,-0.16666666666666666]
["Danny Herzog","WOOD","Woodinville","2014-2015",5,"Semi",1,"J","Scott Peterson",0,0,null,null,null,null,null,null,0,0,null,0,-0.16666666666666666]
["Danny Herzog","WOOD","Woodinville","2014-2015",5,"Semi",1,"J","Scott Peterson",0,0,null,null,null,null,null,null,0,0,null,0,-0.16666666666666666]
["David Steinke","DAC2","Dallas","2014-2015",3,"Pre",2,10,"Jeremy Swingle",2,3,null,null,null,null,null,null,0,1,{"$f":"quizscore(J1108,K1108)","v":20},20,76.166666666666671]
["David Steinke","DAC2","Dallas","2014-2015",1,"ConA",2,"A-D","Jeremy Swingle",2,3,null,null,null,null,null,null,0,1,20,20,76.166666666666671]
["David Steinke","DAC2","Dallas","2014-2015",2,"Semi",1,"C","Scott Peterson",2,3,null,3,null,null,null,null,0,1,20,80,76.166666666666671]
["David Steinke","DAC2","Dallas","2014-2015",2,"Semi",1,"G","Scott Peterson",2,3,null,null,null,null,null,null,0,1,20,20,76.166666666666671]
["David Steinke","DAC2","Dallas","2014-2015",4,"Semi",1,"G","Scott Peterson",2,3,null,1,null,null,null,null,0,1,20,40,76.166666666666671]
["David Steinke","DAC2","Dallas","2014-2015",2,"Semi",1,"D","Scott Peterson",2,2,null,1,null,null,null,null,0,0,30,50,76.166666666666671]
["David Steinke","DAC2","Dallas","2014-2015",4,"Pre",2,6,"Jeremy Swingle",3,3,null,null,null,null,null,null,0,1,40,40,76.166666666666671]
["David Steinke","DAC2","Dallas","2014-2015",4,"Pre",2,18,"Jeremy Swingle",3,3,null,null,null,null,null,null,0,1,40,40,76.166666666666671]
["David Steinke","DAC2","Dallas","2014-2015",2,"Semi",1,"J","Scott Peterson",3,3,null,null,null,null,null,null,0,1,40,40,76.166666666666671]
["David Steinke","DAC2","Dallas","2014-2015",3,"Pre",1,17,"Scott Peterson",3,2,null,null,null,null,null,null,0,0,50,50,76.166666666666671]
["David Steinke","DAC2","Dallas","2014-2015",4,"Pre",1,29,"Scott Peterson",3,2,null,null,null,null,null,null,0,0,50,50,76.166666666666671]
["David Steinke","DAC2","Dallas","2014-2015",4,"Semi",1,"D","Scott Peterson",3,2,null,1,null,null,null,null,0,0,50,70,76.166666666666671]
["David Steinke","DAC2","Dallas","2014-2015",4,"Semi",1,"C","Scott Peterson",3,1,null,1,null,null,null,null,0,0,60,80,76.166666666666671]
["David Steinke","DAC2","Dallas","2014-2015",2,"Pre",2,2,"Jeremy Swingle",4,2,null,null,null,null,null,null,1,0,70,70,76.166666666666671]
["David Steinke","DAC2","Dallas","2014-2015",3,"Pre",4,36,"Cutty Welt",4,2,null,null,null,null,null,null,1,0,70,70,76.166666666666671]
["David Steinke","DAC2","Dallas","2014-2015",4,"Pre",1,41,"Scott Peterson",4,2,null,null,null,null,null,null,1,0,70,70,76.166666666666671]
["David Steinke","DAC2","Dallas","2014-2015",1,"Pre",4,48,"Cutty Welt",4,2,null,null,null,null,null,null,1,0,70,70,76.166666666666671]
["David Steinke","DAC2","Dallas","2014-2015",2,"Semi",1,"I","Scott Peterson",4,2,null,null,null,null,null,null,1,0,70,70,76.166666666666671]
["David Steinke","DAC2","Dallas","2014-2015",4,"Semi",1,"I","Scott Peterson",4,2,null,null,null,null,null,null,1,0,70,70,76.166666666666671]
["David Steinke","DAC2","Dallas","2014-2015",2,"Semi",1,"J","Scott Peterson",4,2,null,null,null,null,null,null,1,0,70,70,76.166666666666671]
["David Steinke","DAC2","Dallas","2014-2015",2,"Pre",4,12,"Cutty Welt",4,1,null,null,null,null,null,null,1,0,80,80,76.166666666666671]
["David Steinke","DAC2","Dallas","2014-2015",1,"Pre",1,17,"Scott Peterson",4,1,null,null,null,null,null,null,1,0,80,80,76.166666666666671]
["David Steinke","DAC2","Dallas","2014-2015",2,"Pre",3,27,"Tiffany Bye",4,1,null,null,null,null,null,null,1,0,80,80,76.166666666666671]
["David Steinke","DAC2","Dallas","2014-2015",1,"Pre",2,30,"Jeremy Swingle",4,1,null,null,null,null,null,null,1,0,80,80,76.166666666666671]
["David Steinke","DAC2","Dallas","2014-2015",2,"Pre",1,33,"Scott Peterson",4,1,null,null,null,null,null,null,1,0,80,80,76.166666666666671]
["David Steinke","DAC2","Dallas","2014-2015",3,"Pre",3,39,"Tiffany Bye",4,1,null,null,null,null,null,null,1,0,80,80,76.166666666666671]
["David Steinke","DAC2","Dallas","2014-2015",3,"Pre",1,49,"Scott Peterson",4,1,null,2,null,null,null,null,1,0,80,120,76.166666666666671]
["David Steinke","DAC2","Dallas","2014-2015",1,"ConA",2,"A-A","Jeremy Swingle",4,1,null,null,null,null,null,null,1,0,80,80,76.166666666666671]
["David Steinke","DAC2","Dallas","2014-2015",1,"ConA",2,"A-G","Jeremy Swingle",4,1,null,null,null,null,null,null,1,0,80,80,76.166666666666671]
["David Steinke","DAC2","Dallas","2014-2015",1,"ConA",2,"A-J","Jeremy Swingle",4,1,null,null,null,null,null,null,1,0,80,80,76.166666666666671]
["David Steinke","DAC2","Dallas","2014-2015",3,"Semi",1,"B","Scott Peterson",4,1,null,null,null,null,null,null,1,0,80,80,76.166666666666671]
["David Steinke","DAC2","Dallas","2014-2015",3,"Semi",1,"D","Scott Peterson",4,1,null,null,null,null,null,null,1,0,80,80,76.166666666666671]
["David Steinke","DAC2","Dallas","2014-2015",3,"Semi",1,"J","Scott Peterson",4,1,null,1,null,null,null,null,1,0,{"$f":"quizscore(J1140,K1140)","v":80},100,76.166666666666671]
["David Steinke","DAC2","Dallas","2014-2015",1,"Pre",3,3,"Tiffany Bye",4,0,null,null,null,null,null,null,1,0,90,90,76.166666666666671]
["David Steinke","DAC2","Dallas","2014-2015",3,"Pre",4,4,"Cutty Welt",4,0,null,null,null,null,null,null,1,0,90,90,76.166666666666671]
["David Steinke","DAC2","Dallas","2014-2015",1,"Pre",1,9,"Scott Peterson",4,0,null,1,null,null,null,null,1,0,90,110,76.166666666666671]
["David Steinke","DAC2","Dallas","2014-2015",2,"Pre",1,17,"Scott Peterson",4,0,null,null,null,null,null,null,1,0,90,90,76.166666666666671]
["David Steinke","DAC2","Dallas","2014-2015",4,"Pre",3,27,"Tony Kong",4,0,null,null,null,null,null,null,1,0,90,90,76.166666666666671]
["David Steinke","DAC2","Dallas","2014-2015",1,"Pre",3,39,"Tiffany Bye",4,0,null,null,null,null,null,null,1,0,90,90,76.166666666666671]
["David Steinke","DAC2","Dallas","2014-2015",4,"Pre",4,48,"Cutty Welt",4,0,null,null,1,null,null,null,1,0,90,85,76.166666666666671]
["David Steinke","DAC2","Dallas","2014-2015",2,"Pre",2,50,"Jeremy Swingle",4,0,null,1,null,null,null,null,1,0,90,110,76.166666666666671]
["David Steinke","DAC2","Dallas","2014-2015",3,"Semi",1,"G","Scott Peterson",4,0,null,1,null,null,null,null,1,0,90,110,76.166666666666671]
["David Steinke","DAC2","Dallas","2014-2015",3,"Semi",1,"J","Scott Peterson",4,0,null,null,null,null,null,null,1,0,90,90,76.166666666666671]
["David Steinke","DAC2","Dallas","2014-2015",5,"Pre",2,2,"Jeremy Swingle",4,1,null,null,null,null,null,null,1,0,80,80,76.166666666666671]
["David Steinke","DAC2","Dallas","2014-2015",5,"Pre",3,15,"Tony Kong",4,2,null,null,null,null,null,null,1,0,70,70,76.166666666666671]
["David Steinke","DAC2","Dallas","2014-2015",5,"Pre",1,17,"Scott Peterson",4,2,null,null,null,null,null,null,1,0,70,70,76.166666666666671]
["David Steinke","DAC2","Dallas","2014-2015",5,"Pre",4,28,"Cutty Welt",4,0,null,null,null,null,null,null,{"$f":"IF(J1154=4,1,0)","v":1},{"$f":"IF(K1154=3,1,0)","v":0},90,{"$f":"T1154+M1154*(20) + (SUM(O1154:Q1154)*(10)) - L1154*(5) - N1154*(5)","v":90},{"$f":"AVERAGEIFS(U:U,A:A,A1154,F:F,\"Pre\")","v":76.166666666666671}]
["David Steinke","DAC2","Dallas","2014-2015",5,"Pre",4,36,"Cutty Welt",4,1,null,null,null,null,null,null,1,0,80,80,76.166666666666671]
["David Steinke","DAC2","Dallas","2014-2015",5,"Pre",1,41,"Scott Peterson",3,1,null,null,null,null,null,null,0,0,60,60,76.166666666666671]
["David Steinke","DAC2","Dallas","2014-2015",5,"Semi",1,"B","Scott Peterson",3,3,null,null,null,null,null,null,0,1,40,40,76.166666666666671]
["David Steinke","DAC2","Dallas","2014-2015",5,"Semi",1,"E","Scott Peterson",3,1,null,1,null,null,null,null,0,0,60,80,76.166666666666671]
["David Steinke","DAC2","Dallas","2014-2015",5,"Semi",1,"G","Scott Peterson",1,3,null,null,null,null,null,null,0,1,0,0,76.166666666666671]
["David Steinke","DAC2","Dallas","2014-2015",5,"Semi",1,"I","Scott Peterson",2,1,null,null,null,null,null,null,0,0,40,40,76.166666666666671]
["David Steinke","DAC2","Dallas","2014-2015",5,"Semi",1,"J","Scott Peterson",2,2,null,null,null,null,null,null,0,0,null,0,76.166666666666671]
["David Steinke","DAC2","Dallas","2014-2015",5,"Semi",1,"J","Scott Peterson",2,2,null,null,null,null,null,null,0,0,null,0,76.166666666666671]
["David Swindler","LH4","Lighthouse","2014-2015",2,"Pre",2,6,"Jeremy Swingle",0,1,null,null,null,null,null,null,0,0,{"$f":"quizscore(J1163,K1163)","v":0},0,5.333333333333333]
["David Swindler","LH4","Lighthouse","2014-2015",4,"Pre",3,7,"Tony Kong",0,0,null,null,null,null,null,null,0,0,0,0,5.333333333333333]
["David Swindler","LH1","Lighthouse","2014-2015",1,"Pre",1,9,"Scott Peterson",0,0,null,null,null,null,null,null,0,0,0,0,5.333333333333333]
["David Swindler","LH4","Lighthouse","2014-2015",3,"Pre",1,13,"Scott Peterson",0,0,null,null,null,null,null,null,0,0,0,0,5.333333333333333]
["David Swindler","LH4","Lighthouse","2014-2015",2,"Pre",3,15,"Tiffany Bye",0,0,null,null,null,null,null,null,0,0,0,0,5.333333333333333]
["David Swindler","LH4","Lighthouse","2014-2015",2,"Pre",3,19,"Tiffany Bye",0,0,null,null,null,null,null,null,0,0,0,0,5.333333333333333]
["David Swindler","LH4","Lighthouse","2014-2015",3,"Pre",4,20,"Cutty Welt",0,0,null,1,null,null,null,null,0,0,0,20,5.333333333333333]
["David Swindler","LH4","Lighthouse","2014-2015",2,"Pre",1,21,"Scott Peterson",0,1,null,null,null,null,null,null,0,0,0,0,5.333333333333333]
["David Swindler","LH4","Lighthouse","2014-2015",4,"Pre",3,27,"Tony Kong",0,1,null,null,null,null,null,null,0,0,0,0,5.333333333333333]
["David Swindler","LH4","Lighthouse","2014-2015",3,"Pre",4,28,"Cutty Welt",0,0,null,null,null,null,null,null,0,0,0,0,5.333333333333333]
["David Swindler","LH4","Lighthouse","2014-2015",3,"Pre",3,31,"Tiffany Bye",0,0,null,null,null,null,null,null,0,0,0,0,5.333333333333333]
["David Swindler","LH1","Lighthouse","2014-2015",1,"Pre",1,33,"Scott Peterson",0,0,null,null,null,null,null,null,0,0,0,0,5.333333333333333]
["David Swindler","LH4","Lighthouse","2014-2015",2,"Pre",1,33,"Scott Peterson",0,0,1,null,null,null,null,null,0,0,0,-5,5.333333333333333]
["David Swindler","LH1","Lighthouse","2014-2015",1,"Pre",4,44,"Cutty Welt",0,0,null,null,null,null,null,null,0,0,0,0,5.333333333333333]
["David Swindler","LH4","Lighthouse","2014-2015",2,"Pre",4,44,"Cutty Welt",0,0,null,null,null,null,null,null,0,0,0,0,5.333333333333333]
["David Swindler","LH4","Lighthouse","2014-2015",3,"Pre",4,44,"Cutty Welt",0,1,null,null,null,null,null,null,0,0,0,0,5.333333333333333]
["David Swindler","LH1","Lighthouse","2014-2015",1,"Pre",2,50,"Jeremy Swingle",0,0,null,null,null,null,null,null,0,0,0,0,5.333333333333333]
["David Swindler","LH4","Lighthouse","2014-2015",3,"Pre",2,50,"Jeremy Swingle",0,0,null,null,null,null,null,null,0,0,0,0,5.333333333333333]
["David Swindler","LH4","Lighthouse","2014-2015",4,"Pre",2,50,"Jeremy Swingle",0,0,null,null,1,null,null,null,0,0,0,-5,5.333333333333333]
["David Swindler","LH4","Lighthouse","2014-2015",3,"ConA",3,"A-B","Tiffany Bye",0,1,null,null,null,null,null,null,0,0,0,0,5.333333333333333]
["David Swindler","LH4","Lighthouse","2014-2015",4,"ConA",2,"A-C","Jeremy Swingle",0,0,null,null,null,null,null,null,0,0,0,0,5.333333333333333]
["David Swindler","LH4","Lighthouse","2014-2015",3,"ConA",3,"A-E","Tiffany Bye",0,0,null,null,null,null,null,null,0,0,0,0,5.333333333333333]
["David Swindler","LH1","Lighthouse","2014-2015",1,"ConB",4,"B-1","Cutty Welt",0,0,null,null,null,null,null,null,0,0,0,0,5.333333333333333]
["David Swindler","LH4","Lighthouse","2014-2015",2,"ConB",4,"B-4","Cutty Welt",0,0,null,null,null,null,null,null,0,0,0,0,5.333333333333333]
["David Swindler","LH4","Lighthouse","2014-2015",2,"ConB",4,"B-6","Cutty Welt",0,1,null,null,null,null,null,null,0,0,0,0,5.333333333333333]
["David Swindler","LH1","Lighthouse","2014-2015",1,"ConB",4,"B-J","Cutty Welt",0,1,null,null,null,null,null,null,0,0,0,0,5.333333333333333]
["David Swindler","LH4","Lighthouse","2014-2015",4,"Pre",2,14,"Jeremy Swingle",1,0,null,null,null,null,null,null,0,0,20,20,5.333333333333333]
["David Swindler","LH1","Lighthouse","2014-2015",1,"Pre",3,19,"Tiffany Bye",1,0,null,null,null,1,null,null,0,0,20,30,5.333333333333333]
["David Swindler","LH4","Lighthouse","2014-2015",4,"Pre",1,21,"Scott Peterson",1,0,null,null,null,null,null,null,0,0,20,20,5.333333333333333]
["David Swindler","LH1","Lighthouse","2014-2015",1,"Pre",4,28,"Cutty Welt",1,0,null,null,null,1,null,null,0,0,20,30,5.333333333333333]
["David Swindler","LH4","Lighthouse","2014-2015",4,"Pre",4,36,"Cutty Welt",1,0,null,null,null,null,null,null,0,0,20,20,5.333333333333333]
["David Swindler","LH4","Lighthouse","2014-2015",4,"ConA",3,"A-F","Abby Ashcraft",1,0,null,null,null,null,null,null,0,0,20,20,5.333333333333333]
["David Swindler","LH4","Lighthouse","2014-2015",3,"ConA",3,"A-H","Tiffany Bye",1,0,null,null,null,null,null,null,0,0,20,20,5.333333333333333]
["David Swindler","LH1","Lighthouse","2014-2015",1,"ConB",4,"B-4","Cutty Welt",1,0,null,null,null,null,1,null,0,0,20,30,5.333333333333333]
["David Swindler","LH4","Lighthouse","2014-2015",2,"ConB",4,"B-5","Cutty Welt",1,1,null,null,null,null,null,null,0,0,20,20,5.333333333333333]
["David Swindler","LH1","Lighthouse","2014-2015",1,"ConB",4,"B-7","Cutty Welt",1,0,null,null,null,1,null,null,0,0,20,30,5.333333333333333]
["David Swindler","LH4","Lighthouse","2014-2015",5,"Pre",2,2,"Jeremy Swingle",0,0,null,null,null,null,null,null,0,0,0,0,5.333333333333333]
["David Swindler","LH4","Lighthouse","2014-2015",5,"Pre",1,9,"Scott Peterson",1,0,null,null,null,null,null,null,0,0,20,20,5.333333333333333]
["David Swindler","LH4","Lighthouse","2014-2015",5,"Pre",4,16,"Cutty Welt",0,0,null,null,null,null,null,null,0,0,0,0,5.333333333333333]
["David Swindler","LH4","Lighthouse","2014-2015",5,"Pre",1,21,"Scott Peterson",0,2,null,null,null,null,null,null,0,0,-10,-10,5.333333333333333]
["David Swindler","LH4","Lighthouse","2014-2015",5,"Pre",3,35,"Tony Kong",1,0,null,null,null,null,null,null,0,0,20,20,5.333333333333333]
["David Swindler","LH4","Lighthouse","2014-2015",5,"Pre",4,44,"Cutty Welt",0,0,null,null,null,null,null,null,0,0,0,0,5.333333333333333]
["David Swindler","LH4","Lighthouse","2014-2015",5,"ConA",2,"A-C","Jeremy Swingle",1,0,null,null,null,null,null,null,0,0,20,20,5.333333333333333]
["David Swindler","LH4","Lighthouse","2014-2015",5,"ConA",2,"A-D","Jeremy Swingle",0,0,null,null,null,null,null,null,0,0,0,0,5.333333333333333]
["David Swindler","LH4","Lighthouse","2014-2015",5,"ConA",2,"A-G","Jeremy Swingle",0,1,null,null,null,null,null,null,0,0,0,0,5.333333333333333]
["David Swindler","LH4",{"$f":"VLOOKUP(B1208,$B$2:$C$3219,2,FALSE)","v":"Lighthouse"},"2014-2015",5,"ConA",3,"A-I","Abby Ashcraft",1,0,null,null,null,1,null,null,0,0,20,30,5.333333333333333]
["David Swindler","LH4",{"$f":"VLOOKUP(B1209,$B$2:$C$3219,2,FALSE)","v":"Lighthouse"},"2014-2015",5,"ConA",3,"A-J","Abby Ashcraft",1,0,null,null,null,null,null,null,0,0,null,0,5.333333333333333]
["Deborah Dvorak","CH2","Chapel Hill","2014-2015",3,"Pre",2,2,"Jeremy Swingle",0,0,null,null,null,null,null,null,0,0,{"$f":"quizscore(J1210,K1210)","v":0},0,1.5517241379310345]
["Deborah Dvorak","CH2","Chapel Hill","2014-2015",2,"Pre",3,3,"Tiffany Bye",0,0,null,null,null,null,null,null,0,0,0,0,1.5517241379310345]
["Deborah Dvorak","CH2","Chapel Hill","2014-2015",1,"Pre",4,4,"Cutty Welt",0,0,null,null,null,null,null,null,0,0,0,0,1.5517241379310345]
["Deborah Dvorak","CH2","Chapel Hill","2014-2015",4,"Pre",1,5,"Scott Peterson",0,0,null,null,null,null,null,null,0,0,0,0,1.5517241379310345]
["Deborah Dvorak","CH2","Chapel Hill","2014-2015",1,"Pre",1,9,"Scott Peterson",0,0,null,null,null,null,null,null,0,0,0,0,1.5517241379310345]
["Deborah Dvorak","CH2","Chapel Hill","2014-2015",3,"Pre",3,11,"Tiffany Bye",0,0,null,null,null,null,null,null,0,0,0,0,1.5517241379310345]
["Deborah Dvorak","CH2","Chapel Hill","2014-2015",2,"Pre",4,12,"Cutty Welt",0,1,null,null,null,null,null,null,0,0,0,0,1.5517241379310345]
["Deborah Dvorak","CH2","Chapel Hill","2014-2015",4,"Pre",2,14,"Jeremy Swingle",0,0,1,null,null,null,null,null,0,0,0,-5,1.5517241379310345]
["Deborah Dvorak","CH2","Chapel Hill","2014-2015",1,"Pre",2,18,"Jeremy Swingle",0,0,null,null,null,null,null,null,{"$f":"IF(J1218=4,1,0)","v":0},{"$f":"IF(K1218=3,1,0)","v":0},0,{"$f":"T1218+M1218*(20) + (SUM(O1218:Q1218)*(10)) - L1218*(5) - N1218*(5)","v":0},{"$f":"AVERAGEIFS(U:U,A:A,A1218,F:F,\"Pre\")","v":1.5517241379310345}]
["Deborah Dvorak","CH2","Chapel Hill","2014-2015",3,"Pre",4,20,"Cutty Welt",0,0,null,null,null,null,null,null,0,0,0,0,1.5517241379310345]
["Deborah Dvorak","CH2","Chapel Hill","2014-2015",4,"Pre",4,24,"Cutty Welt",0,0,null,null,null,null,null,null,0,0,0,0,1.5517241379310345]
["Deborah Dvorak","CH2","Chapel Hill","2014-2015",2,"Pre",1,25,"Scott Peterson",0,0,null,null,null,null,null,null,0,0,0,0,1.5517241379310345]
["Deborah Dvorak","CH2","Chapel Hill","2014-2015",3,"Pre",1,25,"Tiffany Bye",0,0,null,null,null,null,null,null,0,0,0,0,1.5517241379310345]
["Deborah Dvorak","CH2","Chapel Hill","2014-2015",1,"Pre",3,27,"Tiffany Bye",0,0,null,null,null,null,null,null,0,0,0,0,1.5517241379310345]
["Deborah Dvorak","CH2","Chapel Hill","2014-2015",1,"Pre",1,29,"Scott Peterson",0,0,null,null,null,null,null,null,0,0,0,0,1.5517241379310345]
["Deborah Dvorak","CH2","Chapel Hill","2014-2015",4,"Pre",3,31,"Tony Kong",0,0,null,null,null,null,null,null,0,0,0,0,1.5517241379310345]
["Deborah Dvorak","CH2","Chapel Hill","2014-2015",2,"Pre",1,37,"Scott Peterson",0,0,null,null,null,null,null,null,0,0,0,0,1.5517241379310345]
["Deborah Dvorak","CH2","Chapel Hill","2014-2015",4,"Pre",2,38,"Jeremy Swingle",0,0,null,null,null,null,null,null,0,0,0,0,1.5517241379310345]
["Deborah Dvorak","CH2","Chapel Hill","2014-2015",3,"Pre",3,39,"Tiffany Bye",0,0,null,null,null,null,null,null,0,0,0,0,1.5517241379310345]
["Deborah Dvorak","CH2","Chapel Hill","2014-2015",1,"Pre",2,42,"Jeremy Swingle",0,0,null,null,null,null,null,null,0,0,0,0,1.5517241379310345]
["Deborah Dvorak","CH2","Chapel Hill","2014-2015",3,"Pre",1,45,"Scott Peterson",0,0,null,null,null,null,null,null,0,0,0,0,1.5517241379310345]
["Deborah Dvorak","CH2","Chapel Hill","2014-2015",4,"Pre",1,45,"Scott Peterson",0,0,null,null,null,null,null,null,0,0,0,0,1.5517241379310345]
["Deborah Dvorak","CH2","Chapel Hill","2014-2015",1,"ConA",3,"A-B","Tiffany Bye",0,0,null,null,null,null,null,null,0,0,0,0,1.5517241379310345]
["Deborah Dvorak","CH2","Chapel Hill","2014-2015",4,"ConA",3,"A-B","Abby Ashcraft",0,0,null,null,null,null,null,null,0,0,0,0,1.5517241379310345]
["Deborah Dvorak","CH2","Chapel Hill","2014-2015",3,"ConA",2,"A-C","Jeremy Swingle",0,0,null,null,null,null,null,null,0,0,0,0,1.5517241379310345]
["Deborah Dvorak","CH2","Chapel Hill","2014-2015",1,"ConA",3,"A-E","Tiffany Bye",0,0,null,null,null,null,null,null,0,0,0,0,1.5517241379310345]
["Deborah Dvorak","CH2","Chapel Hill","2014-2015",2,"ConA",3,"A-E","Tiffany Bye",0,0,null,null,null,null,null,null,0,0,0,0,1.5517241379310345]
["Deborah Dvorak","CH2","Chapel Hill","2014-2015",3,"ConA",3,"A-F","Tiffany Bye",0,0,null,null,null,null,null,null,0,0,0,0,1.5517241379310345]
["Deborah Dvorak","CH2","Chapel Hill","2014-2015",4,"ConA",3,"A-F","Abby Ashcraft",0,0,null,null,null,null,null,null,0,0,0,0,1.5517241379310345]
["Deborah Dvorak","CH2","Chapel Hill","2014-2015",2,"ConA",2,"A-G","Jeremy Swingle",0,0,null,null,null,null,null,null,0,0,0,0,1.5517241379310345]
["Deborah Dvorak","CH2","Chapel Hill","2014-2015",1,"ConA",3,"A-H","Tiffany Bye",0,0,null,null,null,null,null,null,0,0,0,0,1.5517241379310345]
["Deborah Dvorak","CH2","Chapel Hill","2014-2015",3,"ConA",3,"A-H","Tiffany Bye",0,0,null,null,null,null,null,null,0,0,0,0,1.5517241379310345]
["Deborah Dvorak","CH2","Chapel Hill","2014-2015",4,"ConA",3,"A-H","Abby Ashcraft",0,0,null,null,null,null,null,null,0,0,0,0,1.5517241379310345]
["Deborah Dvorak","CH2","Chapel Hill","2014-2015",2,"ConA",3,"A-I","Tiffany Bye",0,1,null,null,null,null,null,null,0,0,0,0,1.5517241379310345]
["Deborah Dvorak","CH2","Chapel Hill","2014-2015",3,"ConA",3,"A-I","Tiffany Bye",0,0,null,null,null,null,null,null,0,0,0,0,1.5517241379310345]
["Deborah Dvorak","CH2","Chapel Hill","2014-2015",4,"ConA",3,"A-I","Abby Ashcraft",0,0,null,null,null,null,null,null,0,0,0,0,1.5517241379310345]
["Deborah Dvorak","CH2","Chapel Hill","2014-2015",2,"Pre",4,20,"Cutty Welt",1,1,null,1,null,1,null,null,0,0,20,50,1.5517241379310345]
["Deborah Dvorak","CH2","Chapel Hill","2014-2015",2,"ConA",3,"A-B","Tiffany Bye",1,0,null,null,null,null,1,null,0,0,20,30,1.5517241379310345]
["Deborah Dvorak","CH2","Chapel Hill","2014-2015",4,"ConA",2,"A-J","Jeremy Swingle",0,0,null,null,null,null,null,null,0,0,0,0,1.5517241379310345]
["Deborah Dvorak","CH2","Chapel Hill","2014-2015",5,"Pre",3,3,"Tony Kong",0,1,null,null,null,null,null,null,0,0,0,0,1.5517241379310345]
["Deborah Dvorak","CH2","Chapel Hill","2014-2015",5,"Pre",2,14,"Jeremy Swingle",0,0,null,null,null,null,null,null,0,0,0,0,1.5517241379310345]
["Deborah Dvorak","CH2","Chapel Hill","2014-2015",5,"Pre",4,24,"Cutty Welt",0,0,null,null,null,null,null,null,0,0,0,0,1.5517241379310345]
["Deborah Dvorak","CH2","Chapel Hill","2014-2015",5,"Pre",1,25,"Scott Peterson",0,0,null,null,null,null,null,null,0,0,0,0,1.5517241379310345]
["Deborah Dvorak","CH2","Chapel Hill","2014-2015",5,"Pre",2,34,"Jeremy Swingle",0,0,null,null,null,null,null,null,0,0,0,0,1.5517241379310345]
["Deborah Dvorak","CH2","Chapel Hill","2014-2015",5,"Pre",3,43,"Tony Kong",0,0,null,null,null,null,null,null,0,0,0,0,1.5517241379310345]
["Deborah Dvorak","CH2",{"$f":"VLOOKUP(B1255,$B$2:$C$3219,2,FALSE)","v":"Chapel Hill"},"2014-2015",5,"ConB",4,"B-1","Cutty Welt",0,0,null,null,null,null,null,null,0,0,0,0,1.5517241379310345]
["Deborah Dvorak","CH2",{"$f":"VLOOKUP(B1256,$B$2:$C$3219,2,FALSE)","v":"Chapel Hill"},"2014-2015",5,"ConB",4,"B-2","Cutty Welt",0,0,null,null,null,null,null,null,0,0,0,0,1.5517241379310345]
["Deborah Dvorak","CH2",{"$f":"VLOOKUP(B1257,$B$2:$C$3219,2,FALSE)","v":"Chapel Hill"},"2014-2015",5,"ConB",4,"B-5","Cutty Welt",0,0,null,null,null,null,null,null,0,0,0,0,1.5517241379310345]
["Deborah Dvorak","CH2",{"$f":"VLOOKUP(B1258,$B$2:$C$3219,2,FALSE)","v":"Chapel Hill"},"2014-2015",5,"ConB",4,"B-J","Cutty Welt",0,0,null,null,null,null,null,null,0,0,null,0,1.5517241379310345]
["Eliana Swindler","LH1","Lighthouse","2014-2015",3,"Pre",4,8,"Cutty Welt",0,1,null,1,null,null,null,null,0,0,{"$f":"quizscore(J1259,K1259)","v":0},20,16.041666666666668]
["Eliana Swindler","LH1","Lighthouse","2014-2015",4,"Pre",4,8,"Cutty Welt",0,0,null,null,null,null,null,null,0,0,0,0,16.041666666666668]
["Eliana Swindler","LH1","Lighthouse","2014-2015",4,"Pre",1,13,"Scott Peterson",0,0,null,null,null,null,null,null,0,0,0,0,16.041666666666668]
["Eliana Swindler","LH1","Lighthouse","2014-2015",3,"Pre",1,37,"Scott Peterson",0,1,null,null,null,null,null,null,0,0,0,0,16.041666666666668]
["Eliana Swindler","LH1","Lighthouse","2014-2015",2,"Pre",1,45,"Scott Peterson",0,0,null,null,null,null,null,null,0,0,0,0,16.041666666666668]
["Eliana Swindler","LH1","Lighthouse","2014-2015",3,"Pre",2,46,"Jeremy Swingle",0,0,null,null,null,null,null,null,0,0,0,0,16.041666666666668]
["Eliana Swindler","LH1","Lighthouse","2014-2015",4,"Pre",4,48,"Cutty Welt",0,1,null,null,null,null,null,null,0,0,0,0,16.041666666666668]
["Eliana Swindler","LH1","Lighthouse","2014-2015",3,"ConA",2,"A-D","Jeremy Swingle",0,1,null,null,null,null,null,null,0,0,0,0,16.041666666666668]
["Eliana Swindler","LH1","Lighthouse","2014-2015",4,"ConA",2,"A-D","Jeremy Swingle",0,0,null,null,null,null,null,null,0,0,0,0,16.041666666666668]
["Eliana Swindler","LH1","Lighthouse","2014-2015",2,"ConA",3,"A-E","Tiffany Bye",0,0,null,null,null,null,null,null,0,0,0,0,16.041666666666668]
["Eliana Swindler","LH1","Lighthouse","2014-2015",3,"ConA",2,"A-G","Jeremy Swingle",0,0,null,null,null,null,null,null,0,0,0,0,16.041666666666668]
["Eliana Swindler","LH1","Lighthouse","2014-2015",2,"ConA",3,"A-H","Tiffany Bye",0,0,null,null,null,null,null,null,0,0,0,0,16.041666666666668]
["Eliana Swindler","LH1","Lighthouse","2014-2015",2,"Pre",2,6,"Jeremy Swingle",1,0,null,null,null,null,null,null,0,0,20,20,16.041666666666668]
["Eliana Swindler","LH1","Lighthouse","2014-2015",3,"Pre",4,16,"Cutty Welt",1,1,null,null,null,null,null,null,0,0,20,20,16.041666666666668]
["Eliana Swindler","LH1","Lighthouse","2014-2015",2,"Pre",4,20,"Cutty Welt",1,0,1,null,null,null,null,null,0,0,20,15,16.041666666666668]
["Eliana Swindler","LH1","Lighthouse","2014-2015",4,"Pre",2,22,"Jeremy Swingle",1,0,null,null,null,null,null,null,0,0,20,20,16.041666666666668]
["Eliana Swindler","LH1","Lighthouse","2014-2015",4,"Pre",3,31,"Tony Kong",1,0,null,null,null,1,null,null,0,0,20,30,16.041666666666668]
["Eliana Swindler","LH1","Lighthouse","2014-2015",4,"Pre",3,39,"Tony Kong",1,0,null,null,null,1,null,null,0,0,20,30,16.041666666666668]
["Eliana Swindler","LH1","Lighthouse","2014-2015",2,"ConA",2,"A-A","Jeremy Swingle",1,0,null,null,null,1,null,null,0,0,20,30,16.041666666666668]
["Eliana Swindler","LH1","Lighthouse","2014-2015",4,"ConA",2,"A-C","Jeremy Swingle",1,0,null,null,null,null,null,null,0,0,20,20,16.041666666666668]
["Eliana Swindler","LH1","Lighthouse","2014-2015",4,"ConA",2,"A-G","Jeremy Swingle",1,0,null,null,null,null,null,null,0,0,20,20,16.041666666666668]
["Eliana Swindler","LH1","Lighthouse","2014-2015",2,"Pre",2,2,"Jeremy Swingle",2,0,null,null,null,null,null,null,0,0,40,40,16.041666666666668]
["Eliana Swindler","LH1","Lighthouse","2014-2015",3,"Pre",3,23,"Tiffany Bye",2,0,null,null,null,null,null,null,0,0,40,40,16.041666666666668]
["Eliana Swindler","LH1","Lighthouse","2014-2015",2,"Pre",4,28,"Cutty Welt",2,1,null,null,null,1,null,null,{"$f":"IF(J1282=4,1,0)","v":0},{"$f":"IF(K1282=3,1,0)","v":0},40,{"$f":"T1282+M1282*(20) + (SUM(O1282:Q1282)*(10)) - L1282*(5) - N1282*(5)","v":50},{"$f":"AVERAGEIFS(U:U,A:A,A1282,F:F,\"Pre\")","v":16.041666666666668}]
["Eliana Swindler","LH1","Lighthouse","2014-2015",3,"Pre",3,31,"Tiffany Bye",2,0,null,null,null,null,null,null,0,0,40,40,16.041666666666668]
["Eliana Swindler","LH1","Lighthouse","2014-2015",2,"Pre",3,35,"Tiffany Bye",2,0,null,null,null,null,null,null,0,0,40,40,16.041666666666668]
["Eliana Swindler","LH1","Lighthouse","2014-2015",3,"ConA",2,"A-J","Jeremy Swingle",2,0,null,null,null,null,null,null,0,0,40,40,16.041666666666668]
["Eliana Swindler","LH1","Lighthouse","2014-2015",3,"ConA",2,"A-C","Jeremy Swingle",3,0,null,null,null,null,null,null,0,0,60,60,16.041666666666668]
["Eliana Swindler","LH1","Lighthouse","2014-2015",4,"ConA",3,"A-I","Abby Ashcraft",3,0,null,null,null,null,null,null,0,0,60,60,16.041666666666668]
["Eliana Swindler","LH1","Lighthouse","2014-2015",5,"Pre",3,7,"Tony Kong",0,0,null,null,null,null,null,null,0,0,0,0,16.041666666666668]
["Eliana Swindler","LH1","Lighthouse","2014-2015",5,"Pre",4,20,"Cutty Welt",0,0,null,null,null,null,null,null,0,0,0,0,16.041666666666668]
["Eliana Swindler","LH1","Lighthouse","2014-2015",5,"Pre",2,22,"Jeremy Swingle",0,0,null,null,null,null,null,null,0,0,0,0,16.041666666666668]
["Eliana Swindler","LH1","Lighthouse","2014-2015",5,"Pre",2,30,"Jeremy Swingle",0,0,null,null,null,null,null,null,0,0,0,0,16.041666666666668]
["Eliana Swindler","LH1","Lighthouse","2014-2015",5,"Pre",1,37,"Scott Peterson",1,1,null,null,null,null,null,null,0,0,20,20,16.041666666666668]
["Eliana Swindler","LH1","Lighthouse","2014-2015",5,"Pre",1,45,"Scott Peterson",0,0,null,null,null,null,null,null,0,0,0,0,16.041666666666668]
["Eliana Swindler","LH1","Lighthouse","2014-2015",5,"ConA",2,"A-A","Jeremy Swingle",1,0,null,null,null,null,null,null,0,0,20,20,16.041666666666668]
["Eliana Swindler","LH1","Lighthouse","2014-2015",5,"ConA",2,"A-D","Jeremy Swingle",0,0,null,null,null,null,null,null,0,0,0,0,16.041666666666668]
["Eliana Swindler","LH1","Lighthouse","2014-2015",5,"ConA",2,"A-G","Jeremy Swingle",0,0,null,null,null,null,null,null,0,0,0,0,16.041666666666668]
["Eliana Swindler","LH1",{"$f":"VLOOKUP(B1297,$B$2:$C$3219,2,FALSE)","v":"Lighthouse"},"2014-2015",5,"ConA",3,"A-J","Abby Ashcraft",0,0,null,null,1,null,null,null,0,0,null,-5,16.041666666666668]
["Emilee Pope","DAC1","Dallas","2014-2015",4,"Pre",4,16,"Cutty Welt",0,2,null,null,null,null,null,null,0,0,{"$f":"quizscore(J1298,K1298)","v":-10},-10,56.166666666666664]
["Emilee Pope","DAC1","Dallas","2014-2015",3,"Semi",1,"A","Scott Peterson",0,2,null,1,null,null,null,null,0,0,-10,10,56.166666666666664]
["Emilee Pope","DAC1","Dallas","2014-2015",4,"Pre",2,42,"Jeremy Swingle",0,1,null,null,null,null,null,null,0,0,0,0,56.166666666666664]
["Emilee Pope","DAC1","Dallas","2014-2015",4,"Semi",1,"A","Scott Peterson",0,1,null,null,null,null,null,null,0,0,0,0,56.166666666666664]
["Emilee Pope","DAC1","Dallas","2014-2015",2,"Semi",1,"B","Scott Peterson",0,0,null,null,null,null,null,null,0,0,0,0,56.166666666666664]
["Emilee Pope","DAC1","Dallas","2014-2015",4,"Semi",2,"H","Jeremy Swingle",1,2,null,null,null,null,null,null,0,0,10,10,56.166666666666664]
["Emilee Pope","DAC1","Dallas","2014-2015",3,"Semi",2,"F","Jeremy Swingle",1,0,null,null,null,null,null,null,0,0,20,20,56.166666666666664]
["Emilee Pope","DAC1","Dallas","2014-2015",4,"Semi",1,"I","Scott Peterson",1,1,null,null,null,null,null,null,0,0,20,20,56.166666666666664]
["Emilee Pope","DAC1","Dallas","2014-2015",1,"Semi",1,"J","Scott Peterson",1,1,null,null,null,1,null,null,0,0,20,30,56.166666666666664]
["Emilee Pope","DAC1","Dallas","2014-2015",1,"Semi",1,"J","Scott Peterson",1,0,null,null,null,null,null,null,0,0,20,20,56.166666666666664]
["Emilee Pope","DAC1","Dallas","2014-2015",3,"Pre",1,29,"Scott Peterson",2,2,null,null,null,null,null,null,0,0,30,30,56.166666666666664]
["Emilee Pope","DAC1","Dallas","2014-2015",1,"Semi",1,"B","Scott Peterson",2,2,null,null,null,null,null,null,0,0,30,30,56.166666666666664]
["Emilee Pope","DAC1","Dallas","2014-2015",2,"Semi",2,"H","Jeremy Swingle",2,2,null,null,null,null,null,null,0,0,30,30,56.166666666666664]
["Emilee Pope","DAC1","Dallas","2014-2015",1,"Semi",1,"J","Scott Peterson",2,2,null,null,null,null,null,null,0,0,30,30,56.166666666666664]
["Emilee Pope","DAC1","Dallas","2014-2015",1,"Pre",4,4,"Cutty Welt",2,1,null,null,null,1,null,null,0,0,40,50,56.166666666666664]
["Emilee Pope","DAC1","Dallas","2014-2015",3,"Pre",1,5,"Scott Peterson",3,3,null,null,null,null,null,null,0,1,40,40,56.166666666666664]
["Emilee Pope","DAC1","Dallas","2014-2015",3,"Pre",3,39,"Tiffany Bye",2,0,null,null,null,null,null,null,0,0,40,40,56.166666666666664]
["Emilee Pope","DAC1","Dallas","2014-2015",2,"Pre",1,45,"Scott Peterson",3,3,null,null,null,null,null,null,0,1,40,40,56.166666666666664]
["Emilee Pope","DAC1","Dallas","2014-2015",3,"Pre",2,46,"Jeremy Swingle",3,3,null,null,null,null,null,null,0,1,40,40,56.166666666666664]
["Emilee Pope","DAC1","Dallas","2014-2015",4,"Semi",2,"F","Jeremy Swingle",2,0,null,null,null,null,null,null,0,0,40,40,56.166666666666664]
["Emilee Pope","DAC1","Dallas","2014-2015",1,"Semi",1,"J","Scott Peterson",2,1,null,null,null,null,null,null,0,0,40,40,56.166666666666664]
["Emilee Pope","DAC1","Dallas","2014-2015",1,"Pre",3,15,"Tiffany Bye",3,2,null,null,null,null,null,null,0,0,50,50,56.166666666666664]
["Emilee Pope","DAC1","Dallas","2014-2015",4,"Pre",4,24,"Cutty Welt",3,2,null,null,null,null,null,null,0,0,50,50,56.166666666666664]
["Emilee Pope","DAC1","Dallas","2014-2015",4,"Pre",1,49,"Scott Peterson",3,2,null,null,null,null,null,null,0,0,50,50,56.166666666666664]
["Emilee Pope","DAC1","Dallas","2014-2015",3,"Pre",2,22,"Jeremy Swingle",3,0,null,null,null,null,null,null,0,0,60,60,56.166666666666664]
["Emilee Pope","DAC1","Dallas","2014-2015",2,"Pre",2,38,"Jeremy Swingle",3,1,1,null,null,null,null,null,0,0,60,55,56.166666666666664]
["Emilee Pope","DAC1","Dallas","2014-2015",1,"Semi",1,"D","Scott Peterson",3,0,null,null,null,null,null,null,0,0,60,60,56.166666666666664]
["Emilee Pope","DAC1","Dallas","2014-2015",2,"Semi",2,"F","Jeremy Swingle",3,0,null,null,null,null,null,null,0,0,60,60,56.166666666666664]
["Emilee Pope","DAC1","Dallas","2014-2015",2,"Pre",3,31,"Tiffany Bye",4,2,null,null,null,null,null,null,1,0,70,70,56.166666666666664]
["Emilee Pope","DAC1","Dallas","2014-2015",4,"Pre",2,34,"Jeremy Swingle",4,2,null,null,null,null,null,null,1,0,70,70,56.166666666666664]
["Emilee Pope","DAC1","Dallas","2014-2015",4,"Pre",3,7,"Tony Kong",4,1,null,1,null,null,null,null,1,0,80,100,56.166666666666664]
["Emilee Pope","DAC1","Dallas","2014-2015",1,"Pre",2,10,"Jeremy Swingle",4,1,null,null,null,null,null,null,1,0,80,80,56.166666666666664]
["Emilee Pope","DAC1","Dallas","2014-2015",2,"Pre",2,14,"Jeremy Swingle",4,1,null,null,null,null,null,null,1,0,{"$f":"quizscore(J1330,K1330)","v":80},80,56.166666666666664]
["Emilee Pope","DAC1","Dallas","2014-2015",3,"Pre",3,15,"Tiffany Bye",4,1,null,null,null,null,null,null,1,0,80,80,56.166666666666664]
["Emilee Pope","DAC1","Dallas","2014-2015",2,"Pre",1,21,"Scott Peterson",4,1,null,null,null,null,null,null,1,0,80,80,56.166666666666664]
["Emilee Pope","DAC1","Dallas","2014-2015",1,"Pre",2,26,"Jeremy Swingle",4,1,null,null,null,null,null,null,1,0,80,80,56.166666666666664]
["Emilee Pope","DAC1","Dallas","2014-2015",1,"Pre",1,33,"Scott Peterson",4,1,null,1,null,1,null,null,1,0,80,110,56.166666666666664]
["Emilee Pope","DAC1","Dallas","2014-2015",2,"Pre",4,8,"Cutty Welt",4,0,null,null,null,null,null,null,1,0,90,90,56.166666666666664]
["Emilee Pope","DAC1","Dallas","2014-2015",1,"Pre",3,43,"Tiffany Bye",4,0,null,null,null,null,null,null,1,0,90,90,56.166666666666664]
["Emilee Pope","DAC1","Dallas","2014-2015",3,"Semi",2,"H","Jeremy Swingle",4,0,null,null,null,null,null,null,1,0,90,90,56.166666666666664]
["Emilee Pope","DAC1","Dallas","2014-2015",5,"Pre",3,11,"Tony Kong",0,1,null,null,null,null,null,null,0,0,0,0,56.166666666666664]
["Emilee Pope","DAC1","Dallas","2014-2015",5,"Pre",3,23,"Tony Kong",3,1,null,null,null,null,null,null,0,0,60,60,56.166666666666664]
["Emilee Pope","DAC1","Dallas","2014-2015",5,"Pre",4,28,"Cutty Welt",4,0,null,null,null,null,null,null,1,0,90,90,56.166666666666664]
["Emilee Pope","DAC1","Dallas","2014-2015",5,"Pre",1,33,"Scott Peterson",2,2,null,null,null,null,null,null,0,0,30,30,56.166666666666664]
["Emilee Pope","DAC1","Dallas","2014-2015",5,"Pre",2,42,"Jeremy Swingle",0,2,null,null,null,null,null,null,0,0,-10,-10,56.166666666666664]
["Emilee Pope","DAC1","Dallas","2014-2015",5,"Pre",1,49,"Scott Peterson",4,0,null,null,null,null,null,null,1,0,90,90,56.166666666666664]
["Emilee Pope","DAC1","Dallas","2014-2015",5,"Semi",1,"B","Scott Peterson",1,1,null,null,1,null,null,null,0,0,20,15,56.166666666666664]
["Emilee Pope","DAC1","Dallas","2014-2015",5,"Semi",2,"F","Jeremy Swingle",0,2,null,null,null,null,null,null,0,0,-10,-10,56.166666666666664]
["Emily Ashcraft","LH2","Lighthouse","2014-2015",3,"Pre",2,6,"Jeremy Swingle",0,2,null,null,null,null,null,null,{"$f":"IF(J1346=4,1,0)","v":0},{"$f":"IF(K1346=3,1,0)","v":0},-10,{"$f":"T1346+M1346*(20) + (SUM(O1346:Q1346)*(10)) - L1346*(5) - N1346*(5)","v":-10},{"$f":"AVERAGEIFS(U:U,A:A,A1346,F:F,\"Pre\")","v":8.3333333333333339}]
["Emily Ashcraft","LH2","Lighthouse","2014-2015",1,"Pre",3,11,"Tiffany Bye",0,2,null,null,null,null,null,null,0,0,-10,-10,8.3333333333333339]
["Emily Ashcraft","LH2","Lighthouse","2014-2015",3,"ConA",2,"A-A","Jeremy Swingle",0,2,null,null,null,null,null,null,0,0,-10,-10,8.3333333333333339]
["Emily Ashcraft","LH2","Lighthouse","2014-2015",1,"Pre",1,1,"Scott Peterson",0,0,null,1,null,null,null,null,0,0,0,20,8.3333333333333339]
["Emily Ashcraft","LH2","Lighthouse","2014-2015",4,"Pre",2,2,"Jeremy Swingle",0,0,null,null,null,null,null,null,0,0,0,0,8.3333333333333339]
["Emily Ashcraft","LH2","Lighthouse","2014-2015",3,"Pre",1,9,"Scott Peterson",0,0,null,null,null,null,null,null,0,0,0,0,8.3333333333333339]
["Emily Ashcraft","LH2","Lighthouse","2014-2015",4,"Pre",1,9,"Scott Peterson",0,0,null,null,null,null,null,null,0,0,0,0,8.3333333333333339]
["Emily Ashcraft","LH2","Lighthouse","2014-2015",4,"Pre",3,15,"Tony Kong",0,0,null,null,null,null,null,null,0,0,0,0,8.3333333333333339]
["Emily Ashcraft","LH2","Lighthouse","2014-2015",1,"Pre",4,16,"Cutty Welt",0,1,null,null,null,null,null,null,0,0,0,0,8.3333333333333339]
["Emily Ashcraft","LH2","Lighthouse","2014-2015",2,"Pre",4,16,"Cutty Welt",0,0,null,null,null,null,null,null,0,0,0,0,8.3333333333333339]
["Emily Ashcraft","LH2","Lighthouse","2014-2015",3,"Pre",4,20,"Cutty Welt",0,0,null,1,null,null,null,null,0,0,0,20,8.3333333333333339]
["Emily Ashcraft","LH2","Lighthouse","2014-2015",2,"Pre",2,22,"Jeremy Swingle",0,0,null,null,1,null,null,null,0,0,0,-5,8.3333333333333339]
["Emily Ashcraft","LH2","Lighthouse","2014-2015",4,"Pre",2,22,"Jeremy Swingle",0,0,null,null,1,null,null,null,0,0,0,-5,8.3333333333333339]
["Emily Ashcraft","LH2","Lighthouse","2014-2015",2,"Pre",3,31,"Tiffany Bye",0,0,null,null,null,null,null,null,0,0,0,0,8.3333333333333339]
["Emily Ashcraft","LH2","Lighthouse","2014-2015",4,"Pre",3,35,"Tony Kong",0,0,null,1,null,null,null,null,0,0,0,20,8.3333333333333339]
["Emily Ashcraft","LH2","Lighthouse","2014-2015",2,"Pre",1,37,"Scott Peterson",0,1,null,1,null,null,null,null,0,0,0,20,8.3333333333333339]
["Emily Ashcraft","LH2","Lighthouse","2014-2015",4,"Pre",4,44,"Cutty Welt",0,0,null,null,null,null,null,null,0,0,{"$f":"quizscore(J1362,K1362)","v":0},0,8.3333333333333339]
["Emily Ashcraft","LH2","Lighthouse","2014-2015",2,"Pre",3,47,"Tiffany Bye",0,1,null,null,null,null,null,null,0,0,0,0,8.3333333333333339]
["Emily Ashcraft","LH2","Lighthouse","2014-2015",1,"ConA",3,"A-B","Tiffany Bye",0,0,null,null,null,null,null,null,0,0,0,0,8.3333333333333339]
["Emily Ashcraft","LH2","Lighthouse","2014-2015",1,"ConA",3,"A-F","Tiffany Bye",0,0,null,null,null,null,null,null,0,0,0,0,8.3333333333333339]
["Emily Ashcraft","LH2","Lighthouse","2014-2015",3,"ConA",3,"A-F","Tiffany Bye",0,0,null,null,null,null,null,null,0,0,0,0,8.3333333333333339]
["Emily Ashcraft","LH2","Lighthouse","2014-2015",4,"ConA",3,"A-F","Abby Ashcraft",0,0,null,null,null,null,null,null,0,0,0,0,8.3333333333333339]
["Emily Ashcraft","LH2","Lighthouse","2014-2015",2,"ConB",4,"B-4","Cutty Welt",0,1,null,null,null,null,null,null,0,0,0,0,8.3333333333333339]
["Emily Ashcraft","LH2","Lighthouse","2014-2015",1,"Pre",2,22,"Jeremy Swingle",1,0,null,null,1,null,null,null,0,0,20,15,8.3333333333333339]
["Emily Ashcraft","LH2","Lighthouse","2014-2015",3,"Pre",3,27,"Tiffany Bye",1,0,null,null,null,null,null,null,0,0,20,20,8.3333333333333339]
["Emily Ashcraft","LH2","Lighthouse","2014-2015",1,"Pre",2,34,"Jeremy Swingle",1,0,null,null,null,null,null,null,0,0,20,20,8.3333333333333339]
["Emily Ashcraft","LH2","Lighthouse","2014-2015",3,"Pre",3,35,"Tiffany Bye",1,0,null,null,null,null,null,null,0,0,20,20,8.3333333333333339]
["Emily Ashcraft","LH2","Lighthouse","2014-2015",3,"Pre",2,42,"Jeremy Swingle",1,0,null,null,null,null,null,null,0,0,20,20,8.3333333333333339]
["Emily Ashcraft","LH2","Lighthouse","2014-2015",4,"ConA",2,"A-A","Jeremy Swingle",1,0,null,null,null,null,null,null,0,0,20,20,8.3333333333333339]
["Emily Ashcraft","LH2","Lighthouse","2014-2015",2,"ConB",4,"B-1","Cutty Welt",1,1,null,null,null,null,null,null,0,0,20,20,8.3333333333333339]
["Emily Ashcraft","LH2","Lighthouse","2014-2015",2,"ConB",4,"B-J","Cutty Welt",1,0,null,null,null,1,null,null,0,0,20,30,8.3333333333333339]
["Emily Ashcraft","LH2","Lighthouse","2014-2015",2,"Pre",4,4,"Cutty Welt",2,1,null,null,null,null,null,null,0,0,40,40,8.3333333333333339]
["Emily Ashcraft","LH2","Lighthouse","2014-2015",1,"Pre",4,44,"Cutty Welt",2,1,null,null,null,null,null,null,0,0,40,40,8.3333333333333339]
["Emily Ashcraft","LH2","Lighthouse","2014-2015",2,"ConB",4,"B-7","Cutty Welt",2,1,null,null,null,1,null,null,0,0,40,50,8.3333333333333339]
["Emily Ashcraft","LH2","Lighthouse","2014-2015",5,"Pre",4,12,"Cutty Welt",0,0,null,null,null,null,null,null,0,0,0,0,8.3333333333333339]
["Emily Ashcraft","LH2","Lighthouse","2014-2015",5,"Pre",2,18,"Jeremy Swingle",0,0,null,null,null,null,null,null,0,0,0,0,8.3333333333333339]
["Emily Ashcraft","LH2","Lighthouse","2014-2015",5,"Pre",1,25,"Scott Peterson",0,0,null,null,null,null,null,null,0,0,0,0,8.3333333333333339]
["Emily Ashcraft","LH2","Lighthouse","2014-2015",5,"Pre",1,33,"Scott Peterson",0,0,null,null,null,null,null,null,0,0,0,0,8.3333333333333339]
["Emily Ashcraft","LH2","Lighthouse","2014-2015",5,"Pre",3,39,"Tony Kong",1,1,null,null,1,1,null,null,0,0,20,25,8.3333333333333339]
["Emily Ashcraft","LH2","Lighthouse","2014-2015",5,"Pre",3,47,"Tony Kong",0,0,null,null,null,null,null,null,0,0,0,0,8.3333333333333339]
["Emily Ashcraft","LH2","Lighthouse","2014-2015",5,"ConA",3,"A-B","Abby Ashcraft",0,1,null,null,null,null,null,null,0,0,0,0,8.3333333333333339]
["Emily Ashcraft","LH2","Lighthouse","2014-2015",5,"ConA",3,"A-F","Abby Ashcraft",0,0,null,null,null,null,null,null,0,0,0,0,8.3333333333333339]
["Emily Van Bergeyk","LH1","Lighthouse","2014-2015",4,"Pre",2,22,"Jeremy Swingle",0,2,null,null,null,null,null,null,0,0,-10,-10,11.333333333333334]
["Emily Van Bergeyk","LH1","Lighthouse","2014-2015",4,"Pre",4,48,"Cutty Welt",0,2,null,null,null,null,null,null,0,0,-10,-10,11.333333333333334]
["Emily Van Bergeyk","LH1","Lighthouse","2014-2015",2,"Pre",2,2,"Jeremy Swingle",0,0,null,null,null,null,null,null,0,0,0,0,11.333333333333334]
["Emily Van Bergeyk","LH1","Lighthouse","2014-2015",2,"Pre",2,6,"Jeremy Swingle",0,0,null,null,null,null,null,null,0,0,0,0,11.333333333333334]
["Emily Van Bergeyk","LH1","Lighthouse","2014-2015",3,"Pre",4,8,"Cutty Welt",0,0,null,null,null,null,null,null,0,0,0,0,11.333333333333334]
["Emily Van Bergeyk","LH1","Lighthouse","2014-2015",1,"Pre",1,9,"Scott Peterson",0,1,null,null,null,null,null,null,0,0,0,0,11.333333333333334]
["Emily Van Bergeyk","LH1","Lighthouse","2014-2015",4,"Pre",1,13,"Scott Peterson",0,0,null,null,null,null,null,null,0,0,{"$f":"quizscore(J1394,K1394)","v":0},0,11.333333333333334]
["Emily Van Bergeyk","LH1","Lighthouse","2014-2015",3,"Pre",4,16,"Cutty Welt",0,0,null,null,null,null,null,null,0,0,0,0,11.333333333333334]
["Emily Van Bergeyk","LH1","Lighthouse","2014-2015",2,"Pre",4,20,"Cutty Welt",0,0,1,null,null,null,null,null,0,0,0,-5,11.333333333333334]
["Emily Van Bergeyk","LH1","Lighthouse","2014-2015",1,"Pre",4,28,"Cutty Welt",0,0,null,null,null,null,null,null,0,0,0,0,11.333333333333334]
["Emily Van Bergeyk","LH1","Lighthouse","2014-2015",2,"Pre",4,28,"Cutty Welt",0,1,null,null,null,null,null,null,0,0,0,0,11.333333333333334]
["Emily Van Bergeyk","LH1","Lighthouse","2014-2015",3,"Pre",3,31,"Tiffany Bye",0,1,null,null,null,null,null,null,0,0,0,0,11.333333333333334]
["Emily Van Bergeyk","LH1","Lighthouse","2014-2015",1,"Pre",1,33,"Scott Peterson",0,1,1,null,null,null,null,null,0,0,0,-5,11.333333333333334]
["Emily Van Bergeyk","LH1","Lighthouse","2014-2015",1,"Pre",2,50,"Jeremy Swingle",0,0,null,null,null,null,null,null,0,0,0,0,11.333333333333334]
["Emily Van Bergeyk","LH1","Lighthouse","2014-2015",4,"ConA",2,"A-D","Jeremy Swingle",0,0,null,null,null,null,null,null,0,0,0,0,11.333333333333334]
["Emily Van Bergeyk","LH1","Lighthouse","2014-2015",2,"ConA",3,"A-E","Tiffany Bye",0,0,null,null,null,null,null,null,0,0,0,0,11.333333333333334]
["Emily Van Bergeyk","LH1","Lighthouse","2014-2015",4,"ConA",2,"A-G","Jeremy Swingle",0,1,null,null,null,null,null,null,0,0,0,0,11.333333333333334]
["Emily Van Bergeyk","LH1","Lighthouse","2014-2015",1,"ConB",4,"B-4","Cutty Welt",1,3,null,null,null,1,null,null,0,1,0,10,11.333333333333334]
["Emily Van Bergeyk","LH1","Lighthouse","2014-2015",4,"Pre",3,39,"Tony Kong",1,2,null,null,null,null,1,null,0,0,10,20,11.333333333333334]
["Emily Van Bergeyk","LH1","Lighthouse","2014-2015",1,"Pre",3,19,"Tiffany Bye",1,1,null,null,null,null,null,null,0,0,20,20,11.333333333333334]
["Emily Van Bergeyk","LH1","Lighthouse","2014-2015",3,"Pre",3,23,"Tiffany Bye",1,1,null,null,null,1,null,null,0,0,20,30,11.333333333333334]
["Emily Van Bergeyk","LH1","Lighthouse","2014-2015",4,"Pre",3,31,"Tony Kong",1,0,null,null,null,null,null,null,0,0,20,20,11.333333333333334]
["Emily Van Bergeyk","LH1","Lighthouse","2014-2015",3,"Pre",1,37,"Scott Peterson",1,0,1,null,null,null,null,null,{"$f":"IF(J1410=4,1,0)","v":0},{"$f":"IF(K1410=3,1,0)","v":0},20,{"$f":"T1410+M1410*(20) + (SUM(O1410:Q1410)*(10)) - L1410*(5) - N1410*(5)","v":15},{"$f":"AVERAGEIFS(U:U,A:A,A1410,F:F,\"Pre\")","v":11.333333333333334}]
["Emily Van Bergeyk","LH1","Lighthouse","2014-2015",2,"ConA",2,"A-A","Jeremy Swingle",1,1,null,null,null,null,null,null,0,0,20,20,11.333333333333334]
["Emily Van Bergeyk","LH1","Lighthouse","2014-2015",3,"ConA",2,"A-C","Jeremy Swingle",1,0,null,null,null,1,null,null,0,0,20,30,11.333333333333334]
["Emily Van Bergeyk","LH1","Lighthouse","2014-2015",3,"ConA",2,"A-D","Jeremy Swingle",1,0,null,null,null,null,null,null,0,0,20,20,11.333333333333334]
["Emily Van Bergeyk","LH1","Lighthouse","2014-2015",2,"ConA",3,"A-H","Tiffany Bye",1,0,null,null,null,null,null,null,0,0,20,20,11.333333333333334]
["Emily Van Bergeyk","LH1","Lighthouse","2014-2015",4,"ConA",3,"A-I","Abby Ashcraft",1,1,null,null,null,null,null,null,0,0,20,20,11.333333333333334]
["Emily Van Bergeyk","LH1","Lighthouse","2014-2015",3,"ConA",2,"A-J","Jeremy Swingle",1,1,null,null,null,null,null,null,0,0,20,20,11.333333333333334]
["Emily Van Bergeyk","LH1","Lighthouse","2014-2015",2,"Pre",3,35,"Tiffany Bye",2,0,null,null,null,null,null,null,0,0,40,40,11.333333333333334]
["Emily Van Bergeyk","LH1","Lighthouse","2014-2015",1,"Pre",4,44,"Cutty Welt",2,0,null,null,null,null,null,null,0,0,40,40,11.333333333333334]
["Emily Van Bergeyk","LH1","Lighthouse","2014-2015",2,"Pre",1,45,"Scott Peterson",2,1,null,null,null,null,null,null,0,0,40,40,11.333333333333334]
["Emily Van Bergeyk","LH1","Lighthouse","2014-2015",4,"ConA",2,"A-C","Jeremy Swingle",2,0,1,null,null,null,null,null,0,0,40,35,11.333333333333334]
["Emily Van Bergeyk","LH1","Lighthouse","2014-2015",1,"ConB",4,"B-1","Cutty Welt",2,0,null,null,null,null,null,null,0,0,40,40,11.333333333333334]
["Emily Van Bergeyk","LH1","Lighthouse","2014-2015",1,"ConB",4,"B-J","Cutty Welt",2,1,null,null,null,1,null,null,0,0,40,50,11.333333333333334]
["Emily Van Bergeyk","LH1","Lighthouse","2014-2015",4,"Pre",4,8,"Cutty Welt",3,1,null,null,null,null,null,null,0,0,60,60,11.333333333333334]
["Emily Van Bergeyk","LH1","Lighthouse","2014-2015",3,"Pre",2,46,"Jeremy Swingle",3,0,null,null,null,null,null,null,0,0,60,60,11.333333333333334]
["Emily Van Bergeyk","LH1","Lighthouse","2014-2015",1,"ConB",4,"B-7","Cutty Welt",3,1,null,null,null,null,null,null,0,0,60,60,11.333333333333334]
["Emily Van Bergeyk","LH1","Lighthouse","2014-2015",3,"ConA",2,"A-G","Jeremy Swingle",4,1,null,null,null,null,null,null,1,0,{"$f":"quizscore(J1426,K1426)","v":80},80,11.333333333333334]
["Emily Van Bergeyk","LH1","Lighthouse","2014-2015",5,"Pre",3,7,"Tony Kong",0,1,null,null,null,null,null,null,0,0,0,0,11.333333333333334]
["Emily Van Bergeyk","LH1","Lighthouse","2014-2015",5,"Pre",4,20,"Cutty Welt",0,0,null,null,null,null,null,null,0,0,0,0,11.333333333333334]
["Emily Van Bergeyk","LH1","Lighthouse","2014-2015",5,"Pre",2,22,"Jeremy Swingle",1,0,null,null,null,null,null,null,0,0,20,20,11.333333333333334]
["Emily Van Bergeyk","LH1","Lighthouse","2014-2015",5,"Pre",2,30,"Jeremy Swingle",1,0,null,null,null,null,null,null,0,0,20,20,11.333333333333334]
["Emily Van Bergeyk","LH1","Lighthouse","2014-2015",5,"Pre",1,37,"Scott Peterson",0,0,null,null,null,null,null,null,0,0,0,0,11.333333333333334]
["Emily Van Bergeyk","LH1","Lighthouse","2014-2015",5,"Pre",1,45,"Scott Peterson",0,0,2,null,1,null,null,null,0,0,0,-15,11.333333333333334]
["Emily Van Bergeyk","LH1","Lighthouse","2014-2015",5,"ConA",2,"A-A","Jeremy Swingle",1,1,null,null,null,1,null,null,0,0,20,30,11.333333333333334]
["Emily Van Bergeyk","LH1","Lighthouse","2014-2015",5,"ConA",2,"A-D","Jeremy Swingle",0,0,null,null,null,null,null,null,0,0,0,0,11.333333333333334]
["Emily Van Bergeyk","LH1","Lighthouse","2014-2015",5,"ConA",2,"A-G","Jeremy Swingle",0,0,null,null,null,null,null,null,0,0,0,0,11.333333333333334]
["Emily Van Bergeyk","LH1",{"$f":"VLOOKUP(B1436,$B$2:$C$3219,2,FALSE)","v":"Lighthouse"},"2014-2015",5,"ConA",3,"A-J","Abby Ashcraft",1,0,null,null,null,null,null,null,0,0,null,0,11.333333333333334]
["Emma Carlson","DAC2","Dallas","2014-2015",1,"Pre",3,39,"Tiffany Bye",0,2,null,null,null,null,null,null,0,0,{"$f":"quizscore(J1437,K1437)","v":-10},-10,61.166666666666664]
["Emma Carlson","DAC2","Dallas","2014-2015",2,"Semi",1,"G","Scott Peterson",0,2,null,null,null,null,null,null,0,0,-10,-10,61.166666666666664]
["Emma Carlson","DAC2","Dallas","2014-2015",4,"Semi",1,"G","Scott Peterson",0,2,null,null,null,null,null,null,0,0,-10,-10,61.166666666666664]
["Emma Carlson","DAC2","Dallas","2014-2015",2,"Semi",1,"J","Scott Peterson",0,2,null,null,null,null,null,null,0,0,-10,-10,61.166666666666664]
["Emma Carlson","DAC2","Dallas","2014-2015",3,"Pre",1,17,"Scott Peterson",0,0,null,null,null,null,null,null,0,0,0,0,61.166666666666664]
["Emma Carlson","DAC2","Dallas","2014-2015",2,"Semi",1,"D","Scott Peterson",0,0,null,null,null,null,null,null,0,0,0,0,61.166666666666664]
["Emma Carlson","DAC2","Dallas","2014-2015",1,"Pre",3,3,"Tiffany Bye",1,0,null,null,null,null,null,null,0,0,20,20,61.166666666666664]
["Emma Carlson","DAC2","Dallas","2014-2015",3,"Pre",2,10,"Jeremy Swingle",1,0,null,null,null,null,null,null,0,0,20,20,61.166666666666664]
["Emma Carlson","DAC2","Dallas","2014-2015",1,"Pre",2,30,"Jeremy Swingle",1,1,null,null,null,null,null,null,0,0,20,20,61.166666666666664]
["Emma Carlson","DAC2","Dallas","2014-2015",2,"Semi",1,"C","Scott Peterson",1,1,null,null,null,null,null,null,0,0,20,20,61.166666666666664]
["Emma Carlson","DAC2","Dallas","2014-2015",4,"Semi",1,"C","Scott Peterson",1,0,null,null,null,null,null,null,0,0,20,20,61.166666666666664]
["Emma Carlson","DAC2","Dallas","2014-2015",3,"Semi",1,"D","Scott Peterson",1,1,null,1,null,null,null,null,0,0,20,40,61.166666666666664]
["Emma Carlson","DAC2","Dallas","2014-2015",3,"Semi",1,"G","Scott Peterson",1,0,null,null,null,null,null,null,0,0,20,20,61.166666666666664]
["Emma Carlson","DAC2","Dallas","2014-2015",2,"Semi",1,"I","Scott Peterson",1,0,null,null,null,null,null,null,0,0,20,20,61.166666666666664]
["Emma Carlson","DAC2","Dallas","2014-2015",4,"Semi",1,"I","Scott Peterson",1,1,null,null,null,null,null,null,0,0,20,20,61.166666666666664]
["Emma Carlson","DAC2","Dallas","2014-2015",2,"Semi",1,"J","Scott Peterson",1,0,null,null,null,null,null,null,0,0,20,20,61.166666666666664]
["Emma Carlson","DAC2","Dallas","2014-2015",3,"Semi",1,"J","Scott Peterson",1,0,null,null,null,null,null,null,0,0,20,20,61.166666666666664]
["Emma Carlson","DAC2","Dallas","2014-2015",2,"Pre",4,12,"Cutty Welt",2,2,null,null,null,null,null,null,0,0,30,30,61.166666666666664]
["Emma Carlson","DAC2","Dallas","2014-2015",4,"Pre",2,18,"Jeremy Swingle",2,2,null,1,null,null,null,null,0,0,30,50,61.166666666666664]
["Emma Carlson","DAC2","Dallas","2014-2015",2,"Pre",1,17,"Scott Peterson",2,0,null,2,null,null,null,null,0,0,40,80,61.166666666666664]
["Emma Carlson","DAC2","Dallas","2014-2015",1,"ConA",2,"A-J","Jeremy Swingle",2,1,null,null,null,null,null,null,0,0,40,40,61.166666666666664]
["Emma Carlson","DAC2","Dallas","2014-2015",3,"Semi",1,"J","Scott Peterson",2,0,null,1,null,null,null,null,0,0,40,60,61.166666666666664]
["Emma Carlson","DAC2","Dallas","2014-2015",2,"Pre",1,33,"Scott Peterson",3,2,null,null,null,null,null,null,0,0,50,50,61.166666666666664]
["Emma Carlson","DAC2","Dallas","2014-2015",3,"Pre",3,39,"Tiffany Bye",3,2,null,null,null,null,null,null,0,0,50,50,61.166666666666664]
["Emma Carlson","DAC2","Dallas","2014-2015",1,"Pre",4,48,"Cutty Welt",3,2,null,null,null,null,null,null,0,0,50,50,61.166666666666664]
["Emma Carlson","DAC2","Dallas","2014-2015",2,"Pre",2,50,"Jeremy Swingle",3,2,null,null,null,null,null,null,0,0,50,50,61.166666666666664]
["Emma Carlson","DAC2","Dallas","2014-2015",1,"ConA",2,"A-G","Jeremy Swingle",3,2,null,null,null,null,null,null,0,0,50,50,61.166666666666664]
["Emma Carlson","DAC2","Dallas","2014-2015",4,"Pre",2,6,"Jeremy Swingle",3,1,null,null,null,null,null,null,0,0,60,60,61.166666666666664]
["Emma Carlson","DAC2","Dallas","2014-2015",4,"Pre",1,29,"Scott Peterson",3,1,null,null,null,null,null,null,0,0,60,60,61.166666666666664]
["Emma Carlson","DAC2","Dallas","2014-2015",1,"ConA",2,"A-A","Jeremy Swingle",3,0,null,null,null,null,null,null,0,0,60,60,61.166666666666664]
["Emma Carlson","DAC2","Dallas","2014-2015",4,"Semi",1,"D","Scott Peterson",3,0,null,null,null,null,null,null,0,0,60,60,61.166666666666664]
["Emma Carlson","DAC2","Dallas","2014-2015",2,"Pre",2,2,"Jeremy Swingle",4,2,null,null,null,null,null,null,1,0,70,70,61.166666666666664]
["Emma Carlson","DAC2","Dallas","2014-2015",2,"Pre",3,27,"Tiffany Bye",4,1,null,1,null,null,null,null,1,0,{"$f":"quizscore(J1469,K1469)","v":80},100,61.166666666666664]
["Emma Carlson","DAC2","Dallas","2014-2015",4,"Pre",3,27,"Tony Kong",4,1,null,null,null,null,null,null,1,0,80,80,61.166666666666664]
["Emma Carlson","DAC2","Dallas","2014-2015",3,"Pre",4,36,"Cutty Welt",4,1,null,null,null,null,null,null,1,0,80,80,61.166666666666664]
["Emma Carlson","DAC2","Dallas","2014-2015",3,"Pre",1,49,"Scott Peterson",4,1,null,null,null,null,null,null,1,0,80,80,61.166666666666664]
["Emma Carlson","DAC2","Dallas","2014-2015",3,"Pre",4,4,"Cutty Welt",4,0,null,null,null,null,null,null,1,0,90,90,61.166666666666664]
["Emma Carlson","DAC2","Dallas","2014-2015",1,"Pre",1,9,"Scott Peterson",4,0,null,null,null,null,null,null,{"$f":"IF(J1474=4,1,0)","v":1},{"$f":"IF(K1474=3,1,0)","v":0},90,{"$f":"T1474+M1474*(20) + (SUM(O1474:Q1474)*(10)) - L1474*(5) - N1474*(5)","v":90},{"$f":"AVERAGEIFS(U:U,A:A,A1474,F:F,\"Pre\")","v":61.166666666666664}]
["Emma Carlson","DAC2","Dallas","2014-2015",1,"Pre",1,17,"Scott Peterson",4,0,null,null,null,null,null,null,1,0,90,90,61.166666666666664]
["Emma Carlson","DAC2","Dallas","2014-2015",4,"Pre",1,41,"Scott Peterson",4,0,null,null,null,null,null,null,1,0,90,90,61.166666666666664]
["Emma Carlson","DAC2","Dallas","2014-2015",4,"Pre",4,48,"Cutty Welt",4,0,null,null,null,null,null,null,1,0,90,90,61.166666666666664]
["Emma Carlson","DAC2","Dallas","2014-2015",1,"ConA",2,"A-D","Jeremy Swingle",4,0,null,null,null,null,null,null,1,0,90,90,61.166666666666664]
["Emma Carlson","DAC2","Dallas","2014-2015",3,"Semi",1,"B","Scott Peterson",4,0,null,null,null,null,null,null,1,0,90,90,61.166666666666664]
["Emma Carlson","DAC2","Dallas","2014-2015",5,"Pre",2,2,"Jeremy Swingle",3,3,null,null,null,null,null,null,0,1,40,40,61.166666666666664]
["Emma Carlson","DAC2","Dallas","2014-2015",5,"Pre",3,15,"Tony Kong",4,1,null,null,null,null,null,null,1,0,80,80,61.166666666666664]
["Emma Carlson","DAC2","Dallas","2014-2015",5,"Pre",1,17,"Scott Peterson",4,2,null,null,null,null,null,null,1,0,70,70,61.166666666666664]
["Emma Carlson","DAC2","Dallas","2014-2015",5,"Pre",4,28,"Cutty Welt",4,0,null,null,null,null,null,null,1,0,90,90,61.166666666666664]
["Emma Carlson","DAC2","Dallas","2014-2015",5,"Pre",4,36,"Cutty Welt",4,1,null,null,1,null,null,null,1,0,80,75,61.166666666666664]
["Emma Carlson","DAC2","Dallas","2014-2015",5,"Pre",1,41,"Scott Peterson",4,0,null,null,null,null,null,null,1,0,90,90,61.166666666666664]
["Emma Carlson","DAC2","Dallas","2014-2015",5,"Semi",1,"B","Scott Peterson",2,0,null,1,null,null,null,null,0,0,40,60,61.166666666666664]
["Emma Carlson","DAC2","Dallas","2014-2015",5,"Semi",1,"E","Scott Peterson",4,0,null,null,null,null,null,null,1,0,90,90,61.166666666666664]
["Emma Carlson","DAC2","Dallas","2014-2015",5,"Semi",1,"G","Scott Peterson",1,2,null,null,1,null,null,null,0,0,10,5,61.166666666666664]
["Emma Carlson","DAC2","Dallas","2014-2015",5,"Semi",1,"I","Scott Peterson",4,0,null,null,null,null,null,null,1,0,90,90,61.166666666666664]
["Emma Carlson","DAC2","Dallas","2014-2015",5,"Semi",1,"J","Scott Peterson",3,0,null,1,null,null,null,null,0,0,null,20,61.166666666666664]
["Emma Carlson","DAC2","Dallas","2014-2015",5,"Semi",1,"J","Scott Peterson",3,0,null,1,null,null,null,null,0,0,null,20,61.166666666666664]
["Emma Madsen","FOX","Fox Island","2014-2015",4,"Pre",1,25,"Scott Peterson",0,2,null,null,null,null,null,null,0,0,{"$f":"quizscore(J1492,K1492)","v":-10},-10,14.666666666666666]
["Emma Madsen","FOX","Fox Island","2014-2015",2,"Pre",3,27,"Tiffany Bye",0,2,null,null,null,null,null,null,0,0,-10,-10,14.666666666666666]
["Emma Madsen","FOX","Fox Island","2014-2015",3,"Pre",4,32,"Cutty Welt",0,2,null,null,null,null,null,null,0,0,-10,-10,14.666666666666666]
["Emma Madsen","FOX","Fox Island","2014-2015",3,"Pre",1,41,"Scott Peterson",0,2,null,null,null,null,null,null,0,0,-10,-10,14.666666666666666]
["Emma Madsen","FOX","Fox Island","2014-2015",4,"Pre",4,44,"Cutty Welt",0,2,null,null,null,null,null,null,0,0,-10,-10,14.666666666666666]
["Emma Madsen","FOX","Fox Island","2014-2015",2,"ConA",2,"A-D","Jeremy Swingle",0,2,null,null,null,null,null,null,0,0,-10,-10,14.666666666666666]
["Emma Madsen","FOX","Fox Island","2014-2015",4,"Pre",3,7,"Tony Kong",0,1,null,null,null,null,null,null,0,0,0,0,14.666666666666666]
["Emma Madsen","FOX","Fox Island","2014-2015",3,"Pre",3,19,"Tiffany Bye",0,1,null,null,null,null,null,null,0,0,0,0,14.666666666666666]
["Emma Madsen","FOX","Fox Island","2014-2015",4,"Pre",4,20,"Cutty Welt",0,0,null,null,1,null,null,null,0,0,0,-5,14.666666666666666]
["Emma Madsen","FOX","Fox Island","2014-2015",4,"Pre",1,29,"Scott Peterson",0,1,null,null,null,null,null,null,0,0,0,0,14.666666666666666]
["Emma Madsen","FOX","Fox Island","2014-2015",1,"Pre",4,32,"Cutty Welt",0,1,null,null,null,null,null,null,0,0,0,0,14.666666666666666]
["Emma Madsen","FOX","Fox Island","2014-2015",2,"Pre",4,36,"Cutty Welt",0,0,null,null,null,null,null,null,0,0,0,0,14.666666666666666]
["Emma Madsen","FOX","Fox Island","2014-2015",2,"Pre",2,46,"Jeremy Swingle",0,1,null,null,null,null,null,null,0,0,0,0,14.666666666666666]
["Emma Madsen","FOX","Fox Island","2014-2015",3,"Pre",1,49,"Scott Peterson",0,0,null,null,null,null,null,null,0,0,0,0,14.666666666666666]
["Emma Madsen","FOX","Fox Island","2014-2015",3,"ConA",2,"A-A","Jeremy Swingle",0,0,null,null,null,null,null,null,0,0,0,0,14.666666666666666]
["Emma Madsen","FOX","Fox Island","2014-2015",2,"ConA",2,"A-G","Jeremy Swingle",0,1,null,null,null,null,null,null,0,0,0,0,14.666666666666666]
["Emma Madsen","FOX","Fox Island","2014-2015",3,"ConA",3,"A-H","Tiffany Bye",0,1,null,null,null,null,null,null,0,0,0,0,14.666666666666666]
["Emma Madsen","FOX","Fox Island","2014-2015",2,"ConA",3,"A-I","Tiffany Bye",0,1,null,null,null,null,null,null,0,0,0,0,14.666666666666666]
["Emma Madsen","FOX","Fox Island","2014-2015",1,"Semi",2,"H","Jeremy Swingle",0,0,null,null,null,null,null,null,0,0,0,0,14.666666666666666]
["Emma Madsen","FOX","Fox Island","2014-2015",3,"Pre",3,3,"Tiffany Bye",1,0,null,null,null,null,null,null,0,0,20,20,14.666666666666666]
["Emma Madsen","FOX","Fox Island","2014-2015",2,"Pre",1,9,"Scott Peterson",1,1,null,null,null,null,null,null,0,0,20,20,14.666666666666666]
["Emma Madsen","FOX","Fox Island","2014-2015",4,"Pre",2,10,"Jeremy Swingle",1,1,null,null,null,null,null,null,0,0,20,20,14.666666666666666]
["Emma Madsen","FOX","Fox Island","2014-2015",2,"Pre",2,18,"Jeremy Swingle",1,1,null,null,null,null,null,null,0,0,20,20,14.666666666666666]
["Emma Madsen","FOX","Fox Island","2014-2015",3,"Pre",2,38,"Jeremy Swingle",1,0,null,null,null,1,null,null,0,0,20,30,14.666666666666666]
["Emma Madsen","FOX","Fox Island","2014-2015",1,"Pre",2,50,"Jeremy Swingle",1,0,null,null,null,1,null,null,0,0,20,30,14.666666666666666]
["Emma Madsen","FOX","Fox Island","2014-2015",1,"Semi",1,"A","Scott Peterson",1,1,null,null,null,null,null,null,0,0,20,20,14.666666666666666]
["Emma Madsen","FOX","Fox Island","2014-2015",4,"ConB",4,"B-3","Cutty Welt",1,1,null,null,null,null,null,null,0,0,20,20,14.666666666666666]
["Emma Madsen","FOX","Fox Island","2014-2015",4,"ConB",4,"B-4","Cutty Welt",1,0,null,null,null,null,null,null,0,0,20,20,14.666666666666666]
["Emma Madsen","FOX","Fox Island","2014-2015",1,"Semi",1,"E","Scott Peterson",1,0,null,null,null,null,null,null,0,0,20,20,14.666666666666666]
["Emma Madsen","FOX","Fox Island","2014-2015",1,"Pre",4,16,"Cutty Welt",2,2,null,1,null,null,null,null,0,0,30,50,14.666666666666666]
["Emma Madsen","FOX","Fox Island","2014-2015",1,"Pre",1,21,"Scott Peterson",2,2,null,null,null,null,null,null,0,0,30,30,14.666666666666666]
["Emma Madsen","FOX","Fox Island","2014-2015",2,"ConA",2,"A-C","Jeremy Swingle",2,0,null,null,null,1,null,null,0,0,40,50,14.666666666666666]
["Emma Madsen","FOX","Fox Island","2014-2015",3,"ConA",3,"A-E","Tiffany Bye",2,1,null,null,null,null,null,null,0,0,{"$f":"quizscore(J1524,K1524)","v":40},40,14.666666666666666]
["Emma Madsen","FOX","Fox Island","2014-2015",4,"ConB",4,"B-2","Cutty Welt",2,1,null,null,null,null,null,null,0,0,40,40,14.666666666666666]
["Emma Madsen","FOX","Fox Island","2014-2015",2,"Pre",3,43,"Tiffany Bye",4,2,null,null,null,null,null,null,1,0,70,70,14.666666666666666]
["Emma Madsen","FOX","Fox Island","2014-2015",1,"Pre",3,39,"Tiffany Bye",4,1,null,null,null,1,null,null,1,0,80,90,14.666666666666666]
["Emma Madsen","FOX","Fox Island","2014-2015",1,"Pre",1,5,"Scott Peterson",4,0,null,null,null,null,null,null,1,0,90,90,14.666666666666666]
["Emma Madsen","FOX","Fox Island","2014-2015",4,"ConB",4,"B-J","Cutty Welt",2,1,null,null,null,null,null,null,0,0,40,40,14.666666666666666]
["Emma Madsen","FOX","Fox Island","2014-2015",5,"Pre",1,9,"Scott Peterson",1,0,null,null,null,1,null,null,0,0,20,30,14.666666666666666]
["Emma Madsen","FOX","Fox Island","2014-2015",5,"Pre",4,20,"Cutty Welt",0,1,null,null,null,null,null,null,0,0,0,0,14.666666666666666]
["Emma Madsen","FOX","Fox Island","2014-2015",5,"Pre",3,27,"Tony Kong",0,0,null,null,null,null,null,null,0,0,0,0,14.666666666666666]
["Emma Madsen","FOX","Fox Island","2014-2015",5,"Pre",4,36,"Cutty Welt",0,0,null,null,null,null,null,null,0,0,0,0,14.666666666666666]
["Emma Madsen","FOX","Fox Island","2014-2015",5,"Pre",2,42,"Jeremy Swingle",0,0,null,null,1,null,null,null,0,0,0,-5,14.666666666666666]
["Emma Madsen","FOX","Fox Island","2014-2015",5,"Pre",2,50,"Jeremy Swingle",0,0,null,null,null,null,null,null,0,0,0,0,14.666666666666666]
["Emma Madsen","FOX","Fox Island","2014-2015",5,"ConA",3,"A-B","Abby Ashcraft",0,2,null,null,null,null,null,null,0,0,-10,-10,14.666666666666666]
["Emma Madsen","FOX","Fox Island","2014-2015",5,"ConA",3,"A-E","Abby Ashcraft",1,0,null,null,null,1,null,null,0,0,20,30,14.666666666666666]
["Emma Madsen","FOX","Fox Island","2014-2015",5,"ConA",2,"A-G","Jeremy Swingle",0,1,null,null,null,null,null,null,{"$f":"IF(J1538=4,1,0)","v":0},{"$f":"IF(K1538=3,1,0)","v":0},0,{"$f":"T1538+M1538*(20) + (SUM(O1538:Q1538)*(10)) - L1538*(5) - N1538*(5)","v":0},{"$f":"AVERAGEIFS(U:U,A:A,A1538,F:F,\"Pre\")","v":14.666666666666666}]
["Emma Madsen","FOX",{"$f":"VLOOKUP(B1539,$B$2:$C$3219,2,FALSE)","v":"Fox Island"},"2014-2015",5,"ConA",3,"A-I","Abby Ashcraft",0,1,null,null,null,null,null,null,0,0,0,0,14.666666666666666]
["Esther Derr","CH2","Chapel Hill","2014-2015",2,"Pre",4,12,"Cutty Welt",0,1,null,null,null,null,null,null,0,0,0,0,46.333333333333336]
["Esther Derr","CH2","Chapel Hill","2014-2015",2,"Pre",2,46,"Jeremy Swingle",1,2,null,null,null,null,null,null,0,0,10,10,46.333333333333336]
["Esther Derr","CH2","Chapel Hill","2014-2015",4,"ConA",3,"A-B","Abby Ashcraft",1,2,null,null,null,null,null,null,0,0,10,10,46.333333333333336]
["Esther Derr","CH2","Chapel Hill","2014-2015",2,"ConA",2,"A-G","Jeremy Swingle",1,2,null,null,null,null,null,null,0,0,10,10,46.333333333333336]
["Esther Derr","CH2","Chapel Hill","2014-2015",2,"ConA",3,"A-I","Tiffany Bye",1,2,null,null,null,null,null,null,0,0,10,10,46.333333333333336]
["Esther Derr","CH2","Chapel Hill","2014-2015",2,"Pre",3,3,"Tiffany Bye",1,0,1,null,null,null,null,null,0,0,20,15,46.333333333333336]
["Esther Derr","CH2","Chapel Hill","2014-2015",4,"Pre",2,14,"Jeremy Swingle",2,3,null,null,null,null,null,null,0,1,20,20,46.333333333333336]
["Esther Derr","CH2","Chapel Hill","2014-2015",3,"Pre",1,25,"Tiffany Bye",1,0,null,null,null,null,null,null,0,0,20,20,46.333333333333336]
["Esther Derr","CH2","Chapel Hill","2014-2015",1,"Pre",3,27,"Tiffany Bye",2,2,null,null,null,null,null,null,0,0,30,30,46.333333333333336]
["Esther Derr","CH2","Chapel Hill","2014-2015",4,"Pre",3,31,"Tony Kong",2,2,null,null,null,null,null,null,0,0,30,30,46.333333333333336]
["Esther Derr","CH2","Chapel Hill","2014-2015",4,"Pre",2,38,"Jeremy Swingle",2,2,null,null,null,null,null,null,0,0,30,30,46.333333333333336]
["Esther Derr","CH2","Chapel Hill","2014-2015",3,"Pre",3,39,"Tiffany Bye",2,2,null,null,1,null,null,null,0,0,30,25,46.333333333333336]
["Esther Derr","CH2","Chapel Hill","2014-2015",3,"ConA",2,"A-C","Jeremy Swingle",2,2,null,null,null,null,null,null,0,0,30,30,46.333333333333336]
["Esther Derr","CH2","Chapel Hill","2014-2015",1,"Pre",1,9,"Scott Peterson",3,3,null,null,null,null,null,null,0,1,40,40,46.333333333333336]
["Esther Derr","CH2","Chapel Hill","2014-2015",4,"Pre",4,24,"Cutty Welt",2,1,null,null,null,null,null,null,0,0,40,40,46.333333333333336]
["Esther Derr","CH2","Chapel Hill","2014-2015",3,"Pre",3,11,"Tiffany Bye",3,2,null,null,null,null,null,null,0,0,50,50,46.333333333333336]
["Esther Derr","CH2","Chapel Hill","2014-2015",3,"Pre",4,20,"Cutty Welt",3,2,null,null,null,null,null,null,0,0,{"$f":"quizscore(J1556,K1556)","v":50},50,46.333333333333336]
["Esther Derr","CH2","Chapel Hill","2014-2015",4,"ConA",3,"A-F","Abby Ashcraft",3,2,null,null,null,null,null,null,0,0,50,50,46.333333333333336]
["Esther Derr","CH2","Chapel Hill","2014-2015",4,"Pre",1,5,"Scott Peterson",3,0,null,null,null,null,null,null,0,0,60,60,46.333333333333336]
["Esther Derr","CH2","Chapel Hill","2014-2015",4,"Pre",1,45,"Scott Peterson",3,1,null,null,null,null,null,null,0,0,60,60,46.333333333333336]
["Esther Derr","CH2","Chapel Hill","2014-2015",1,"Pre",1,29,"Scott Peterson",4,2,null,null,null,null,null,null,1,0,70,70,46.333333333333336]
["Esther Derr","CH2","Chapel Hill","2014-2015",3,"ConA",3,"A-I","Tiffany Bye",4,2,null,null,null,null,null,null,1,0,70,70,46.333333333333336]
["Esther Derr","CH2","Chapel Hill","2014-2015",1,"Pre",2,42,"Jeremy Swingle",4,1,null,null,null,null,null,null,1,0,80,80,46.333333333333336]
["Esther Derr","CH2","Chapel Hill","2014-2015",1,"ConA",3,"A-B","Tiffany Bye",4,1,null,null,null,null,null,null,1,0,80,80,46.333333333333336]
["Esther Derr","CH2","Chapel Hill","2014-2015",1,"ConA",3,"A-E","Tiffany Bye",4,1,null,null,null,null,null,null,1,0,80,80,46.333333333333336]
["Esther Derr","CH2","Chapel Hill","2014-2015",2,"ConA",3,"A-E","Tiffany Bye",4,1,null,null,null,1,null,null,1,0,80,90,46.333333333333336]
["Esther Derr","CH2","Chapel Hill","2014-2015",3,"ConA",3,"A-F","Tiffany Bye",4,1,null,null,null,null,null,null,1,0,80,80,46.333333333333336]
["Esther Derr","CH2","Chapel Hill","2014-2015",1,"ConA",3,"A-H","Tiffany Bye",4,1,null,null,null,null,null,null,1,0,80,80,46.333333333333336]
["Esther Derr","CH2","Chapel Hill","2014-2015",3,"Pre",2,2,"Jeremy Swingle",4,0,null,null,null,null,null,null,1,0,90,90,46.333333333333336]
["Esther Derr","CH2","Chapel Hill","2014-2015",1,"Pre",4,4,"Cutty Welt",4,0,null,null,null,null,null,null,1,0,90,90,46.333333333333336]
["Esther Derr","CH2","Chapel Hill","2014-2015",1,"Pre",2,18,"Jeremy Swingle",4,0,null,null,null,null,null,null,1,0,90,90,46.333333333333336]
["Esther Derr","CH2","Chapel Hill","2014-2015",2,"Pre",4,20,"Cutty Welt",4,0,null,null,null,null,null,null,1,0,90,90,46.333333333333336]
["Esther Derr","CH2","Chapel Hill","2014-2015",2,"Pre",1,25,"Scott Peterson",4,0,null,null,null,null,null,null,1,0,90,90,46.333333333333336]
["Esther Derr","CH2","Chapel Hill","2014-2015",2,"Pre",1,37,"Scott Peterson",4,0,null,null,null,null,null,null,1,0,90,90,46.333333333333336]
["Esther Derr","CH2","Chapel Hill","2014-2015",3,"Pre",1,45,"Scott Peterson",4,0,null,null,null,null,null,null,1,0,90,90,46.333333333333336]
["Esther Derr","CH2","Chapel Hill","2014-2015",2,"ConA",3,"A-B","Tiffany Bye",4,0,null,null,null,null,null,null,1,0,90,90,46.333333333333336]
["Esther Derr","CH2","Chapel Hill","2014-2015",3,"ConA",3,"A-H","Tiffany Bye",4,0,null,null,1,null,null,null,1,0,90,85,46.333333333333336]
["Esther Derr","CH2","Chapel Hill","2014-2015",4,"ConA",3,"A-H","Abby Ashcraft",4,0,null,null,null,null,null,null,1,0,90,90,46.333333333333336]
["Esther Derr","CH2","Chapel Hill","2014-2015",4,"ConA",3,"A-I","Abby Ashcraft",4,0,null,null,null,null,null,null,1,0,90,90,46.333333333333336]
["Esther Derr","CH2","Chapel Hill","2014-2015",4,"ConA",2,"A-J","Jeremy Swingle",1,1,null,null,null,null,null,null,0,0,20,20,46.333333333333336]
["Esther Derr","CH2","Chapel Hill","2014-2015",5,"Pre",3,3,"Tony Kong",0,1,null,null,null,null,null,null,0,0,0,0,46.333333333333336]
["Esther Derr","CH2","Chapel Hill","2014-2015",5,"Pre",2,14,"Jeremy Swingle",0,2,null,null,null,null,null,null,0,0,-10,-10,46.333333333333336]
["Esther Derr","CH2","Chapel Hill","2014-2015",5,"Pre",4,24,"Cutty Welt",2,2,null,null,null,null,null,null,0,0,30,30,46.333333333333336]
["Esther Derr","CH2","Chapel Hill","2014-2015",5,"Pre",1,25,"Scott Peterson",3,1,null,null,null,null,null,null,0,0,60,60,46.333333333333336]
["Esther Derr","CH2","Chapel Hill","2014-2015",5,"Pre",2,34,"Jeremy Swingle",2,1,null,null,null,null,null,null,0,0,40,40,46.333333333333336]
["Esther Derr","CH2","Chapel Hill","2014-2015",5,"Pre",3,43,"Tony Kong",1,2,null,null,null,null,null,null,0,0,10,10,46.333333333333336]
["Esther Derr","CH2",{"$f":"VLOOKUP(B1586,$B$2:$C$3219,2,FALSE)","v":"Chapel Hill"},"2014-2015",5,"ConB",4,"B-1","Cutty Welt",3,0,null,null,null,null,null,null,0,0,60,60,46.333333333333336]
["Esther Derr","CH2",{"$f":"VLOOKUP(B1587,$B$2:$C$3219,2,FALSE)","v":"Chapel Hill"},"2014-2015",5,"ConB",4,"B-2","Cutty Welt",4,1,null,null,null,null,null,null,1,0,80,80,46.333333333333336]
["Esther Derr","CH2",{"$f":"VLOOKUP(B1588,$B$2:$C$3219,2,FALSE)","v":"Chapel Hill"},"2014-2015",5,"ConB",4,"B-5","Cutty Welt",4,1,null,null,null,null,null,null,1,0,80,80,46.333333333333336]
["Esther Derr","CH2",{"$f":"VLOOKUP(B1589,$B$2:$C$3219,2,FALSE)","v":"Chapel Hill"},"2014-2015",5,"ConB",4,"B-J","Cutty Welt",2,2,null,null,null,null,null,null,0,0,null,0,46.333333333333336]
["Ethan Shipps","WOOD","Woodinville","2014-2015",1,"Pre",1,1,"Scott Peterson",0,0,null,null,null,null,null,null,0,0,{"$f":"quizscore(J1590,K1590)","v":0},0,1.6666666666666667]
["Ethan Shipps","WOOD","Woodinville","2014-2015",2,"Pre",1,1,"Scott Peterson",0,0,null,null,null,null,null,null,0,0,0,0,1.6666666666666667]
["Ethan Shipps","WOOD","Woodinville","2014-2015",3,"Pre",3,3,"Tiffany Bye",0,0,null,null,null,null,null,null,0,0,0,0,1.6666666666666667]
["Ethan Shipps","WOOD","Woodinville","2014-2015",3,"Pre",2,10,"Jeremy Swingle",0,0,null,null,null,null,null,null,0,0,0,0,1.6666666666666667]
["Ethan Shipps","WOOD","Woodinville","2014-2015",2,"Pre",4,16,"Cutty Welt",0,0,null,null,null,null,null,null,0,0,0,0,1.6666666666666667]
["Ethan Shipps","WOOD","Woodinville","2014-2015",3,"Pre",4,16,"Cutty Welt",0,0,null,null,null,null,null,null,0,0,0,0,1.6666666666666667]
["Ethan Shipps","WOOD","Woodinville","2014-2015",1,"Pre",4,20,"Cutty Welt",0,0,null,null,null,null,null,null,0,0,0,0,1.6666666666666667]
["Ethan Shipps","WOOD","Woodinville","2014-2015",2,"Pre",3,23,"Tiffany Bye",0,0,null,null,null,null,null,null,0,0,0,0,1.6666666666666667]
["Ethan Shipps","WOOD","Woodinville","2014-2015",3,"Pre",1,25,"Tiffany Bye",0,0,null,null,null,null,null,null,0,0,0,0,1.6666666666666667]
["Ethan Shipps","WOOD","Woodinville","2014-2015",1,"Pre",4,28,"Cutty Welt",0,0,null,null,null,null,null,null,0,0,0,0,1.6666666666666667]
["Ethan Shipps","WOOD","Woodinville","2014-2015",2,"Pre",1,29,"Scott Peterson",0,0,null,null,null,null,null,null,0,0,0,0,1.6666666666666667]
["Ethan Shipps","WOOD","Woodinville","2014-2015",3,"Pre",1,33,"Scott Peterson",0,0,null,null,null,null,null,null,0,0,0,0,1.6666666666666667]
["Ethan Shipps","WOOD","Woodinville","2014-2015",1,"Pre",3,35,"Tiffany Bye",0,0,null,null,null,null,null,null,{"$f":"IF(J1602=4,1,0)","v":0},{"$f":"IF(K1602=3,1,0)","v":0},0,{"$f":"T1602+M1602*(20) + (SUM(O1602:Q1602)*(10)) - L1602*(5) - N1602*(5)","v":0},{"$f":"AVERAGEIFS(U:U,A:A,A1602,F:F,\"Pre\")","v":1.6666666666666667}]
["Ethan Shipps","WOOD","Woodinville","2014-2015",2,"Pre",2,38,"Jeremy Swingle",0,0,null,null,null,null,null,null,0,0,0,0,1.6666666666666667]
["Ethan Shipps","WOOD","Woodinville","2014-2015",1,"Pre",2,42,"Jeremy Swingle",0,0,null,null,null,null,null,null,0,0,0,0,1.6666666666666667]
["Ethan Shipps","WOOD","Woodinville","2014-2015",3,"Pre",2,42,"Jeremy Swingle",0,0,null,null,null,null,null,null,0,0,0,0,1.6666666666666667]
["Ethan Shipps","WOOD","Woodinville","2014-2015",1,"Pre",1,49,"Scott Peterson",0,0,null,null,null,null,null,null,0,0,0,0,1.6666666666666667]
["Ethan Shipps","WOOD","Woodinville","2014-2015",2,"Semi",1,"B","Scott Peterson",0,0,null,null,null,null,null,null,0,0,0,0,1.6666666666666667]
["Ethan Shipps","WOOD","Woodinville","2014-2015",1,"Semi",1,"C","Scott Peterson",0,0,null,null,null,null,null,null,0,0,0,0,1.6666666666666667]
["Ethan Shipps","WOOD","Woodinville","2014-2015",3,"Semi",1,"C","Scott Peterson",0,0,null,null,null,null,null,null,0,0,0,0,1.6666666666666667]
["Ethan Shipps","WOOD","Woodinville","2014-2015",1,"Semi",1,"E","Scott Peterson",0,0,null,null,null,null,null,null,0,0,0,0,1.6666666666666667]
["Ethan Shipps","WOOD","Woodinville","2014-2015",2,"Semi",1,"E","Scott Peterson",0,0,null,null,null,null,null,null,0,0,0,0,1.6666666666666667]
["Ethan Shipps","WOOD","Woodinville","2014-2015",3,"Semi",1,"E","Scott Peterson",0,0,null,null,null,null,null,null,0,0,0,0,1.6666666666666667]
["Ethan Shipps","WOOD","Woodinville","2014-2015",1,"Semi",1,"G","Scott Peterson",0,0,null,null,null,null,null,null,0,0,0,0,1.6666666666666667]
["Ethan Shipps","WOOD","Woodinville","2014-2015",3,"Semi",1,"G","Scott Peterson",0,0,null,null,null,null,null,null,0,0,0,0,1.6666666666666667]
["Ethan Shipps","WOOD","Woodinville","2014-2015",2,"Semi",2,"H","Jeremy Swingle",0,0,null,null,null,null,null,null,0,0,0,0,1.6666666666666667]
["Ethan Shipps","WOOD","Woodinville","2014-2015",1,"Semi",1,"I","Scott Peterson",0,0,null,null,null,null,null,null,0,0,0,0,1.6666666666666667]
["Ethan Shipps","WOOD","Woodinville","2014-2015",2,"Semi",1,"I","Scott Peterson",0,0,null,null,null,null,null,null,0,0,0,0,1.6666666666666667]
["Ethan Shipps","WOOD","Woodinville","2014-2015",3,"Semi",1,"I","Scott Peterson",0,0,null,null,null,null,null,null,0,0,0,0,1.6666666666666667]
["Ethan Shipps","WOOD","Woodinville","2014-2015",1,"Semi",1,"J","Scott Peterson",0,0,null,null,null,null,null,null,0,0,0,0,1.6666666666666667]
["Ethan Shipps","WOOD","Woodinville","2014-2015",1,"Semi",1,"J","Scott Peterson",0,0,null,null,null,null,null,null,0,0,0,0,1.6666666666666667]
["Ethan Shipps","WOOD","Woodinville","2014-2015",1,"Semi",1,"J","Scott Peterson",0,0,null,null,null,null,null,null,0,0,0,0,1.6666666666666667]
["Ethan Shipps","WOOD","Woodinville","2014-2015",1,"Semi",1,"J","Scott Peterson",0,0,null,null,null,null,null,null,0,0,0,0,1.6666666666666667]
["Ethan Shipps","WOOD","Woodinville","2014-2015",2,"Pre",4,12,"Cutty Welt",1,0,null,1,null,null,null,null,0,0,20,40,1.6666666666666667]
["Ethan Shipps","WOOD","Woodinville","2014-2015",5,"Pre",4,4,"Cutty Welt",0,0,null,null,null,null,null,null,0,0,0,0,1.6666666666666667]
["Ethan Shipps","WOOD","Woodinville","2014-2015",5,"Pre",2,10,"Jeremy Swingle",0,0,null,null,null,null,null,null,0,0,0,0,1.6666666666666667]
["Ethan Shipps","WOOD","Woodinville","2014-2015",5,"Pre",2,26,"Jeremy Swingle",0,0,null,null,null,null,null,null,0,0,0,0,1.6666666666666667]
["Ethan Shipps","WOOD","Woodinville","2014-2015",5,"Pre",3,35,"Tony Kong",0,0,null,null,null,null,null,null,0,0,0,0,1.6666666666666667]
["Ethan Shipps","WOOD","Woodinville","2014-2015",5,"Pre",1,41,"Scott Peterson",0,0,null,null,null,null,null,null,0,0,0,0,1.6666666666666667]
["Ethan Shipps","WOOD","Woodinville","2014-2015",5,"Pre",1,45,"Scott Peterson",0,0,null,null,null,null,null,null,0,0,0,0,1.6666666666666667]
["Ethan Shipps","WOOD","Woodinville","2014-2015",5,"Semi",1,"C","Scott Peterson",0,0,null,null,null,null,null,null,0,0,0,0,1.6666666666666667]
["Ethan Shipps","WOOD","Woodinville","2014-2015",5,"Semi",1,"D","Scott Peterson",0,0,null,null,null,null,null,null,0,0,0,0,1.6666666666666667]
["Ethan Shipps","WOOD","Woodinville","2014-2015",5,"Semi",1,"J","Scott Peterson",0,0,null,null,null,null,null,null,0,0,null,0,1.6666666666666667]
["Ethan Shipps","WOOD","Woodinville","2014-2015",5,"Semi",1,"J","Scott Peterson",0,0,null,null,null,null,null,null,0,0,null,0,1.6666666666666667]
["Ha Tien Nguyen","ABC5","ABC","2014-2015",2,"Pre",2,26,"Jeremy Swingle",0,3,null,null,null,null,null,null,0,1,{"$f":"quizscore(J1634,K1634)","v":-20},-20,8.8333333333333339]
["Ha Tien Nguyen","ABC5","ABC","2014-2015",4,"Pre",3,47,"Tony Kong",0,3,null,1,null,null,null,null,0,1,-20,0,8.8333333333333339]
["Ha Tien Nguyen","ABC5","ABC","2014-2015",4,"Pre",3,3,"Tony Kong",0,2,null,null,null,null,null,null,0,0,-10,-10,8.8333333333333339]
["Ha Tien Nguyen","ABC5","ABC","2014-2015",1,"Pre",2,6,"Jeremy Swingle",0,2,null,null,null,null,null,null,0,0,-10,-10,8.8333333333333339]
["Ha Tien Nguyen","ABC5","ABC","2014-2015",2,"Pre",3,43,"Tiffany Bye",0,2,null,null,null,null,null,null,0,0,-10,-10,8.8333333333333339]
["Ha Tien Nguyen","ABC5","ABC","2014-2015",3,"ConA",2,"A-J","Jeremy Swingle",0,2,null,null,null,null,null,null,0,0,-10,-10,8.8333333333333339]
["Ha Tien Nguyen","ABC5","ABC","2014-2015",2,"Pre",4,4,"Cutty Welt",0,0,null,1,null,null,null,null,0,0,0,20,8.8333333333333339]
["Ha Tien Nguyen","ABC5","ABC","2014-2015",3,"Pre",1,5,"Scott Peterson",0,0,null,1,1,null,null,null,0,0,0,15,8.8333333333333339]
["Ha Tien Nguyen","ABC5","ABC","2014-2015",2,"Pre",2,10,"Jeremy Swingle",0,1,null,null,null,null,null,null,0,0,0,0,8.8333333333333339]
["Ha Tien Nguyen","ABC5","ABC","2014-2015",1,"Pre",1,13,"Scott Peterson",0,0,null,null,null,null,null,null,0,0,0,0,8.8333333333333339]
["Ha Tien Nguyen","ABC5","ABC","2014-2015",2,"Pre",1,13,"Scott Peterson",0,0,null,null,null,null,null,null,0,0,0,0,8.8333333333333339]
["Ha Tien Nguyen","ABC5","ABC","2014-2015",1,"Pre",1,17,"Scott Peterson",0,0,null,null,null,null,null,null,0,0,0,0,8.8333333333333339]
["Ha Tien Nguyen","ABC5","ABC","2014-2015",1,"Pre",4,32,"Cutty Welt",0,0,null,null,null,null,null,null,0,0,0,0,8.8333333333333339]
["Ha Tien Nguyen","ABC5","ABC","2014-2015",2,"Pre",3,35,"Tiffany Bye",0,0,null,1,null,null,null,null,0,0,0,20,8.8333333333333339]
["Ha Tien Nguyen","ABC5","ABC","2014-2015",3,"Pre",4,36,"Cutty Welt",0,0,null,null,null,null,null,null,0,0,0,0,8.8333333333333339]
["Ha Tien Nguyen","ABC5","ABC","2014-2015",1,"Pre",3,47,"Tiffany Bye",0,1,null,null,null,null,null,null,0,0,0,0,8.8333333333333339]
["Ha Tien Nguyen","ABC5","ABC","2014-2015",4,"ConA",3,"A-E","Abby Ashcraft",1,3,null,null,null,null,null,null,0,1,0,0,8.8333333333333339]
["Ha Tien Nguyen","ABC5","ABC","2014-2015",1,"ConB",4,"B-2","Cutty Welt",0,0,null,null,null,null,null,null,0,0,0,0,8.8333333333333339]
["Ha Tien Nguyen","ABC5","ABC","2014-2015",1,"ConB",4,"B-7","Cutty Welt",0,1,null,null,null,null,null,null,0,0,0,0,8.8333333333333339]
["Ha Tien Nguyen","ABC5","ABC","2014-2015",4,"Pre",2,22,"Jeremy Swingle",1,2,1,null,null,null,null,null,0,0,10,5,8.8333333333333339]
["Ha Tien Nguyen","ABC5","ABC","2014-2015",1,"ConB",4,"B-6","Cutty Welt",1,2,null,null,null,null,null,null,0,0,10,10,8.8333333333333339]
["Ha Tien Nguyen","ABC5","ABC","2014-2015",3,"Pre",2,14,"Jeremy Swingle",1,1,null,1,null,null,null,null,0,0,20,40,8.8333333333333339]
["Ha Tien Nguyen","ABC5","ABC","2014-2015",4,"Pre",2,14,"Jeremy Swingle",1,0,null,1,null,null,null,null,0,0,20,40,8.8333333333333339]
["Ha Tien Nguyen","ABC5","ABC","2014-2015",3,"Pre",4,32,"Cutty Welt",1,0,null,null,null,1,null,null,0,0,20,30,8.8333333333333339]
["Ha Tien Nguyen","ABC5","ABC","2014-2015",3,"ConA",3,"A-B","Tiffany Bye",1,1,null,null,null,null,null,null,0,0,20,20,8.8333333333333339]
["Ha Tien Nguyen","ABC5","ABC","2014-2015",3,"ConA",2,"A-D","Jeremy Swingle",1,1,null,null,null,null,null,null,0,0,20,20,8.8333333333333339]
["Ha Tien Nguyen","ABC5","ABC","2014-2015",3,"ConA",2,"A-G","Jeremy Swingle",2,3,null,null,null,1,null,null,0,1,20,30,8.8333333333333339]
["Ha Tien Nguyen","ABC5","ABC","2014-2015",4,"ConA",3,"A-H","Abby Ashcraft",2,3,null,null,null,null,null,null,0,1,20,20,8.8333333333333339]
["Ha Tien Nguyen","ABC5","ABC","2014-2015",2,"ConB",4,"B-3","Cutty Welt",1,0,null,null,null,null,null,null,0,0,20,20,8.8333333333333339]
["Ha Tien Nguyen","ABC5","ABC","2014-2015",2,"ConB",4,"B-6","Cutty Welt",1,0,null,null,null,null,null,null,0,0,20,20,8.8333333333333339]
["Ha Tien Nguyen","ABC5","ABC","2014-2015",4,"Pre",1,37,"Scott Peterson",2,2,null,null,null,null,null,null,0,0,30,30,8.8333333333333339]
["Ha Tien Nguyen","ABC5","ABC","2014-2015",3,"Pre",3,43,"Tiffany Bye",2,2,null,null,null,null,null,null,0,0,30,30,8.8333333333333339]
["Ha Tien Nguyen","ABC5","ABC","2014-2015",2,"ConB",4,"B-J","Cutty Welt",2,2,null,null,null,null,null,null,{"$f":"IF(J1666=4,1,0)","v":0},{"$f":"IF(K1666=3,1,0)","v":0},{"$f":"quizscore(J1666,K1666)","v":30},{"$f":"T1666+M1666*(20) + (SUM(O1666:Q1666)*(10)) - L1666*(5) - N1666*(5)","v":30},{"$f":"AVERAGEIFS(U:U,A:A,A1666,F:F,\"Pre\")","v":8.8333333333333339}]
["Ha Tien Nguyen","ABC5","ABC","2014-2015",3,"Pre",3,23,"Tiffany Bye",2,1,null,null,null,null,null,null,0,0,40,40,8.8333333333333339]
["Ha Tien Nguyen","ABC5","ABC","2014-2015",4,"Pre",4,32,"Cutty Welt",2,1,null,null,null,1,null,null,0,0,40,50,8.8333333333333339]
["Ha Tien Nguyen","ABC5","ABC","2014-2015",1,"Pre",2,38,"Jeremy Swingle",2,1,null,null,null,null,null,null,0,0,40,40,8.8333333333333339]
["Ha Tien Nguyen","ABC5","ABC","2014-2015",4,"ConA",2,"A-A","Jeremy Swingle",2,1,null,null,null,null,null,null,0,0,40,40,8.8333333333333339]
["Ha Tien Nguyen","ABC5","ABC","2014-2015",3,"ConA",3,"A-I","Tiffany Bye",2,0,null,null,null,null,null,null,0,0,40,40,8.8333333333333339]
["Ha Tien Nguyen","ABC5","ABC","2014-2015",2,"ConB",4,"B-1","Cutty Welt",3,0,null,1,null,null,null,null,0,0,60,80,8.8333333333333339]
["Ha Tien Nguyen","ABC5","ABC","2014-2015",5,"Pre",2,2,"Jeremy Swingle",0,1,null,null,1,null,null,null,0,0,0,-5,8.8333333333333339]
["Ha Tien Nguyen","ABC5","ABC","2014-2015",5,"Pre",1,5,"Scott Peterson",0,3,null,null,null,null,null,null,0,1,-20,-20,8.8333333333333339]
["Ha Tien Nguyen","ABC5","ABC","2014-2015",5,"Pre",1,13,"Scott Peterson",0,1,null,null,1,null,null,null,0,0,0,-5,8.8333333333333339]
["Ha Tien Nguyen","ABC5","ABC","2014-2015",5,"Pre",3,23,"Tony Kong",0,2,null,null,null,null,null,null,0,0,-10,-10,8.8333333333333339]
["Ha Tien Nguyen","ABC5","ABC","2014-2015",5,"Pre",4,32,"Cutty Welt",0,0,null,null,null,null,null,null,0,0,0,0,8.8333333333333339]
["Ha Tien Nguyen","ABC5","ABC","2014-2015",5,"Pre",3,43,"Tony Kong",0,1,null,null,1,null,null,null,0,0,0,-5,8.8333333333333339]
["Ha Tien Nguyen","ABC5",{"$f":"VLOOKUP(B1679,$B$2:$C$3219,2,FALSE)","v":"ABC"},"2014-2015",5,"ConB",4,"B-3","Cutty Welt",1,1,null,null,null,null,null,null,0,0,20,20,8.8333333333333339]
["Ha Tien Nguyen","ABC5",{"$f":"VLOOKUP(B1680,$B$2:$C$3219,2,FALSE)","v":"ABC"},"2014-2015",5,"ConB",4,"B-5","Cutty Welt",0,1,null,null,null,null,null,null,0,0,0,0,8.8333333333333339]
["Ha Tien Nguyen","ABC5",{"$f":"VLOOKUP(B1681,$B$2:$C$3219,2,FALSE)","v":"ABC"},"2014-2015",5,"ConB",4,"B-7","Cutty Welt",0,1,null,null,null,null,null,null,0,0,0,0,8.8333333333333339]
["Iliana Hammerstrom","ABC5","ABC","2014-2015",4,"Pre",3,3,"Tony Kong",0,0,null,null,null,null,null,null,0,0,0,0,3.1666666666666665]
["Iliana Hammerstrom","ABC5","ABC","2014-2015",2,"Pre",4,4,"Cutty Welt",0,0,null,null,1,null,null,null,0,0,0,-5,3.1666666666666665]
["Iliana Hammerstrom","ABC5","ABC","2014-2015",3,"Pre",1,5,"Scott Peterson",0,0,null,null,null,null,null,null,0,0,0,0,3.1666666666666665]
["Iliana Hammerstrom","ABC5","ABC","2014-2015",1,"Pre",2,6,"Jeremy Swingle",0,1,null,null,null,null,null,null,0,0,0,0,3.1666666666666665]
["Iliana Hammerstrom","ABC5","ABC","2014-2015",2,"Pre",2,10,"Jeremy Swingle",0,0,null,null,null,null,null,null,0,0,0,0,3.1666666666666665]
["Iliana Hammerstrom","ABC5","ABC","2014-2015",1,"Pre",1,13,"Scott Peterson",0,0,null,null,1,null,null,null,0,0,0,-5,3.1666666666666665]
["Iliana Hammerstrom","ABC5","ABC","2014-2015",2,"Pre",1,13,"Scott Peterson",0,1,null,null,null,null,null,null,0,0,0,0,3.1666666666666665]
["Iliana Hammerstrom","ABC5","ABC","2014-2015",3,"Pre",2,14,"Jeremy Swingle",0,0,null,null,null,null,null,null,0,0,0,0,3.1666666666666665]
["Iliana Hammerstrom","ABC5","ABC","2014-2015",4,"Pre",2,14,"Jeremy Swingle",0,0,null,null,null,null,null,null,0,0,0,0,3.1666666666666665]
["Iliana Hammerstrom","ABC5","ABC","2014-2015",1,"Pre",1,17,"Scott Peterson",0,0,null,null,null,null,null,null,0,0,0,0,3.1666666666666665]
["Iliana Hammerstrom","ABC5","ABC","2014-2015",4,"Pre",2,22,"Jeremy Swingle",0,0,null,null,null,null,null,null,0,0,0,0,3.1666666666666665]
["Iliana Hammerstrom","ABC5","ABC","2014-2015",3,"Pre",3,23,"Tiffany Bye",0,0,null,null,null,null,null,null,0,0,0,0,3.1666666666666665]
["Iliana Hammerstrom","ABC5","ABC","2014-2015",3,"Pre",4,32,"Cutty Welt",0,0,null,null,null,null,null,null,0,0,0,0,3.1666666666666665]
["Iliana Hammerstrom","ABC5","ABC","2014-2015",4,"Pre",4,32,"Cutty Welt",0,0,null,null,null,null,null,null,0,0,0,0,3.1666666666666665]
["Iliana Hammerstrom","ABC5","ABC","2014-2015",2,"Pre",3,35,"Tiffany Bye",0,0,null,null,null,null,null,null,0,0,0,0,3.1666666666666665]
["Iliana Hammerstrom","ABC5","ABC","2014-2015",3,"Pre",4,36,"Cutty Welt",0,0,null,null,null,null,null,null,0,0,0,0,3.1666666666666665]
["Iliana Hammerstrom","ABC5","ABC","2014-2015",4,"Pre",1,37,"Scott Peterson",0,0,null,null,null,null,null,null,0,0,{"$f":"quizscore(J1698,K1698)","v":0},0,3.1666666666666665]
["Iliana Hammerstrom","ABC5","ABC","2014-2015",2,"Pre",3,43,"Tiffany Bye",0,0,null,null,null,null,null,null,0,0,0,0,3.1666666666666665]
["Iliana Hammerstrom","ABC5","ABC","2014-2015",4,"Pre",3,47,"Tony Kong",0,0,null,null,null,null,null,null,0,0,0,0,3.1666666666666665]
["Iliana Hammerstrom","ABC5","ABC","2014-2015",4,"ConA",2,"A-A","Jeremy Swingle",0,0,null,null,null,null,null,null,0,0,0,0,3.1666666666666665]
["Iliana Hammerstrom","ABC5","ABC","2014-2015",3,"ConA",3,"A-B","Tiffany Bye",0,0,null,null,null,null,null,null,0,0,0,0,3.1666666666666665]
["Iliana Hammerstrom","ABC5","ABC","2014-2015",3,"ConA",2,"A-D","Jeremy Swingle",0,1,null,null,null,null,null,null,0,0,0,0,3.1666666666666665]
["Iliana Hammerstrom","ABC5","ABC","2014-2015",4,"ConA",3,"A-E","Abby Ashcraft",0,0,null,null,null,null,null,null,0,0,0,0,3.1666666666666665]
["Iliana Hammerstrom","ABC5","ABC","2014-2015",3,"ConA",2,"A-G","Jeremy Swingle",0,0,null,null,null,null,null,null,0,0,0,0,3.1666666666666665]
["Iliana Hammerstrom","ABC5","ABC","2014-2015",4,"ConA",3,"A-H","Abby Ashcraft",0,1,null,null,null,null,null,null,0,0,0,0,3.1666666666666665]
["Iliana Hammerstrom","ABC5","ABC","2014-2015",3,"ConA",3,"A-I","Tiffany Bye",0,0,null,null,null,null,null,null,0,0,0,0,3.1666666666666665]
["Iliana Hammerstrom","ABC5","ABC","2014-2015",3,"ConA",2,"A-J","Jeremy Swingle",0,0,null,null,null,null,null,null,0,0,0,0,3.1666666666666665]
["Iliana Hammerstrom","ABC5","ABC","2014-2015",2,"ConB",4,"B-1","Cutty Welt",0,0,null,null,null,null,null,null,0,0,0,0,3.1666666666666665]
["Iliana Hammerstrom","ABC5","ABC","2014-2015",1,"ConB",4,"B-6","Cutty Welt",0,0,null,null,null,null,null,null,0,0,0,0,3.1666666666666665]
["Iliana Hammerstrom","ABC5","ABC","2014-2015",2,"ConB",4,"B-6","Cutty Welt",0,0,null,null,null,null,null,null,0,0,0,0,3.1666666666666665]
["Iliana Hammerstrom","ABC5","ABC","2014-2015",1,"ConB",4,"B-7","Cutty Welt",0,0,null,null,null,null,null,null,0,0,0,0,3.1666666666666665]
["Iliana Hammerstrom","ABC5","ABC","2014-2015",2,"ConB",4,"B-J","Cutty Welt",0,0,null,null,null,null,null,null,0,0,0,0,3.1666666666666665]
["Iliana Hammerstrom","ABC5","ABC","2014-2015",2,"Pre",2,26,"Jeremy Swingle",1,0,null,null,null,null,null,null,0,0,20,20,3.1666666666666665]
["Iliana Hammerstrom","ABC5","ABC","2014-2015",1,"Pre",4,32,"Cutty Welt",1,0,null,null,null,null,null,null,0,0,20,20,3.1666666666666665]
["Iliana Hammerstrom","ABC5","ABC","2014-2015",1,"Pre",2,38,"Jeremy Swingle",1,0,null,null,1,1,null,null,0,0,20,25,3.1666666666666665]
["Iliana Hammerstrom","ABC5","ABC","2014-2015",3,"Pre",3,43,"Tiffany Bye",1,0,null,null,null,null,null,null,0,0,20,20,3.1666666666666665]
["Iliana Hammerstrom","ABC5","ABC","2014-2015",1,"Pre",3,47,"Tiffany Bye",1,0,null,null,null,null,null,null,0,0,20,20,3.1666666666666665]
["Iliana Hammerstrom","ABC5","ABC","2014-2015",1,"ConB",4,"B-2","Cutty Welt",1,0,null,null,null,null,null,null,0,0,20,20,3.1666666666666665]
["Iliana Hammerstrom","ABC5","ABC","2014-2015",2,"ConB",4,"B-3","Cutty Welt",1,0,null,null,null,1,null,null,0,0,20,30,3.1666666666666665]
["Iliana Hammerstrom","ABC5","ABC","2014-2015",5,"Pre",2,2,"Jeremy Swingle",0,0,null,null,null,null,null,null,0,0,0,0,3.1666666666666665]
["Iliana Hammerstrom","ABC5","ABC","2014-2015",5,"Pre",1,5,"Scott Peterson",0,0,null,null,null,null,null,null,0,0,0,0,3.1666666666666665]
["Iliana Hammerstrom","ABC5","ABC","2014-2015",5,"Pre",1,13,"Scott Peterson",0,0,null,null,null,null,null,null,0,0,0,0,3.1666666666666665]
["Iliana Hammerstrom","ABC5","ABC","2014-2015",5,"Pre",3,23,"Tony Kong",0,0,null,null,null,null,null,null,0,0,0,0,3.1666666666666665]
["Iliana Hammerstrom","ABC5","ABC","2014-2015",5,"Pre",4,32,"Cutty Welt",0,0,null,null,null,null,null,null,0,0,0,0,3.1666666666666665]
["Iliana Hammerstrom","ABC5","ABC","2014-2015",5,"Pre",3,43,"Tony Kong",0,0,null,null,null,null,null,null,0,0,0,0,3.1666666666666665]
["Iliana Hammerstrom","ABC5",{"$f":"VLOOKUP(B1727,$B$2:$C$3219,2,FALSE)","v":"ABC"},"2014-2015",5,"ConB",4,"B-3","Cutty Welt",0,0,null,null,null,null,null,null,0,0,0,0,3.1666666666666665]
["Iliana Hammerstrom","ABC5",{"$f":"VLOOKUP(B1728,$B$2:$C$3219,2,FALSE)","v":"ABC"},"2014-2015",5,"ConB",4,"B-5","Cutty Welt",0,1,null,null,null,null,null,null,0,0,0,0,3.1666666666666665]
["Iliana Hammerstrom","ABC5",{"$f":"VLOOKUP(B1729,$B$2:$C$3219,2,FALSE)","v":"ABC"},"2014-2015",5,"ConB",4,"B-7","Cutty Welt",0,0,null,null,null,null,null,null,0,0,0,0,3.1666666666666665]
["Inez Yoon","TAC1","Tacoma","2014-2015",3,"Pre",3,7,"Tiffany Bye",0,1,null,null,null,null,null,null,{"$f":"IF(J1730=4,1,0)","v":0},{"$f":"IF(K1730=3,1,0)","v":0},{"$f":"quizscore(J1730,K1730)","v":0},{"$f":"T1730+M1730*(20) + (SUM(O1730:Q1730)*(10)) - L1730*(5) - N1730*(5)","v":0},{"$f":"AVERAGEIFS(U:U,A:A,A1730,F:F,\"Pre\")","v":43.5}]
["Inez Yoon","TAC1","Tacoma","2014-2015",4,"Pre",2,26,"Jeremy Swingle",0,1,null,null,null,null,null,null,0,0,0,0,43.5]
["Inez Yoon","TAC1","Tacoma","2014-2015",3,"ConB",4,"B-J","Cutty Welt",0,1,null,null,null,null,null,null,0,0,0,0,43.5]
["Inez Yoon","TAC1","Tacoma","2014-2015",1,"Pre",3,23,"Tiffany Bye",1,2,null,null,null,null,null,null,0,0,10,10,43.5]
["Inez Yoon","TAC1","Tacoma","2014-2015",3,"Pre",2,26,"Jeremy Swingle",1,2,null,null,null,null,null,null,0,0,10,10,43.5]
["Inez Yoon","TAC1","Tacoma","2014-2015",4,"Pre",4,8,"Cutty Welt",1,0,null,null,null,null,null,null,0,0,20,20,43.5]
["Inez Yoon","TAC1","Tacoma","2014-2015",4,"Pre",1,17,"Scott Peterson",1,1,null,null,null,null,null,null,0,0,20,20,43.5]
["Inez Yoon","TAC1","Tacoma","2014-2015",3,"Pre",4,40,"Cutty Welt",1,0,null,null,null,null,null,null,0,0,20,20,43.5]
["Inez Yoon","TAC1","Tacoma","2014-2015",2,"ConA",3,"A-E","Tiffany Bye",2,3,null,null,null,null,null,null,0,1,20,20,43.5]
["Inez Yoon","TAC1","Tacoma","2014-2015",3,"ConB",4,"B-4","Cutty Welt",1,0,null,null,null,null,null,null,0,0,20,20,43.5]
["Inez Yoon","TAC1","Tacoma","2014-2015",4,"ConB",4,"B-4","Cutty Welt",1,1,null,null,null,null,null,null,0,0,20,20,43.5]
["Inez Yoon","TAC1","Tacoma","2014-2015",3,"ConB",4,"B-7","Cutty Welt",1,1,null,null,null,null,null,null,0,0,20,20,43.5]
["Inez Yoon","TAC1","Tacoma","2014-2015",2,"ConA",2,"A-C","Jeremy Swingle",2,2,null,null,null,null,null,null,0,0,30,30,43.5]
["Inez Yoon","TAC1","Tacoma","2014-2015",1,"ConA",3,"A-I","Tiffany Bye",2,2,null,null,null,null,null,null,0,0,30,30,43.5]
["Inez Yoon","TAC1","Tacoma","2014-2015",1,"Pre",1,5,"Scott Peterson",2,1,null,null,null,null,null,null,0,0,40,40,43.5]
["Inez Yoon","TAC1","Tacoma","2014-2015",2,"Pre",2,14,"Jeremy Swingle",2,0,null,null,null,null,null,null,0,0,40,40,43.5]
["Inez Yoon","TAC1","Tacoma","2014-2015",4,"Pre",3,15,"Tony Kong",2,0,null,null,null,null,null,null,0,0,40,40,43.5]
["Inez Yoon","TAC1","Tacoma","2014-2015",2,"Pre",1,25,"Scott Peterson",2,0,null,null,null,null,null,null,0,0,40,40,43.5]
["Inez Yoon","TAC1","Tacoma","2014-2015",1,"Pre",2,38,"Jeremy Swingle",3,3,null,null,null,null,null,null,0,1,40,40,43.5]
["Inez Yoon","TAC1","Tacoma","2014-2015",3,"Pre",1,45,"Scott Peterson",2,0,null,null,null,null,null,null,0,0,40,40,43.5]
["Inez Yoon","TAC1","Tacoma","2014-2015",4,"Pre",1,49,"Scott Peterson",2,1,null,null,1,null,null,null,0,0,40,35,43.5]
["Inez Yoon","TAC1","Tacoma","2014-2015",1,"ConA",2,"A-A","Jeremy Swingle",2,0,null,null,null,null,null,null,0,0,40,40,43.5]
["Inez Yoon","TAC1","Tacoma","2014-2015",2,"ConA",2,"A-J","Jeremy Swingle",2,0,null,null,1,null,null,null,0,0,40,35,43.5]
["Inez Yoon","TAC1","Tacoma","2014-2015",4,"ConB",4,"B-1","Cutty Welt",2,1,null,null,null,null,null,null,0,0,40,40,43.5]
["Inez Yoon","TAC1","Tacoma","2014-2015",2,"Pre",2,18,"Jeremy Swingle",3,2,null,null,null,null,null,null,0,0,50,50,43.5]
["Inez Yoon","TAC1","Tacoma","2014-2015",4,"ConB",4,"B-7","Cutty Welt",3,2,null,null,null,null,null,null,0,0,50,50,43.5]
["Inez Yoon","TAC1","Tacoma","2014-2015",2,"Pre",1,5,"Scott Peterson",3,1,null,null,null,null,null,null,0,0,60,60,43.5]
["Inez Yoon","TAC1","Tacoma","2014-2015",3,"Pre",4,12,"Cutty Welt",3,1,null,null,null,null,null,null,0,0,60,60,43.5]
["Inez Yoon","TAC1","Tacoma","2014-2015",3,"Pre",1,17,"Scott Peterson",3,0,null,null,null,null,null,null,0,0,60,60,43.5]
["Inez Yoon","TAC1","Tacoma","2014-2015",1,"Pre",3,31,"Tiffany Bye",3,0,null,1,null,null,null,null,0,0,60,80,43.5]
["Inez Yoon","TAC1","Tacoma","2014-2015",2,"Pre",4,44,"Cutty Welt",3,0,null,null,null,null,null,null,0,0,60,60,43.5]
["Inez Yoon","TAC1","Tacoma","2014-2015",3,"ConB",4,"B-1","Cutty Welt",3,1,null,null,null,null,null,null,0,0,60,60,43.5]
["Inez Yoon","TAC1","Tacoma","2014-2015",1,"Pre",4,12,"Cutty Welt",4,2,null,null,null,null,null,null,1,0,{"$f":"quizscore(J1762,K1762)","v":70},70,43.5]
["Inez Yoon","TAC1","Tacoma","2014-2015",1,"ConA",3,"A-H","Tiffany Bye",4,1,null,1,null,null,null,null,1,0,80,100,43.5]
["Inez Yoon","TAC1","Tacoma","2014-2015",2,"Pre",3,35,"Tiffany Bye",4,0,null,null,null,null,null,null,1,0,90,90,43.5]
["Inez Yoon","TAC1","Tacoma","2014-2015",4,"Pre",2,38,"Jeremy Swingle",4,0,null,null,null,null,null,null,1,0,90,90,43.5]
["Inez Yoon","TAC1","Tacoma","2014-2015",1,"Pre",4,48,"Cutty Welt",4,0,null,null,null,null,null,null,1,0,90,90,43.5]
["Inez Yoon","TAC1","Tacoma","2014-2015",1,"ConA",3,"A-F","Tiffany Bye",4,0,null,null,null,null,null,null,1,0,90,90,43.5]
["Inez Yoon","TAC1","Tacoma","2014-2015",2,"ConA",3,"A-H","Tiffany Bye",4,0,null,null,null,null,null,null,1,0,90,90,43.5]
["Inez Yoon","TAC1","Tacoma","2014-2015",2,"ConA",3,"A-I","Tiffany Bye",4,0,null,1,null,null,null,null,1,0,90,110,43.5]
["Inez Yoon","TAC1","Tacoma","2014-2015",5,"Pre",2,6,"Jeremy Swingle",1,0,null,null,null,null,null,null,0,0,20,20,43.5]
["Inez Yoon","TAC1","Tacoma","2014-2015",5,"Pre",1,13,"Scott Peterson",1,1,null,1,null,null,null,null,0,0,20,40,43.5]
["Inez Yoon","TAC1","Tacoma","2014-2015",5,"Pre",4,24,"Cutty Welt",2,0,null,null,null,null,null,null,0,0,40,40,43.5]
["Inez Yoon","TAC1","Tacoma","2014-2015",5,"Pre",2,26,"Jeremy Swingle",1,0,null,null,null,null,null,null,0,0,20,20,43.5]
["Inez Yoon","TAC1","Tacoma","2014-2015",5,"Pre",1,37,"Scott Peterson",3,0,null,null,null,null,null,null,0,0,60,60,43.5]
["Inez Yoon","TAC1","Tacoma","2014-2015",5,"Pre",3,47,"Tony Kong",3,0,null,null,null,null,null,null,0,0,60,60,43.5]
["Inez Yoon","TAC1",{"$f":"VLOOKUP(B1776,$B$2:$C$3219,2,FALSE)","v":"Tacoma"},"2014-2015",5,"ConB",4,"B-1","Cutty Welt",4,0,null,null,null,null,null,null,1,0,90,90,43.5]
["Inez Yoon","TAC1",{"$f":"VLOOKUP(B1777,$B$2:$C$3219,2,FALSE)","v":"Tacoma"},"2014-2015",5,"ConB",4,"B-4","Cutty Welt",2,0,null,null,null,null,null,null,0,0,40,40,43.5]
["Inez Yoon","TAC1",{"$f":"VLOOKUP(B1778,$B$2:$C$3219,2,FALSE)","v":"Tacoma"},"2014-2015",5,"ConB",4,"B-7","Cutty Welt",3,2,null,null,null,null,null,null,0,0,50,50,43.5]
["Isabel Bammer","ABC1","ABC","2014-2015",3,"Pre",4,44,"Cutty Welt",0,3,null,null,null,null,null,null,0,1,-20,-20,42.5]
["Isabel Bammer","ABC1","ABC","2014-2015",2,"Pre",1,17,"Scott Peterson",0,2,null,null,null,null,null,null,0,0,-10,-10,42.5]
["Isabel Bammer","ABC1","ABC","2014-2015",4,"Pre",2,18,"Jeremy Swingle",0,2,null,null,null,null,null,null,0,0,-10,-10,42.5]
["Isabel Bammer","ABC1","ABC","2014-2015",1,"Semi",1,"D","Scott Peterson",0,2,null,null,null,null,null,null,0,0,-10,-10,42.5]
["Isabel Bammer","ABC1","ABC","2014-2015",3,"Semi",1,"J","Scott Peterson",0,2,null,null,null,null,null,null,0,0,-10,-10,42.5]
["Isabel Bammer","ABC1","ABC","2014-2015",1,"Semi",1,"G","Scott Peterson",0,1,null,null,null,null,null,null,0,0,0,0,42.5]
["Isabel Bammer","ABC1","ABC","2014-2015",4,"Pre",1,1,"Scott Peterson",1,2,null,null,null,null,null,null,0,0,10,10,42.5]
["Isabel Bammer","ABC1","ABC","2014-2015",4,"Pre",4,36,"Cutty Welt",1,2,null,null,null,1,null,null,0,0,10,20,42.5]
["Isabel Bammer","ABC1","ABC","2014-2015",1,"Semi",1,"J","Scott Peterson",1,2,null,null,null,1,null,null,0,0,10,20,42.5]
["Isabel Bammer","ABC1","ABC","2014-2015",1,"Semi",1,"J","Scott Peterson",1,2,null,null,null,null,null,null,0,0,10,10,42.5]
["Isabel Bammer","ABC1","ABC","2014-2015",1,"Pre",3,23,"Tiffany Bye",2,3,null,null,null,null,null,null,0,1,20,20,42.5]
["Isabel Bammer","ABC1","ABC","2014-2015",2,"Pre",2,30,"Jeremy Swingle",2,3,null,null,null,1,null,null,0,1,20,30,42.5]
["Isabel Bammer","ABC1","ABC","2014-2015",4,"Pre",4,40,"Cutty Welt",1,1,null,null,null,1,null,null,0,0,20,30,42.5]
["Isabel Bammer","ABC1","ABC","2014-2015",1,"Semi",1,"J","Scott Peterson",1,1,null,null,null,1,null,null,0,0,20,30,42.5]
["Isabel Bammer","ABC1","ABC","2014-2015",1,"Pre",1,13,"Scott Peterson",2,2,null,null,null,1,null,null,0,0,30,40,42.5]
["Isabel Bammer","ABC1","ABC","2014-2015",3,"Pre",2,34,"Jeremy Swingle",2,2,null,null,null,1,null,null,{"$f":"IF(J1794=4,1,0)","v":0},{"$f":"IF(K1794=3,1,0)","v":0},{"$f":"quizscore(J1794,K1794)","v":30},{"$f":"T1794+M1794*(20) + (SUM(O1794:Q1794)*(10)) - L1794*(5) - N1794*(5)","v":40},{"$f":"AVERAGEIFS(U:U,A:A,A1794,F:F,\"Pre\")","v":42.5}]
["Isabel Bammer","ABC1","ABC","2014-2015",4,"Pre",3,47,"Tony Kong",2,2,null,null,null,1,null,null,0,0,30,40,42.5]
["Isabel Bammer","ABC1","ABC","2014-2015",2,"Semi",1,"D","Scott Peterson",2,2,null,null,null,null,null,null,0,0,30,30,42.5]
["Isabel Bammer","ABC1","ABC","2014-2015",3,"Semi",1,"D","Scott Peterson",2,2,null,null,null,null,null,null,0,0,30,30,42.5]
["Isabel Bammer","ABC1","ABC","2014-2015",1,"Pre",3,3,"Tiffany Bye",2,1,1,null,null,null,null,null,0,0,40,35,42.5]
["Isabel Bammer","ABC1","ABC","2014-2015",3,"Pre",1,9,"Scott Peterson",3,3,null,null,null,null,null,null,0,1,40,40,42.5]
["Isabel Bammer","ABC1","ABC","2014-2015",3,"Pre",4,24,"Cutty Welt",3,3,null,null,null,null,null,null,0,1,40,40,42.5]
["Isabel Bammer","ABC1","ABC","2014-2015",1,"Pre",2,42,"Jeremy Swingle",2,0,null,null,null,null,null,null,0,0,40,40,42.5]
["Isabel Bammer","ABC1","ABC","2014-2015",4,"Semi",1,"D","Scott Peterson",2,1,null,null,null,1,null,null,0,0,40,50,42.5]
["Isabel Bammer","ABC1","ABC","2014-2015",2,"Semi",1,"J","Scott Peterson",2,1,null,null,1,1,null,null,0,0,40,45,42.5]
["Isabel Bammer","ABC1","ABC","2014-2015",2,"Semi",1,"J","Scott Peterson",2,1,null,null,null,null,null,null,0,0,40,40,42.5]
["Isabel Bammer","ABC1","ABC","2014-2015",3,"Semi",1,"J","Scott Peterson",3,2,null,null,null,null,null,null,0,0,50,50,42.5]
["Isabel Bammer","ABC1","ABC","2014-2015",4,"Pre",2,26,"Jeremy Swingle",3,1,null,null,null,1,null,null,0,0,60,70,42.5]
["Isabel Bammer","ABC1","ABC","2014-2015",2,"Pre",2,42,"Jeremy Swingle",3,0,null,null,null,null,null,null,0,0,60,60,42.5]
["Isabel Bammer","ABC1","ABC","2014-2015",4,"Semi",1,"A","Scott Peterson",3,1,null,null,null,1,null,null,0,0,60,70,42.5]
["Isabel Bammer","ABC1","ABC","2014-2015",1,"Semi",1,"C","Scott Peterson",3,1,null,null,null,1,null,null,0,0,60,70,42.5]
["Isabel Bammer","ABC1","ABC","2014-2015",1,"Semi",1,"J","Scott Peterson",3,0,null,null,null,null,null,null,0,0,60,60,42.5]
["Isabel Bammer","ABC1","ABC","2014-2015",2,"Pre",1,9,"Scott Peterson",4,2,null,null,null,null,null,null,1,0,70,70,42.5]
["Isabel Bammer","ABC1","ABC","2014-2015",2,"Pre",4,40,"Cutty Welt",4,2,null,null,null,1,null,null,1,0,70,80,42.5]
["Isabel Bammer","ABC1","ABC","2014-2015",3,"Semi",1,"C","Scott Peterson",4,2,null,null,null,null,null,null,1,0,70,70,42.5]
["Isabel Bammer","ABC1","ABC","2014-2015",1,"Pre",4,8,"Cutty Welt",4,1,null,null,null,null,null,null,1,0,80,80,42.5]
["Isabel Bammer","ABC1","ABC","2014-2015",3,"Pre",1,17,"Scott Peterson",4,1,null,null,null,null,null,null,1,0,80,80,42.5]
["Isabel Bammer","ABC1","ABC","2014-2015",2,"Semi",1,"G","Scott Peterson",4,1,null,null,null,1,null,null,1,0,80,90,42.5]
["Isabel Bammer","ABC1","ABC","2014-2015",3,"Pre",3,3,"Tiffany Bye",4,0,null,null,null,null,null,null,1,0,90,90,42.5]
["Isabel Bammer","ABC1","ABC","2014-2015",2,"Pre",3,7,"Tiffany Bye",4,0,1,null,null,null,null,null,1,0,90,85,42.5]
["Isabel Bammer","ABC1","ABC","2014-2015",1,"Pre",2,34,"Jeremy Swingle",4,0,null,null,null,null,null,null,1,0,90,90,42.5]
["Isabel Bammer","ABC1","ABC","2014-2015",2,"Semi",1,"B","Scott Peterson",4,0,null,null,null,null,null,null,1,0,90,90,42.5]
["Isabel Bammer","ABC1","ABC","2014-2015",4,"Semi",1,"J","Scott Peterson",1,2,null,null,null,1,null,null,0,0,10,20,42.5]
["Isabel Bammer","ABC1","ABC","2014-2015",4,"Semi",1,"J","Scott Peterson",0,3,null,null,null,null,null,null,0,1,-20,-20,42.5]
["Isabel Bammer","ABC1","ABC","2014-2015",4,"Semi",1,"J","Scott Peterson",0,2,null,null,null,null,null,null,0,0,-10,-10,42.5]
["Isabel Bammer","ABC1","ABC","2014-2015",5,"Pre",1,1,"Scott Peterson",2,0,null,null,null,null,null,null,0,0,40,40,42.5]
["Isabel Bammer","ABC1","ABC","2014-2015",5,"Pre",4,12,"Cutty Welt",2,2,null,null,null,1,null,null,0,0,30,40,42.5]
["Isabel Bammer","ABC1","ABC","2014-2015",5,"Pre",1,13,"Scott Peterson",3,1,null,null,null,null,null,null,0,0,{"$f":"quizscore(J1826,K1826)","v":60},60,42.5]
["Isabel Bammer","ABC1","ABC","2014-2015",5,"Pre",2,22,"Jeremy Swingle",0,1,null,null,null,null,null,null,0,0,0,0,42.5]
["Isabel Bammer","ABC1","ABC","2014-2015",5,"Pre",3,35,"Tony Kong",2,1,1,null,null,1,null,null,0,0,40,45,42.5]
["Isabel Bammer","ABC1","ABC","2014-2015",5,"Pre",2,42,"Jeremy Swingle",2,1,null,null,null,null,null,null,0,0,40,40,42.5]
["Isabel Bammer","ABC1","ABC","2014-2015",5,"Semi",1,"A","Scott Peterson",0,2,null,null,null,null,null,null,0,0,-10,-10,42.5]
["Isabel Bammer","ABC1","ABC","2014-2015",5,"Semi",1,"D","Scott Peterson",0,1,null,null,null,null,null,null,0,0,0,0,42.5]
["Isabel Bammer","ABC1","ABC","2014-2015",5,"Semi",1,"G","Scott Peterson",2,0,null,null,null,null,null,null,0,0,40,40,42.5]
["Isabel Bammer","ABC1","ABC","2014-2015",5,"Semi",1,"J","Scott Peterson",0,1,null,null,null,null,null,null,0,0,null,0,42.5]
["Isabel Bammer","ABC1","ABC","2014-2015",5,"Semi",1,"J","Scott Peterson",1,1,null,null,null,1,null,null,0,0,null,10,42.5]
["Isaiah Magnuson","TAC1","Tacoma","2014-2015",3,"Pre",1,45,"Scott Peterson",0,2,null,null,null,null,null,null,0,0,{"$f":"quizscore(J1835,K1835)","v":-10},-10,14.333333333333334]
["Isaiah Magnuson","TAC1","Tacoma","2014-2015",1,"Pre",1,5,"Scott Peterson",0,1,null,null,null,null,null,null,0,0,0,0,14.333333333333334]
["Isaiah Magnuson","TAC1","Tacoma","2014-2015",2,"Pre",1,5,"Scott Peterson",0,0,null,null,null,null,null,null,0,0,0,0,14.333333333333334]
["Isaiah Magnuson","TAC1","Tacoma","2014-2015",3,"Pre",3,7,"Tiffany Bye",0,0,null,null,null,null,null,null,0,0,0,0,14.333333333333334]
["Isaiah Magnuson","TAC1","Tacoma","2014-2015",3,"Pre",4,12,"Cutty Welt",0,1,null,null,null,null,null,null,0,0,0,0,14.333333333333334]
["Isaiah Magnuson","TAC1","Tacoma","2014-2015",4,"Pre",3,15,"Tony Kong",0,0,null,null,null,null,null,null,0,0,0,0,14.333333333333334]
["Isaiah Magnuson","TAC1","Tacoma","2014-2015",3,"Pre",1,17,"Scott Peterson",0,0,null,null,null,null,null,null,0,0,0,0,14.333333333333334]
["Isaiah Magnuson","TAC1","Tacoma","2014-2015",2,"Pre",1,25,"Scott Peterson",0,1,null,null,null,null,null,null,0,0,0,0,14.333333333333334]
["Isaiah Magnuson","TAC1","Tacoma","2014-2015",4,"Pre",2,26,"Jeremy Swingle",0,0,null,null,1,null,null,null,0,0,0,-5,14.333333333333334]
["Isaiah Magnuson","TAC1","Tacoma","2014-2015",4,"Pre",2,38,"Jeremy Swingle",0,0,null,null,null,null,null,null,0,0,0,0,14.333333333333334]
["Isaiah Magnuson","TAC1","Tacoma","2014-2015",4,"Pre",1,49,"Scott Peterson",0,0,null,null,1,null,null,null,0,0,0,-5,14.333333333333334]
["Isaiah Magnuson","TAC1","Tacoma","2014-2015",2,"ConA",2,"A-C","Jeremy Swingle",0,1,null,null,null,null,null,null,0,0,0,0,14.333333333333334]
["Isaiah Magnuson","TAC1","Tacoma","2014-2015",2,"ConA",3,"A-E","Tiffany Bye",0,1,null,null,null,null,null,null,0,0,0,0,14.333333333333334]
["Isaiah Magnuson","TAC1","Tacoma","2014-2015",2,"ConA",2,"A-J","Jeremy Swingle",1,3,null,null,null,null,null,null,0,1,0,0,14.333333333333334]
["Isaiah Magnuson","TAC1","Tacoma","2014-2015",4,"ConB",4,"B-1","Cutty Welt",0,1,null,null,null,null,null,null,0,0,0,0,14.333333333333334]
["Isaiah Magnuson","TAC1","Tacoma","2014-2015",1,"Pre",4,12,"Cutty Welt",1,2,null,null,null,null,null,null,0,0,10,10,14.333333333333334]
["Isaiah Magnuson","TAC1","Tacoma","2014-2015",3,"ConB",4,"B-4","Cutty Welt",1,2,null,null,null,1,null,null,0,0,10,20,14.333333333333334]
["Isaiah Magnuson","TAC1","Tacoma","2014-2015",4,"Pre",4,8,"Cutty Welt",1,1,null,null,null,null,null,null,0,0,20,20,14.333333333333334]
["Isaiah Magnuson","TAC1","Tacoma","2014-2015",4,"Pre",1,17,"Scott Peterson",1,0,null,null,null,null,null,null,0,0,20,20,14.333333333333334]
["Isaiah Magnuson","TAC1","Tacoma","2014-2015",1,"Pre",3,23,"Tiffany Bye",1,1,null,null,null,null,null,null,0,0,20,20,14.333333333333334]
["Isaiah Magnuson","TAC1","Tacoma","2014-2015",3,"Pre",2,26,"Jeremy Swingle",1,1,null,null,null,1,null,null,0,0,20,30,14.333333333333334]
["Isaiah Magnuson","TAC1","Tacoma","2014-2015",1,"Pre",3,31,"Tiffany Bye",1,0,null,null,null,null,null,null,0,0,20,20,14.333333333333334]
["Isaiah Magnuson","TAC1","Tacoma","2014-2015",1,"Pre",2,38,"Jeremy Swingle",1,0,null,null,null,null,null,null,0,0,20,20,14.333333333333334]
["Isaiah Magnuson","TAC1","Tacoma","2014-2015",3,"Pre",4,40,"Cutty Welt",1,1,null,null,null,null,null,null,{"$f":"IF(J1858=4,1,0)","v":0},{"$f":"IF(K1858=3,1,0)","v":0},20,{"$f":"T1858+M1858*(20) + (SUM(O1858:Q1858)*(10)) - L1858*(5) - N1858*(5)","v":20},{"$f":"AVERAGEIFS(U:U,A:A,A1858,F:F,\"Pre\")","v":14.333333333333334}]
["Isaiah Magnuson","TAC1","Tacoma","2014-2015",1,"ConA",2,"A-A","Jeremy Swingle",1,1,null,null,null,null,null,null,0,0,20,20,14.333333333333334]
["Isaiah Magnuson","TAC1","Tacoma","2014-2015",2,"ConA",3,"A-I","Tiffany Bye",1,1,null,null,null,null,null,null,0,0,20,20,14.333333333333334]
["Isaiah Magnuson","TAC1","Tacoma","2014-2015",3,"ConB",4,"B-1","Cutty Welt",1,1,null,null,null,null,null,null,0,0,20,20,14.333333333333334]
["Isaiah Magnuson","TAC1","Tacoma","2014-2015",4,"ConB",4,"B-4","Cutty Welt",1,1,null,null,null,null,null,null,0,0,20,20,14.333333333333334]
["Isaiah Magnuson","TAC1","Tacoma","2014-2015",4,"ConB",4,"B-7","Cutty Welt",1,1,null,null,null,null,null,null,0,0,20,20,14.333333333333334]
["Isaiah Magnuson","TAC1","Tacoma","2014-2015",2,"Pre",2,14,"Jeremy Swingle",2,0,null,null,null,null,null,null,0,0,40,40,14.333333333333334]
["Isaiah Magnuson","TAC1","Tacoma","2014-2015",2,"Pre",2,18,"Jeremy Swingle",2,1,null,null,null,null,null,null,0,0,40,40,14.333333333333334]
["Isaiah Magnuson","TAC1","Tacoma","2014-2015",2,"Pre",4,44,"Cutty Welt",2,1,null,null,null,1,null,null,0,0,40,50,14.333333333333334]
["Isaiah Magnuson","TAC1","Tacoma","2014-2015",1,"Pre",4,48,"Cutty Welt",2,0,null,null,null,null,null,null,0,0,{"$f":"quizscore(J1867,K1867)","v":40},40,14.333333333333334]
["Isaiah Magnuson","TAC1","Tacoma","2014-2015",1,"ConA",3,"A-H","Tiffany Bye",2,0,null,null,null,null,null,null,0,0,40,40,14.333333333333334]
["Isaiah Magnuson","TAC1","Tacoma","2014-2015",2,"ConA",3,"A-H","Tiffany Bye",2,0,null,null,null,null,null,null,0,0,40,40,14.333333333333334]
["Isaiah Magnuson","TAC1","Tacoma","2014-2015",3,"ConB",4,"B-7","Cutty Welt",2,0,null,null,null,null,null,null,0,0,40,40,14.333333333333334]
["Isaiah Magnuson","TAC1","Tacoma","2014-2015",3,"ConB",4,"B-J","Cutty Welt",2,0,null,null,null,null,null,null,0,0,40,40,14.333333333333334]
["Isaiah Magnuson","TAC1","Tacoma","2014-2015",2,"Pre",3,35,"Tiffany Bye",3,2,null,null,null,null,null,null,0,0,50,50,14.333333333333334]
["Isaiah Magnuson","TAC1","Tacoma","2014-2015",1,"ConA",3,"A-I","Tiffany Bye",4,2,null,null,null,null,null,null,1,0,70,70,14.333333333333334]
["Isaiah Magnuson","TAC1","Tacoma","2014-2015",1,"ConA",3,"A-F","Tiffany Bye",4,0,null,null,null,null,null,null,1,0,90,90,14.333333333333334]
["Isaiah Magnuson","TAC1","Tacoma","2014-2015",5,"Pre",2,6,"Jeremy Swingle",1,0,null,null,null,null,null,null,0,0,20,20,14.333333333333334]
["Isaiah Magnuson","TAC1","Tacoma","2014-2015",5,"Pre",1,13,"Scott Peterson",1,1,null,null,null,null,null,null,0,0,20,20,14.333333333333334]
["Isaiah Magnuson","TAC1","Tacoma","2014-2015",5,"Pre",4,24,"Cutty Welt",1,0,null,1,1,null,null,null,0,0,20,35,14.333333333333334]
["Isaiah Magnuson","TAC1","Tacoma","2014-2015",5,"Pre",2,26,"Jeremy Swingle",0,0,null,null,1,null,null,null,0,0,0,-5,14.333333333333334]
["Isaiah Magnuson","TAC1","Tacoma","2014-2015",5,"Pre",1,37,"Scott Peterson",0,1,null,null,null,null,null,null,0,0,0,0,14.333333333333334]
["Isaiah Magnuson","TAC1","Tacoma","2014-2015",5,"Pre",3,47,"Tony Kong",0,1,null,null,null,null,null,null,0,0,0,0,14.333333333333334]
["Isaiah Magnuson","TAC1",{"$f":"VLOOKUP(B1881,$B$2:$C$3219,2,FALSE)","v":"Tacoma"},"2014-2015",5,"ConB",4,"B-1","Cutty Welt",0,2,null,null,null,null,null,null,0,0,-10,-10,14.333333333333334]
["Isaiah Magnuson","TAC1",{"$f":"VLOOKUP(B1882,$B$2:$C$3219,2,FALSE)","v":"Tacoma"},"2014-2015",5,"ConB",4,"B-4","Cutty Welt",0,2,null,null,null,null,null,null,0,0,-10,-10,14.333333333333334]
["Isaiah Magnuson","TAC1",{"$f":"VLOOKUP(B1883,$B$2:$C$3219,2,FALSE)","v":"Tacoma"},"2014-2015",5,"ConB",4,"B-7","Cutty Welt",0,1,null,null,null,null,null,null,0,0,0,0,14.333333333333334]
["Ivan Derr","CH2","Chapel Hill","2014-2015",2,"Pre",4,12,"Cutty Welt",0,2,null,null,null,null,null,null,0,0,-10,-10,3.5416666666666665]
["Ivan Derr","CH2","Chapel Hill","2014-2015",1,"ConA",3,"A-E","Tiffany Bye",0,2,null,null,null,null,null,null,0,0,-10,-10,3.5416666666666665]
["Ivan Derr","CH2","Chapel Hill","2014-2015",4,"ConA",3,"A-H","Abby Ashcraft",0,2,null,null,null,null,null,null,0,0,-10,-10,3.5416666666666665]
["Ivan Derr","CH2","Chapel Hill","2014-2015",3,"ConA",3,"A-I","Tiffany Bye",0,2,null,null,null,null,null,null,0,0,-10,-10,3.5416666666666665]
["Ivan Derr","CH2","Chapel Hill","2014-2015",3,"Pre",2,2,"Jeremy Swingle",0,1,null,null,null,null,null,null,0,0,0,0,3.5416666666666665]
["Ivan Derr","CH2","Chapel Hill","2014-2015",2,"Pre",3,3,"Tiffany Bye",0,0,null,null,null,null,null,null,0,0,0,0,3.5416666666666665]
["Ivan Derr","CH2","Chapel Hill","2014-2015",1,"Pre",4,4,"Cutty Welt",0,0,null,null,null,null,null,null,0,0,0,0,3.5416666666666665]
["Ivan Derr","CH2","Chapel Hill","2014-2015",4,"Pre",1,5,"Scott Peterson",0,0,null,null,null,null,null,null,0,0,0,0,3.5416666666666665]
["Ivan Derr","CH2","Chapel Hill","2014-2015",1,"Pre",1,9,"Scott Peterson",0,1,null,null,null,null,null,null,0,0,0,0,3.5416666666666665]
["Ivan Derr","CH2","Chapel Hill","2014-2015",3,"Pre",3,11,"Tiffany Bye",0,1,null,null,null,null,null,null,0,0,0,0,3.5416666666666665]
["Ivan Derr","CH2","Chapel Hill","2014-2015",4,"Pre",2,14,"Jeremy Swingle",0,0,1,null,null,null,null,null,0,0,0,-5,3.5416666666666665]
["Ivan Derr","CH2","Chapel Hill","2014-2015",3,"Pre",4,20,"Cutty Welt",0,0,null,null,null,null,null,null,0,0,0,0,3.5416666666666665]
["Ivan Derr","CH2","Chapel Hill","2014-2015",4,"Pre",4,24,"Cutty Welt",0,1,null,null,null,null,null,null,0,0,0,0,3.5416666666666665]
["Ivan Derr","CH2","Chapel Hill","2014-2015",2,"Pre",1,25,"Scott Peterson",0,0,null,null,null,null,null,null,0,0,0,0,3.5416666666666665]
["Ivan Derr","CH2","Chapel Hill","2014-2015",3,"Pre",1,25,"Tiffany Bye",0,0,null,null,null,null,null,null,0,0,0,0,3.5416666666666665]
["Ivan Derr","CH2","Chapel Hill","2014-2015",1,"Pre",3,27,"Tiffany Bye",0,0,null,null,null,null,null,null,0,0,{"$f":"quizscore(J1899,K1899)","v":0},0,3.5416666666666665]
["Ivan Derr","CH2","Chapel Hill","2014-2015",1,"Pre",1,29,"Scott Peterson",0,0,null,null,null,null,null,null,0,0,0,0,3.5416666666666665]
["Ivan Derr","CH2","Chapel Hill","2014-2015",4,"Pre",3,31,"Tony Kong",0,1,null,null,null,null,null,null,0,0,0,0,3.5416666666666665]
["Ivan Derr","CH2","Chapel Hill","2014-2015",2,"Pre",1,37,"Scott Peterson",0,0,null,null,null,null,null,null,0,0,0,0,3.5416666666666665]
["Ivan Derr","CH2","Chapel Hill","2014-2015",4,"Pre",2,38,"Jeremy Swingle",0,0,null,null,null,null,null,null,0,0,0,0,3.5416666666666665]
["Ivan Derr","CH2","Chapel Hill","2014-2015",3,"Pre",3,39,"Tiffany Bye",0,0,null,1,null,null,null,null,0,0,0,20,3.5416666666666665]
["Ivan Derr","CH2","Chapel Hill","2014-2015",1,"Pre",2,42,"Jeremy Swingle",0,0,null,null,null,null,null,null,0,0,0,0,3.5416666666666665]
["Ivan Derr","CH2","Chapel Hill","2014-2015",4,"Pre",1,45,"Scott Peterson",0,1,null,null,null,null,null,null,0,0,0,0,3.5416666666666665]
["Ivan Derr","CH2","Chapel Hill","2014-2015",2,"Pre",2,46,"Jeremy Swingle",0,1,null,null,null,null,null,null,0,0,0,0,3.5416666666666665]
["Ivan Derr","CH2","Chapel Hill","2014-2015",1,"ConA",3,"A-B","Tiffany Bye",0,0,null,null,null,null,null,null,0,0,0,0,3.5416666666666665]
["Ivan Derr","CH2","Chapel Hill","2014-2015",4,"ConA",3,"A-B","Abby Ashcraft",0,0,null,null,null,null,null,null,0,0,0,0,3.5416666666666665]
["Ivan Derr","CH2","Chapel Hill","2014-2015",3,"ConA",2,"A-C","Jeremy Swingle",0,1,null,null,null,null,null,null,0,0,0,0,3.5416666666666665]
["Ivan Derr","CH2","Chapel Hill","2014-2015",2,"ConA",2,"A-G","Jeremy Swingle",0,1,null,null,null,null,null,null,0,0,0,0,3.5416666666666665]
["Ivan Derr","CH2","Chapel Hill","2014-2015",1,"ConA",3,"A-H","Tiffany Bye",0,0,null,null,null,null,null,null,0,0,0,0,3.5416666666666665]
["Ivan Derr","CH2","Chapel Hill","2014-2015",2,"ConA",3,"A-I","Tiffany Bye",0,0,null,null,null,null,null,null,0,0,0,0,3.5416666666666665]
["Ivan Derr","CH2","Chapel Hill","2014-2015",1,"Pre",2,18,"Jeremy Swingle",1,2,null,null,null,null,null,null,0,0,10,10,3.5416666666666665]
["Ivan Derr","CH2","Chapel Hill","2014-2015",2,"Pre",4,20,"Cutty Welt",1,0,null,null,null,null,1,null,0,0,20,30,3.5416666666666665]
["Ivan Derr","CH2","Chapel Hill","2014-2015",2,"ConA",3,"A-B","Tiffany Bye",1,1,null,null,null,1,null,null,0,0,20,30,3.5416666666666665]
["Ivan Derr","CH2","Chapel Hill","2014-2015",4,"ConA",3,"A-F","Abby Ashcraft",1,0,null,null,null,1,null,null,0,0,20,30,3.5416666666666665]
["Ivan Derr","CH2","Chapel Hill","2014-2015",3,"ConA",3,"A-H","Tiffany Bye",1,1,null,null,null,null,null,null,0,0,20,20,3.5416666666666665]
["Ivan Derr","CH2","Chapel Hill","2014-2015",4,"ConA",3,"A-I","Abby Ashcraft",1,0,null,null,null,null,null,null,0,0,20,20,3.5416666666666665]
["Ivan Derr","CH2","Chapel Hill","2014-2015",3,"Pre",1,45,"Scott Peterson",2,1,null,null,null,null,null,null,0,0,40,40,3.5416666666666665]
["Ivan Derr","CH2","Chapel Hill","2014-2015",2,"ConA",3,"A-E","Tiffany Bye",3,0,null,null,null,null,null,null,0,0,60,60,3.5416666666666665]
["Ivan Derr","CH2","Chapel Hill","2014-2015",3,"ConA",3,"A-F","Tiffany Bye",3,1,null,null,null,null,null,null,{"$f":"IF(J1922=4,1,0)","v":0},{"$f":"IF(K1922=3,1,0)","v":0},60,{"$f":"T1922+M1922*(20) + (SUM(O1922:Q1922)*(10)) - L1922*(5) - N1922*(5)","v":60},{"$f":"AVERAGEIFS(U:U,A:A,A1922,F:F,\"Pre\")","v":3.5416666666666665}]
["Ivan Derr","CH2","Chapel Hill","2014-2015",4,"ConA",2,"A-J","Jeremy Swingle",0,1,null,null,null,null,null,null,0,0,0,0,3.5416666666666665]
["Jacob Pope","DAC3","Dallas","2014-2015",4,"Pre",2,2,"Jeremy Swingle",0,1,null,null,null,null,null,null,0,0,0,0,3.3333333333333335]
["Jacob Pope","DAC3","Dallas","2014-2015",3,"Pre",1,5,"Scott Peterson",0,0,null,null,null,null,null,null,0,0,0,0,3.3333333333333335]
["Jacob Pope","DAC3","Dallas","2014-2015",4,"Pre",2,10,"Jeremy Swingle",0,0,null,null,null,null,null,null,0,0,0,0,3.3333333333333335]
["Jacob Pope","DAC3","Dallas","2014-2015",3,"Pre",3,11,"Tiffany Bye",0,0,null,null,null,null,null,null,0,0,0,0,3.3333333333333335]
["Jacob Pope","DAC3","Dallas","2014-2015",1,"Pre",4,12,"Cutty Welt",0,0,null,null,null,null,null,null,0,0,0,0,3.3333333333333335]
["Jacob Pope","DAC3","Dallas","2014-2015",3,"Pre",2,18,"Jeremy Swingle",0,0,null,1,null,null,null,null,0,0,0,20,3.3333333333333335]
["Jacob Pope","DAC3","Dallas","2014-2015",1,"Pre",4,20,"Cutty Welt",0,0,null,null,null,null,null,null,0,0,0,0,3.3333333333333335]
["Jacob Pope","DAC3","Dallas","2014-2015",2,"Pre",4,20,"Cutty Welt",0,0,null,null,null,null,null,null,0,0,{"$f":"quizscore(J1931,K1931)","v":0},0,3.3333333333333335]
["Jacob Pope","DAC3","Dallas","2014-2015",1,"Pre",1,21,"Scott Peterson",0,0,null,null,null,null,null,null,0,0,0,0,3.3333333333333335]
["Jacob Pope","DAC3","Dallas","2014-2015",4,"Pre",3,23,"Tony Kong",0,1,null,null,null,null,null,null,0,0,0,0,3.3333333333333335]
["Jacob Pope","DAC3","Dallas","2014-2015",1,"Pre",1,25,"Scott Peterson",0,0,null,null,null,null,null,null,0,0,0,0,3.3333333333333335]
["Jacob Pope","DAC3","Dallas","2014-2015",2,"Pre",3,27,"Tiffany Bye",0,1,null,null,null,null,null,null,0,0,0,0,3.3333333333333335]
["Jacob Pope","DAC3","Dallas","2014-2015",4,"Pre",4,32,"Cutty Welt",0,0,null,null,null,null,null,null,0,0,0,0,3.3333333333333335]
["Jacob Pope","DAC3","Dallas","2014-2015",4,"Pre",1,33,"Scott Peterson",0,0,null,null,null,null,null,null,0,0,0,0,3.3333333333333335]
["Jacob Pope","DAC3","Dallas","2014-2015",1,"Pre",2,34,"Jeremy Swingle",0,0,null,null,null,null,null,null,0,0,0,0,3.3333333333333335]
["Jacob Pope","DAC3","Dallas","2014-2015",2,"Pre",2,34,"Jeremy Swingle",0,0,null,null,null,null,null,null,0,0,0,0,3.3333333333333335]
["Jacob Pope","DAC3","Dallas","2014-2015",3,"Pre",3,35,"Tiffany Bye",0,0,null,null,null,null,null,null,0,0,0,0,3.3333333333333335]
["Jacob Pope","DAC3","Dallas","2014-2015",2,"Pre",4,40,"Cutty Welt",0,0,null,null,null,null,null,null,0,0,0,0,3.3333333333333335]
["Jacob Pope","DAC3","Dallas","2014-2015",1,"Pre",3,43,"Tiffany Bye",0,0,null,null,null,null,null,null,0,0,0,0,3.3333333333333335]
["Jacob Pope","DAC3","Dallas","2014-2015",3,"Pre",4,44,"Cutty Welt",0,0,null,null,null,null,null,null,0,0,0,0,3.3333333333333335]
["Jacob Pope","DAC3","Dallas","2014-2015",2,"Pre",3,47,"Tiffany Bye",0,0,null,null,null,null,null,null,0,0,0,0,3.3333333333333335]
["Jacob Pope","DAC3","Dallas","2014-2015",2,"ConB",4,"B-1","Cutty Welt",0,0,null,null,null,null,null,null,0,0,0,0,3.3333333333333335]
["Jacob Pope","DAC3","Dallas","2014-2015",4,"ConB",4,"B-1","Cutty Welt",0,0,null,null,null,null,null,null,0,0,0,0,3.3333333333333335]
["Jacob Pope","DAC3","Dallas","2014-2015",3,"ConB",4,"B-2","Cutty Welt",0,1,null,null,null,null,null,null,0,0,0,0,3.3333333333333335]
["Jacob Pope","DAC3","Dallas","2014-2015",4,"ConB",4,"B-3","Cutty Welt",0,0,null,null,null,null,null,null,0,0,0,0,3.3333333333333335]
["Jacob Pope","DAC3","Dallas","2014-2015",1,"ConB",4,"B-5","Cutty Welt",0,1,null,null,null,null,null,null,0,0,0,0,3.3333333333333335]
["Jacob Pope","DAC3","Dallas","2014-2015",2,"ConB",4,"B-5","Cutty Welt",0,0,null,null,null,null,null,null,0,0,0,0,3.3333333333333335]
["Jacob Pope","DAC3","Dallas","2014-2015",3,"ConB",4,"B-6","Cutty Welt",0,0,null,null,null,null,null,null,0,0,0,0,3.3333333333333335]
["Jacob Pope","DAC3","Dallas","2014-2015",1,"ConB",4,"B-7","Cutty Welt",0,0,null,null,1,null,null,null,0,0,0,-5,3.3333333333333335]
["Jacob Pope","DAC3","Dallas","2014-2015",3,"ConB",4,"B-7","Cutty Welt",0,0,null,null,null,null,null,null,0,0,0,0,3.3333333333333335]
["Jacob Pope","DAC3","Dallas","2014-2015",2,"Pre",1,5,"Scott Peterson",1,0,null,null,null,null,null,null,0,0,20,20,3.3333333333333335]
["Jacob Pope","DAC3","Dallas","2014-2015",3,"Pre",2,26,"Jeremy Swingle",1,0,null,null,null,null,null,null,0,0,20,20,3.3333333333333335]
["Jacob Pope","DAC3","Dallas","2014-2015",4,"Pre",1,49,"Scott Peterson",1,0,null,null,null,null,null,null,0,0,20,20,3.3333333333333335]
["Jacob Pope","DAC3","Dallas","2014-2015",2,"ConB",4,"B-2","Cutty Welt",1,0,null,null,null,null,null,null,0,0,20,20,3.3333333333333335]
["Jacob Pope","DAC3","Dallas","2014-2015",1,"ConB",4,"B-3","Cutty Welt",1,0,null,null,null,null,null,null,0,0,20,20,3.3333333333333335]
["Jacob Pope","DAC3","Dallas","2014-2015",4,"ConB",4,"B-6","Cutty Welt",1,0,null,null,null,null,null,null,0,0,20,20,3.3333333333333335]
["Jacob Pope","DAC3","Dallas","2014-2015",5,"Pre",4,8,"Cutty Welt",0,0,null,null,null,null,null,null,0,0,0,0,3.3333333333333335]
["Jacob Pope","DAC3","Dallas","2014-2015",5,"Pre",3,19,"Tony Kong",0,0,null,null,null,null,null,null,0,0,0,0,3.3333333333333335]
["Jacob Pope","DAC3","Dallas","2014-2015",5,"Pre",4,28,"Cutty Welt",0,0,null,null,null,null,null,null,0,0,0,0,3.3333333333333335]
["Jacob Pope","DAC3","Dallas","2014-2015",5,"Pre",2,34,"Jeremy Swingle",0,0,null,null,null,null,null,null,0,0,{"$f":"quizscore(J1963,K1963)","v":0},0,3.3333333333333335]
["Jacob Pope","DAC3","Dallas","2014-2015",5,"Pre",1,37,"Scott Peterson",0,0,null,null,null,null,null,null,0,0,0,0,3.3333333333333335]
["Jacob Pope","DAC3","Dallas","2014-2015",5,"Pre",2,50,"Jeremy Swingle",1,0,null,null,null,null,null,null,0,0,20,20,3.3333333333333335]
["Jacob Pope","DAC3",{"$f":"VLOOKUP(B1966,$B$2:$C$3219,2,FALSE)","v":"Dallas"},"2014-2015",5,"ConB",4,"B-4","Cutty Welt",0,0,null,null,null,null,null,null,0,0,0,0,3.3333333333333335]
["Jacob Pope","DAC3",{"$f":"VLOOKUP(B1967,$B$2:$C$3219,2,FALSE)","v":"Dallas"},"2014-2015",5,"ConB",4,"B-5","Cutty Welt",0,0,null,null,null,null,null,null,0,0,0,0,3.3333333333333335]
["Jacob Pope","DAC3",{"$f":"VLOOKUP(B1968,$B$2:$C$3219,2,FALSE)","v":"Dallas"},"2014-2015",5,"ConB",4,"B-6","Cutty Welt",0,0,null,null,null,null,null,null,0,0,0,0,3.3333333333333335]
["Jacob Pope","DAC3",{"$f":"VLOOKUP(B1969,$B$2:$C$3219,2,FALSE)","v":"Dallas"},"2014-2015",5,"ConB",4,"B-J","Cutty Welt",0,0,null,null,null,null,null,null,0,0,null,0,3.3333333333333335]
["James Taw","ABC2","ABC","2014-2015",4,"Pre",4,16,"Cutty Welt",0,3,null,null,null,null,null,null,0,1,{"$f":"quizscore(J1970,K1970)","v":-20},-20,49.333333333333336]
["James Taw","ABC2","ABC","2014-2015",2,"Pre",4,48,"Cutty Welt",0,2,null,1,null,null,null,null,0,0,-10,10,49.333333333333336]
["James Taw","ABC2","ABC","2014-2015",3,"Pre",3,35,"Tiffany Bye",0,1,null,null,null,null,null,null,0,0,0,0,49.333333333333336]
["James Taw","ABC2","ABC","2014-2015",2,"Semi",1,"A","Scott Peterson",0,1,null,null,null,null,null,null,0,0,0,0,49.333333333333336]
["James Taw","ABC2","ABC","2014-2015",1,"Semi",1,"D","Scott Peterson",0,0,null,null,null,null,null,null,0,0,0,0,49.333333333333336]
["James Taw","ABC2","ABC","2014-2015",2,"Semi",1,"D","Scott Peterson",0,0,null,1,null,null,null,null,0,0,0,20,49.333333333333336]
["James Taw","ABC2","ABC","2014-2015",1,"Semi",1,"G","Scott Peterson",0,0,null,null,null,null,null,null,0,0,0,0,49.333333333333336]
["James Taw","ABC2","ABC","2014-2015",1,"Semi",1,"I","Scott Peterson",0,0,null,null,null,null,null,null,0,0,0,0,49.333333333333336]
["James Taw","ABC2","ABC","2014-2015",2,"Semi",1,"J","Scott Peterson",0,0,1,null,null,null,null,null,0,0,0,-5,49.333333333333336]
["James Taw","ABC2","ABC","2014-2015",2,"Pre",1,5,"Scott Peterson",1,2,null,null,null,null,null,null,0,0,10,10,49.333333333333336]
["James Taw","ABC2","ABC","2014-2015",4,"Pre",3,11,"Tony Kong",1,2,null,null,null,null,null,null,0,0,10,10,49.333333333333336]
["James Taw","ABC2","ABC","2014-2015",4,"Pre",1,21,"Scott Peterson",1,2,null,1,null,null,null,null,0,0,10,30,49.333333333333336]
["James Taw","ABC2","ABC","2014-2015",3,"Pre",1,41,"Scott Peterson",1,2,null,1,null,null,null,null,0,0,10,30,49.333333333333336]
["James Taw","ABC2","ABC","2014-2015",4,"Semi",1,"C","Scott Peterson",1,2,null,null,null,null,null,null,0,0,10,10,49.333333333333336]
["James Taw","ABC2","ABC","2014-2015",1,"Pre",2,10,"Jeremy Swingle",1,0,null,null,null,null,null,null,0,0,20,20,49.333333333333336]
["James Taw","ABC2","ABC","2014-2015",2,"Pre",2,38,"Jeremy Swingle",1,1,null,null,null,null,null,null,0,0,20,20,49.333333333333336]
["James Taw","ABC2","ABC","2014-2015",1,"Semi",1,"A","Scott Peterson",1,0,null,null,null,null,null,null,{"$f":"IF(J1986=4,1,0)","v":0},{"$f":"IF(K1986=3,1,0)","v":0},20,{"$f":"T1986+M1986*(20) + (SUM(O1986:Q1986)*(10)) - L1986*(5) - N1986*(5)","v":20},{"$f":"AVERAGEIFS(U:U,A:A,A1986,F:F,\"Pre\")","v":49.333333333333336}]
["James Taw","ABC2","ABC","2014-2015",3,"Semi",1,"B","Scott Peterson",1,1,null,null,null,null,null,null,0,0,20,20,49.333333333333336]
["James Taw","ABC2","ABC","2014-2015",4,"Semi",2,"F","Jeremy Swingle",1,1,1,null,null,null,null,null,0,0,20,15,49.333333333333336]
["James Taw","ABC2","ABC","2014-2015",1,"Pre",1,41,"Scott Peterson",2,2,null,null,null,1,null,null,0,0,30,40,49.333333333333336]
["James Taw","ABC2","ABC","2014-2015",1,"Pre",1,1,"Scott Peterson",2,0,null,1,null,null,null,null,0,0,40,60,49.333333333333336]
["James Taw","ABC2","ABC","2014-2015",4,"Pre",2,26,"Jeremy Swingle",2,1,null,null,null,null,null,null,0,0,40,40,49.333333333333336]
["James Taw","ABC2","ABC","2014-2015",4,"Pre",3,43,"Tony Kong",2,1,null,null,null,null,null,null,0,0,40,40,49.333333333333336]
["James Taw","ABC2","ABC","2014-2015",3,"Pre",2,50,"Jeremy Swingle",2,1,null,null,null,null,null,null,0,0,40,40,49.333333333333336]
["James Taw","ABC2","ABC","2014-2015",3,"Pre",2,14,"Jeremy Swingle",3,2,null,null,null,1,null,null,0,0,50,60,49.333333333333336]
["James Taw","ABC2","ABC","2014-2015",3,"Pre",3,7,"Tiffany Bye",3,1,null,null,null,null,null,null,0,0,60,60,49.333333333333336]
["James Taw","ABC2","ABC","2014-2015",3,"Pre",1,25,"Tiffany Bye",3,1,null,null,null,1,null,null,0,0,60,70,49.333333333333336]
["James Taw","ABC2","ABC","2014-2015",1,"Pre",4,36,"Cutty Welt",3,0,null,null,null,null,null,null,0,0,60,60,49.333333333333336]
["James Taw","ABC2","ABC","2014-2015",3,"Semi",2,"F","Jeremy Swingle",3,1,null,null,null,null,null,null,0,0,60,60,49.333333333333336]
["James Taw","ABC2","ABC","2014-2015",2,"Semi",1,"J","Scott Peterson",3,1,1,null,null,null,null,null,0,0,60,55,49.333333333333336]
["James Taw","ABC2","ABC","2014-2015",4,"Pre",4,4,"Cutty Welt",4,0,null,null,null,1,null,null,1,0,90,100,49.333333333333336]
["James Taw","ABC2","ABC","2014-2015",2,"Pre",3,15,"Tiffany Bye",4,0,null,null,null,1,null,null,1,0,90,100,49.333333333333336]
["James Taw","ABC2","ABC","2014-2015",1,"Pre",3,19,"Tiffany Bye",4,0,null,null,null,1,null,null,1,0,{"$f":"quizscore(J2002,K2002)","v":90},100,49.333333333333336]
["James Taw","ABC2","ABC","2014-2015",2,"Pre",2,22,"Jeremy Swingle",4,0,null,null,null,1,null,null,1,0,90,100,49.333333333333336]
["James Taw","ABC2","ABC","2014-2015",1,"Pre",4,32,"Cutty Welt",4,0,null,null,null,1,null,null,1,0,90,100,49.333333333333336]
["James Taw","ABC2","ABC","2014-2015",2,"Pre",4,32,"Cutty Welt",4,0,null,null,null,null,null,null,1,0,90,90,49.333333333333336]
["James Taw","ABC2","ABC","2014-2015",5,"Pre",1,1,"Scott Peterson",2,0,null,null,null,null,null,null,0,0,40,40,49.333333333333336]
["James Taw","ABC2","ABC","2014-2015",5,"Pre",4,8,"Cutty Welt",2,2,null,1,null,null,null,null,0,0,30,50,49.333333333333336]
["James Taw","ABC2","ABC","2014-2015",5,"Pre",2,14,"Jeremy Swingle",3,1,null,null,null,null,null,null,0,0,60,60,49.333333333333336]
["James Taw","ABC2","ABC","2014-2015",5,"Pre",3,27,"Tony Kong",4,1,null,null,null,null,null,null,1,0,80,80,49.333333333333336]
["James Taw","ABC2","ABC","2014-2015",5,"Pre",3,39,"Tony Kong",3,2,null,null,null,null,null,null,0,0,50,50,49.333333333333336]
["James Taw","ABC2","ABC","2014-2015",5,"Pre",1,45,"Scott Peterson",2,2,null,null,null,null,null,null,0,0,30,30,49.333333333333336]
["James Taw","ABC2","ABC","2014-2015",5,"Semi",1,"C","Scott Peterson",1,1,null,null,null,null,null,null,0,0,20,20,49.333333333333336]
["James Taw","ABC2","ABC","2014-2015",5,"Semi",2,"F","Jeremy Swingle",4,0,null,null,null,null,null,null,1,0,90,90,49.333333333333336]
["James Taw","ABC2","ABC","2014-2015",5,"Semi",2,"H","Jeremy Swingle",1,1,null,null,null,null,null,null,0,0,20,20,49.333333333333336]
["James Taw","ABC2","ABC","2014-2015",5,"Semi",1,"I","Scott Peterson",2,1,null,null,null,null,null,null,0,0,40,40,49.333333333333336]
["Jamie Rand","DAC4","Dallas","2014-2015",3,"Pre",3,47,"Tiffany Bye",1,2,null,null,null,null,null,null,0,0,10,10,62.833333333333336]
["Jamie Rand","DAC4","Dallas","2014-2015",2,"Semi",1,"A","Scott Peterson",1,2,null,1,null,null,null,null,0,0,10,30,62.833333333333336]
["Jamie Rand","DAC4","Dallas","2014-2015",2,"Semi",2,"F","Jeremy Swingle",1,2,null,1,null,null,null,null,0,0,10,30,62.833333333333336]
["Jamie Rand","DAC4","Dallas","2014-2015",4,"Pre",4,28,"Cutty Welt",2,3,null,null,null,null,null,null,0,1,20,20,62.833333333333336]
["Jamie Rand","DAC4","Dallas","2014-2015",4,"Pre",2,30,"Jeremy Swingle",2,3,null,null,null,null,null,null,0,1,20,20,62.833333333333336]
["Jamie Rand","DAC4","Dallas","2014-2015",2,"Pre",2,42,"Jeremy Swingle",2,2,null,null,null,null,null,null,0,0,30,30,62.833333333333336]
["Jamie Rand","DAC4","Dallas","2014-2015",4,"Pre",4,20,"Cutty Welt",2,1,null,null,null,null,null,null,0,0,40,40,62.833333333333336]
["Jamie Rand","DAC4","Dallas","2014-2015",3,"Pre",4,12,"Cutty Welt",3,2,null,1,null,null,null,null,0,0,50,70,62.833333333333336]
["Jamie Rand","DAC4","Dallas","2014-2015",4,"ConA",2,"A-A","Jeremy Swingle",3,2,null,null,null,null,null,null,0,0,50,50,62.833333333333336]
["Jamie Rand","DAC4","Dallas","2014-2015",1,"Semi",2,"F","Jeremy Swingle",3,2,null,null,1,null,null,null,0,0,50,45,62.833333333333336]
["Jamie Rand","DAC4","Dallas","2014-2015",4,"Pre",3,43,"Tony Kong",3,1,null,null,1,null,null,null,0,0,60,55,62.833333333333336]
["Jamie Rand","DAC4","Dallas","2014-2015",4,"ConA",2,"A-D","Jeremy Swingle",3,1,null,null,null,null,null,null,0,0,60,60,62.833333333333336]
["Jamie Rand","DAC4","Dallas","2014-2015",1,"Semi",1,"B","Scott Peterson",3,1,null,null,null,null,null,null,0,0,60,60,62.833333333333336]
["Jamie Rand","DAC4","Dallas","2014-2015",4,"Pre",1,33,"Scott Peterson",4,2,null,null,null,null,null,null,1,0,70,70,62.833333333333336]
["Jamie Rand","DAC4","Dallas","2014-2015",1,"Pre",2,2,"Jeremy Swingle",4,1,null,null,null,null,null,null,1,0,80,80,62.833333333333336]
["Jamie Rand","DAC4","Dallas","2014-2015",4,"Pre",2,6,"Jeremy Swingle",4,1,null,null,1,null,null,null,1,0,80,75,62.833333333333336]
["Jamie Rand","DAC4","Dallas","2014-2015",2,"Pre",4,8,"Cutty Welt",4,1,null,null,null,null,null,null,1,0,80,80,62.833333333333336]
["Jamie Rand","DAC4","Dallas","2014-2015",3,"Pre",2,22,"Jeremy Swingle",4,1,null,null,null,null,null,null,1,0,80,80,62.833333333333336]
["Jamie Rand","DAC4","Dallas","2014-2015",2,"Pre",3,23,"Tiffany Bye",4,1,null,null,null,null,null,null,1,0,{"$f":"quizscore(J2034,K2034)","v":80},80,62.833333333333336]
["Jamie Rand","DAC4","Dallas","2014-2015",1,"Pre",1,33,"Scott Peterson",4,1,null,null,null,null,null,null,1,0,80,80,62.833333333333336]
["Jamie Rand","DAC4","Dallas","2014-2015",3,"Pre",2,38,"Jeremy Swingle",4,1,null,null,null,null,null,null,1,0,80,80,62.833333333333336]
["Jamie Rand","DAC4","Dallas","2014-2015",3,"ConA",2,"A-A","Jeremy Swingle",4,1,null,null,null,null,null,null,1,0,80,80,62.833333333333336]
["Jamie Rand","DAC4","Dallas","2014-2015",3,"ConA",2,"A-D","Jeremy Swingle",4,1,null,1,null,null,null,null,1,0,80,100,62.833333333333336]
["Jamie Rand","DAC4","Dallas","2014-2015",4,"ConA",2,"A-G","Jeremy Swingle",4,1,null,null,1,null,null,null,1,0,80,75,62.833333333333336]
["Jamie Rand","DAC4","Dallas","2014-2015",3,"Pre",1,1,"Scott Peterson",4,0,null,null,null,null,null,null,1,0,90,90,62.833333333333336]
["Jamie Rand","DAC4","Dallas","2014-2015",1,"Pre",3,11,"Tiffany Bye",4,0,null,null,null,null,null,null,1,0,90,90,62.833333333333336]
["Jamie Rand","DAC4","Dallas","2014-2015",2,"Pre",1,13,"Scott Peterson",4,0,null,null,null,null,null,null,1,0,90,90,62.833333333333336]
["Jamie Rand","DAC4","Dallas","2014-2015",1,"Pre",4,24,"Cutty Welt",4,0,null,null,null,null,null,null,1,0,90,90,62.833333333333336]
["Jamie Rand","DAC4","Dallas","2014-2015",1,"Pre",1,29,"Scott Peterson",4,0,null,null,null,null,null,null,1,0,90,90,62.833333333333336]
["Jamie Rand","DAC4","Dallas","2014-2015",3,"Pre",3,31,"Tiffany Bye",4,0,null,null,null,null,null,null,1,0,90,90,62.833333333333336]
["Jamie Rand","DAC4","Dallas","2014-2015",2,"Pre",4,32,"Cutty Welt",4,0,null,null,null,null,null,null,1,0,90,90,62.833333333333336]
["Jamie Rand","DAC4","Dallas","2014-2015",1,"Pre",3,47,"Tiffany Bye",4,0,null,null,null,null,null,null,1,0,90,90,62.833333333333336]
["Jamie Rand","DAC4","Dallas","2014-2015",2,"Pre",3,47,"Tiffany Bye",4,0,null,null,null,null,null,null,1,0,90,90,62.833333333333336]
["Jamie Rand","DAC4","Dallas","2014-2015",3,"ConA",2,"A-J","Jeremy Swingle",4,0,null,null,null,null,null,null,1,0,90,90,62.833333333333336]
["Jamie Rand","DAC4","Dallas","2014-2015",4,"ConA",2,"A-J","Jeremy Swingle",2,3,null,null,null,null,null,null,{"$f":"IF(J2050=4,1,0)","v":0},{"$f":"IF(K2050=3,1,0)","v":1},20,{"$f":"T2050+M2050*(20) + (SUM(O2050:Q2050)*(10)) - L2050*(5) - N2050*(5)","v":20},{"$f":"AVERAGEIFS(U:U,A:A,A2050,F:F,\"Pre\")","v":62.833333333333336}]
["Jamie Rand","DAC4","Dallas","2014-2015",5,"Pre",1,1,"Scott Peterson",1,1,null,null,null,null,null,null,0,0,20,20,62.833333333333336]
["Jamie Rand","DAC4","Dallas","2014-2015",5,"Pre",3,11,"Tony Kong",2,1,null,null,1,null,null,null,0,0,40,35,62.833333333333336]
["Jamie Rand","DAC4","Dallas","2014-2015",5,"Pre",3,19,"Tony Kong",2,3,null,null,null,null,null,null,0,1,20,20,62.833333333333336]
["Jamie Rand","DAC4","Dallas","2014-2015",5,"Pre",4,32,"Cutty Welt",4,0,null,null,null,null,null,null,1,0,90,90,62.833333333333336]
["Jamie Rand","DAC4","Dallas","2014-2015",5,"Pre",2,38,"Jeremy Swingle",2,2,null,null,null,null,null,null,0,0,30,30,62.833333333333336]
["Jamie Rand","DAC4","Dallas","2014-2015",5,"Pre",2,46,"Jeremy Swingle",1,2,null,null,null,null,null,null,0,0,10,10,62.833333333333336]
["Jamie Rand","DAC4","Dallas","2014-2015",5,"ConA",3,"A-B","Abby Ashcraft",4,1,null,null,null,null,null,null,1,0,80,80,62.833333333333336]
["Jamie Rand","DAC4","Dallas","2014-2015",5,"ConA",2,"A-D","Jeremy Swingle",4,0,null,1,null,null,null,null,1,0,90,110,62.833333333333336]
["Jamie Rand","DAC4",{"$f":"VLOOKUP(B2059,$B$2:$C$3219,2,FALSE)","v":"Dallas"},"2014-2015",5,"ConA",3,"A-J","Abby Ashcraft",3,2,null,null,null,null,null,null,0,0,null,0,62.833333333333336]
["Jason Small","FOX","Fox Island","2014-2015",4,"Pre",3,7,"Tony Kong",0,2,null,null,null,null,null,null,0,0,{"$f":"quizscore(J2060,K2060)","v":-10},-10,12.5]
["Jason Small","FOX","Fox Island","2014-2015",2,"Pre",2,18,"Jeremy Swingle",0,2,null,null,null,null,null,null,0,0,-10,-10,12.5]
["Jason Small","FOX","Fox Island","2014-2015",3,"Pre",3,3,"Tiffany Bye",0,0,null,null,null,null,null,null,0,0,0,0,12.5]
["Jason Small","FOX","Fox Island","2014-2015",1,"Pre",1,5,"Scott Peterson",0,1,null,null,null,null,null,null,0,0,0,0,12.5]
["Jason Small","FOX","Fox Island","2014-2015",2,"Pre",1,9,"Scott Peterson",0,0,null,null,null,null,null,null,0,0,0,0,12.5]
["Jason Small","FOX","Fox Island","2014-2015",4,"Pre",2,10,"Jeremy Swingle",0,1,null,null,null,null,null,null,0,0,0,0,12.5]
["Jason Small","FOX","Fox Island","2014-2015",1,"Pre",4,16,"Cutty Welt",0,0,null,null,null,null,null,null,0,0,0,0,12.5]
["Jason Small","FOX","Fox Island","2014-2015",3,"Pre",3,19,"Tiffany Bye",0,0,null,null,null,null,null,null,0,0,0,0,12.5]
["Jason Small","FOX","Fox Island","2014-2015",4,"Pre",4,20,"Cutty Welt",0,1,null,null,null,null,null,null,0,0,0,0,12.5]
["Jason Small","FOX","Fox Island","2014-2015",4,"Pre",1,25,"Scott Peterson",0,0,null,1,null,null,null,null,0,0,0,20,12.5]
["Jason Small","FOX","Fox Island","2014-2015",2,"Pre",3,27,"Tiffany Bye",0,0,null,null,null,null,null,null,0,0,0,0,12.5]
["Jason Small","FOX","Fox Island","2014-2015",4,"Pre",1,29,"Scott Peterson",0,0,null,null,null,null,null,null,0,0,0,0,12.5]
["Jason Small","FOX","Fox Island","2014-2015",1,"Pre",4,32,"Cutty Welt",0,0,null,null,null,null,null,null,0,0,0,0,12.5]
["Jason Small","FOX","Fox Island","2014-2015",2,"Pre",4,36,"Cutty Welt",0,0,null,null,1,null,null,null,0,0,0,-5,12.5]
["Jason Small","FOX","Fox Island","2014-2015",4,"Pre",4,44,"Cutty Welt",0,0,null,null,null,null,null,null,0,0,0,0,12.5]
["Jason Small","FOX","Fox Island","2014-2015",3,"Pre",1,49,"Scott Peterson",0,1,null,null,null,null,null,null,0,0,0,0,12.5]
["Jason Small","FOX","Fox Island","2014-2015",1,"Semi",1,"A","Scott Peterson",0,0,null,null,null,null,null,null,0,0,0,0,12.5]
["Jason Small","FOX","Fox Island","2014-2015",2,"ConA",2,"A-D","Jeremy Swingle",0,0,1,null,null,null,null,null,0,0,0,-5,12.5]
["Jason Small","FOX","Fox Island","2014-2015",2,"ConA",2,"A-G","Jeremy Swingle",0,0,null,null,null,null,null,null,0,0,0,0,12.5]
["Jason Small","FOX","Fox Island","2014-2015",3,"ConA",3,"A-H","Tiffany Bye",0,1,null,null,null,null,null,null,0,0,0,0,12.5]
["Jason Small","FOX","Fox Island","2014-2015",4,"ConB",4,"B-3","Cutty Welt",0,0,null,null,null,null,null,null,0,0,0,0,12.5]
["Jason Small","FOX","Fox Island","2014-2015",1,"Semi",1,"E","Scott Peterson",0,0,null,null,null,null,null,null,0,0,0,0,12.5]
["Jason Small","FOX","Fox Island","2014-2015",1,"Semi",2,"H","Jeremy Swingle",0,0,null,null,null,null,null,null,0,0,0,0,12.5]
["Jason Small","FOX","Fox Island","2014-2015",1,"Pre",1,21,"Scott Peterson",1,0,null,null,null,1,null,null,0,0,20,30,12.5]
["Jason Small","FOX","Fox Island","2014-2015",3,"Pre",2,38,"Jeremy Swingle",1,0,null,null,null,null,null,null,0,0,20,20,12.5]
["Jason Small","FOX","Fox Island","2014-2015",1,"Pre",3,39,"Tiffany Bye",1,0,null,null,null,null,null,null,0,0,20,20,12.5]
["Jason Small","FOX","Fox Island","2014-2015",3,"Pre",1,41,"Scott Peterson",1,0,null,null,null,null,null,null,0,0,20,20,12.5]
["Jason Small","FOX","Fox Island","2014-2015",1,"Pre",2,50,"Jeremy Swingle",1,0,null,null,null,null,null,null,0,0,20,20,12.5]
["Jason Small","FOX","Fox Island","2014-2015",3,"ConA",2,"A-A","Jeremy Swingle",1,0,null,null,null,null,null,null,0,0,20,20,12.5]
["Jason Small","FOX","Fox Island","2014-2015",2,"ConA",2,"A-C","Jeremy Swingle",1,0,null,null,null,null,null,null,0,0,20,20,12.5]
["Jason Small","FOX","Fox Island","2014-2015",3,"ConA",3,"A-E","Tiffany Bye",1,1,null,null,null,1,null,null,0,0,20,30,12.5]
["Jason Small","FOX","Fox Island","2014-2015",2,"ConA",3,"A-I","Tiffany Bye",1,0,null,null,null,null,null,null,0,0,20,20,12.5]
["Jason Small","FOX","Fox Island","2014-2015",4,"ConB",4,"B-2","Cutty Welt",1,1,null,null,null,1,null,null,0,0,20,30,12.5]
["Jason Small","FOX","Fox Island","2014-2015",4,"ConB",4,"B-4","Cutty Welt",1,0,null,null,null,1,null,null,0,0,20,30,12.5]
["Jason Small","FOX","Fox Island","2014-2015",3,"Pre",4,32,"Cutty Welt",2,2,null,null,null,null,null,null,0,0,30,30,12.5]
["Jason Small","FOX","Fox Island","2014-2015",2,"Pre",2,46,"Jeremy Swingle",2,0,null,null,null,null,null,null,0,0,40,40,12.5]
["Jason Small","FOX","Fox Island","2014-2015",2,"Pre",3,43,"Tiffany Bye",3,0,null,null,null,null,null,null,0,0,60,60,12.5]
["Jason Small","FOX","Fox Island","2014-2015",4,"ConB",4,"B-J","Cutty Welt",0,0,null,null,null,null,null,null,0,0,0,0,12.5]
["Jason Small","FOX","Fox Island","2014-2015",5,"Pre",1,9,"Scott Peterson",1,0,null,null,null,null,null,null,0,0,20,20,12.5]
["Jason Small","FOX","Fox Island","2014-2015",5,"Pre",4,20,"Cutty Welt",2,0,null,null,null,null,null,null,0,0,40,40,12.5]
["Jason Small","FOX","Fox Island","2014-2015",5,"Pre",3,27,"Tony Kong",1,1,null,null,null,null,null,null,0,0,20,20,12.5]
["Jason Small","FOX","Fox Island","2014-2015",5,"Pre",4,36,"Cutty Welt",0,1,null,null,null,null,null,null,0,0,0,0,12.5]
["Jason Small","FOX","Fox Island","2014-2015",5,"Pre",2,42,"Jeremy Swingle",0,0,null,null,null,null,null,null,0,0,0,0,12.5]
["Jason Small","FOX","Fox Island","2014-2015",5,"Pre",2,50,"Jeremy Swingle",3,0,null,null,null,null,null,null,0,0,60,60,12.5]
["Jason Small","FOX","Fox Island","2014-2015",5,"ConA",3,"A-B","Abby Ashcraft",1,0,null,null,null,null,null,null,0,0,20,20,12.5]
["Jason Small","FOX","Fox Island","2014-2015",5,"ConA",3,"A-E","Abby Ashcraft",1,1,null,null,null,null,null,null,0,0,20,20,12.5]
["Jason Small","FOX","Fox Island","2014-2015",5,"ConA",2,"A-G","Jeremy Swingle",0,0,null,null,null,null,null,null,0,0,0,0,12.5]
["Jason Small","FOX",{"$f":"VLOOKUP(B2107,$B$2:$C$3219,2,FALSE)","v":"Fox Island"},"2014-2015",5,"ConA",3,"A-I","Abby Ashcraft",0,0,null,null,null,null,null,null,0,0,0,0,12.5]
["JoePaul Appockal","TAC2","Tacoma","2014-2015",4,"Pre",2,2,"Jeremy Swingle",0,0,null,null,null,null,null,null,0,0,0,0,13.166666666666666]
["JoePaul Appockal","TAC2","Tacoma","2014-2015",1,"Pre",3,3,"Tiffany Bye",0,0,1,null,null,null,null,null,0,0,0,-5,13.166666666666666]
["JoePaul Appockal","TAC2","Tacoma","2014-2015",3,"Pre",2,6,"Jeremy Swingle",0,0,null,null,null,null,null,null,0,0,0,0,13.166666666666666]
["JoePaul Appockal","TAC2","Tacoma","2014-2015",2,"Pre",2,10,"Jeremy Swingle",0,0,null,null,null,null,null,null,0,0,0,0,13.166666666666666]
["JoePaul Appockal","TAC2","Tacoma","2014-2015",1,"Pre",3,11,"Tiffany Bye",0,0,null,null,null,null,null,null,0,0,0,0,13.166666666666666]
["JoePaul Appockal","TAC2","Tacoma","2014-2015",4,"Pre",4,12,"Cutty Welt",0,1,null,null,null,null,null,null,0,0,0,0,13.166666666666666]
["JoePaul Appockal","TAC2","Tacoma","2014-2015",4,"Pre",3,27,"Tony Kong",0,0,null,null,null,null,null,null,{"$f":"IF(J2114=4,1,0)","v":0},{"$f":"IF(K2114=3,1,0)","v":0},0,{"$f":"T2114+M2114*(20) + (SUM(O2114:Q2114)*(10)) - L2114*(5) - N2114*(5)","v":0},{"$f":"AVERAGEIFS(U:U,A:A,A2114,F:F,\"Pre\")","v":13.166666666666666}]
["JoePaul Appockal","TAC2","Tacoma","2014-2015",3,"Pre",4,32,"Cutty Welt",0,0,null,null,null,null,null,null,0,0,0,0,13.166666666666666]
["JoePaul Appockal","TAC2","Tacoma","2014-2015",4,"Pre",4,40,"Cutty Welt",0,0,null,null,null,null,null,null,0,0,0,0,13.166666666666666]
["JoePaul Appockal","TAC2","Tacoma","2014-2015",2,"Pre",1,41,"Scott Peterson",0,0,null,null,null,null,null,null,0,0,0,0,13.166666666666666]
["JoePaul Appockal","TAC2","Tacoma","2014-2015",1,"ConA",3,"A-B","Tiffany Bye",0,1,null,null,null,null,null,null,0,0,0,0,13.166666666666666]
["JoePaul Appockal","TAC2","Tacoma","2014-2015",3,"ConA",3,"A-B","Tiffany Bye",0,1,null,null,null,null,null,null,0,0,0,0,13.166666666666666]
["JoePaul Appockal","TAC2","Tacoma","2014-2015",4,"ConA",3,"A-B","Abby Ashcraft",0,1,null,null,null,null,null,null,0,0,0,0,13.166666666666666]
["JoePaul Appockal","TAC2","Tacoma","2014-2015",4,"ConA",3,"A-E","Abby Ashcraft",0,0,null,null,null,null,null,null,0,0,0,0,13.166666666666666]
["JoePaul Appockal","TAC2","Tacoma","2014-2015",4,"ConA",2,"A-G","Jeremy Swingle",0,0,null,null,null,null,null,null,0,0,0,0,13.166666666666666]
["JoePaul Appockal","TAC2","Tacoma","2014-2015",4,"ConA",3,"A-I","Abby Ashcraft",0,0,null,null,null,null,null,null,0,0,0,0,13.166666666666666]
["JoePaul Appockal","TAC2","Tacoma","2014-2015",1,"ConA",2,"A-J","Jeremy Swingle",0,0,null,null,null,null,null,null,0,0,{"$f":"quizscore(J2124,K2124)","v":0},0,13.166666666666666]
["JoePaul Appockal","TAC2","Tacoma","2014-2015",2,"Pre",1,1,"Scott Peterson",1,1,null,null,null,null,null,null,0,0,20,20,13.166666666666666]
["JoePaul Appockal","TAC2","Tacoma","2014-2015",3,"Pre",3,15,"Tiffany Bye",1,0,null,null,null,null,null,null,0,0,20,20,13.166666666666666]
["JoePaul Appockal","TAC2","Tacoma","2014-2015",2,"Pre",3,19,"Tiffany Bye",1,1,null,null,null,null,null,null,0,0,20,20,13.166666666666666]
["JoePaul Appockal","TAC2","Tacoma","2014-2015",1,"Pre",4,20,"Cutty Welt",1,0,null,null,null,1,null,null,0,0,20,30,13.166666666666666]
["JoePaul Appockal","TAC2","Tacoma","2014-2015",3,"Pre",1,21,"Scott Peterson",1,0,null,null,null,null,null,null,0,0,20,20,13.166666666666666]
["JoePaul Appockal","TAC2","Tacoma","2014-2015",1,"Pre",2,26,"Jeremy Swingle",1,0,null,null,null,null,null,null,0,0,20,20,13.166666666666666]
["JoePaul Appockal","TAC2","Tacoma","2014-2015",2,"Pre",2,34,"Jeremy Swingle",1,0,null,null,null,null,null,null,0,0,20,20,13.166666666666666]
["JoePaul Appockal","TAC2","Tacoma","2014-2015",1,"Pre",1,37,"Scott Peterson",1,1,null,null,null,null,null,null,0,0,20,20,13.166666666666666]
["JoePaul Appockal","TAC2","Tacoma","2014-2015",3,"Pre",1,37,"Scott Peterson",1,1,null,null,null,null,null,null,0,0,20,20,13.166666666666666]
["JoePaul Appockal","TAC2","Tacoma","2014-2015",4,"Pre",1,45,"Scott Peterson",1,0,null,null,null,null,null,null,0,0,20,20,13.166666666666666]
["JoePaul Appockal","TAC2","Tacoma","2014-2015",2,"ConA",2,"A-A","Jeremy Swingle",1,1,null,null,null,null,null,null,0,0,20,20,13.166666666666666]
["JoePaul Appockal","TAC2","Tacoma","2014-2015",1,"ConA",2,"A-D","Jeremy Swingle",1,0,null,null,null,1,null,null,0,0,20,30,13.166666666666666]
["JoePaul Appockal","TAC2","Tacoma","2014-2015",3,"ConA",3,"A-F","Tiffany Bye",1,0,null,null,null,null,null,null,0,0,20,20,13.166666666666666]
["JoePaul Appockal","TAC2","Tacoma","2014-2015",2,"ConA",3,"A-H","Tiffany Bye",1,0,null,null,null,1,null,null,0,0,20,30,13.166666666666666]
["JoePaul Appockal","TAC2","Tacoma","2014-2015",4,"Pre",3,19,"Tony Kong",2,0,null,null,null,null,null,null,0,0,40,40,13.166666666666666]
["JoePaul Appockal","TAC2","Tacoma","2014-2015",2,"Pre",4,28,"Cutty Welt",2,0,null,null,null,null,null,null,0,0,40,40,13.166666666666666]
["JoePaul Appockal","TAC2","Tacoma","2014-2015",1,"Pre",2,46,"Jeremy Swingle",2,1,null,null,null,1,null,null,0,0,40,50,13.166666666666666]
["JoePaul Appockal","TAC2","Tacoma","2014-2015",3,"Pre",4,48,"Cutty Welt",2,0,null,null,null,null,null,null,0,0,40,40,13.166666666666666]
["JoePaul Appockal","TAC2","Tacoma","2014-2015",2,"ConA",3,"A-F","Tiffany Bye",4,0,null,null,null,null,null,null,1,0,90,90,13.166666666666666]
["JoePaul Appockal","TAC2","Tacoma","2014-2015",5,"Pre",2,6,"Jeremy Swingle",0,0,null,null,null,null,null,null,0,0,0,0,13.166666666666666]
["JoePaul Appockal","TAC2","Tacoma","2014-2015",5,"Pre",3,15,"Tony Kong",0,1,null,null,null,null,null,null,0,0,0,0,13.166666666666666]
["JoePaul Appockal","TAC2","Tacoma","2014-2015",5,"Pre",2,22,"Jeremy Swingle",0,0,null,null,null,null,null,null,0,0,0,0,13.166666666666666]
["JoePaul Appockal","TAC2","Tacoma","2014-2015",5,"Pre",3,31,"Tony Kong",0,0,null,null,null,null,null,null,0,0,0,0,13.166666666666666]
["JoePaul Appockal","TAC2","Tacoma","2014-2015",5,"Pre",1,33,"Scott Peterson",0,0,null,null,null,null,null,null,0,0,0,0,13.166666666666666]
["JoePaul Appockal","TAC2","Tacoma","2014-2015",5,"Pre",4,44,"Cutty Welt",1,0,null,null,null,null,null,null,0,0,20,20,13.166666666666666]
["JoePaul Appockal","TAC2","Tacoma","2014-2015",5,"ConA",2,"A-A","Jeremy Swingle",0,0,null,null,null,null,null,null,0,0,0,0,13.166666666666666]
["JoePaul Appockal","TAC2","Tacoma","2014-2015",5,"ConA",3,"A-F","Abby Ashcraft",0,0,null,null,null,null,null,null,0,0,0,0,13.166666666666666]
["JoePaul Appockal","TAC2",{"$f":"VLOOKUP(B2152,$B$2:$C$3219,2,FALSE)","v":"Tacoma"},"2014-2015",5,"ConA",3,"A-H","Abby Ashcraft",0,0,null,null,null,null,null,null,0,0,0,0,13.166666666666666]
["Johnathan Lehrkind","GH2","Grays Harbor","2014-2015",4,"Pre",1,1,"Scott Peterson",0,0,null,null,null,null,null,null,0,0,0,0,0.83333333333333337]
["Johnathan Lehrkind","GH2","Grays Harbor","2014-2015",2,"Pre",3,3,"Tiffany Bye",0,1,null,null,null,null,null,null,0,0,0,0,0.83333333333333337]
["Johnathan Lehrkind","GH2","Grays Harbor","2014-2015",1,"Pre",2,10,"Jeremy Swingle",0,1,null,null,null,null,null,null,0,0,0,0,0.83333333333333337]
["Johnathan Lehrkind","GH2","Grays Harbor","2014-2015",2,"Pre",2,10,"Jeremy Swingle",0,0,null,null,null,null,null,null,0,0,0,0,0.83333333333333337]
["Johnathan Lehrkind","GH2","Grays Harbor","2014-2015",4,"Pre",4,12,"Cutty Welt",0,0,null,null,null,null,null,null,0,0,0,0,0.83333333333333337]
["Johnathan Lehrkind","GH2","Grays Harbor","2014-2015",1,"Pre",1,17,"Scott Peterson",0,0,null,null,null,null,null,null,0,0,0,0,0.83333333333333337]
["Johnathan Lehrkind","GH2","Grays Harbor","2014-2015",4,"Pre",4,20,"Cutty Welt",0,1,null,null,null,null,null,null,0,0,0,0,0.83333333333333337]
["Johnathan Lehrkind","GH2","Grays Harbor","2014-2015",2,"Pre",3,23,"Tiffany Bye",0,0,null,null,null,null,null,null,0,0,0,0,0.83333333333333337]
["Johnathan Lehrkind","GH2","Grays Harbor","2014-2015",1,"Pre",4,24,"Cutty Welt",0,0,null,null,null,null,null,null,0,0,0,0,0.83333333333333337]
["Johnathan Lehrkind","GH2","Grays Harbor","2014-2015",2,"Pre",2,30,"Jeremy Swingle",0,0,null,null,null,null,null,null,0,0,0,0,0.83333333333333337]
["Johnathan Lehrkind","GH2","Grays Harbor","2014-2015",1,"Pre",3,31,"Tiffany Bye",0,1,null,null,null,null,null,null,0,0,0,0,0.83333333333333337]
["Johnathan Lehrkind","GH2","Grays Harbor","2014-2015",4,"Pre",3,31,"Tony Kong",0,0,null,null,null,null,null,null,0,0,0,0,0.83333333333333337]
["Johnathan Lehrkind","GH2","Grays Harbor","2014-2015",2,"Pre",1,33,"Scott Peterson",0,0,null,null,null,null,null,null,0,0,0,0,0.83333333333333337]
["Johnathan Lehrkind","GH2","Grays Harbor","2014-2015",1,"Pre",3,35,"Tiffany Bye",0,1,null,null,null,null,null,null,0,0,0,0,0.83333333333333337]
["Johnathan Lehrkind","GH2","Grays Harbor","2014-2015",4,"Pre",1,41,"Scott Peterson",0,0,null,null,null,null,null,null,0,0,0,0,0.83333333333333337]
["Johnathan Lehrkind","GH2","Grays Harbor","2014-2015",1,"Pre",2,46,"Jeremy Swingle",0,0,null,null,null,null,null,null,0,0,0,0,0.83333333333333337]
["Johnathan Lehrkind","GH2","Grays Harbor","2014-2015",2,"Pre",4,48,"Cutty Welt",0,0,null,null,null,null,null,null,0,0,0,0,0.83333333333333337]
["Johnathan Lehrkind","GH2","Grays Harbor","2014-2015",4,"Pre",2,50,"Jeremy Swingle",0,0,null,null,null,null,null,null,0,0,0,0,0.83333333333333337]
["Johnathan Lehrkind","GH2","Grays Harbor","2014-2015",4,"ConA",3,"A-B","Abby Ashcraft",0,0,null,null,null,null,null,null,0,0,0,0,0.83333333333333337]
["Johnathan Lehrkind","GH2","Grays Harbor","2014-2015",1,"ConA",2,"A-C","Jeremy Swingle",0,1,null,null,null,null,null,null,0,0,0,0,0.83333333333333337]
["Johnathan Lehrkind","GH2","Grays Harbor","2014-2015",1,"ConA",2,"A-D","Jeremy Swingle",0,1,null,null,null,null,null,null,0,0,0,0,0.83333333333333337]
["Johnathan Lehrkind","GH2","Grays Harbor","2014-2015",4,"ConA",2,"A-D","Jeremy Swingle",0,0,null,null,null,null,null,null,0,0,0,0,0.83333333333333337]
["Johnathan Lehrkind","GH2","Grays Harbor","2014-2015",1,"ConA",2,"A-G","Jeremy Swingle",0,0,null,null,null,null,null,null,0,0,0,0,0.83333333333333337]
["Johnathan Lehrkind","GH2","Grays Harbor","2014-2015",1,"ConA",3,"A-I","Tiffany Bye",0,0,null,null,null,null,null,null,0,0,0,0,0.83333333333333337]
["Johnathan Lehrkind","GH2","Grays Harbor","2014-2015",1,"ConA",2,"A-J","Jeremy Swingle",0,0,1,null,null,null,null,null,0,0,0,-5,0.83333333333333337]
["Johnathan Lehrkind","GH2","Grays Harbor","2014-2015",2,"Semi",1,"C","Scott Peterson",0,0,null,null,null,null,null,null,{"$f":"IF(J2178=4,1,0)","v":0},{"$f":"IF(K2178=3,1,0)","v":0},0,{"$f":"T2178+M2178*(20) + (SUM(O2178:Q2178)*(10)) - L2178*(5) - N2178*(5)","v":0},{"$f":"AVERAGEIFS(U:U,A:A,A2178,F:F,\"Pre\")","v":0.83333333333333337}]
["Johnathan Lehrkind","GH2","Grays Harbor","2014-2015",2,"Semi",2,"F","Jeremy Swingle",0,0,null,null,null,null,null,null,0,0,0,0,0.83333333333333337]
["Johnathan Lehrkind","GH2","Grays Harbor","2014-2015",4,"ConA",2,"A-J","Jeremy Swingle",0,0,null,null,null,null,null,null,0,0,0,0,0.83333333333333337]
["Johnathan Lehrkind","GH2","Grays Harbor","2014-2015",5,"Pre",4,4,"Cutty Welt",0,0,null,null,null,null,null,null,0,0,0,0,0.83333333333333337]
["Johnathan Lehrkind","GH2","Grays Harbor","2014-2015",5,"Pre",3,11,"Tony Kong",0,0,null,null,null,null,null,null,0,0,0,0,0.83333333333333337]
["Johnathan Lehrkind","GH2","Grays Harbor","2014-2015",5,"Pre",2,18,"Jeremy Swingle",0,1,null,null,null,null,null,null,0,0,0,0,0.83333333333333337]
["Johnathan Lehrkind","GH2","Grays Harbor","2014-2015",5,"Pre",1,29,"Scott Peterson",0,0,null,null,null,null,null,null,0,0,0,0,0.83333333333333337]
["Johnathan Lehrkind","GH2","Grays Harbor","2014-2015",5,"Pre",3,43,"Tony Kong",1,1,null,null,null,null,null,null,0,0,20,20,0.83333333333333337]
["Johnathan Lehrkind","GH2","Grays Harbor","2014-2015",5,"Pre",2,50,"Jeremy Swingle",0,0,null,null,null,null,null,null,0,0,0,0,0.83333333333333337]
["Johnathan Lehrkind","GH2","Grays Harbor","2014-2015",5,"Semi",1,"C","Scott Peterson",0,0,null,null,null,null,null,null,0,0,0,0,0.83333333333333337]
["Johnathan Lehrkind","GH2","Grays Harbor","2014-2015",5,"Semi",1,"E","Scott Peterson",0,0,null,null,null,null,null,null,0,0,{"$f":"quizscore(J2188,K2188)","v":0},0,0.83333333333333337]
["Johnathan Lehrkind","GH2","Grays Harbor","2014-2015",5,"Semi",2,"H","Jeremy Swingle",0,0,null,null,null,null,null,null,0,0,0,0,0.83333333333333337]
["Jonathan Steinke","DAC1","Dallas","2014-2015",3,"Pre",1,5,"Scott Peterson",0,0,null,null,null,null,null,null,0,0,0,0,10]
["Jonathan Steinke","DAC1","Dallas","2014-2015",1,"Pre",2,10,"Jeremy Swingle",0,1,null,null,null,null,null,null,0,0,0,0,10]
["Jonathan Steinke","DAC1","Dallas","2014-2015",1,"Pre",3,15,"Tiffany Bye",0,1,null,null,null,null,null,null,0,0,0,0,10]
["Jonathan Steinke","DAC1","Dallas","2014-2015",2,"Pre",1,21,"Scott Peterson",0,0,null,null,null,null,null,null,0,0,0,0,10]
["Jonathan Steinke","DAC1","Dallas","2014-2015",3,"Pre",2,22,"Jeremy Swingle",0,0,null,null,null,null,null,null,0,0,0,0,10]
["Jonathan Steinke","DAC1","Dallas","2014-2015",4,"Pre",4,24,"Cutty Welt",0,0,null,null,null,null,null,null,0,0,0,0,10]
["Jonathan Steinke","DAC1","Dallas","2014-2015",1,"Pre",2,26,"Jeremy Swingle",0,1,null,null,null,null,null,null,0,0,0,0,10]
["Jonathan Steinke","DAC1","Dallas","2014-2015",3,"Pre",1,29,"Scott Peterson",0,0,null,null,null,null,null,null,0,0,0,0,10]
["Jonathan Steinke","DAC1","Dallas","2014-2015",4,"Pre",2,34,"Jeremy Swingle",0,0,null,null,null,null,null,null,0,0,0,0,10]
["Jonathan Steinke","DAC1","Dallas","2014-2015",2,"Pre",2,38,"Jeremy Swingle",0,0,null,null,null,null,null,null,0,0,0,0,10]
["Jonathan Steinke","DAC1","Dallas","2014-2015",3,"Pre",3,39,"Tiffany Bye",0,0,null,null,null,null,null,null,0,0,0,0,10]
["Jonathan Steinke","DAC1","Dallas","2014-2015",4,"Pre",2,42,"Jeremy Swingle",0,1,null,null,null,null,null,null,0,0,0,0,10]
["Jonathan Steinke","DAC1","Dallas","2014-2015",2,"Pre",1,45,"Scott Peterson",0,1,null,null,null,null,null,null,0,0,0,0,10]
["Jonathan Steinke","DAC1","Dallas","2014-2015",3,"Pre",2,46,"Jeremy Swingle",0,1,null,null,null,null,null,null,0,0,0,0,10]
["Jonathan Steinke","DAC1","Dallas","2014-2015",4,"Pre",1,49,"Scott Peterson",0,0,null,null,null,null,null,null,0,0,0,0,10]
["Jonathan Steinke","DAC1","Dallas","2014-2015",3,"Semi",1,"A","Scott Peterson",0,0,null,null,null,null,null,null,0,0,0,0,10]
["Jonathan Steinke","DAC1","Dallas","2014-2015",4,"Semi",1,"A","Scott Peterson",0,0,null,null,null,null,null,null,0,0,0,0,10]
["Jonathan Steinke","DAC1","Dallas","2014-2015",1,"Semi",1,"B","Scott Peterson",0,0,null,1,null,null,null,null,0,0,0,20,10]
["Jonathan Steinke","DAC1","Dallas","2014-2015",2,"Semi",1,"B","Scott Peterson",0,0,null,null,null,null,null,null,0,0,0,0,10]
["Jonathan Steinke","DAC1","Dallas","2014-2015",1,"Semi",1,"D","Scott Peterson",0,1,null,null,null,null,null,null,0,0,0,0,10]
["Jonathan Steinke","DAC1","Dallas","2014-2015",2,"Semi",2,"F","Jeremy Swingle",0,1,null,null,null,null,null,null,0,0,0,0,10]
["Jonathan Steinke","DAC1","Dallas","2014-2015",3,"Semi",2,"F","Jeremy Swingle",0,0,null,1,null,null,null,null,0,0,0,20,10]
["Jonathan Steinke","DAC1","Dallas","2014-2015",4,"Semi",2,"F","Jeremy Swingle",0,0,null,null,null,null,null,null,0,0,0,0,10]
["Jonathan Steinke","DAC1","Dallas","2014-2015",2,"Semi",2,"H","Jeremy Swingle",0,0,null,null,null,null,null,null,0,0,0,0,10]
["Jonathan Steinke","DAC1","Dallas","2014-2015",3,"Semi",2,"H","Jeremy Swingle",0,0,null,null,null,null,null,null,0,0,0,0,10]
["Jonathan Steinke","DAC1","Dallas","2014-2015",4,"Semi",2,"H","Jeremy Swingle",0,0,null,null,null,null,null,null,0,0,0,0,10]
["Jonathan Steinke","DAC1","Dallas","2014-2015",4,"Semi",1,"I","Scott Peterson",0,0,null,null,null,null,null,null,0,0,0,0,10]
["Jonathan Steinke","DAC1","Dallas","2014-2015",1,"Semi",1,"J","Scott Peterson",0,0,null,1,null,null,null,null,0,0,0,20,10]
["Jonathan Steinke","DAC1","Dallas","2014-2015",1,"Semi",1,"J","Scott Peterson",0,1,null,null,null,null,null,null,0,0,0,0,10]
["Jonathan Steinke","DAC1","Dallas","2014-2015",1,"Semi",1,"J","Scott Peterson",0,0,null,null,null,null,null,null,0,0,0,0,10]
["Jonathan Steinke","DAC1","Dallas","2014-2015",2,"Pre",4,8,"Cutty Welt",1,2,null,null,null,1,null,null,0,0,10,20,10]
["Jonathan Steinke","DAC1","Dallas","2014-2015",1,"Pre",1,33,"Scott Peterson",1,2,null,null,null,null,null,null,0,0,10,10,10]
["Jonathan Steinke","DAC1","Dallas","2014-2015",4,"Pre",3,7,"Tony Kong",1,0,null,null,null,1,null,null,0,0,20,30,10]
["Jonathan Steinke","DAC1","Dallas","2014-2015",3,"Pre",3,15,"Tiffany Bye",1,1,null,null,null,1,null,null,0,0,20,30,10]
["Jonathan Steinke","DAC1","Dallas","2014-2015",4,"Pre",4,16,"Cutty Welt",1,0,null,null,null,null,null,null,0,0,20,20,10]
["Jonathan Steinke","DAC1","Dallas","2014-2015",2,"Pre",3,31,"Tiffany Bye",1,0,null,null,null,1,null,null,0,0,20,30,10]
["Jonathan Steinke","DAC1","Dallas","2014-2015",1,"Pre",3,43,"Tiffany Bye",1,1,null,null,null,null,null,null,0,0,20,20,10]
["Jonathan Steinke","DAC1","Dallas","2014-2015",1,"Semi",1,"J","Scott Peterson",1,0,null,null,null,null,null,null,0,0,20,20,10]
["Jonathan Steinke","DAC1","Dallas","2014-2015",1,"Pre",4,4,"Cutty Welt",2,0,null,null,null,null,null,null,0,0,40,40,10]
["Jonathan Steinke","DAC1","Dallas","2014-2015",2,"Pre",2,14,"Jeremy Swingle",2,0,null,null,null,1,null,null,0,0,40,50,10]
["Jonathan Steinke","DAC1","Dallas","2014-2015",5,"Pre",3,11,"Tony Kong",0,0,null,1,null,null,null,null,0,0,0,20,10]
["Jonathan Steinke","DAC1","Dallas","2014-2015",5,"Pre",3,23,"Tony Kong",1,0,null,null,null,1,null,null,0,0,20,30,10]
["Jonathan Steinke","DAC1","Dallas","2014-2015",5,"Pre",4,28,"Cutty Welt",0,0,null,null,null,null,null,null,0,0,0,0,10]
["Jonathan Steinke","DAC1","Dallas","2014-2015",5,"Pre",1,33,"Scott Peterson",0,1,null,null,null,null,null,null,0,0,0,0,10]
["Jonathan Steinke","DAC1","Dallas","2014-2015",5,"Pre",2,42,"Jeremy Swingle",0,0,null,null,null,null,null,null,0,0,0,0,10]
["Jonathan Steinke","DAC1","Dallas","2014-2015",5,"Pre",1,49,"Scott Peterson",0,0,null,null,null,null,null,null,0,0,0,0,10]
["Jonathan Steinke","DAC1","Dallas","2014-2015",5,"Semi",1,"B","Scott Peterson",0,0,null,null,null,null,null,null,0,0,0,0,10]
["Jonathan Steinke","DAC1","Dallas","2014-2015",5,"Semi",2,"F","Jeremy Swingle",0,1,null,null,null,null,null,null,0,0,0,0,10]
["Jonathon Derr","CH1","Chapel Hill","2014-2015",2,"Pre",4,4,"Cutty Welt",0,3,null,null,null,null,null,null,0,1,-20,-20,20.172413793103448]
["Jonathon Derr","CH1","Chapel Hill","2014-2015",3,"Pre",4,4,"Cutty Welt",0,2,null,null,null,null,null,null,0,0,-10,-10,20.172413793103448]
["Jonathon Derr","CH1","Chapel Hill","2014-2015",1,"Pre",4,8,"Cutty Welt",0,0,null,null,null,null,null,null,0,0,0,0,20.172413793103448]
["Jonathon Derr","CH1","Chapel Hill","2014-2015",2,"Pre",3,11,"Tiffany Bye",0,1,null,null,null,null,null,null,0,0,0,0,20.172413793103448]
["Jonathon Derr","CH1","Chapel Hill","2014-2015",3,"Pre",2,18,"Jeremy Swingle",0,1,null,null,null,null,null,null,{"$f":"IF(J2242=4,1,0)","v":0},{"$f":"IF(K2242=3,1,0)","v":0},0,{"$f":"T2242+M2242*(20) + (SUM(O2242:Q2242)*(10)) - L2242*(5) - N2242*(5)","v":0},{"$f":"AVERAGEIFS(U:U,A:A,A2242,F:F,\"Pre\")","v":20.172413793103448}]
["Jonathon Derr","CH1","Chapel Hill","2014-2015",4,"Pre",4,24,"Cutty Welt",0,1,null,null,null,null,null,null,0,0,0,0,20.172413793103448]
["Jonathon Derr","CH1","Chapel Hill","2014-2015",4,"Pre",2,30,"Jeremy Swingle",0,0,null,null,null,null,null,null,0,0,0,0,20.172413793103448]
["Jonathon Derr","CH1","Chapel Hill","2014-2015",3,"Pre",1,33,"Scott Peterson",0,0,null,null,null,null,null,null,0,0,0,0,20.172413793103448]
["Jonathon Derr","CH1","Chapel Hill","2014-2015",4,"Pre",1,37,"Scott Peterson",0,1,null,null,null,null,null,null,0,0,0,0,20.172413793103448]
["Jonathon Derr","CH1","Chapel Hill","2014-2015",2,"Pre",2,46,"Jeremy Swingle",0,1,null,1,null,null,null,null,0,0,0,20,20.172413793103448]
["Jonathon Derr","CH1","Chapel Hill","2014-2015",4,"ConA",2,"A-C","Jeremy Swingle",0,1,null,null,null,null,null,null,0,0,0,0,20.172413793103448]
["Jonathon Derr","CH1","Chapel Hill","2014-2015",1,"ConA",3,"A-E","Tiffany Bye",1,3,null,null,null,null,null,null,0,1,0,0,20.172413793103448]
["Jonathon Derr","CH1","Chapel Hill","2014-2015",4,"ConA",3,"A-E","Abby Ashcraft",0,0,1,null,null,null,null,null,0,0,0,-5,20.172413793103448]
["Jonathon Derr","CH1","Chapel Hill","2014-2015",4,"ConA",3,"A-H","Abby Ashcraft",0,0,null,null,null,null,null,null,0,0,0,0,20.172413793103448]
["Jonathon Derr","CH1","Chapel Hill","2014-2015",4,"Pre",2,10,"Jeremy Swingle",1,2,null,null,null,1,null,null,0,0,{"$f":"quizscore(J2252,K2252)","v":10},20,20.172413793103448]
["Jonathon Derr","CH1","Chapel Hill","2014-2015",4,"Pre",3,15,"Tony Kong",1,1,null,null,null,null,null,null,0,0,20,20,20.172413793103448]
["Jonathon Derr","CH1","Chapel Hill","2014-2015",4,"Pre",4,48,"Cutty Welt",1,1,null,null,null,1,null,null,0,0,20,30,20.172413793103448]
["Jonathon Derr","CH1","Chapel Hill","2014-2015",1,"ConA",3,"A-H","Tiffany Bye",1,1,null,null,null,null,null,null,0,0,20,20,20.172413793103448]
["Jonathon Derr","CH1","Chapel Hill","2014-2015",1,"Pre",2,14,"Jeremy Swingle",2,2,null,null,null,null,null,null,0,0,30,30,20.172413793103448]
["Jonathon Derr","CH1","Chapel Hill","2014-2015",2,"ConA",2,"A-J","Jeremy Swingle",2,2,null,null,null,null,null,null,0,0,30,30,20.172413793103448]
["Jonathon Derr","CH1","Chapel Hill","2014-2015",1,"Pre",3,27,"Tiffany Bye",2,0,null,null,null,null,null,null,0,0,40,40,20.172413793103448]
["Jonathon Derr","CH1","Chapel Hill","2014-2015",3,"Pre",3,27,"Tiffany Bye",2,0,null,null,null,1,null,null,0,0,40,50,20.172413793103448]
["Jonathon Derr","CH1","Chapel Hill","2014-2015",1,"Pre",4,36,"Cutty Welt",3,3,null,null,null,null,null,null,0,1,40,40,20.172413793103448]
["Jonathon Derr","CH1","Chapel Hill","2014-2015",1,"Pre",1,49,"Scott Peterson",3,3,null,null,null,null,null,null,0,1,40,40,20.172413793103448]
["Jonathon Derr","CH1","Chapel Hill","2014-2015",2,"ConA",2,"A-A","Jeremy Swingle",2,1,null,null,null,null,null,null,0,0,40,40,20.172413793103448]
["Jonathon Derr","CH1","Chapel Hill","2014-2015",2,"ConA",2,"A-D","Jeremy Swingle",2,1,null,1,null,null,null,null,0,0,40,60,20.172413793103448]
["Jonathon Derr","CH1","Chapel Hill","2014-2015",1,"Pre",3,43,"Tiffany Bye",3,2,null,null,null,null,null,null,0,0,50,50,20.172413793103448]
["Jonathon Derr","CH1","Chapel Hill","2014-2015",3,"Pre",4,12,"Cutty Welt",3,1,null,null,null,null,null,null,0,0,60,60,20.172413793103448]
["Jonathon Derr","CH1","Chapel Hill","2014-2015",2,"Pre",1,29,"Scott Peterson",3,1,null,null,null,null,null,null,0,0,60,60,20.172413793103448]
["Jonathon Derr","CH1","Chapel Hill","2014-2015",2,"Pre",4,40,"Cutty Welt",3,1,1,null,null,null,null,null,0,0,60,55,20.172413793103448]
["Jonathon Derr","CH1","Chapel Hill","2014-2015",2,"Pre",3,19,"Tiffany Bye",4,0,null,null,null,null,null,null,1,0,90,90,20.172413793103448]
["Jonathon Derr","CH1","Chapel Hill","2014-2015",1,"ConA",2,"A-A","Jeremy Swingle",4,0,null,null,null,null,null,null,1,0,90,90,20.172413793103448]
["Jonathon Derr","CH1","Chapel Hill","2014-2015",5,"Pre",1,5,"Scott Peterson",0,0,null,null,null,null,null,null,0,0,0,0,20.172413793103448]
["Jonathon Derr","CH1","Chapel Hill","2014-2015",5,"Pre",4,20,"Cutty Welt",0,0,null,null,null,null,null,null,0,0,0,0,20.172413793103448]
["Jonathon Derr","CH1","Chapel Hill","2014-2015",5,"Pre",2,26,"Jeremy Swingle",0,1,null,null,null,null,null,null,0,0,0,0,20.172413793103448]
["Jonathon Derr","CH1","Chapel Hill","2014-2015",5,"Pre",2,34,"Jeremy Swingle",0,2,null,null,null,null,null,null,0,0,-10,-10,20.172413793103448]
["Jonathon Derr","CH1","Chapel Hill","2014-2015",5,"Pre",3,39,"Tony Kong",0,0,null,null,null,null,null,null,0,0,0,0,20.172413793103448]
["Jonathon Derr","CH1","Chapel Hill","2014-2015",5,"Pre",4,48,"Cutty Welt",1,1,null,null,null,null,null,null,0,0,20,20,20.172413793103448]
["Jonathon Derr","CH1","Chapel Hill","2014-2015",5,"ConA",2,"A-C","Jeremy Swingle",0,0,null,null,null,null,null,null,0,0,0,0,20.172413793103448]
["Jonathon Derr","CH1","Chapel Hill","2014-2015",5,"ConA",3,"A-E","Abby Ashcraft",0,0,null,null,null,null,null,null,0,0,0,0,20.172413793103448]
["Jonathon Derr","CH1","Chapel Hill","2014-2015",5,"ConA",3,"A-H","Abby Ashcraft",1,1,null,null,null,null,null,null,0,0,20,20,20.172413793103448]
["Jonathon Derr","CH1",{"$f":"VLOOKUP(B2279,$B$2:$C$3219,2,FALSE)","v":"Chapel Hill"},"2014-2015",5,"ConA",3,"A-I","Abby Ashcraft",0,1,null,null,null,null,null,null,0,0,0,0,20.172413793103448]
["Joseph Winters","DAC2","Dallas","2014-2015",4,"Pre",1,41,"Scott Peterson",0,3,null,null,null,null,null,null,0,1,-20,-20,6.25]
["Joseph Winters","DAC4","Dallas","2014-2015",1,"Pre",2,2,"Jeremy Swingle",0,0,null,null,null,null,null,null,0,0,0,0,6.25]
["Joseph Winters","DAC2","Dallas","2014-2015",4,"Pre",2,6,"Jeremy Swingle",0,0,null,null,null,null,null,null,0,0,0,0,6.25]
["Joseph Winters","DAC4","Dallas","2014-2015",2,"Pre",4,8,"Cutty Welt",0,0,null,null,null,null,null,null,0,0,0,0,6.25]
["Joseph Winters","DAC2","Dallas","2014-2015",3,"Pre",2,10,"Jeremy Swingle",0,0,null,null,null,null,null,null,0,0,0,0,6.25]
["Joseph Winters","DAC4","Dallas","2014-2015",1,"Pre",3,11,"Tiffany Bye",0,0,null,null,null,null,null,null,0,0,0,0,6.25]
["Joseph Winters","DAC2","Dallas","2014-2015",3,"Pre",1,17,"Scott Peterson",0,0,null,null,null,null,null,null,0,0,0,0,6.25]
["Joseph Winters","DAC4","Dallas","2014-2015",2,"Pre",3,23,"Tiffany Bye",0,0,null,null,null,null,null,null,0,0,0,0,6.25]
["Joseph Winters","DAC4","Dallas","2014-2015",1,"Pre",4,24,"Cutty Welt",0,0,null,null,null,null,null,null,0,0,0,0,6.25]
["Joseph Winters","DAC4","Dallas","2014-2015",1,"Pre",1,29,"Scott Peterson",0,0,null,null,null,null,null,null,0,0,0,0,6.25]
["Joseph Winters","DAC2","Dallas","2014-2015",4,"Pre",1,29,"Scott Peterson",0,0,null,null,null,null,null,null,0,0,0,0,6.25]
["Joseph Winters","DAC4","Dallas","2014-2015",2,"Pre",4,32,"Cutty Welt",0,0,null,null,null,null,null,null,0,0,0,0,6.25]
["Joseph Winters","DAC4","Dallas","2014-2015",1,"Pre",1,33,"Scott Peterson",0,0,null,null,null,null,null,null,0,0,0,0,6.25]
["Joseph Winters","DAC2","Dallas","2014-2015",3,"Pre",4,36,"Cutty Welt",0,0,null,null,null,null,null,null,0,0,0,0,6.25]
["Joseph Winters","DAC2","Dallas","2014-2015",3,"Pre",3,39,"Tiffany Bye",0,0,null,null,null,null,null,null,0,0,0,0,6.25]
["Joseph Winters","DAC4","Dallas","2014-2015",2,"Pre",2,42,"Jeremy Swingle",0,0,null,null,null,null,null,null,0,0,0,0,6.25]
["Joseph Winters","DAC4","Dallas","2014-2015",1,"Pre",3,47,"Tiffany Bye",0,0,null,null,null,null,null,null,0,0,0,0,6.25]
["Joseph Winters","DAC2","Dallas","2014-2015",4,"Pre",4,48,"Cutty Welt",0,0,null,null,null,null,null,null,0,0,0,0,6.25]
["Joseph Winters","DAC2","Dallas","2014-2015",3,"Pre",1,49,"Scott Peterson",0,1,null,null,null,null,null,null,0,0,0,0,6.25]
["Joseph Winters","DAC4","Dallas","2014-2015",2,"Semi",1,"A","Scott Peterson",0,0,null,null,null,null,null,null,0,0,0,0,6.25]
["Joseph Winters","DAC4","Dallas","2014-2015",1,"Semi",1,"B","Scott Peterson",0,0,null,null,null,null,null,null,0,0,0,0,6.25]
["Joseph Winters","DAC2","Dallas","2014-2015",3,"Semi",1,"B","Scott Peterson",0,0,null,null,null,null,null,null,0,0,0,0,6.25]
["Joseph Winters","DAC2","Dallas","2014-2015",4,"Semi",1,"C","Scott Peterson",0,0,null,null,null,null,null,null,0,0,0,0,6.25]
["Joseph Winters","DAC2","Dallas","2014-2015",3,"Semi",1,"D","Scott Peterson",0,0,null,null,null,null,null,null,0,0,0,0,6.25]
["Joseph Winters","DAC2","Dallas","2014-2015",4,"Semi",1,"D","Scott Peterson",0,0,null,null,null,null,null,null,0,0,0,0,6.25]
["Joseph Winters","DAC4","Dallas","2014-2015",1,"Semi",2,"F","Jeremy Swingle",0,0,null,null,null,null,null,null,0,0,0,0,6.25]
["Joseph Winters","DAC4","Dallas","2014-2015",2,"Semi",2,"F","Jeremy Swingle",0,0,null,null,null,null,null,null,{"$f":"IF(J2306=4,1,0)","v":0},{"$f":"IF(K2306=3,1,0)","v":0},0,{"$f":"T2306+M2306*(20) + (SUM(O2306:Q2306)*(10)) - L2306*(5) - N2306*(5)","v":0},{"$f":"AVERAGEIFS(U:U,A:A,A2306,F:F,\"Pre\")","v":6.25}]
["Joseph Winters","DAC2","Dallas","2014-2015",4,"Semi",1,"G","Scott Peterson",0,0,null,null,null,null,null,null,0,0,0,0,6.25]
["Joseph Winters","DAC2","Dallas","2014-2015",4,"Semi",1,"I","Scott Peterson",0,1,null,null,null,null,null,null,0,0,0,0,6.25]
["Joseph Winters","DAC2","Dallas","2014-2015",3,"Semi",1,"J","Scott Peterson",0,0,null,null,null,null,null,null,0,0,0,0,6.25]
["Joseph Winters","DAC2","Dallas","2014-2015",3,"Semi",1,"J","Scott Peterson",0,0,null,null,null,null,null,null,0,0,0,0,6.25]
["Joseph Winters","DAC4","Dallas","2014-2015",2,"Pre",1,13,"Scott Peterson",1,0,null,null,null,null,1,null,0,0,20,30,6.25]
["Joseph Winters","DAC2","Dallas","2014-2015",4,"Pre",2,18,"Jeremy Swingle",1,0,null,null,null,1,null,null,0,0,20,30,6.25]
["Joseph Winters","DAC2","Dallas","2014-2015",4,"Pre",3,27,"Tony Kong",1,0,null,null,null,1,null,null,0,0,20,30,6.25]
["Joseph Winters","DAC4","Dallas","2014-2015",2,"Pre",3,47,"Tiffany Bye",1,1,null,null,null,1,null,null,0,0,20,30,6.25]
["Joseph Winters","DAC2","Dallas","2014-2015",3,"Semi",1,"G","Scott Peterson",1,0,null,null,null,1,null,null,0,0,20,30,6.25]
["Joseph Winters","DAC2","Dallas","2014-2015",3,"Pre",4,4,"Cutty Welt",2,1,null,null,null,1,null,null,0,0,{"$f":"quizscore(J2316,K2316)","v":40},50,6.25]
["Joshua Hole","GH2","Grays Harbor","2014-2015",2,"Pre",3,23,"Tiffany Bye",1,3,1,null,null,null,null,null,0,1,0,-5,63.666666666666664]
["Joshua Hole","GH2","Grays Harbor","2014-2015",3,"Pre",4,28,"Cutty Welt",1,3,null,null,null,null,null,null,0,1,0,0,63.666666666666664]
["Joshua Hole","GH1","Grays Harbor","2014-2015",1,"Semi",1,"B","Scott Peterson",1,2,null,null,1,null,null,null,0,0,10,5,63.666666666666664]
["Joshua Hole","GH2","Grays Harbor","2014-2015",2,"Semi",1,"C","Scott Peterson",2,3,null,1,null,null,null,null,0,1,20,40,63.666666666666664]
["Joshua Hole","GH2","Grays Harbor","2014-2015",3,"Semi",1,"C","Scott Peterson",1,1,null,null,null,null,null,null,0,0,20,20,63.666666666666664]
["Joshua Hole","GH2","Grays Harbor","2014-2015",4,"Pre",1,1,"Scott Peterson",2,2,null,1,null,null,null,null,0,0,30,50,63.666666666666664]
["Joshua Hole","GH2","Grays Harbor","2014-2015",2,"Semi",2,"F","Jeremy Swingle",2,2,1,null,1,null,null,null,0,0,30,20,63.666666666666664]
["Joshua Hole","GH2","Grays Harbor","2014-2015",3,"Semi",2,"F","Jeremy Swingle",2,2,null,null,null,null,null,null,0,0,30,30,63.666666666666664]
["Joshua Hole","GH2","Grays Harbor","2014-2015",2,"Pre",2,10,"Jeremy Swingle",3,3,null,null,null,null,null,null,0,1,40,40,63.666666666666664]
["Joshua Hole","GH2","Grays Harbor","2014-2015",4,"Pre",4,12,"Cutty Welt",3,3,null,null,null,null,null,null,0,1,40,40,63.666666666666664]
["Joshua Hole","GH2","Grays Harbor","2014-2015",3,"Pre",2,18,"Jeremy Swingle",3,3,null,null,null,null,null,null,0,1,40,40,63.666666666666664]
["Joshua Hole","GH2","Grays Harbor","2014-2015",4,"Pre",1,41,"Scott Peterson",3,3,null,null,null,null,null,null,0,1,40,40,63.666666666666664]
["Joshua Hole","GH2","Grays Harbor","2014-2015",3,"Pre",3,47,"Tiffany Bye",2,1,null,null,null,null,null,null,0,0,40,40,63.666666666666664]
["Joshua Hole","GH2","Grays Harbor","2014-2015",4,"ConA",3,"A-B","Abby Ashcraft",3,3,null,null,null,null,null,null,0,1,40,40,63.666666666666664]
["Joshua Hole","GH2","Grays Harbor","2014-2015",3,"Pre",3,7,"Tiffany Bye",3,2,null,1,null,null,null,null,0,0,50,70,63.666666666666664]
["Joshua Hole","GH2","Grays Harbor","2014-2015",4,"Pre",4,20,"Cutty Welt",3,2,null,null,null,null,null,null,0,0,50,50,63.666666666666664]
["Joshua Hole","GH1","Grays Harbor","2014-2015",1,"Pre",1,13,"Scott Peterson",3,1,null,null,null,null,null,null,0,0,60,60,63.666666666666664]
["Joshua Hole","GH1","Grays Harbor","2014-2015",1,"Semi",1,"E","Scott Peterson",3,1,null,null,null,null,null,null,0,0,60,60,63.666666666666664]
["Joshua Hole","GH1","Grays Harbor","2014-2015",1,"Pre",2,2,"Jeremy Swingle",4,2,null,null,null,null,null,null,1,0,70,70,63.666666666666664]
["Joshua Hole","GH2","Grays Harbor","2014-2015",2,"Pre",1,33,"Scott Peterson",4,2,null,null,null,null,null,null,1,0,70,70,63.666666666666664]
["Joshua Hole","GH2","Grays Harbor","2014-2015",3,"Pre",1,37,"Scott Peterson",4,2,null,null,null,null,null,null,1,0,70,70,63.666666666666664]
["Joshua Hole","GH2","Grays Harbor","2014-2015",2,"Pre",4,48,"Cutty Welt",4,2,null,null,null,null,null,null,1,0,70,70,63.666666666666664]
["Joshua Hole","GH1","Grays Harbor","2014-2015",1,"Pre",2,30,"Jeremy Swingle",4,1,null,null,null,null,null,null,1,0,80,80,63.666666666666664]
["Joshua Hole","GH2","Grays Harbor","2014-2015",4,"Pre",3,31,"Tony Kong",4,1,null,null,null,null,null,null,1,0,80,80,63.666666666666664]
["Joshua Hole","GH1","Grays Harbor","2014-2015",1,"Pre",1,37,"Scott Peterson",4,1,null,null,1,null,null,null,1,0,80,75,63.666666666666664]
["Joshua Hole","GH2","Grays Harbor","2014-2015",4,"Pre",2,50,"Jeremy Swingle",4,1,null,null,null,null,null,null,1,0,80,80,63.666666666666664]
["Joshua Hole","GH2","Grays Harbor","2014-2015",4,"ConA",2,"A-D","Jeremy Swingle",4,1,1,null,null,null,null,null,1,0,80,75,63.666666666666664]
["Joshua Hole","GH1","Grays Harbor","2014-2015",1,"Semi",2,"H","Jeremy Swingle",4,1,null,null,null,null,null,null,1,0,80,80,63.666666666666664]
["Joshua Hole","GH2","Grays Harbor","2014-2015",2,"Pre",3,3,"Tiffany Bye",4,0,null,null,null,null,null,null,1,0,90,90,63.666666666666664]
["Joshua Hole","GH1","Grays Harbor","2014-2015",1,"Pre",3,27,"Tiffany Bye",4,0,null,1,null,null,null,null,1,0,90,110,63.666666666666664]
["Joshua Hole","GH2","Grays Harbor","2014-2015",2,"Pre",2,30,"Jeremy Swingle",4,0,null,null,null,null,null,null,1,0,90,90,63.666666666666664]
["Joshua Hole","GH2","Grays Harbor","2014-2015",3,"Pre",4,36,"Cutty Welt",4,0,null,null,null,null,null,null,1,0,90,90,63.666666666666664]
["Joshua Hole","GH1","Grays Harbor","2014-2015",1,"Pre",4,44,"Cutty Welt",4,0,null,null,null,null,null,null,1,0,90,90,63.666666666666664]
["Joshua Hole","GH2","Grays Harbor","2014-2015",4,"ConA",2,"A-J","Jeremy Swingle",4,1,1,1,1,null,null,null,1,0,80,90,63.666666666666664]
["Joshua Hole","GH2","Grays Harbor","2014-2015",5,"Pre",4,4,"Cutty Welt",4,0,null,null,null,null,null,null,1,0,90,90,63.666666666666664]
["Joshua Hole","GH2","Grays Harbor","2014-2015",5,"Pre",3,11,"Tony Kong",1,3,null,null,null,null,null,null,0,1,0,0,63.666666666666664]
["Joshua Hole","GH2","Grays Harbor","2014-2015",5,"Pre",2,18,"Jeremy Swingle",4,1,null,null,null,null,null,null,1,0,80,80,63.666666666666664]
["Joshua Hole","GH2","Grays Harbor","2014-2015",5,"Pre",1,29,"Scott Peterson",4,1,null,null,null,null,null,null,1,0,80,80,63.666666666666664]
["Joshua Hole","GH2","Grays Harbor","2014-2015",5,"Pre",3,43,"Tony Kong",4,1,null,null,null,null,null,null,1,0,80,80,63.666666666666664]
["Joshua Hole","GH2","Grays Harbor","2014-2015",5,"Pre",2,50,"Jeremy Swingle",4,0,null,null,null,null,null,null,1,0,90,90,63.666666666666664]
["Joshua Hole","GH2","Grays Harbor","2014-2015",5,"Semi",1,"C","Scott Peterson",2,0,null,null,null,null,null,null,0,0,40,40,63.666666666666664]
["Joshua Hole","GH2","Grays Harbor","2014-2015",5,"Semi",1,"E","Scott Peterson",2,2,null,null,null,null,null,null,0,0,30,30,63.666666666666664]
["Joshua Hole","GH2","Grays Harbor","2014-2015",5,"Semi",2,"H","Jeremy Swingle",2,1,null,null,null,null,null,null,0,0,40,40,63.666666666666664]
["Joshua Miller","DAC3","Dallas","2014-2015",2,"Pre",1,5,"Scott Peterson",0,0,null,null,null,null,null,null,0,0,0,0,4]
["Joshua Miller","DAC3","Dallas","2014-2015",3,"Pre",1,5,"Scott Peterson",0,0,null,null,null,null,null,null,0,0,0,0,4]
["Joshua Miller","DAC3","Dallas","2014-2015",4,"Pre",2,10,"Jeremy Swingle",0,0,null,null,null,null,null,null,0,0,0,0,4]
["Joshua Miller","DAC3","Dallas","2014-2015",3,"Pre",3,11,"Tiffany Bye",0,0,null,null,null,null,null,null,0,0,0,0,4]
["Joshua Miller","DAC3","Dallas","2014-2015",3,"Pre",2,18,"Jeremy Swingle",0,0,null,null,null,null,null,null,0,0,0,0,4]
["Joshua Miller","DAC3","Dallas","2014-2015",1,"Pre",1,21,"Scott Peterson",0,0,null,null,null,null,null,null,0,0,0,0,4]
["Joshua Miller","DAC3","Dallas","2014-2015",4,"Pre",3,23,"Tony Kong",0,0,null,null,null,null,null,null,0,0,0,0,4]
["Joshua Miller","DAC3","Dallas","2014-2015",1,"Pre",1,25,"Scott Peterson",0,0,null,null,null,null,null,null,0,0,0,0,4]
["Joshua Miller","DAC3","Dallas","2014-2015",3,"Pre",2,26,"Jeremy Swingle",0,0,null,null,null,null,null,null,0,0,0,0,4]
["Joshua Miller","DAC3","Dallas","2014-2015",2,"Pre",3,27,"Tiffany Bye",0,0,null,null,null,null,null,null,0,0,0,0,4]
["Joshua Miller","DAC3","Dallas","2014-2015",4,"Pre",4,32,"Cutty Welt",0,0,null,null,null,null,null,null,{"$f":"IF(J2370=4,1,0)","v":0},{"$f":"IF(K2370=3,1,0)","v":0},0,{"$f":"T2370+M2370*(20) + (SUM(O2370:Q2370)*(10)) - L2370*(5) - N2370*(5)","v":0},{"$f":"AVERAGEIFS(U:U,A:A,A2370,F:F,\"Pre\")","v":4}]
["Joshua Miller","DAC3","Dallas","2014-2015",4,"Pre",1,33,"Scott Peterson",0,0,null,null,null,null,null,null,0,0,0,0,4]
["Joshua Miller","DAC3","Dallas","2014-2015",1,"Pre",2,34,"Jeremy Swingle",0,0,null,null,null,null,null,null,0,0,0,0,4]
["Joshua Miller","DAC3","Dallas","2014-2015",2,"Pre",2,34,"Jeremy Swingle",0,0,null,null,null,null,null,null,0,0,0,0,4]
["Joshua Miller","DAC3","Dallas","2014-2015",3,"Pre",3,35,"Tiffany Bye",0,0,null,null,null,null,null,null,0,0,0,0,4]
["Joshua Miller","DAC3","Dallas","2014-2015",2,"Pre",4,40,"Cutty Welt",0,0,null,null,null,null,null,null,0,0,0,0,4]
["Joshua Miller","DAC3","Dallas","2014-2015",1,"Pre",3,43,"Tiffany Bye",0,0,null,null,null,null,null,null,0,0,0,0,4]
["Joshua Miller","DAC3","Dallas","2014-2015",3,"Pre",4,44,"Cutty Welt",0,0,null,1,null,null,null,null,0,0,0,20,4]
["Joshua Miller","DAC3","Dallas","2014-2015",2,"Pre",3,47,"Tiffany Bye",0,0,null,null,null,null,null,null,0,0,0,0,4]
["Joshua Miller","DAC3","Dallas","2014-2015",4,"Pre",1,49,"Scott Peterson",0,0,null,null,null,null,null,null,0,0,0,0,4]
["Joshua Miller","DAC3","Dallas","2014-2015",2,"ConB",4,"B-1","Cutty Welt",0,0,null,null,null,null,null,null,0,0,{"$f":"quizscore(J2380,K2380)","v":0},0,4]
["Joshua Miller","DAC3","Dallas","2014-2015",4,"ConB",4,"B-1","Cutty Welt",0,0,null,null,null,null,null,null,0,0,0,0,4]
["Joshua Miller","DAC3","Dallas","2014-2015",2,"ConB",4,"B-2","Cutty Welt",0,0,null,null,null,null,null,null,0,0,0,0,4]
["Joshua Miller","DAC3","Dallas","2014-2015",1,"ConB",4,"B-3","Cutty Welt",0,0,null,null,null,null,null,null,0,0,0,0,4]
["Joshua Miller","DAC3","Dallas","2014-2015",4,"ConB",4,"B-3","Cutty Welt",0,0,null,null,null,null,null,null,0,0,0,0,4]
["Joshua Miller","DAC3","Dallas","2014-2015",1,"ConB",4,"B-5","Cutty Welt",0,0,null,null,null,null,null,null,0,0,0,0,4]
["Joshua Miller","DAC3","Dallas","2014-2015",2,"ConB",4,"B-5","Cutty Welt",0,0,null,null,null,null,null,null,0,0,0,0,4]
["Joshua Miller","DAC3","Dallas","2014-2015",4,"ConB",4,"B-6","Cutty Welt",0,0,null,null,null,null,null,null,0,0,0,0,4]
["Joshua Miller","DAC3","Dallas","2014-2015",1,"ConB",4,"B-7","Cutty Welt",0,0,null,null,null,null,null,null,0,0,0,0,4]
["Joshua Miller","DAC3","Dallas","2014-2015",3,"ConB",4,"B-7","Cutty Welt",0,0,null,null,null,null,null,null,0,0,0,0,4]
["Joshua Miller","DAC3","Dallas","2014-2015",4,"Pre",2,2,"Jeremy Swingle",1,0,null,null,null,null,null,null,0,0,20,20,4]
["Joshua Miller","DAC3","Dallas","2014-2015",1,"Pre",4,12,"Cutty Welt",1,0,null,null,null,null,null,null,0,0,20,20,4]
["Joshua Miller","DAC3","Dallas","2014-2015",1,"Pre",4,20,"Cutty Welt",1,0,null,null,null,null,null,null,0,0,20,20,4]
["Joshua Miller","DAC3","Dallas","2014-2015",2,"Pre",4,20,"Cutty Welt",1,0,null,null,null,null,null,null,0,0,20,20,4]
["Joshua Miller","DAC3","Dallas","2014-2015",3,"ConB",4,"B-2","Cutty Welt",1,0,null,null,null,null,null,null,0,0,20,20,4]
["Joshua Miller","DAC3","Dallas","2014-2015",3,"ConB",4,"B-6","Cutty Welt",1,0,null,null,null,null,null,null,0,0,20,20,4]
["Joshua Miller","DAC3","Dallas","2014-2015",5,"Pre",4,8,"Cutty Welt",0,0,null,null,null,null,null,null,0,0,0,0,4]
["Joshua Miller","DAC3","Dallas","2014-2015",5,"Pre",3,19,"Tony Kong",0,0,null,null,null,null,null,null,0,0,0,0,4]
["Joshua Miller","DAC3","Dallas","2014-2015",5,"Pre",4,28,"Cutty Welt",0,0,null,null,null,null,null,null,0,0,0,0,4]
["Joshua Miller","DAC3","Dallas","2014-2015",5,"Pre",2,34,"Jeremy Swingle",1,0,null,null,null,null,null,null,0,0,20,20,4]
["Joshua Miller","DAC3","Dallas","2014-2015",5,"Pre",1,37,"Scott Peterson",0,1,null,null,null,null,null,null,0,0,0,0,4]
["Joshua Miller","DAC3","Dallas","2014-2015",5,"Pre",2,50,"Jeremy Swingle",0,0,null,null,null,null,null,null,0,0,0,0,4]
["Joshua Miller","DAC3",{"$f":"VLOOKUP(B2402,$B$2:$C$3219,2,FALSE)","v":"Dallas"},"2014-2015",5,"ConB",4,"B-4","Cutty Welt",0,0,null,null,null,null,null,null,0,0,0,0,4]
["Joshua Miller","DAC3",{"$f":"VLOOKUP(B2403,$B$2:$C$3219,2,FALSE)","v":"Dallas"},"2014-2015",5,"ConB",4,"B-5","Cutty Welt",1,0,null,null,null,null,null,null,0,0,20,20,4]
["Joshua Miller","DAC3",{"$f":"VLOOKUP(B2404,$B$2:$C$3219,2,FALSE)","v":"Dallas"},"2014-2015",5,"ConB",4,"B-6","Cutty Welt",0,1,null,null,null,null,null,null,0,0,0,0,4]
["Joshua Miller","DAC3",{"$f":"VLOOKUP(B2405,$B$2:$C$3219,2,FALSE)","v":"Dallas"},"2014-2015",5,"ConB",4,"B-J","Cutty Welt",0,0,null,null,null,null,null,null,0,0,null,0,4]
["Justin Widmer","DAC3","Dallas","2014-2015",1,"Pre",3,43,"Tiffany Bye",0,2,null,1,null,null,null,null,0,0,{"$f":"quizscore(J2406,K2406)","v":-10},10,30.5]
["Justin Widmer","DAC3","Dallas","2014-2015",4,"Pre",2,2,"Jeremy Swingle",0,1,null,null,null,null,null,null,0,0,0,0,30.5]
["Justin Widmer","DAC3","Dallas","2014-2015",3,"Pre",2,18,"Jeremy Swingle",1,3,null,1,null,null,null,null,0,1,0,20,30.5]
["Justin Widmer","DAC3","Dallas","2014-2015",2,"Pre",4,20,"Cutty Welt",1,3,null,null,null,null,null,null,0,1,0,0,30.5]
["Justin Widmer","DAC3","Dallas","2014-2015",1,"Pre",1,21,"Scott Peterson",1,3,null,null,null,null,null,null,0,1,0,0,30.5]
["Justin Widmer","DAC3","Dallas","2014-2015",2,"Pre",4,40,"Cutty Welt",0,1,null,null,null,null,null,null,0,0,0,0,30.5]
["Justin Widmer","DAC3","Dallas","2014-2015",4,"Pre",4,32,"Cutty Welt",1,2,null,null,null,null,null,null,0,0,10,10,30.5]
["Justin Widmer","DAC3","Dallas","2014-2015",3,"Pre",3,35,"Tiffany Bye",1,2,null,null,null,null,null,null,0,0,10,10,30.5]
["Justin Widmer","DAC3","Dallas","2014-2015",4,"Pre",1,49,"Scott Peterson",1,2,null,null,null,null,null,null,0,0,10,10,30.5]
["Justin Widmer","DAC3","Dallas","2014-2015",2,"ConB",4,"B-1","Cutty Welt",1,2,null,1,null,null,null,null,0,0,10,30,30.5]
["Justin Widmer","DAC3","Dallas","2014-2015",3,"Pre",1,5,"Scott Peterson",2,3,null,null,null,null,null,null,0,1,20,20,30.5]
["Justin Widmer","DAC3","Dallas","2014-2015",4,"Pre",3,23,"Tony Kong",1,0,null,null,null,null,null,null,0,0,20,20,30.5]
["Justin Widmer","DAC3","Dallas","2014-2015",2,"Pre",3,27,"Tiffany Bye",1,0,null,null,2,null,null,null,0,0,20,10,30.5]
["Justin Widmer","DAC3","Dallas","2014-2015",4,"Pre",1,33,"Scott Peterson",1,1,null,null,null,null,null,null,0,0,20,20,30.5]
["Justin Widmer","DAC3","Dallas","2014-2015",3,"Pre",4,44,"Cutty Welt",1,1,null,null,1,null,null,null,0,0,20,15,30.5]
["Justin Widmer","DAC3","Dallas","2014-2015",2,"Pre",3,47,"Tiffany Bye",1,0,null,null,null,null,null,null,0,0,20,20,30.5]
["Justin Widmer","DAC3","Dallas","2014-2015",1,"Pre",4,20,"Cutty Welt",2,2,null,null,null,null,null,null,0,0,30,30,30.5]
["Justin Widmer","DAC3","Dallas","2014-2015",3,"ConB",4,"B-2","Cutty Welt",2,2,null,null,null,null,null,null,0,0,30,30,30.5]
["Justin Widmer","DAC3","Dallas","2014-2015",4,"ConB",4,"B-6","Cutty Welt",2,2,null,null,null,null,null,null,0,0,30,30,30.5]
["Justin Widmer","DAC3","Dallas","2014-2015",2,"Pre",1,5,"Scott Peterson",2,0,null,2,null,null,null,null,0,0,40,80,30.5]
["Justin Widmer","DAC3","Dallas","2014-2015",3,"Pre",3,11,"Tiffany Bye",3,3,null,null,null,null,null,null,0,1,40,40,30.5]
["Justin Widmer","DAC3","Dallas","2014-2015",1,"Pre",2,34,"Jeremy Swingle",2,1,null,null,null,null,null,null,0,0,40,40,30.5]
["Justin Widmer","DAC3","Dallas","2014-2015",4,"ConB",4,"B-3","Cutty Welt",3,3,null,null,null,null,null,null,0,1,40,40,30.5]
["Justin Widmer","DAC3","Dallas","2014-2015",1,"ConB",4,"B-7","Cutty Welt",3,3,null,null,null,null,null,null,0,1,40,40,30.5]
["Justin Widmer","DAC3","Dallas","2014-2015",1,"Pre",4,12,"Cutty Welt",3,2,null,null,null,null,null,null,0,0,50,50,30.5]
["Justin Widmer","DAC3","Dallas","2014-2015",2,"ConB",4,"B-5","Cutty Welt",3,2,null,null,null,null,null,null,0,0,50,50,30.5]
["Justin Widmer","DAC3","Dallas","2014-2015",3,"ConB",4,"B-6","Cutty Welt",3,2,null,null,null,null,null,null,0,0,50,50,30.5]
["Justin Widmer","DAC3","Dallas","2014-2015",4,"Pre",2,10,"Jeremy Swingle",3,0,null,null,1,null,null,null,0,0,60,55,30.5]
["Justin Widmer","DAC3","Dallas","2014-2015",1,"Pre",1,25,"Scott Peterson",3,0,null,1,null,null,null,null,{"$f":"IF(J2434=4,1,0)","v":0},{"$f":"IF(K2434=3,1,0)","v":0},60,{"$f":"T2434+M2434*(20) + (SUM(O2434:Q2434)*(10)) - L2434*(5) - N2434*(5)","v":80},{"$f":"AVERAGEIFS(U:U,A:A,A2434,F:F,\"Pre\")","v":30.5}]
["Justin Widmer","DAC3","Dallas","2014-2015",2,"Pre",2,34,"Jeremy Swingle",3,1,null,null,null,null,null,null,0,0,60,60,30.5]
["Justin Widmer","DAC3","Dallas","2014-2015",2,"ConB",4,"B-2","Cutty Welt",3,1,null,null,null,null,null,null,0,0,60,60,30.5]
["Justin Widmer","DAC3","Dallas","2014-2015",3,"Pre",2,26,"Jeremy Swingle",4,2,1,null,null,null,null,null,1,0,70,65,30.5]
["Justin Widmer","DAC3","Dallas","2014-2015",1,"ConB",4,"B-5","Cutty Welt",4,2,null,null,null,null,null,null,1,0,70,70,30.5]
["Justin Widmer","DAC3","Dallas","2014-2015",4,"ConB",4,"B-1","Cutty Welt",4,0,null,null,null,null,null,null,1,0,90,90,30.5]
["Justin Widmer","DAC3","Dallas","2014-2015",1,"ConB",4,"B-3","Cutty Welt",4,0,null,null,null,null,null,null,1,0,90,90,30.5]
["Justin Widmer","DAC3","Dallas","2014-2015",3,"ConB",4,"B-7","Cutty Welt",4,0,null,null,null,null,null,null,1,0,90,90,30.5]
["Justin Widmer","DAC3","Dallas","2014-2015",5,"Pre",4,8,"Cutty Welt",3,1,null,null,null,null,null,null,0,0,60,60,30.5]
["Justin Widmer","DAC3","Dallas","2014-2015",5,"Pre",3,19,"Tony Kong",2,1,null,null,2,null,null,null,0,0,40,30,30.5]
["Justin Widmer","DAC3","Dallas","2014-2015",5,"Pre",4,28,"Cutty Welt",2,2,null,null,null,null,null,null,0,0,30,30,30.5]
["Justin Widmer","DAC3","Dallas","2014-2015",5,"Pre",2,34,"Jeremy Swingle",1,3,null,null,null,null,null,null,0,1,0,0,30.5]
["Justin Widmer","DAC3","Dallas","2014-2015",5,"Pre",1,37,"Scott Peterson",4,0,null,1,null,null,null,null,1,0,90,110,30.5]
["Justin Widmer","DAC3","Dallas","2014-2015",5,"Pre",2,50,"Jeremy Swingle",1,1,null,null,null,null,null,null,0,0,20,20,30.5]
["Justin Widmer","DAC3",{"$f":"VLOOKUP(B2448,$B$2:$C$3219,2,FALSE)","v":"Dallas"},"2014-2015",5,"ConB",4,"B-4","Cutty Welt",4,0,null,null,1,null,null,null,1,0,90,85,30.5]
["Justin Widmer","DAC3",{"$f":"VLOOKUP(B2449,$B$2:$C$3219,2,FALSE)","v":"Dallas"},"2014-2015",5,"ConB",4,"B-5","Cutty Welt",4,2,null,null,null,null,null,null,1,0,70,70,30.5]
["Justin Widmer","DAC3",{"$f":"VLOOKUP(B2450,$B$2:$C$3219,2,FALSE)","v":"Dallas"},"2014-2015",5,"ConB",4,"B-6","Cutty Welt",4,1,null,null,null,null,null,null,1,0,80,80,30.5]
["Justin Widmer","DAC3",{"$f":"VLOOKUP(B2451,$B$2:$C$3219,2,FALSE)","v":"Dallas"},"2014-2015",5,"ConB",4,"B-J","Cutty Welt",2,1,null,null,null,null,null,null,0,0,null,0,30.5]
["Kaden Meredith","LH5","Lighthouse","2014-2015",3,"Pre",1,1,"Scott Peterson",0,0,null,null,null,null,null,null,0,0,{"$f":"quizscore(J2452,K2452)","v":0},0,4.583333333333333]
["Kaden Meredith","LH5","Lighthouse","2014-2015",2,"Pre",2,2,"Jeremy Swingle",0,0,null,1,null,null,null,null,0,0,0,20,4.583333333333333]
["Kaden Meredith","LH5","Lighthouse","2014-2015",2,"Pre",4,8,"Cutty Welt",0,0,null,null,null,null,null,null,0,0,0,0,4.583333333333333]
["Kaden Meredith","LH5","Lighthouse","2014-2015",4,"Pre",4,8,"Cutty Welt",0,0,null,null,null,null,null,null,0,0,0,0,4.583333333333333]
["Kaden Meredith","LH5","Lighthouse","2014-2015",4,"Pre",3,11,"Tony Kong",0,0,null,1,null,null,null,null,0,0,0,20,4.583333333333333]
["Kaden Meredith","LH5","Lighthouse","2014-2015",3,"Pre",3,15,"Tiffany Bye",0,1,null,null,null,null,null,null,0,0,0,0,4.583333333333333]
["Kaden Meredith","LH5","Lighthouse","2014-2015",4,"Pre",3,19,"Tony Kong",0,0,null,null,null,null,null,null,0,0,0,0,4.583333333333333]
["Kaden Meredith","LH5","Lighthouse","2014-2015",2,"Pre",2,22,"Jeremy Swingle",0,0,null,null,null,null,null,null,0,0,0,0,4.583333333333333]
["Kaden Meredith","LH5","Lighthouse","2014-2015",3,"Pre",4,24,"Cutty Welt",0,0,null,null,null,null,null,null,0,0,0,0,4.583333333333333]
["Kaden Meredith","LH5","Lighthouse","2014-2015",2,"Pre",1,29,"Scott Peterson",0,0,1,null,null,null,null,null,0,0,0,-5,4.583333333333333]
["Kaden Meredith","LH5","Lighthouse","2014-2015",4,"Pre",1,33,"Scott Peterson",0,0,null,null,null,null,null,null,0,0,0,0,4.583333333333333]
["Kaden Meredith","LH5","Lighthouse","2014-2015",4,"Pre",1,37,"Scott Peterson",0,1,null,null,null,null,null,null,0,0,0,0,4.583333333333333]
["Kaden Meredith","LH5","Lighthouse","2014-2015",2,"Pre",1,41,"Scott Peterson",0,0,null,null,null,null,null,null,0,0,0,0,4.583333333333333]
["Kaden Meredith","LH5","Lighthouse","2014-2015",3,"Pre",2,42,"Jeremy Swingle",0,1,null,null,null,null,null,null,0,0,0,0,4.583333333333333]
["Kaden Meredith","LH5","Lighthouse","2014-2015",3,"Pre",2,50,"Jeremy Swingle",0,0,null,null,null,null,null,null,0,0,0,0,4.583333333333333]
["Kaden Meredith","LH5","Lighthouse","2014-2015",4,"Semi",1,"A","Scott Peterson",0,0,null,null,null,null,null,null,0,0,0,0,4.583333333333333]
["Kaden Meredith","LH5","Lighthouse","2014-2015",3,"ConB",4,"B-3","Cutty Welt",0,0,null,null,null,null,null,null,0,0,0,0,4.583333333333333]
["Kaden Meredith","LH5","Lighthouse","2014-2015",2,"ConB",4,"B-4","Cutty Welt",0,0,null,null,null,null,null,null,0,0,0,0,4.583333333333333]
["Kaden Meredith","LH5","Lighthouse","2014-2015",3,"ConB",4,"B-5","Cutty Welt",0,0,null,null,null,null,null,null,0,0,0,0,4.583333333333333]
["Kaden Meredith","LH5","Lighthouse","2014-2015",3,"ConB",4,"B-J","Cutty Welt",0,1,null,null,null,null,null,null,0,0,0,0,4.583333333333333]
["Kaden Meredith","LH5","Lighthouse","2014-2015",4,"Semi",2,"H","Jeremy Swingle",0,0,null,null,null,null,null,null,0,0,0,0,4.583333333333333]
["Kaden Meredith","LH5","Lighthouse","2014-2015",3,"Pre",2,30,"Jeremy Swingle",1,1,null,null,null,null,null,null,0,0,20,20,4.583333333333333]
["Kaden Meredith","LH5","Lighthouse","2014-2015",2,"Pre",3,39,"Tiffany Bye",1,0,null,null,null,null,null,null,0,0,20,20,4.583333333333333]
["Kaden Meredith","LH5","Lighthouse","2014-2015",4,"Pre",2,46,"Jeremy Swingle",1,0,null,1,null,null,null,null,0,0,20,40,4.583333333333333]
["Kaden Meredith","LH5","Lighthouse","2014-2015",2,"ConB",4,"B-2","Cutty Welt",1,0,null,null,null,null,null,null,0,0,20,20,4.583333333333333]
["Kaden Meredith","LH5","Lighthouse","2014-2015",2,"ConB",4,"B-J","Cutty Welt",1,0,null,null,null,null,null,null,0,0,20,20,4.583333333333333]
["Kaden Meredith","LH5","Lighthouse","2014-2015",4,"Semi",1,"E","Scott Peterson",1,0,null,null,null,null,null,null,0,0,20,20,4.583333333333333]
["Kaden Meredith","LH5","Lighthouse","2014-2015",3,"ConB",4,"B-7","Cutty Welt",2,0,null,null,null,null,null,null,0,0,40,40,4.583333333333333]
["Kaden Meredith","LH5","Lighthouse","2014-2015",2,"ConB",4,"B-3","Cutty Welt",3,0,null,null,null,null,null,null,0,0,60,60,4.583333333333333]
["Kaden Meredith","LH5","Lighthouse","2014-2015",5,"Pre",2,6,"Jeremy Swingle",0,0,null,null,null,null,null,null,0,0,0,0,4.583333333333333]
["Kaden Meredith","LH5","Lighthouse","2014-2015",5,"Pre",4,16,"Cutty Welt",0,0,null,null,null,null,null,null,0,0,0,0,4.583333333333333]
["Kaden Meredith","LH5","Lighthouse","2014-2015",5,"Pre",3,23,"Tony Kong",0,0,null,null,1,null,null,null,0,0,0,-5,4.583333333333333]
["Kaden Meredith","LH5","Lighthouse","2014-2015",5,"Pre",1,29,"Scott Peterson",0,0,null,null,null,null,null,null,0,0,{"$f":"quizscore(J2484,K2484)","v":0},0,4.583333333333333]
["Kaden Meredith","LH5","Lighthouse","2014-2015",5,"Pre",1,41,"Scott Peterson",0,0,null,null,null,null,null,null,0,0,0,0,4.583333333333333]
["Kaden Meredith","LH5","Lighthouse","2014-2015",5,"Pre",2,46,"Jeremy Swingle",0,0,null,null,null,null,null,null,0,0,0,0,4.583333333333333]
["Kaden Meredith","LH5","Lighthouse","2014-2015",5,"ConA",2,"A-C","Jeremy Swingle",0,0,null,null,null,null,null,null,0,0,0,0,4.583333333333333]
["Kaden Meredith","LH5","Lighthouse","2014-2015",5,"ConA",3,"A-F","Abby Ashcraft",0,0,null,null,null,null,null,null,0,0,0,0,4.583333333333333]
["Kate Sweborg","LH3","Lighthouse","2014-2015",3,"Pre",2,2,"Jeremy Swingle",0,0,null,null,null,null,null,null,0,0,0,0,10.208333333333334]
["Kate Sweborg","LH3","Lighthouse","2014-2015",1,"Pre",2,6,"Jeremy Swingle",0,0,null,null,null,null,null,null,0,0,0,0,10.208333333333334]
["Kate Sweborg","LH3","Lighthouse","2014-2015",2,"Pre",3,7,"Tiffany Bye",0,0,1,null,null,null,null,null,0,0,0,-5,10.208333333333334]
["Kate Sweborg","LH3","Lighthouse","2014-2015",4,"Pre",1,9,"Scott Peterson",0,0,null,null,null,null,null,null,0,0,0,0,10.208333333333334]
["Kate Sweborg","LH3","Lighthouse","2014-2015",3,"Pre",1,13,"Scott Peterson",0,0,null,1,null,null,null,null,0,0,0,20,10.208333333333334]
["Kate Sweborg","LH3","Lighthouse","2014-2015",1,"Pre",2,18,"Jeremy Swingle",0,0,null,null,null,null,null,null,0,0,0,0,10.208333333333334]
["Kate Sweborg","LH3","Lighthouse","2014-2015",2,"Pre",2,18,"Jeremy Swingle",0,0,null,null,null,null,null,null,0,0,0,0,10.208333333333334]
["Kate Sweborg","LH3","Lighthouse","2014-2015",4,"Pre",2,18,"Jeremy Swingle",0,1,null,null,null,null,null,null,0,0,0,0,10.208333333333334]
["Kate Sweborg","LH3","Lighthouse","2014-2015",3,"Pre",3,23,"Tiffany Bye",0,0,null,null,null,null,null,null,0,0,0,0,10.208333333333334]
["Kate Sweborg","LH3","Lighthouse","2014-2015",1,"Pre",1,25,"Scott Peterson",0,0,null,null,null,null,null,null,{"$f":"IF(J2498=4,1,0)","v":0},{"$f":"IF(K2498=3,1,0)","v":0},0,{"$f":"T2498+M2498*(20) + (SUM(O2498:Q2498)*(10)) - L2498*(5) - N2498*(5)","v":0},{"$f":"AVERAGEIFS(U:U,A:A,A2498,F:F,\"Pre\")","v":10.208333333333334}]
["Kate Sweborg","LH3","Lighthouse","2014-2015",1,"Pre",3,35,"Tiffany Bye",0,0,null,null,null,null,null,null,0,0,0,0,10.208333333333334]
["Kate Sweborg","LH3","Lighthouse","2014-2015",4,"Pre",3,39,"Tony Kong",0,0,null,null,null,null,null,null,0,0,0,0,10.208333333333334]
["Kate Sweborg","LH3","Lighthouse","2014-2015",1,"Pre",4,40,"Cutty Welt",0,1,null,null,null,null,null,null,0,0,0,0,10.208333333333334]
["Kate Sweborg","LH3","Lighthouse","2014-2015",4,"Pre",1,45,"Scott Peterson",0,0,null,null,null,null,null,null,0,0,0,0,10.208333333333334]
["Kate Sweborg","LH3","Lighthouse","2014-2015",1,"Pre",4,48,"Cutty Welt",0,0,null,null,null,null,null,null,0,0,0,0,10.208333333333334]
["Kate Sweborg","LH3","Lighthouse","2014-2015",3,"Pre",4,48,"Cutty Welt",0,0,null,null,null,null,null,null,0,0,0,0,10.208333333333334]
["Kate Sweborg","LH3","Lighthouse","2014-2015",3,"ConB",4,"B-1","Cutty Welt",0,0,null,null,null,null,null,null,0,0,0,0,10.208333333333334]
["Kate Sweborg","LH3","Lighthouse","2014-2015",3,"ConB",4,"B-6","Cutty Welt",0,1,null,null,null,null,null,null,0,0,0,0,10.208333333333334]
["Kate Sweborg","LH3","Lighthouse","2014-2015",1,"ConB",4,"B-J","Cutty Welt",0,1,null,null,null,null,null,null,0,0,0,0,10.208333333333334]
["Kate Sweborg","LH3","Lighthouse","2014-2015",3,"ConB",4,"B-3","Cutty Welt",1,2,null,null,null,null,null,null,0,0,10,10,10.208333333333334]
["Kate Sweborg","LH3","Lighthouse","2014-2015",4,"Pre",4,4,"Cutty Welt",1,0,null,null,null,null,null,null,0,0,20,20,10.208333333333334]
["Kate Sweborg","LH3","Lighthouse","2014-2015",3,"Pre",2,26,"Jeremy Swingle",1,0,null,null,null,null,null,null,0,0,20,20,10.208333333333334]
["Kate Sweborg","LH3","Lighthouse","2014-2015",2,"Pre",4,28,"Cutty Welt",1,0,null,null,null,null,null,null,0,0,20,20,10.208333333333334]
["Kate Sweborg","LH3","Lighthouse","2014-2015",3,"Pre",1,33,"Scott Peterson",1,0,null,null,null,null,null,null,0,0,20,20,10.208333333333334]
["Kate Sweborg","LH3","Lighthouse","2014-2015",4,"ConB",4,"B-4","Cutty Welt",1,0,null,null,null,null,null,null,0,0,20,20,10.208333333333334]
["Kate Sweborg","LH3","Lighthouse","2014-2015",1,"ConB",4,"B-5","Cutty Welt",1,0,null,null,null,null,1,null,0,0,20,30,10.208333333333334]
["Kate Sweborg","LH3","Lighthouse","2014-2015",4,"ConB",4,"B-6","Cutty Welt",1,1,null,null,null,null,null,null,0,0,20,20,10.208333333333334]
["Kate Sweborg","LH3","Lighthouse","2014-2015",2,"ConB",4,"B-7","Cutty Welt",1,0,null,1,null,null,null,null,0,0,{"$f":"quizscore(J2516,K2516)","v":20},40,10.208333333333334]
["Kate Sweborg","LH3","Lighthouse","2014-2015",2,"Pre",3,39,"Tiffany Bye",2,2,null,null,null,null,null,null,0,0,30,30,10.208333333333334]
["Kate Sweborg","LH3","Lighthouse","2014-2015",2,"Pre",1,13,"Scott Peterson",2,0,null,null,null,null,null,null,0,0,40,40,10.208333333333334]
["Kate Sweborg","LH3","Lighthouse","2014-2015",4,"Pre",4,28,"Cutty Welt",2,0,null,null,null,null,null,null,0,0,40,40,10.208333333333334]
["Kate Sweborg","LH3","Lighthouse","2014-2015",2,"Pre",1,49,"Scott Peterson",2,1,null,null,null,null,null,null,0,0,40,40,10.208333333333334]
["Kate Sweborg","LH3","Lighthouse","2014-2015",1,"ConB",4,"B-2","Cutty Welt",2,0,null,null,null,null,null,null,0,0,40,40,10.208333333333334]
["Kate Sweborg","LH3","Lighthouse","2014-2015",2,"ConB",4,"B-2","Cutty Welt",2,1,null,null,null,null,null,null,0,0,40,40,10.208333333333334]
["Kate Sweborg","LH3","Lighthouse","2014-2015",4,"ConB",4,"B-5","Cutty Welt",2,0,null,null,null,null,null,null,0,0,40,40,10.208333333333334]
["Kate Sweborg","LH3","Lighthouse","2014-2015",2,"ConB",4,"B-6","Cutty Welt",2,0,null,null,null,null,null,null,0,0,40,40,10.208333333333334]
["Kate Sweborg","LH3","Lighthouse","2014-2015",1,"ConB",4,"B-1","Cutty Welt",3,1,null,null,null,null,null,null,0,0,60,60,10.208333333333334]
["Kate Sweborg","LH3","Lighthouse","2014-2015",4,"ConB",4,"B-J","Cutty Welt",0,1,null,null,null,null,null,null,0,0,0,0,10.208333333333334]
["Kendra Gross","GH1","Grays Harbor","2014-2015",4,"Pre",2,50,"Jeremy Swingle",0,2,null,null,null,null,null,null,0,0,-10,-10,69.65517241379311]
["Kendra Gross","GH1","Grays Harbor","2014-2015",4,"Semi",1,"D","Scott Peterson",0,2,null,null,null,null,null,null,0,0,-10,-10,69.65517241379311]
["Kendra Gross","GH1","Grays Harbor","2014-2015",2,"Semi",1,"A","Scott Peterson",1,3,null,null,null,null,null,null,0,1,0,0,69.65517241379311]
["Kendra Gross","GH1","Grays Harbor","2014-2015",1,"Semi",1,"E","Scott Peterson",1,2,null,null,null,null,null,null,0,0,10,10,69.65517241379311]
["Kendra Gross","GH1","Grays Harbor","2014-2015",2,"Semi",1,"G","Scott Peterson",1,1,null,null,null,null,null,null,0,0,20,20,69.65517241379311]
["Kendra Gross","GH1","Grays Harbor","2014-2015",1,"Semi",2,"H","Jeremy Swingle",2,3,null,null,null,null,null,null,0,1,20,20,69.65517241379311]
["Kendra Gross","GH1","Grays Harbor","2014-2015",2,"Semi",1,"I","Scott Peterson",1,1,null,null,null,null,null,null,0,0,20,20,69.65517241379311]
["Kendra Gross","GH1","Grays Harbor","2014-2015",3,"Semi",1,"A","Scott Peterson",2,2,null,null,null,null,null,null,0,0,30,30,69.65517241379311]
["Kendra Gross","GH1","Grays Harbor","2014-2015",3,"Semi",1,"E","Scott Peterson",2,2,null,null,null,null,null,null,0,0,30,30,69.65517241379311]
["Kendra Gross","GH1","Grays Harbor","2014-2015",3,"Semi",1,"J","Scott Peterson",2,1,null,1,null,null,null,null,0,0,40,60,69.65517241379311]
["Kendra Gross","GH1","Grays Harbor","2014-2015",3,"Semi",1,"J","Scott Peterson",2,0,null,null,null,null,null,null,0,0,40,40,69.65517241379311]
["Kendra Gross","GH1","Grays Harbor","2014-2015",2,"Pre",3,11,"Tiffany Bye",3,2,null,null,null,null,null,null,0,0,50,50,69.65517241379311]
["Kendra Gross","GH1","Grays Harbor","2014-2015",2,"Pre",1,17,"Scott Peterson",3,2,null,null,null,null,null,null,0,0,50,50,69.65517241379311]
["Kendra Gross","GH1","Grays Harbor","2014-2015",3,"Pre",1,29,"Scott Peterson",3,2,null,null,null,null,null,null,0,0,50,50,69.65517241379311]
["Kendra Gross","GH1","Grays Harbor","2014-2015",1,"Pre",1,37,"Scott Peterson",3,2,null,null,null,null,null,null,0,0,50,50,69.65517241379311]
["Kendra Gross","GH1","Grays Harbor","2014-2015",2,"Semi",1,"E","Scott Peterson",3,0,null,1,null,null,null,null,0,0,60,80,69.65517241379311]
["Kendra Gross","GH1","Grays Harbor","2014-2015",4,"Semi",1,"G","Scott Peterson",3,1,null,1,null,null,null,null,0,0,60,80,69.65517241379311]
["Kendra Gross","GH1","Grays Harbor","2014-2015",1,"Pre",2,30,"Jeremy Swingle",4,2,null,null,null,null,null,null,1,0,70,70,69.65517241379311]
["Kendra Gross","GH1","Grays Harbor","2014-2015",2,"Pre",2,34,"Jeremy Swingle",4,2,null,null,null,null,null,null,1,0,70,70,69.65517241379311]
["Kendra Gross","GH1","Grays Harbor","2014-2015",4,"Semi",1,"B","Scott Peterson",4,2,null,null,null,null,null,null,1,0,70,70,69.65517241379311]
["Kendra Gross","GH1","Grays Harbor","2014-2015",1,"Pre",2,2,"Jeremy Swingle",4,1,null,null,null,null,null,null,1,0,80,80,69.65517241379311]
["Kendra Gross","GH1","Grays Harbor","2014-2015",4,"Pre",1,5,"Scott Peterson",4,1,null,null,null,null,null,null,1,0,{"$f":"quizscore(J2548,K2548)","v":80},80,69.65517241379311]
["Kendra Gross","GH1","Grays Harbor","2014-2015",3,"Pre",1,9,"Scott Peterson",4,1,null,null,null,null,null,null,1,0,80,80,69.65517241379311]
["Kendra Gross","GH1","Grays Harbor","2014-2015",1,"Pre",1,13,"Scott Peterson",4,1,null,null,null,null,null,null,1,0,80,80,69.65517241379311]
["Kendra Gross","GH1","Grays Harbor","2014-2015",4,"Pre",3,19,"Tony Kong",4,1,null,null,null,null,null,null,1,0,80,80,69.65517241379311]
["Kendra Gross","GH1","Grays Harbor","2014-2015",2,"Pre",2,26,"Jeremy Swingle",4,1,null,null,null,null,null,null,1,0,80,80,69.65517241379311]
["Kendra Gross","GH1","Grays Harbor","2014-2015",1,"Pre",3,27,"Tiffany Bye",4,1,null,null,null,null,null,null,1,0,80,80,69.65517241379311]
["Kendra Gross","GH1","Grays Harbor","2014-2015",4,"Pre",2,34,"Jeremy Swingle",4,1,null,null,null,null,null,null,1,0,80,80,69.65517241379311]
["Kendra Gross","GH1","Grays Harbor","2014-2015",2,"Pre",1,37,"Scott Peterson",4,1,null,null,null,null,null,null,1,0,80,80,69.65517241379311]
["Kendra Gross","GH1","Grays Harbor","2014-2015",3,"Pre",4,40,"Cutty Welt",4,1,null,1,null,null,null,null,1,0,80,100,69.65517241379311]
["Kendra Gross","GH1","Grays Harbor","2014-2015",1,"Semi",1,"B","Scott Peterson",4,1,null,null,null,null,null,null,1,0,80,80,69.65517241379311]
["Kendra Gross","GH1","Grays Harbor","2014-2015",3,"Semi",2,"H","Jeremy Swingle",4,1,null,null,1,null,null,null,1,0,80,75,69.65517241379311]
["Kendra Gross","GH1","Grays Harbor","2014-2015",3,"Semi",1,"I","Scott Peterson",4,1,null,null,null,null,null,null,1,0,80,80,69.65517241379311]
["Kendra Gross","GH1","Grays Harbor","2014-2015",3,"Pre",2,2,"Jeremy Swingle",4,0,null,null,null,null,null,null,1,0,90,90,69.65517241379311]
["Kendra Gross","GH1","Grays Harbor","2014-2015",3,"Pre",3,19,"Tiffany Bye",4,0,null,null,null,null,null,null,1,0,90,90,69.65517241379311]
["Kendra Gross","GH1","Grays Harbor","2014-2015",4,"Pre",4,32,"Cutty Welt",4,0,null,null,null,null,null,null,{"$f":"IF(J2562=4,1,0)","v":1},{"$f":"IF(K2562=3,1,0)","v":0},90,{"$f":"T2562+M2562*(20) + (SUM(O2562:Q2562)*(10)) - L2562*(5) - N2562*(5)","v":90},{"$f":"AVERAGEIFS(U:U,A:A,A2562,F:F,\"Pre\")","v":69.65517241379311}]
["Kendra Gross","GH1","Grays Harbor","2014-2015",4,"Pre",3,43,"Tony Kong",4,0,null,null,null,null,null,null,1,0,90,90,69.65517241379311]
["Kendra Gross","GH1","Grays Harbor","2014-2015",1,"Pre",4,44,"Cutty Welt",4,0,null,null,null,null,null,null,1,0,90,90,69.65517241379311]
["Kendra Gross","GH1","Grays Harbor","2014-2015",3,"Pre",3,47,"Tiffany Bye",4,0,null,null,null,null,null,null,1,0,90,90,69.65517241379311]
["Kendra Gross","GH1","Grays Harbor","2014-2015",2,"Pre",4,48,"Cutty Welt",4,0,null,null,null,null,null,null,1,0,90,90,69.65517241379311]
["Kendra Gross","GH1","Grays Harbor","2014-2015",4,"Semi",1,"J","Scott Peterson",3,1,null,null,null,null,null,null,0,0,60,60,69.65517241379311]
["Kendra Gross","GH1","Grays Harbor","2014-2015",4,"Semi",1,"J","Scott Peterson",1,2,null,null,null,null,null,null,0,0,10,10,69.65517241379311]
["Kendra Gross","GH1","Grays Harbor","2014-2015",4,"Semi",1,"J","Scott Peterson",3,1,null,null,null,null,null,null,0,0,60,60,69.65517241379311]
["Kendra Gross","GH1","Grays Harbor","2014-2015",5,"Pre",1,5,"Scott Peterson",4,2,null,null,null,null,null,null,1,0,70,70,69.65517241379311]
["Kendra Gross","GH1","Grays Harbor","2014-2015",5,"Pre",2,10,"Jeremy Swingle",3,2,null,null,null,null,null,null,0,0,50,50,69.65517241379311]
["Kendra Gross","GH1","Grays Harbor","2014-2015",5,"Pre",3,19,"Tony Kong",0,3,null,null,null,null,null,null,0,1,-20,-20,69.65517241379311]
["Kendra Gross","GH1","Grays Harbor","2014-2015",5,"Pre",1,25,"Scott Peterson",3,1,null,null,null,null,null,null,0,0,60,60,69.65517241379311]
["Kendra Gross","GH1","Grays Harbor","2014-2015",5,"Pre",2,30,"Jeremy Swingle",4,1,null,null,null,null,null,null,1,0,80,80,69.65517241379311]
["Kimberly Bonar","EBC2","EBC","2014-2015",1,"Pre",4,8,"Cutty Welt",0,0,1,null,null,null,null,null,0,0,0,-5,41]
["Kimberly Bonar","EBC2","EBC","2014-2015",1,"Pre",3,31,"Tiffany Bye",0,0,null,null,null,null,null,null,0,0,0,0,41]
["Kimberly Bonar","EBC1","EBC","2014-2015",4,"Pre",2,34,"Jeremy Swingle",0,1,null,1,null,null,null,null,0,0,0,20,41]
["Kimberly Bonar","EBC2","EBC","2014-2015",1,"Pre",1,37,"Scott Peterson",0,1,null,null,null,null,null,null,0,0,0,0,41]
["Kimberly Bonar","EBC1","EBC","2014-2015",3,"Pre",3,43,"Tiffany Bye",0,0,null,1,null,null,null,null,0,0,0,20,41]
["Kimberly Bonar","EBC1","EBC","2014-2015",2,"Pre",2,50,"Jeremy Swingle",0,1,null,1,null,null,null,null,0,0,{"$f":"quizscore(J2580,K2580)","v":0},20,41]
["Kimberly Bonar","EBC2","EBC","2014-2015",1,"Semi",1,"A","Scott Peterson",0,0,null,null,null,null,null,null,0,0,0,0,41]
["Kimberly Bonar","EBC1","EBC","2014-2015",2,"ConA",2,"A-C","Jeremy Swingle",1,3,null,null,null,null,null,null,0,1,0,0,41]
["Kimberly Bonar","EBC2","EBC","2014-2015",1,"Pre",2,22,"Jeremy Swingle",1,2,null,null,null,1,null,null,0,0,10,20,41]
["Kimberly Bonar","EBC2","EBC","2014-2015",1,"Semi",2,"F","Jeremy Swingle",1,2,null,null,null,null,null,null,0,0,10,10,41]
["Kimberly Bonar","EBC1","EBC","2014-2015",2,"Pre",1,9,"Scott Peterson",1,0,null,null,null,null,null,null,0,0,20,20,41]
["Kimberly Bonar","EBC1","EBC","2014-2015",3,"Pre",1,29,"Scott Peterson",1,0,null,null,null,null,null,null,0,0,20,20,41]
["Kimberly Bonar","EBC1","EBC","2014-2015",2,"Pre",3,31,"Tiffany Bye",1,0,null,1,null,null,null,null,0,0,20,40,41]
["Kimberly Bonar","EBC1","EBC","2014-2015",4,"Pre",1,17,"Scott Peterson",2,2,null,null,null,null,null,null,0,0,30,30,41]
["Kimberly Bonar","EBC1","EBC","2014-2015",4,"Pre",4,44,"Cutty Welt",2,2,null,null,null,null,null,null,0,0,30,30,41]
["Kimberly Bonar","EBC1","EBC","2014-2015",4,"ConB",4,"B-2","Cutty Welt",2,2,null,1,null,null,null,null,0,0,30,50,41]
["Kimberly Bonar","EBC2","EBC","2014-2015",1,"Pre",3,15,"Tiffany Bye",2,0,1,null,null,1,null,null,0,0,40,45,41]
["Kimberly Bonar","EBC1","EBC","2014-2015",3,"Pre",4,16,"Cutty Welt",2,0,null,null,null,null,null,null,0,0,40,40,41]
["Kimberly Bonar","EBC1","EBC","2014-2015",4,"Pre",4,28,"Cutty Welt",2,1,null,null,null,null,null,null,0,0,40,40,41]
["Kimberly Bonar","EBC1","EBC","2014-2015",3,"Pre",2,38,"Jeremy Swingle",2,1,null,null,null,null,null,null,0,0,40,40,41]
["Kimberly Bonar","EBC1","EBC","2014-2015",3,"ConA",3,"A-E","Tiffany Bye",2,1,null,null,null,null,null,null,0,0,40,40,41]
["Kimberly Bonar","EBC1","EBC","2014-2015",4,"Pre",3,11,"Tony Kong",3,2,null,null,null,null,null,null,0,0,50,50,41]
["Kimberly Bonar","EBC1","EBC","2014-2015",4,"ConB",4,"B-5","Cutty Welt",3,2,null,null,null,null,null,null,0,0,50,50,41]
["Kimberly Bonar","EBC1","EBC","2014-2015",2,"Pre",1,1,"Scott Peterson",3,0,null,null,null,null,null,null,0,0,60,60,41]
["Kimberly Bonar","EBC1","EBC","2014-2015",4,"Pre",1,1,"Scott Peterson",3,1,null,null,null,null,null,null,0,0,60,60,41]
["Kimberly Bonar","EBC1","EBC","2014-2015",3,"Pre",2,6,"Jeremy Swingle",3,1,null,null,null,null,null,null,0,0,60,60,41]
["Kimberly Bonar","EBC2","EBC","2014-2015",1,"Pre",1,45,"Scott Peterson",3,1,null,null,null,null,null,null,0,0,60,60,41]
["Kimberly Bonar","EBC1","EBC","2014-2015",2,"ConA",3,"A-F","Tiffany Bye",3,1,null,null,null,null,null,null,0,0,60,60,41]
["Kimberly Bonar","EBC1","EBC","2014-2015",3,"ConA",3,"A-I","Tiffany Bye",3,1,null,null,null,null,null,null,0,0,60,60,41]
["Kimberly Bonar","EBC1","EBC","2014-2015",2,"Pre",4,44,"Cutty Welt",4,2,null,null,null,null,null,null,1,0,70,70,41]
["Kimberly Bonar","EBC1","EBC","2014-2015",2,"Pre",4,24,"Cutty Welt",4,1,null,null,null,null,null,null,1,0,80,80,41]
["Kimberly Bonar","EBC1","EBC","2014-2015",3,"Pre",4,24,"Cutty Welt",4,1,null,1,null,null,null,null,1,0,80,100,41]
["Kimberly Bonar","EBC1","EBC","2014-2015",3,"ConA",2,"A-C","Jeremy Swingle",4,1,null,null,null,null,null,null,1,0,80,80,41]
["Kimberly Bonar","EBC1","EBC","2014-2015",3,"ConA",2,"A-G","Jeremy Swingle",4,1,null,null,null,null,null,null,1,0,80,80,41]
["Kimberly Bonar","EBC1","EBC","2014-2015",4,"ConB",4,"B-1","Cutty Welt",4,1,null,null,null,null,null,null,1,0,80,80,41]
["Kimberly Bonar","EBC1","EBC","2014-2015",5,"Pre",3,7,"Tony Kong",3,1,null,null,null,null,null,null,0,0,60,60,41]
["Kimberly Bonar","EBC1","EBC","2014-2015",5,"Pre",2,14,"Jeremy Swingle",3,1,null,1,null,null,null,null,0,0,60,80,41]
["Kimberly Bonar","EBC1","EBC","2014-2015",5,"Pre",2,18,"Jeremy Swingle",2,2,null,null,null,null,null,null,0,0,{"$f":"quizscore(J2612,K2612)","v":30},30,41]
["Kimberly Bonar","EBC1","EBC","2014-2015",5,"Pre",4,32,"Cutty Welt",4,1,null,null,null,null,null,null,1,0,80,80,41]
["Kimberly Bonar","EBC1","EBC","2014-2015",5,"Pre",4,40,"Cutty Welt",1,3,null,null,null,null,null,null,0,1,0,0,41]
["Kimberly Bonar","EBC1","EBC","2014-2015",5,"Pre",1,49,"Scott Peterson",2,1,null,1,null,null,null,null,0,0,40,60,41]
["Kimberly Bonar","EBC1",{"$f":"VLOOKUP(B2616,$B$2:$C$3219,2,FALSE)","v":"EBC"},"2014-2015",5,"ConB",4,"B-2","Cutty Welt",4,1,null,null,null,null,null,null,1,0,80,80,41]
["Kimberly Bonar","EBC1",{"$f":"VLOOKUP(B2617,$B$2:$C$3219,2,FALSE)","v":"EBC"},"2014-2015",5,"ConB",4,"B-3","Cutty Welt",4,1,null,null,null,null,null,null,1,0,80,80,41]
["Kimberly Bonar","EBC1",{"$f":"VLOOKUP(B2618,$B$2:$C$3219,2,FALSE)","v":"EBC"},"2014-2015",5,"ConB",4,"B-4","Cutty Welt",4,1,null,null,null,null,null,null,1,0,80,80,41]
["Kimberly Bonar","EBC1",{"$f":"VLOOKUP(B2619,$B$2:$C$3219,2,FALSE)","v":"EBC"},"2014-2015",5,"ConB",4,"B-J","Cutty Welt",2,3,null,null,null,null,null,null,0,1,null,0,41]
["Kyndal Holcomb","GH1","Grays Harbor","2014-2015",1,"Pre",2,2,"Jeremy Swingle",0,0,null,null,null,null,null,null,0,0,{"$f":"quizscore(J2620,K2620)","v":0},0,0]
["Kyndal Holcomb","GH1","Grays Harbor","2014-2015",1,"Pre",1,13,"Scott Peterson",0,0,null,null,null,null,null,null,0,0,0,0,0]
["Kyndal Holcomb","GH1","Grays Harbor","2014-2015",1,"Pre",3,27,"Tiffany Bye",0,0,null,null,null,null,null,null,0,0,0,0,0]
["Kyndal Holcomb","GH1","Grays Harbor","2014-2015",1,"Pre",2,30,"Jeremy Swingle",0,0,null,null,null,null,null,null,0,0,0,0,0]
["Kyndal Holcomb","GH1","Grays Harbor","2014-2015",1,"Pre",1,37,"Scott Peterson",0,0,null,null,null,null,null,null,0,0,0,0,0]
["Kyndal Holcomb","GH1","Grays Harbor","2014-2015",1,"Pre",4,44,"Cutty Welt",0,0,null,null,null,null,null,null,0,0,0,0,0]
["Kyndal Holcomb","GH1","Grays Harbor","2014-2015",1,"Semi",1,"B","Scott Peterson",0,0,null,null,null,null,null,null,{"$f":"IF(J2626=4,1,0)","v":0},{"$f":"IF(K2626=3,1,0)","v":0},0,{"$f":"T2626+M2626*(20) + (SUM(O2626:Q2626)*(10)) - L2626*(5) - N2626*(5)","v":0},{"$f":"AVERAGEIFS(U:U,A:A,A2626,F:F,\"Pre\")","v":0}]
["Kyndal Holcomb","GH1","Grays Harbor","2014-2015",1,"Semi",1,"E","Scott Peterson",0,0,null,null,null,null,null,null,0,0,0,0,0]
["Kyndal Holcomb","GH1","Grays Harbor","2014-2015",1,"Semi",2,"H","Jeremy Swingle",0,0,null,null,null,null,null,null,0,0,0,0,0]
["Lam Dang","ABC4","ABC","2014-2015",1,"ConB",4,"B-6","Cutty Welt",0,2,null,null,null,null,null,null,0,0,-10,-10,4]
["Lam Dang","ABC4","ABC","2014-2015",4,"Pre",3,3,"Tony Kong",0,0,null,null,null,null,null,null,0,0,0,0,4]
["Lam Dang","ABC4","ABC","2014-2015",2,"Pre",2,6,"Jeremy Swingle",0,0,null,1,null,null,null,null,0,0,0,20,4]
["Lam Dang","ABC4","ABC","2014-2015",1,"Pre",3,7,"Tiffany Bye",0,0,null,null,null,null,null,null,0,0,0,0,4]
["Lam Dang","ABC4","ABC","2014-2015",3,"Pre",4,8,"Cutty Welt",0,0,null,null,null,null,null,null,0,0,0,0,4]
["Lam Dang","ABC4","ABC","2014-2015",4,"Pre",1,9,"Scott Peterson",0,1,null,null,null,null,null,null,0,0,0,0,4]
["Lam Dang","ABC4","ABC","2014-2015",3,"Pre",2,14,"Jeremy Swingle",0,0,null,null,null,null,null,null,0,0,0,0,4]
["Lam Dang","ABC4","ABC","2014-2015",1,"Pre",2,18,"Jeremy Swingle",0,0,null,null,null,null,null,null,0,0,0,0,4]
["Lam Dang","ABC4","ABC","2014-2015",3,"Pre",1,21,"Scott Peterson",0,0,null,null,null,null,null,null,0,0,0,0,4]
["Lam Dang","ABC4","ABC","2014-2015",4,"Pre",3,23,"Tony Kong",0,0,null,null,null,null,null,null,0,0,0,0,4]
["Lam Dang","ABC4","ABC","2014-2015",1,"Pre",4,24,"Cutty Welt",0,0,null,null,null,null,null,null,0,0,0,0,4]
["Lam Dang","ABC4","ABC","2014-2015",2,"Pre",4,24,"Cutty Welt",0,0,null,null,null,null,null,null,0,0,0,0,4]
["Lam Dang","ABC4","ABC","2014-2015",3,"Pre",3,27,"Tiffany Bye",0,0,null,null,null,null,null,null,0,0,0,0,4]
["Lam Dang","ABC4","ABC","2014-2015",2,"Pre",4,32,"Cutty Welt",0,0,null,null,null,null,null,null,0,0,0,0,4]
["Lam Dang","ABC4","ABC","2014-2015",3,"Pre",2,34,"Jeremy Swingle",0,0,null,null,null,null,null,null,0,0,0,0,4]
["Lam Dang","ABC4","ABC","2014-2015",1,"Pre",4,36,"Cutty Welt",0,0,null,null,null,null,null,null,0,0,0,0,4]
["Lam Dang","ABC4","ABC","2014-2015",1,"Pre",2,38,"Jeremy Swingle",0,0,null,null,null,null,null,null,0,0,0,0,4]
["Lam Dang","ABC4","ABC","2014-2015",4,"Pre",1,41,"Scott Peterson",0,0,null,null,1,null,null,null,0,0,0,-5,4]
["Lam Dang","ABC4","ABC","2014-2015",2,"Pre",3,43,"Tiffany Bye",0,0,null,null,null,null,null,null,0,0,0,0,4]
["Lam Dang","ABC4","ABC","2014-2015",1,"Pre",1,45,"Scott Peterson",0,0,null,null,null,null,null,null,0,0,0,0,4]
["Lam Dang","ABC4","ABC","2014-2015",3,"Pre",1,45,"Scott Peterson",0,0,null,null,1,null,null,null,0,0,0,-5,4]
["Lam Dang","ABC4","ABC","2014-2015",4,"Pre",2,46,"Jeremy Swingle",0,0,null,null,null,null,null,null,0,0,0,0,4]
["Lam Dang","ABC4","ABC","2014-2015",2,"Pre",1,49,"Scott Peterson",0,0,null,null,null,null,null,null,0,0,0,0,4]
["Lam Dang","ABC4","ABC","2014-2015",2,"ConA",3,"A-B","Tiffany Bye",0,0,null,null,null,null,null,null,0,0,{"$f":"quizscore(J2652,K2652)","v":0},0,4]
["Lam Dang","ABC4","ABC","2014-2015",2,"ConA",3,"A-F","Tiffany Bye",0,0,null,null,null,null,null,null,0,0,0,0,4]
["Lam Dang","ABC4","ABC","2014-2015",3,"ConB",4,"B-1","Cutty Welt",0,0,null,null,null,null,null,null,0,0,0,0,4]
["Lam Dang","ABC4","ABC","2014-2015",1,"ConB",4,"B-4","Cutty Welt",0,0,null,null,null,null,null,null,0,0,0,0,4]
["Lam Dang","ABC4","ABC","2014-2015",3,"ConB",4,"B-5","Cutty Welt",0,0,null,null,null,null,null,null,0,0,0,0,4]
["Lam Dang","ABC4","ABC","2014-2015",4,"ConB",4,"B-6","Cutty Welt",0,0,null,null,null,null,null,null,0,0,0,0,4]
["Lam Dang","ABC4","ABC","2014-2015",2,"Pre",2,14,"Jeremy Swingle",1,0,null,null,null,null,null,null,0,0,20,20,4]
["Lam Dang","ABC4","ABC","2014-2015",4,"Pre",4,36,"Cutty Welt",1,0,null,1,null,null,null,null,0,0,20,40,4]
["Lam Dang","ABC4","ABC","2014-2015",3,"ConB",4,"B-2","Cutty Welt",1,0,null,null,null,null,null,null,0,0,20,20,4]
["Lam Dang","ABC4","ABC","2014-2015",4,"ConB",4,"B-2","Cutty Welt",1,0,null,null,null,1,null,null,0,0,20,30,4]
["Lam Dang","ABC4","ABC","2014-2015",4,"ConB",4,"B-7","Cutty Welt",1,1,null,null,null,null,null,null,0,0,20,20,4]
["Lam Dang","ABC4","ABC","2014-2015",1,"ConB",4,"B-5","Cutty Welt",2,0,null,null,null,null,null,null,0,0,40,40,4]
["Lam Dang","ABC4","ABC","2014-2015",4,"ConB",4,"B-J","Cutty Welt",0,1,null,null,null,null,null,null,0,0,0,0,4]
["Lam Dang","ABC4","ABC","2014-2015",5,"Pre",4,4,"Cutty Welt",0,0,null,null,null,null,null,null,0,0,0,0,4]
["Lam Dang","ABC4","ABC","2014-2015",5,"Pre",4,12,"Cutty Welt",0,0,null,null,null,null,null,null,0,0,0,0,4]
["Lam Dang","ABC4","ABC","2014-2015",5,"Pre",1,17,"Scott Peterson",0,0,null,null,null,null,null,null,0,0,0,0,4]
["Lam Dang","ABC4","ABC","2014-2015",5,"Pre",3,27,"Tony Kong",0,0,null,null,null,null,null,null,0,0,0,0,4]
["Lam Dang","ABC4","ABC","2014-2015",5,"Pre",2,38,"Jeremy Swingle",0,0,null,null,null,null,null,null,0,0,0,0,4]
["Lam Dang","ABC4","ABC","2014-2015",5,"Pre",1,49,"Scott Peterson",2,0,null,null,null,1,null,null,0,0,40,50,4]
["Lam Dang","ABC4","ABC","2014-2015",5,"ConA",2,"A-A","Jeremy Swingle",0,0,null,null,null,null,null,null,0,0,0,0,4]
["Lam Dang","ABC4","ABC","2014-2015",5,"ConA",3,"A-E","Abby Ashcraft",0,0,null,null,null,null,null,null,0,0,0,0,4]
["Lam Dang","ABC4","ABC","2014-2015",5,"ConA",3,"A-H","Abby Ashcraft",0,0,null,null,null,null,null,null,0,0,0,0,4]
["Lexi Swanson","LH3","Lighthouse","2014-2015",1,"Pre",2,18,"Jeremy Swingle",0,2,null,null,null,null,null,null,0,0,-10,-10,18.333333333333332]
["Lexi Swanson","LH3","Lighthouse","2014-2015",3,"ConB",4,"B-1","Cutty Welt",0,2,null,null,1,null,null,null,0,0,-10,-15,18.333333333333332]
["Lexi Swanson","LH3","Lighthouse","2014-2015",3,"ConB",4,"B-3","Cutty Welt",0,2,null,null,null,null,null,null,0,0,-10,-10,18.333333333333332]
["Lexi Swanson","LH3","Lighthouse","2014-2015",3,"Pre",1,13,"Scott Peterson",0,1,null,null,null,null,null,null,0,0,0,0,18.333333333333332]
["Lexi Swanson","LH3","Lighthouse","2014-2015",3,"Pre",2,26,"Jeremy Swingle",0,0,null,null,null,null,null,null,0,0,0,0,18.333333333333332]
["Lexi Swanson","LH3","Lighthouse","2014-2015",3,"Pre",4,48,"Cutty Welt",0,1,null,null,null,null,null,null,0,0,0,0,18.333333333333332]
["Lexi Swanson","LH3","Lighthouse","2014-2015",1,"ConB",4,"B-5","Cutty Welt",1,2,null,null,null,null,null,null,0,0,10,10,18.333333333333332]
["Lexi Swanson","LH3","Lighthouse","2014-2015",3,"ConB",4,"B-6","Cutty Welt",1,2,null,null,null,null,null,null,0,0,10,10,18.333333333333332]
["Lexi Swanson","LH3","Lighthouse","2014-2015",1,"Pre",2,6,"Jeremy Swingle",1,0,null,null,null,1,null,null,0,0,20,30,18.333333333333332]
["Lexi Swanson","LH3","Lighthouse","2014-2015",1,"Pre",1,25,"Scott Peterson",1,1,null,null,null,null,null,null,0,0,20,20,18.333333333333332]
["Lexi Swanson","LH3","Lighthouse","2014-2015",3,"Pre",1,33,"Scott Peterson",1,0,null,null,null,null,null,null,0,0,{"$f":"quizscore(J2684,K2684)","v":20},20,18.333333333333332]
["Lexi Swanson","LH3","Lighthouse","2014-2015",1,"ConB",4,"B-J","Cutty Welt",1,1,null,null,null,1,null,null,0,0,20,30,18.333333333333332]
["Lexi Swanson","LH3","Lighthouse","2014-2015",3,"Pre",3,23,"Tiffany Bye",2,2,null,null,null,null,null,null,0,0,30,30,18.333333333333332]
["Lexi Swanson","LH3","Lighthouse","2014-2015",3,"Pre",2,2,"Jeremy Swingle",2,1,null,null,null,null,null,null,0,0,40,40,18.333333333333332]
["Lexi Swanson","LH3","Lighthouse","2014-2015",1,"Pre",4,48,"Cutty Welt",2,0,null,null,null,null,null,null,0,0,40,40,18.333333333333332]
["Lexi Swanson","LH3","Lighthouse","2014-2015",1,"ConB",4,"B-1","Cutty Welt",2,1,null,null,null,null,null,null,0,0,40,40,18.333333333333332]
["Lexi Swanson","LH3","Lighthouse","2014-2015",1,"ConB",4,"B-2","Cutty Welt",2,0,null,null,null,1,null,null,{"$f":"IF(J2690=4,1,0)","v":0},{"$f":"IF(K2690=3,1,0)","v":0},40,{"$f":"T2690+M2690*(20) + (SUM(O2690:Q2690)*(10)) - L2690*(5) - N2690*(5)","v":50},{"$f":"AVERAGEIFS(U:U,A:A,A2690,F:F,\"Pre\")","v":18.333333333333332}]
["Lexi Swanson","LH3","Lighthouse","2014-2015",1,"Pre",3,35,"Tiffany Bye",3,0,null,null,null,null,null,null,0,0,60,60,18.333333333333332]
["Lexi Swanson","LH3","Lighthouse","2014-2015",1,"Pre",4,40,"Cutty Welt",3,1,null,null,null,null,null,null,0,0,60,60,18.333333333333332]
["Lexi Swanson","LH3","Lighthouse","2014-2015",5,"Pre",3,3,"Tony Kong",0,0,null,null,null,null,null,null,0,0,0,0,18.333333333333332]
["Lexi Swanson","LH3","Lighthouse","2014-2015",5,"Pre",1,9,"Scott Peterson",0,0,null,null,null,null,null,null,0,0,0,0,18.333333333333332]
["Lexi Swanson","LH3","Lighthouse","2014-2015",5,"Pre",1,17,"Scott Peterson",0,1,null,null,null,null,null,null,0,0,0,0,18.333333333333332]
["Lexi Swanson","LH3","Lighthouse","2014-2015",5,"Pre",3,31,"Tony Kong",1,0,null,null,null,null,null,null,0,0,20,20,18.333333333333332]
["Lexi Swanson","LH3","Lighthouse","2014-2015",5,"Pre",4,40,"Cutty Welt",1,0,null,null,null,null,null,null,0,0,20,20,18.333333333333332]
["Lexi Swanson","LH3","Lighthouse","2014-2015",5,"Pre",2,46,"Jeremy Swingle",0,0,null,null,null,null,null,null,0,0,0,0,18.333333333333332]
["Lexi Swanson","LH3",{"$f":"VLOOKUP(B2699,$B$2:$C$3219,2,FALSE)","v":"Lighthouse"},"2014-2015",5,"ConB",4,"B-2","Cutty Welt",0,0,null,null,1,null,null,null,0,0,0,-5,18.333333333333332]
["Lexi Swanson","LH3",{"$f":"VLOOKUP(B2700,$B$2:$C$3219,2,FALSE)","v":"Lighthouse"},"2014-2015",5,"ConB",4,"B-6","Cutty Welt",2,0,null,null,null,null,null,null,0,0,40,40,18.333333333333332]
["Lexi Swanson","LH3",{"$f":"VLOOKUP(B2701,$B$2:$C$3219,2,FALSE)","v":"Lighthouse"},"2014-2015",5,"ConB",4,"B-7","Cutty Welt",1,0,null,1,null,null,null,null,0,0,20,40,18.333333333333332]
["Lydia Taw","ABC1","ABC","2014-2015",2,"Semi",1,"D","Scott Peterson",1,2,null,null,null,1,null,null,0,0,10,20,75.666666666666671]
["Lydia Taw","ABC1","ABC","2014-2015",1,"Semi",1,"C","Scott Peterson",1,1,1,null,null,null,null,null,0,0,20,15,75.666666666666671]
["Lydia Taw","ABC1","ABC","2014-2015",3,"Semi",1,"C","Scott Peterson",1,0,null,1,null,null,null,null,0,0,20,40,75.666666666666671]
["Lydia Taw","ABC1","ABC","2014-2015",2,"Semi",1,"J","Scott Peterson",1,1,1,1,null,null,null,null,0,0,20,35,75.666666666666671]
["Lydia Taw","ABC1","ABC","2014-2015",3,"Semi",1,"J","Scott Peterson",1,1,null,null,null,null,null,null,0,0,20,20,75.666666666666671]
["Lydia Taw","ABC1","ABC","2014-2015",3,"Pre",3,3,"Tiffany Bye",2,2,null,null,null,1,null,null,0,0,30,40,75.666666666666671]
["Lydia Taw","ABC1","ABC","2014-2015",3,"Semi",1,"D","Scott Peterson",2,2,null,null,null,1,null,null,0,0,30,40,75.666666666666671]
["Lydia Taw","ABC1","ABC","2014-2015",2,"Pre",2,42,"Jeremy Swingle",2,1,null,null,null,null,null,null,0,0,40,40,75.666666666666671]
["Lydia Taw","ABC1","ABC","2014-2015",1,"Semi",1,"D","Scott Peterson",2,0,null,null,null,null,null,null,0,0,40,40,75.666666666666671]
["Lydia Taw","ABC1","ABC","2014-2015",1,"Semi",1,"J","Scott Peterson",2,1,2,null,null,null,null,null,0,0,40,30,75.666666666666671]
["Lydia Taw","ABC1","ABC","2014-2015",3,"Semi",1,"J","Scott Peterson",2,0,null,null,null,null,null,null,0,0,40,40,75.666666666666671]
["Lydia Taw","ABC1","ABC","2014-2015",3,"Pre",1,9,"Scott Peterson",3,2,null,null,null,null,null,null,0,0,50,50,75.666666666666671]
["Lydia Taw","ABC1","ABC","2014-2015",1,"Pre",3,3,"Tiffany Bye",3,0,null,null,null,null,null,null,0,0,60,60,75.666666666666671]
["Lydia Taw","ABC1","ABC","2014-2015",1,"Pre",1,13,"Scott Peterson",3,0,null,null,null,null,null,null,0,0,60,60,75.666666666666671]
["Lydia Taw","ABC1","ABC","2014-2015",3,"Pre",1,17,"Scott Peterson",3,0,null,null,null,null,null,null,0,0,{"$f":"quizscore(J2716,K2716)","v":60},60,75.666666666666671]
["Lydia Taw","ABC1","ABC","2014-2015",4,"Pre",2,18,"Jeremy Swingle",3,1,null,1,null,null,null,null,0,0,60,80,75.666666666666671]
["Lydia Taw","ABC1","ABC","2014-2015",3,"Pre",4,24,"Cutty Welt",3,0,null,null,null,null,null,null,0,0,60,60,75.666666666666671]
["Lydia Taw","ABC1","ABC","2014-2015",4,"Pre",4,40,"Cutty Welt",3,1,null,null,null,null,null,null,0,0,60,60,75.666666666666671]
["Lydia Taw","ABC1","ABC","2014-2015",2,"Semi",1,"G","Scott Peterson",3,0,null,null,null,null,null,null,0,0,60,60,75.666666666666671]
["Lydia Taw","ABC1","ABC","2014-2015",1,"Semi",1,"J","Scott Peterson",3,1,1,null,null,null,null,null,0,0,60,55,75.666666666666671]
["Lydia Taw","ABC1","ABC","2014-2015",3,"Pre",4,44,"Cutty Welt",4,2,null,null,null,null,null,null,1,0,70,70,75.666666666666671]
["Lydia Taw","ABC1","ABC","2014-2015",2,"Pre",1,17,"Scott Peterson",4,1,null,null,null,null,null,null,1,0,80,80,75.666666666666671]
["Lydia Taw","ABC1","ABC","2014-2015",1,"Pre",3,23,"Tiffany Bye",4,1,null,null,null,null,null,null,1,0,80,80,75.666666666666671]
["Lydia Taw","ABC1","ABC","2014-2015",1,"Pre",2,42,"Jeremy Swingle",4,1,null,null,null,null,null,null,1,0,80,80,75.666666666666671]
["Lydia Taw","ABC1","ABC","2014-2015",4,"Pre",3,47,"Tony Kong",4,1,null,null,null,null,null,null,1,0,80,80,75.666666666666671]
["Lydia Taw","ABC1","ABC","2014-2015",4,"Semi",1,"A","Scott Peterson",4,1,null,null,null,null,null,null,1,0,80,80,75.666666666666671]
["Lydia Taw","ABC1","ABC","2014-2015",2,"Semi",1,"B","Scott Peterson",4,1,null,null,null,null,null,null,1,0,80,80,75.666666666666671]
["Lydia Taw","ABC1","ABC","2014-2015",1,"Semi",1,"G","Scott Peterson",4,1,null,null,null,null,null,null,1,0,80,80,75.666666666666671]
["Lydia Taw","ABC1","ABC","2014-2015",1,"Semi",1,"J","Scott Peterson",4,1,2,1,null,null,null,null,1,0,80,90,75.666666666666671]
["Lydia Taw","ABC1","ABC","2014-2015",4,"Pre",1,1,"Scott Peterson",4,0,null,null,null,null,null,null,1,0,90,90,75.666666666666671]
["Lydia Taw","ABC1","ABC","2014-2015",2,"Pre",3,7,"Tiffany Bye",4,0,null,null,null,null,null,null,1,0,90,90,75.666666666666671]
["Lydia Taw","ABC1","ABC","2014-2015",1,"Pre",4,8,"Cutty Welt",4,0,null,null,null,null,null,null,1,0,90,90,75.666666666666671]
["Lydia Taw","ABC1","ABC","2014-2015",2,"Pre",1,9,"Scott Peterson",4,0,null,null,null,null,null,null,1,0,90,90,75.666666666666671]
["Lydia Taw","ABC1","ABC","2014-2015",4,"Pre",2,26,"Jeremy Swingle",4,0,null,null,null,null,null,null,1,0,90,90,75.666666666666671]
["Lydia Taw","ABC1","ABC","2014-2015",2,"Pre",2,30,"Jeremy Swingle",4,0,null,null,null,null,null,null,1,0,90,90,75.666666666666671]
["Lydia Taw","ABC1","ABC","2014-2015",1,"Pre",2,34,"Jeremy Swingle",4,0,null,null,null,null,null,null,1,0,90,90,75.666666666666671]
["Lydia Taw","ABC1","ABC","2014-2015",3,"Pre",2,34,"Jeremy Swingle",4,0,null,null,null,null,null,null,1,0,90,90,75.666666666666671]
["Lydia Taw","ABC1","ABC","2014-2015",4,"Pre",4,36,"Cutty Welt",4,0,null,null,null,null,null,null,1,0,90,90,75.666666666666671]
["Lydia Taw","ABC1","ABC","2014-2015",2,"Pre",4,40,"Cutty Welt",4,0,null,null,null,null,null,null,1,0,90,90,75.666666666666671]
["Lydia Taw","ABC1","ABC","2014-2015",4,"Semi",1,"D","Scott Peterson",4,0,null,2,null,null,null,null,1,0,90,130,75.666666666666671]
["Lydia Taw","ABC1","ABC","2014-2015",1,"Semi",1,"J","Scott Peterson",4,0,null,1,null,null,null,null,1,0,90,110,75.666666666666671]
["Lydia Taw","ABC1","ABC","2014-2015",2,"Semi",1,"J","Scott Peterson",4,0,null,null,null,null,null,null,1,0,90,90,75.666666666666671]
["Lydia Taw","ABC1","ABC","2014-2015",4,"Semi",1,"J","Scott Peterson",4,0,null,1,null,null,null,null,1,0,90,110,75.666666666666671]
["Lydia Taw","ABC1","ABC","2014-2015",4,"Semi",1,"J","Scott Peterson",4,0,null,null,null,null,null,null,1,0,90,90,75.666666666666671]
["Lydia Taw","ABC1","ABC","2014-2015",4,"Semi",1,"J","Scott Peterson",4,0,null,null,null,null,null,null,1,0,90,90,75.666666666666671]
["Lydia Taw","ABC1","ABC","2014-2015",5,"Pre",1,1,"Scott Peterson",4,1,null,null,null,null,null,null,1,0,80,80,75.666666666666671]
["Lydia Taw","ABC1","ABC","2014-2015",5,"Pre",4,12,"Cutty Welt",4,1,null,null,null,null,null,null,1,0,{"$f":"quizscore(J2748,K2748)","v":80},80,75.666666666666671]
["Lydia Taw","ABC1","ABC","2014-2015",5,"Pre",1,13,"Scott Peterson",4,1,null,null,null,null,null,null,1,0,80,80,75.666666666666671]
["Lydia Taw","ABC1","ABC","2014-2015",5,"Pre",2,22,"Jeremy Swingle",4,1,null,null,null,null,null,null,1,0,80,80,75.666666666666671]
["Lydia Taw","ABC1","ABC","2014-2015",5,"Pre",3,35,"Tony Kong",3,0,null,null,null,null,null,null,0,0,60,60,75.666666666666671]
["Lydia Taw","ABC1","ABC","2014-2015",5,"Pre",2,42,"Jeremy Swingle",4,1,null,null,null,1,null,null,1,0,80,90,75.666666666666671]
["Lydia Taw","ABC1","ABC","2014-2015",5,"Semi",1,"A","Scott Peterson",4,0,null,null,null,null,null,null,1,0,90,90,75.666666666666671]
["Lydia Taw","ABC1","ABC","2014-2015",5,"Semi",1,"D","Scott Peterson",3,0,null,1,null,null,null,null,{"$f":"IF(J2754=4,1,0)","v":0},{"$f":"IF(K2754=3,1,0)","v":0},60,{"$f":"T2754+M2754*(20) + (SUM(O2754:Q2754)*(10)) - L2754*(5) - N2754*(5)","v":80},{"$f":"AVERAGEIFS(U:U,A:A,A2754,F:F,\"Pre\")","v":75.666666666666671}]
["Lydia Taw","ABC1","ABC","2014-2015",5,"Semi",1,"G","Scott Peterson",2,3,null,1,null,null,null,null,0,1,20,40,75.666666666666671]
["Lydia Taw","ABC1","ABC","2014-2015",5,"Semi",1,"J","Scott Peterson",3,1,null,null,null,null,null,null,0,0,null,0,75.666666666666671]
["Lydia Taw","ABC1","ABC","2014-2015",5,"Semi",1,"J","Scott Peterson",1,3,null,1,null,null,null,null,0,1,null,20,75.666666666666671]
["Maddie Ashcraft","LH1","Lighthouse","2014-2015",1,"Pre",2,50,"Jeremy Swingle",0,2,null,null,null,null,null,null,0,0,{"$f":"quizscore(J2758,K2758)","v":-10},-10,46.5]
["Maddie Ashcraft","LH1","Lighthouse","2014-2015",2,"Pre",2,2,"Jeremy Swingle",1,2,null,null,null,null,null,null,0,0,10,10,46.5]
["Maddie Ashcraft","LH1","Lighthouse","2014-2015",2,"Pre",2,6,"Jeremy Swingle",1,2,null,null,null,null,null,null,0,0,10,10,46.5]
["Maddie Ashcraft","LH1","Lighthouse","2014-2015",1,"Pre",1,9,"Scott Peterson",1,2,null,null,1,null,null,null,0,0,10,5,46.5]
["Maddie Ashcraft","LH1","Lighthouse","2014-2015",4,"Pre",1,13,"Scott Peterson",1,2,null,null,null,null,null,null,0,0,10,10,46.5]
["Maddie Ashcraft","LH1","Lighthouse","2014-2015",2,"Pre",4,20,"Cutty Welt",1,2,null,null,null,1,null,null,0,0,10,20,46.5]
["Maddie Ashcraft","LH1","Lighthouse","2014-2015",4,"ConA",2,"A-G","Jeremy Swingle",1,2,null,1,null,null,null,null,0,0,10,30,46.5]
["Maddie Ashcraft","LH1","Lighthouse","2014-2015",2,"Pre",4,28,"Cutty Welt",1,1,null,null,null,null,null,null,0,0,20,20,46.5]
["Maddie Ashcraft","LH1","Lighthouse","2014-2015",4,"Pre",3,31,"Tony Kong",1,1,null,null,null,null,null,null,0,0,20,20,46.5]
["Maddie Ashcraft","LH1","Lighthouse","2014-2015",1,"Pre",1,33,"Scott Peterson",1,1,null,null,null,null,null,null,0,0,20,20,46.5]
["Maddie Ashcraft","LH1","Lighthouse","2014-2015",2,"Pre",3,35,"Tiffany Bye",1,0,null,null,null,1,null,null,0,0,20,30,46.5]
["Maddie Ashcraft","LH1","Lighthouse","2014-2015",3,"Pre",1,37,"Scott Peterson",1,0,null,null,1,null,null,null,0,0,20,15,46.5]
["Maddie Ashcraft","LH1","Lighthouse","2014-2015",2,"ConA",3,"A-E","Tiffany Bye",1,0,null,null,null,null,null,null,0,0,20,20,46.5]
["Maddie Ashcraft","LH1","Lighthouse","2014-2015",3,"ConA",2,"A-G","Jeremy Swingle",1,1,null,null,null,null,null,null,0,0,20,20,46.5]
["Maddie Ashcraft","LH1","Lighthouse","2014-2015",4,"ConA",3,"A-I","Abby Ashcraft",1,0,null,null,null,1,null,null,0,0,20,30,46.5]
["Maddie Ashcraft","LH1","Lighthouse","2014-2015",3,"ConA",2,"A-J","Jeremy Swingle",1,0,null,null,null,1,null,null,0,0,20,30,46.5]
["Maddie Ashcraft","LH1","Lighthouse","2014-2015",1,"Pre",3,19,"Tiffany Bye",2,2,null,null,null,null,null,null,0,0,30,30,46.5]
["Maddie Ashcraft","LH1","Lighthouse","2014-2015",3,"Pre",4,8,"Cutty Welt",2,1,null,null,null,null,null,null,0,0,40,40,46.5]
["Maddie Ashcraft","LH1","Lighthouse","2014-2015",1,"Pre",4,28,"Cutty Welt",2,1,null,null,null,null,null,null,0,0,40,40,46.5]
["Maddie Ashcraft","LH1","Lighthouse","2014-2015",3,"Pre",3,31,"Tiffany Bye",2,1,null,1,null,null,null,null,0,0,40,60,46.5]
["Maddie Ashcraft","LH1","Lighthouse","2014-2015",2,"Pre",1,45,"Scott Peterson",2,0,null,null,null,null,null,null,0,0,40,40,46.5]
["Maddie Ashcraft","LH1","Lighthouse","2014-2015",2,"ConA",2,"A-A","Jeremy Swingle",2,0,null,null,null,null,null,null,0,0,40,40,46.5]
["Maddie Ashcraft","LH1","Lighthouse","2014-2015",4,"ConA",2,"A-D","Jeremy Swingle",2,0,null,1,1,null,null,null,0,0,40,55,46.5]
["Maddie Ashcraft","LH1","Lighthouse","2014-2015",4,"Pre",4,8,"Cutty Welt",3,0,null,null,null,null,null,null,0,0,60,60,46.5]
["Maddie Ashcraft","LH1","Lighthouse","2014-2015",4,"Pre",3,39,"Tony Kong",3,1,null,null,null,null,null,null,0,0,60,60,46.5]
["Maddie Ashcraft","LH1","Lighthouse","2014-2015",3,"Pre",2,46,"Jeremy Swingle",3,0,null,null,null,null,null,null,0,0,60,60,46.5]
["Maddie Ashcraft","LH1","Lighthouse","2014-2015",4,"Pre",4,48,"Cutty Welt",3,1,null,null,null,null,null,null,0,0,60,60,46.5]
["Maddie Ashcraft","LH1","Lighthouse","2014-2015",4,"ConA",2,"A-C","Jeremy Swingle",3,1,null,null,null,1,null,null,0,0,60,70,46.5]
["Maddie Ashcraft","LH1","Lighthouse","2014-2015",3,"ConA",2,"A-D","Jeremy Swingle",3,1,null,null,null,null,null,null,0,0,60,60,46.5]
["Maddie Ashcraft","LH1","Lighthouse","2014-2015",2,"ConA",3,"A-H","Tiffany Bye",3,1,null,1,null,null,null,null,0,0,60,80,46.5]
["Maddie Ashcraft","LH1","Lighthouse","2014-2015",1,"ConB",4,"B-1","Cutty Welt",3,1,null,null,null,null,null,null,0,0,60,60,46.5]
["Maddie Ashcraft","LH1","Lighthouse","2014-2015",1,"ConB",4,"B-4","Cutty Welt",3,1,null,null,null,null,null,null,0,0,60,60,46.5]
["Maddie Ashcraft","LH1","Lighthouse","2014-2015",1,"Pre",4,44,"Cutty Welt",4,1,null,null,null,null,null,null,1,0,80,80,46.5]
["Maddie Ashcraft","LH1","Lighthouse","2014-2015",3,"Pre",4,16,"Cutty Welt",4,0,null,null,null,null,null,null,1,0,90,90,46.5]
["Maddie Ashcraft","LH1","Lighthouse","2014-2015",4,"Pre",2,22,"Jeremy Swingle",4,0,null,null,null,null,null,null,1,0,90,90,46.5]
["Maddie Ashcraft","LH1","Lighthouse","2014-2015",3,"Pre",3,23,"Tiffany Bye",4,0,null,null,null,null,null,null,1,0,90,90,46.5]
["Maddie Ashcraft","LH1","Lighthouse","2014-2015",3,"ConA",2,"A-C","Jeremy Swingle",4,0,null,null,1,null,null,null,1,0,90,85,46.5]
["Maddie Ashcraft","LH1","Lighthouse","2014-2015",1,"ConB",4,"B-7","Cutty Welt",4,0,null,null,null,null,null,null,1,0,90,90,46.5]
["Maddie Ashcraft","LH1","Lighthouse","2014-2015",1,"ConB",4,"B-J","Cutty Welt",4,0,null,null,null,null,null,null,1,0,90,90,46.5]
["Maddie Ashcraft","LH1","Lighthouse","2014-2015",5,"Pre",3,7,"Tony Kong",3,1,null,null,null,null,null,null,0,0,60,60,46.5]
["Maddie Ashcraft","LH1","Lighthouse","2014-2015",5,"Pre",4,20,"Cutty Welt",4,0,null,1,null,null,null,null,1,0,90,110,46.5]
["Maddie Ashcraft","LH1","Lighthouse","2014-2015",5,"Pre",2,22,"Jeremy Swingle",3,0,null,null,1,null,null,null,0,0,60,55,46.5]
["Maddie Ashcraft","LH1","Lighthouse","2014-2015",5,"Pre",2,30,"Jeremy Swingle",4,0,null,null,null,null,null,null,1,0,90,90,46.5]
["Maddie Ashcraft","LH1","Lighthouse","2014-2015",5,"Pre",1,37,"Scott Peterson",4,0,null,null,null,null,null,null,1,0,90,90,46.5]
["Maddie Ashcraft","LH1","Lighthouse","2014-2015",5,"Pre",1,45,"Scott Peterson",2,0,null,null,null,null,null,null,0,0,40,40,46.5]
["Maddie Ashcraft","LH1","Lighthouse","2014-2015",5,"ConA",2,"A-A","Jeremy Swingle",3,1,null,null,null,null,null,null,0,0,60,60,46.5]
["Maddie Ashcraft","LH1","Lighthouse","2014-2015",5,"ConA",2,"A-D","Jeremy Swingle",0,1,null,null,1,null,null,null,0,0,0,-5,46.5]
["Maddie Ashcraft","LH1","Lighthouse","2014-2015",5,"ConA",2,"A-G","Jeremy Swingle",4,0,null,null,null,null,null,null,1,0,90,90,46.5]
["Maddie Ashcraft","LH1",{"$f":"VLOOKUP(B2806,$B$2:$C$3219,2,FALSE)","v":"Lighthouse"},"2014-2015",5,"ConA",3,"A-J","Abby Ashcraft",4,0,null,null,null,1,null,null,1,0,null,10,46.5]
["Maddy Cliffe","LH2","Lighthouse","2014-2015",4,"Pre",2,2,"Jeremy Swingle",0,2,null,null,null,null,null,null,0,0,{"$f":"quizscore(J2807,K2807)","v":-10},-10,2.8333333333333335]
["Maddy Cliffe","LH2","Lighthouse","2014-2015",4,"Pre",4,44,"Cutty Welt",0,2,null,null,null,null,null,null,0,0,-10,-10,2.8333333333333335]
["Maddy Cliffe","LH2","Lighthouse","2014-2015",1,"Pre",1,1,"Scott Peterson",0,0,null,null,null,null,null,null,0,0,0,0,2.8333333333333335]
["Maddy Cliffe","LH2","Lighthouse","2014-2015",2,"Pre",4,4,"Cutty Welt",0,0,null,null,null,null,null,null,0,0,0,0,2.8333333333333335]
["Maddy Cliffe","LH2","Lighthouse","2014-2015",3,"Pre",2,6,"Jeremy Swingle",0,0,null,null,null,null,null,null,0,0,0,0,2.8333333333333335]
["Maddy Cliffe","LH2","Lighthouse","2014-2015",3,"Pre",1,9,"Scott Peterson",0,1,null,null,null,null,null,null,0,0,0,0,2.8333333333333335]
["Maddy Cliffe","LH2","Lighthouse","2014-2015",4,"Pre",1,9,"Scott Peterson",0,0,null,null,null,null,null,null,0,0,0,0,2.8333333333333335]
["Maddy Cliffe","LH2","Lighthouse","2014-2015",1,"Pre",3,11,"Tiffany Bye",0,0,null,null,null,null,null,null,0,0,0,0,2.8333333333333335]
["Maddy Cliffe","LH2","Lighthouse","2014-2015",4,"Pre",3,15,"Tony Kong",0,0,null,null,null,null,null,null,0,0,0,0,2.8333333333333335]
["Maddy Cliffe","LH2","Lighthouse","2014-2015",2,"Pre",4,16,"Cutty Welt",0,1,null,null,null,null,null,null,0,0,0,0,2.8333333333333335]
["Maddy Cliffe","LH2","Lighthouse","2014-2015",3,"Pre",4,20,"Cutty Welt",0,1,null,null,1,null,null,null,0,0,0,-5,2.8333333333333335]
["Maddy Cliffe","LH2","Lighthouse","2014-2015",2,"Pre",2,22,"Jeremy Swingle",0,0,null,null,null,null,null,null,{"$f":"IF(J2818=4,1,0)","v":0},{"$f":"IF(K2818=3,1,0)","v":0},0,{"$f":"T2818+M2818*(20) + (SUM(O2818:Q2818)*(10)) - L2818*(5) - N2818*(5)","v":0},{"$f":"AVERAGEIFS(U:U,A:A,A2818,F:F,\"Pre\")","v":2.8333333333333335}]
["Maddy Cliffe","LH2","Lighthouse","2014-2015",4,"Pre",2,22,"Jeremy Swingle",0,0,null,null,null,null,null,null,0,0,0,0,2.8333333333333335]
["Maddy Cliffe","LH2","Lighthouse","2014-2015",3,"Pre",3,27,"Tiffany Bye",0,0,null,null,null,null,null,null,0,0,0,0,2.8333333333333335]
["Maddy Cliffe","LH2","Lighthouse","2014-2015",2,"Pre",3,31,"Tiffany Bye",0,0,null,null,null,null,null,null,0,0,0,0,2.8333333333333335]
["Maddy Cliffe","LH2","Lighthouse","2014-2015",1,"Pre",2,34,"Jeremy Swingle",0,0,null,null,null,null,null,null,0,0,0,0,2.8333333333333335]
["Maddy Cliffe","LH2","Lighthouse","2014-2015",3,"Pre",3,35,"Tiffany Bye",0,0,null,1,null,null,null,null,0,0,0,20,2.8333333333333335]
["Maddy Cliffe","LH2","Lighthouse","2014-2015",4,"Pre",3,35,"Tony Kong",0,0,null,null,null,null,null,null,0,0,0,0,2.8333333333333335]
["Maddy Cliffe","LH2","Lighthouse","2014-2015",2,"Pre",1,37,"Scott Peterson",0,0,1,null,null,null,null,null,0,0,0,-5,2.8333333333333335]
["Maddy Cliffe","LH2","Lighthouse","2014-2015",3,"Pre",2,42,"Jeremy Swingle",0,0,null,null,null,null,null,null,0,0,0,0,2.8333333333333335]
["Maddy Cliffe","LH2","Lighthouse","2014-2015",1,"Pre",4,44,"Cutty Welt",0,0,null,null,null,null,null,null,0,0,0,0,2.8333333333333335]
["Maddy Cliffe","LH2","Lighthouse","2014-2015",2,"Pre",3,47,"Tiffany Bye",0,0,null,null,null,null,null,null,0,0,0,0,2.8333333333333335]
["Maddy Cliffe","LH2","Lighthouse","2014-2015",4,"ConA",2,"A-A","Jeremy Swingle",0,0,null,null,null,null,null,null,0,0,0,0,2.8333333333333335]
["Maddy Cliffe","LH2","Lighthouse","2014-2015",1,"ConA",3,"A-B","Tiffany Bye",0,0,null,null,null,null,null,null,0,0,0,0,2.8333333333333335]
["Maddy Cliffe","LH2","Lighthouse","2014-2015",1,"ConA",3,"A-F","Tiffany Bye",0,1,null,null,null,null,null,null,0,0,0,0,2.8333333333333335]
["Maddy Cliffe","LH2","Lighthouse","2014-2015",3,"ConA",3,"A-F","Tiffany Bye",0,0,null,null,null,null,null,null,0,0,0,0,2.8333333333333335]
["Maddy Cliffe","LH2","Lighthouse","2014-2015",4,"ConA",3,"A-F","Abby Ashcraft",0,0,null,null,null,null,null,null,0,0,0,0,2.8333333333333335]
["Maddy Cliffe","LH2","Lighthouse","2014-2015",2,"ConB",4,"B-1","Cutty Welt",0,0,null,null,null,null,null,null,0,0,0,0,2.8333333333333335]
["Maddy Cliffe","LH2","Lighthouse","2014-2015",2,"ConB",4,"B-4","Cutty Welt",0,0,null,null,null,null,null,null,0,0,0,0,2.8333333333333335]
["Maddy Cliffe","LH2","Lighthouse","2014-2015",2,"ConB",4,"B-J","Cutty Welt",0,0,null,1,null,null,null,null,0,0,0,20,2.8333333333333335]
["Maddy Cliffe","LH2","Lighthouse","2014-2015",1,"Pre",4,16,"Cutty Welt",1,1,null,null,null,null,null,null,0,0,20,20,2.8333333333333335]
["Maddy Cliffe","LH2","Lighthouse","2014-2015",1,"Pre",2,22,"Jeremy Swingle",1,0,null,null,null,null,null,null,0,0,20,20,2.8333333333333335]
["Maddy Cliffe","LH2","Lighthouse","2014-2015",3,"ConA",2,"A-A","Jeremy Swingle",1,0,null,null,null,null,null,null,0,0,20,20,2.8333333333333335]
["Maddy Cliffe","LH2","Lighthouse","2014-2015",2,"ConB",4,"B-7","Cutty Welt",1,1,null,null,null,null,null,null,0,0,20,20,2.8333333333333335]
["Maddy Cliffe","LH2","Lighthouse","2014-2015",5,"Pre",4,12,"Cutty Welt",0,0,null,null,null,null,null,null,0,0,0,0,2.8333333333333335]
["Maddy Cliffe","LH2","Lighthouse","2014-2015",5,"Pre",2,18,"Jeremy Swingle",0,0,null,null,null,null,null,null,0,0,0,0,2.8333333333333335]
["Maddy Cliffe","LH2","Lighthouse","2014-2015",5,"Pre",1,25,"Scott Peterson",1,0,null,null,1,null,null,null,0,0,20,15,2.8333333333333335]
["Maddy Cliffe","LH2","Lighthouse","2014-2015",5,"Pre",1,33,"Scott Peterson",2,0,null,null,null,null,null,null,0,0,40,40,2.8333333333333335]
["Maddy Cliffe","LH2","Lighthouse","2014-2015",5,"Pre",3,39,"Tony Kong",0,0,null,null,null,null,null,null,0,0,0,0,2.8333333333333335]
["Maddy Cliffe","LH2","Lighthouse","2014-2015",5,"Pre",3,47,"Tony Kong",0,0,null,null,null,null,null,null,0,0,0,0,2.8333333333333335]
["Maddy Cliffe","LH2","Lighthouse","2014-2015",5,"ConA",3,"A-B","Abby Ashcraft",0,0,null,null,null,null,null,null,0,0,0,0,2.8333333333333335]
["Maddy Cliffe","LH2","Lighthouse","2014-2015",5,"ConA",3,"A-F","Abby Ashcraft",0,0,null,null,null,null,null,null,0,0,0,0,2.8333333333333335]
["Maddy Foster","LH3","Lighthouse","2014-2015",1,"Pre",2,6,"Jeremy Swingle",0,0,null,null,null,null,null,null,0,0,0,0,0]
["Maddy Foster","LH3","Lighthouse","2014-2015",2,"Pre",3,7,"Tiffany Bye",0,0,null,null,null,null,null,null,0,0,0,0,0]
["Maddy Foster","LH3","Lighthouse","2014-2015",2,"Pre",1,13,"Scott Peterson",0,0,null,null,null,null,null,null,0,0,0,0,0]
["Maddy Foster","LH3","Lighthouse","2014-2015",1,"Pre",2,18,"Jeremy Swingle",0,0,null,null,null,null,null,null,0,0,0,0,0]
["Maddy Foster","LH3","Lighthouse","2014-2015",2,"Pre",2,18,"Jeremy Swingle",0,0,null,null,null,null,null,null,0,0,0,0,0]
["Maddy Foster","LH3","Lighthouse","2014-2015",1,"Pre",1,25,"Scott Peterson",0,0,null,null,null,null,null,null,0,0,0,0,0]
["Maddy Foster","LH3","Lighthouse","2014-2015",2,"Pre",4,28,"Cutty Welt",0,0,null,null,null,null,null,null,0,0,0,0,0]
["Maddy Foster","LH3","Lighthouse","2014-2015",1,"Pre",3,35,"Tiffany Bye",0,0,null,null,null,null,null,null,0,0,0,0,0]
["Maddy Foster","LH3","Lighthouse","2014-2015",2,"Pre",3,39,"Tiffany Bye",0,0,null,null,null,null,null,null,0,0,0,0,0]
["Maddy Foster","LH3","Lighthouse","2014-2015",1,"Pre",4,40,"Cutty Welt",0,0,null,null,null,null,null,null,0,0,0,0,0]
["Maddy Foster","LH3","Lighthouse","2014-2015",1,"Pre",4,48,"Cutty Welt",0,0,null,null,null,null,null,null,0,0,0,0,0]
["Maddy Foster","LH3","Lighthouse","2014-2015",2,"Pre",1,49,"Scott Peterson",0,0,null,null,null,null,null,null,0,0,0,0,0]
["Maddy Foster","LH3","Lighthouse","2014-2015",1,"ConB",4,"B-1","Cutty Welt",0,0,null,null,null,null,null,null,0,0,0,0,0]
["Maddy Foster","LH3","Lighthouse","2014-2015",1,"ConB",4,"B-2","Cutty Welt",0,0,null,null,null,null,null,null,0,0,0,0,0]
["Maddy Foster","LH3","Lighthouse","2014-2015",1,"ConB",4,"B-5","Cutty Welt",0,0,null,null,null,null,null,null,0,0,0,0,0]
["Maddy Foster","LH3","Lighthouse","2014-2015",2,"ConB",4,"B-6","Cutty Welt",0,0,null,null,null,null,null,null,0,0,0,0,0]
["Maddy Foster","LH3","Lighthouse","2014-2015",1,"ConB",4,"B-J","Cutty Welt",0,0,null,null,null,null,null,null,0,0,0,0,0]
["Maddy Foster","LH3","Lighthouse","2014-2015",2,"ConB",4,"B-2","Cutty Welt",1,0,null,null,null,1,null,null,0,0,20,30,0]
["Maddy Foster","LH3","Lighthouse","2014-2015",2,"ConB",4,"B-7","Cutty Welt",1,0,null,null,null,null,null,null,0,0,20,20,0]
["Makya Warren","ABC2","ABC","2014-2015",1,"Pre",1,1,"Scott Peterson",0,0,null,null,null,null,null,null,0,0,0,0,8.6666666666666661]
["Makya Warren","ABC4","ABC","2014-2015",2,"Pre",2,6,"Jeremy Swingle",0,0,null,null,null,null,null,null,0,0,0,0,8.6666666666666661]
["Makya Warren","ABC4","ABC","2014-2015",3,"Pre",4,8,"Cutty Welt",0,1,null,null,null,null,null,null,0,0,0,0,8.6666666666666661]
["Makya Warren","ABC4","ABC","2014-2015",4,"Pre",1,9,"Scott Peterson",0,1,null,null,null,null,null,null,0,0,{"$f":"quizscore(J2871,K2871)","v":0},0,8.6666666666666661]
["Makya Warren","ABC2","ABC","2014-2015",1,"Pre",2,10,"Jeremy Swingle",0,0,null,null,null,null,null,null,0,0,0,0,8.6666666666666661]
["Makya Warren","ABC4","ABC","2014-2015",2,"Pre",2,14,"Jeremy Swingle",0,0,null,null,null,null,null,null,0,0,0,0,8.6666666666666661]
["Makya Warren","ABC2","ABC","2014-2015",1,"Pre",3,19,"Tiffany Bye",0,0,null,null,null,null,null,null,0,0,0,0,8.6666666666666661]
["Makya Warren","ABC4","ABC","2014-2015",3,"Pre",1,21,"Scott Peterson",0,0,null,null,null,null,null,null,0,0,0,0,8.6666666666666661]
["Makya Warren","ABC4","ABC","2014-2015",4,"Pre",3,23,"Tony Kong",0,0,null,null,null,null,null,null,0,0,0,0,8.6666666666666661]
["Makya Warren","ABC4","ABC","2014-2015",2,"Pre",4,24,"Cutty Welt",0,0,null,null,null,null,null,null,0,0,0,0,8.6666666666666661]
["Makya Warren","ABC4","ABC","2014-2015",3,"Pre",3,27,"Tiffany Bye",0,1,null,null,null,null,null,null,0,0,0,0,8.6666666666666661]
["Makya Warren","ABC2","ABC","2014-2015",1,"Pre",4,32,"Cutty Welt",0,0,null,null,null,null,null,null,0,0,0,0,8.6666666666666661]
["Makya Warren","ABC4","ABC","2014-2015",2,"Pre",4,32,"Cutty Welt",0,0,null,null,null,null,null,null,0,0,0,0,8.6666666666666661]
["Makya Warren","ABC4","ABC","2014-2015",3,"Pre",2,34,"Jeremy Swingle",0,0,null,null,null,null,null,null,0,0,0,0,8.6666666666666661]
["Makya Warren","ABC2","ABC","2014-2015",1,"Pre",4,36,"Cutty Welt",0,0,null,null,null,null,null,null,{"$f":"IF(J2882=4,1,0)","v":0},{"$f":"IF(K2882=3,1,0)","v":0},0,{"$f":"T2882+M2882*(20) + (SUM(O2882:Q2882)*(10)) - L2882*(5) - N2882*(5)","v":0},{"$f":"AVERAGEIFS(U:U,A:A,A2882,F:F,\"Pre\")","v":8.6666666666666661}]
["Makya Warren","ABC4","ABC","2014-2015",4,"Pre",4,36,"Cutty Welt",0,0,null,null,null,null,null,null,0,0,0,0,8.6666666666666661]
["Makya Warren","ABC2","ABC","2014-2015",1,"Pre",1,41,"Scott Peterson",0,0,null,null,null,null,null,null,0,0,0,0,8.6666666666666661]
["Makya Warren","ABC4","ABC","2014-2015",4,"Pre",1,41,"Scott Peterson",0,0,null,1,null,null,null,null,0,0,0,20,8.6666666666666661]
["Makya Warren","ABC4","ABC","2014-2015",2,"Pre",3,43,"Tiffany Bye",0,0,null,null,null,null,null,null,0,0,0,0,8.6666666666666661]
["Makya Warren","ABC4","ABC","2014-2015",4,"Pre",2,46,"Jeremy Swingle",0,1,null,null,null,null,null,null,0,0,0,0,8.6666666666666661]
["Makya Warren","ABC2","ABC","2014-2015",1,"Semi",1,"A","Scott Peterson",0,1,null,null,null,null,null,null,0,0,0,0,8.6666666666666661]
["Makya Warren","ABC4","ABC","2014-2015",2,"ConA",3,"A-B","Tiffany Bye",0,1,null,null,null,null,null,null,0,0,0,0,8.6666666666666661]
["Makya Warren","ABC4","ABC","2014-2015",2,"ConA",3,"A-F","Tiffany Bye",0,0,null,null,null,null,null,null,0,0,0,0,8.6666666666666661]
["Makya Warren","ABC4","ABC","2014-2015",3,"ConB",4,"B-1","Cutty Welt",0,1,null,null,null,null,null,null,0,0,0,0,8.6666666666666661]
["Makya Warren","ABC4","ABC","2014-2015",3,"ConB",4,"B-5","Cutty Welt",0,0,null,null,null,null,null,null,0,0,0,0,8.6666666666666661]
["Makya Warren","ABC4","ABC","2014-2015",4,"ConB",4,"B-6","Cutty Welt",0,0,null,null,null,null,null,null,0,0,0,0,8.6666666666666661]
["Makya Warren","ABC4","ABC","2014-2015",4,"ConB",4,"B-7","Cutty Welt",0,0,null,null,null,null,null,null,0,0,0,0,8.6666666666666661]
["Makya Warren","ABC2","ABC","2014-2015",1,"Semi",1,"D","Scott Peterson",0,0,null,null,null,null,null,null,0,0,0,0,8.6666666666666661]
["Makya Warren","ABC2","ABC","2014-2015",1,"Semi",1,"G","Scott Peterson",0,0,null,null,null,null,null,null,0,0,0,0,8.6666666666666661]
["Makya Warren","ABC2","ABC","2014-2015",1,"Semi",1,"I","Scott Peterson",0,0,null,null,null,null,null,null,0,0,0,0,8.6666666666666661]
["Makya Warren","ABC4","ABC","2014-2015",4,"Pre",3,3,"Tony Kong",1,1,null,null,null,null,null,null,0,0,20,20,8.6666666666666661]
["Makya Warren","ABC4","ABC","2014-2015",3,"Pre",2,14,"Jeremy Swingle",1,0,null,null,null,null,null,null,0,0,20,20,8.6666666666666661]
["Makya Warren","ABC4","ABC","2014-2015",3,"Pre",1,45,"Scott Peterson",2,0,null,null,null,null,null,null,0,0,40,40,8.6666666666666661]
["Makya Warren","ABC4","ABC","2014-2015",4,"ConB",4,"B-2","Cutty Welt",2,1,null,null,null,null,null,null,0,0,40,40,8.6666666666666661]
["Makya Warren","ABC4","ABC","2014-2015",2,"Pre",1,49,"Scott Peterson",3,0,null,null,null,null,null,null,0,0,60,60,8.6666666666666661]
["Makya Warren","ABC4","ABC","2014-2015",3,"ConB",4,"B-2","Cutty Welt",4,1,null,null,null,null,null,null,1,0,80,80,8.6666666666666661]
["Makya Warren","ABC4","ABC","2014-2015",4,"ConB",4,"B-J","Cutty Welt",2,1,null,null,null,null,null,null,0,0,40,40,8.6666666666666661]
["Makya Warren","ABC4","ABC","2014-2015",5,"Pre",4,4,"Cutty Welt",0,0,null,1,null,null,null,null,0,0,0,20,8.6666666666666661]
["Makya Warren","ABC4","ABC","2014-2015",5,"Pre",4,12,"Cutty Welt",1,0,null,null,null,null,null,null,0,0,20,20,8.6666666666666661]
["Makya Warren","ABC4","ABC","2014-2015",5,"Pre",1,17,"Scott Peterson",1,0,null,null,null,null,null,null,0,0,20,20,8.6666666666666661]
["Makya Warren","ABC4","ABC","2014-2015",5,"Pre",3,27,"Tony Kong",1,0,null,null,null,null,null,null,0,0,20,20,8.6666666666666661]
["Makya Warren","ABC4","ABC","2014-2015",5,"Pre",2,38,"Jeremy Swingle",0,0,null,null,null,null,null,null,0,0,0,0,8.6666666666666661]
["Makya Warren","ABC4","ABC","2014-2015",5,"Pre",1,49,"Scott Peterson",1,1,null,null,null,null,null,null,0,0,20,20,8.6666666666666661]
["Makya Warren","ABC4","ABC","2014-2015",5,"ConA",2,"A-A","Jeremy Swingle",1,1,null,null,null,null,null,null,0,0,20,20,8.6666666666666661]
["Makya Warren","ABC4","ABC","2014-2015",5,"ConA",3,"A-E","Abby Ashcraft",2,0,null,null,null,null,null,null,0,0,40,40,8.6666666666666661]
["Makya Warren","ABC4","ABC","2014-2015",5,"ConA",3,"A-H","Abby Ashcraft",1,1,null,null,null,null,null,null,0,0,20,20,8.6666666666666661]
["Marcus Pettersen","LH4","Lighthouse","2014-2015",1,"Pre",2,6,"Jeremy Swingle",0,0,null,null,null,null,null,null,0,0,0,0,3.3333333333333335]
["Marcus Pettersen","LH4","Lighthouse","2014-2015",1,"Pre",3,23,"Tiffany Bye",0,0,null,null,null,null,null,null,0,0,0,0,3.3333333333333335]
["Marcus Pettersen","LH4","Lighthouse","2014-2015",1,"Pre",2,30,"Jeremy Swingle",0,0,null,null,null,null,null,null,0,0,0,0,3.3333333333333335]
["Marcus Pettersen","LH4","Lighthouse","2014-2015",1,"Pre",1,41,"Scott Peterson",0,0,null,null,null,null,null,null,0,0,0,0,3.3333333333333335]
["Marcus Pettersen","LH4","Lighthouse","2014-2015",1,"Pre",1,49,"Scott Peterson",0,0,null,null,null,null,null,null,0,0,0,0,3.3333333333333335]
["Marcus Pettersen","LH4","Lighthouse","2014-2015",1,"ConB",4,"B-1","Cutty Welt",0,1,null,null,null,null,null,null,0,0,0,0,3.3333333333333335]
["Marcus Pettersen","LH4","Lighthouse","2014-2015",1,"ConB",4,"B-3","Cutty Welt",0,1,null,null,null,null,null,null,0,0,0,0,3.3333333333333335]
["Marcus Pettersen","LH4","Lighthouse","2014-2015",1,"Pre",4,16,"Cutty Welt",1,0,null,null,null,null,null,null,0,0,20,20,3.3333333333333335]
["Marcus Pettersen","LH4","Lighthouse","2014-2015",1,"ConB",4,"B-6","Cutty Welt",1,0,null,null,null,null,null,null,0,0,20,20,3.3333333333333335]
["Melinda Borden","ABC2","ABC","2014-2015",4,"Pre",3,11,"Tony Kong",0,2,null,null,null,null,null,null,0,0,-10,-10,28.666666666666668]
["Melinda Borden","ABC2","ABC","2014-2015",2,"Pre",4,32,"Cutty Welt",0,2,null,null,null,null,null,null,0,0,-10,-10,28.666666666666668]
["Melinda Borden","ABC2","ABC","2014-2015",4,"Pre",1,21,"Scott Peterson",0,0,null,null,null,null,null,null,0,0,0,0,28.666666666666668]
["Melinda Borden","ABC2","ABC","2014-2015",2,"Pre",2,38,"Jeremy Swingle",0,1,null,null,null,null,null,null,0,0,0,0,28.666666666666668]
["Melinda Borden","ABC2","ABC","2014-2015",4,"Pre",3,43,"Tony Kong",0,0,null,null,null,null,null,null,0,0,0,0,28.666666666666668]
["Melinda Borden","ABC2","ABC","2014-2015",2,"Pre",4,48,"Cutty Welt",0,0,null,null,null,null,null,null,0,0,0,0,28.666666666666668]
["Melinda Borden","ABC2","ABC","2014-2015",3,"Semi",1,"B","Scott Peterson",0,0,null,null,null,null,null,null,0,0,0,0,28.666666666666668]
["Melinda Borden","ABC2","ABC","2014-2015",4,"Semi",1,"C","Scott Peterson",0,0,null,null,null,null,null,null,0,0,0,0,28.666666666666668]
["Melinda Borden","ABC2","ABC","2014-2015",2,"Semi",1,"D","Scott Peterson",0,0,null,1,null,null,null,null,0,0,0,20,28.666666666666668]
["Melinda Borden","ABC2","ABC","2014-2015",3,"Semi",2,"F","Jeremy Swingle",0,0,null,null,null,null,null,null,0,0,0,0,28.666666666666668]
["Melinda Borden","ABC2","ABC","2014-2015",4,"Semi",2,"F","Jeremy Swingle",0,0,null,null,null,null,null,null,0,0,0,0,28.666666666666668]
["Melinda Borden","ABC2","ABC","2014-2015",2,"Semi",1,"J","Scott Peterson",0,1,null,null,null,null,null,null,0,0,0,0,28.666666666666668]
["Melinda Borden","ABC2","ABC","2014-2015",2,"Pre",1,5,"Scott Peterson",1,2,null,null,null,1,null,null,0,0,{"$f":"quizscore(J2935,K2935)","v":10},20,28.666666666666668]
["Melinda Borden","ABC2","ABC","2014-2015",3,"Pre",3,7,"Tiffany Bye",1,0,null,null,null,null,null,null,0,0,20,20,28.666666666666668]
["Melinda Borden","ABC2","ABC","2014-2015",4,"Pre",4,16,"Cutty Welt",1,1,null,null,null,null,null,null,0,0,20,20,28.666666666666668]
["Melinda Borden","ABC2","ABC","2014-2015",2,"Pre",2,22,"Jeremy Swingle",1,0,null,null,null,null,null,null,0,0,20,20,28.666666666666668]
["Melinda Borden","ABC2","ABC","2014-2015",3,"Pre",1,25,"Tiffany Bye",1,0,null,null,null,null,null,null,0,0,20,20,28.666666666666668]
["Melinda Borden","ABC2","ABC","2014-2015",4,"Pre",2,26,"Jeremy Swingle",1,0,null,null,null,null,null,null,0,0,20,20,28.666666666666668]
["Melinda Borden","ABC2","ABC","2014-2015",3,"Pre",1,41,"Scott Peterson",1,0,null,null,null,1,null,null,0,0,20,30,28.666666666666668]
["Melinda Borden","ABC2","ABC","2014-2015",1,"Semi",1,"A","Scott Peterson",1,1,null,null,null,null,null,null,0,0,20,20,28.666666666666668]
["Melinda Borden","ABC2","ABC","2014-2015",2,"Semi",1,"A","Scott Peterson",1,0,null,null,null,null,null,null,0,0,20,20,28.666666666666668]
["Melinda Borden","ABC2","ABC","2014-2015",3,"Pre",2,14,"Jeremy Swingle",2,2,null,null,null,null,null,null,0,0,30,30,28.666666666666668]
["Melinda Borden","ABC2","ABC","2014-2015",4,"Pre",4,4,"Cutty Welt",2,0,null,null,null,null,null,null,0,0,40,40,28.666666666666668]
["Melinda Borden","ABC2","ABC","2014-2015",1,"Pre",2,10,"Jeremy Swingle",2,0,null,null,null,null,null,null,{"$f":"IF(J2946=4,1,0)","v":0},{"$f":"IF(K2946=3,1,0)","v":0},40,{"$f":"T2946+M2946*(20) + (SUM(O2946:Q2946)*(10)) - L2946*(5) - N2946*(5)","v":40},{"$f":"AVERAGEIFS(U:U,A:A,A2946,F:F,\"Pre\")","v":28.666666666666668}]
["Melinda Borden","ABC2","ABC","2014-2015",3,"Pre",3,35,"Tiffany Bye",2,0,null,null,null,null,null,null,0,0,40,40,28.666666666666668]
["Melinda Borden","ABC2","ABC","2014-2015",3,"Pre",2,50,"Jeremy Swingle",2,1,null,null,null,1,null,null,0,0,40,50,28.666666666666668]
["Melinda Borden","ABC2","ABC","2014-2015",1,"Semi",1,"D","Scott Peterson",2,0,null,null,null,null,null,null,0,0,40,40,28.666666666666668]
["Melinda Borden","ABC2","ABC","2014-2015",1,"Semi",1,"G","Scott Peterson",2,0,null,null,null,null,null,null,0,0,40,40,28.666666666666668]
["Melinda Borden","ABC2","ABC","2014-2015",1,"Semi",1,"I","Scott Peterson",3,2,null,null,null,null,null,null,0,0,50,50,28.666666666666668]
["Melinda Borden","ABC2","ABC","2014-2015",1,"Pre",1,1,"Scott Peterson",3,0,null,null,null,null,null,null,0,0,60,60,28.666666666666668]
["Melinda Borden","ABC2","ABC","2014-2015",1,"Pre",4,36,"Cutty Welt",3,0,null,null,null,null,null,null,0,0,60,60,28.666666666666668]
["Melinda Borden","ABC2","ABC","2014-2015",2,"Semi",1,"J","Scott Peterson",3,0,null,null,null,null,null,null,0,0,60,60,28.666666666666668]
["Melinda Borden","ABC2","ABC","2014-2015",2,"Pre",3,15,"Tiffany Bye",4,1,null,null,null,null,null,null,1,0,80,80,28.666666666666668]
["Melinda Borden","ABC2","ABC","2014-2015",1,"Pre",3,19,"Tiffany Bye",4,0,null,null,null,null,null,null,1,0,90,90,28.666666666666668]
["Melinda Borden","ABC2","ABC","2014-2015",1,"Pre",4,32,"Cutty Welt",4,0,null,null,null,null,null,null,1,0,90,90,28.666666666666668]
["Melinda Borden","ABC2","ABC","2014-2015",1,"Pre",1,41,"Scott Peterson",4,0,null,null,null,null,null,null,1,0,90,90,28.666666666666668]
["Melinda Borden","ABC2","ABC","2014-2015",5,"Pre",1,1,"Scott Peterson",0,0,null,null,null,null,null,null,0,0,0,0,28.666666666666668]
["Melinda Borden","ABC2","ABC","2014-2015",5,"Pre",4,8,"Cutty Welt",0,0,null,null,null,null,null,null,0,0,0,0,28.666666666666668]
["Melinda Borden","ABC2","ABC","2014-2015",5,"Pre",2,14,"Jeremy Swingle",1,1,null,null,null,1,null,null,0,0,20,30,28.666666666666668]
["Melinda Borden","ABC2","ABC","2014-2015",5,"Pre",3,27,"Tony Kong",1,0,null,null,null,1,null,null,0,0,20,30,28.666666666666668]
["Melinda Borden","ABC2","ABC","2014-2015",5,"Pre",3,39,"Tony Kong",0,0,null,null,null,null,null,null,0,0,0,0,28.666666666666668]
["Melinda Borden","ABC2","ABC","2014-2015",5,"Pre",1,45,"Scott Peterson",0,0,null,null,null,null,null,null,0,0,0,0,28.666666666666668]
["Melinda Borden","ABC2","ABC","2014-2015",5,"Semi",1,"C","Scott Peterson",0,0,null,null,null,null,null,null,0,0,0,0,28.666666666666668]
["Melinda Borden","ABC2","ABC","2014-2015",5,"Semi",2,"F","Jeremy Swingle",1,1,null,null,null,1,null,null,0,0,20,30,28.666666666666668]
["Melinda Borden","ABC2","ABC","2014-2015",5,"Semi",2,"H","Jeremy Swingle",0,0,null,null,1,null,null,null,0,0,0,-5,28.666666666666668]
["Melinda Borden","ABC2","ABC","2014-2015",5,"Semi",1,"I","Scott Peterson",0,0,null,null,null,null,null,null,0,0,0,0,28.666666666666668]
["Micah Hollen","GH1","Grays Harbor","2014-2015",4,"Semi",1,"D","Scott Peterson",0,2,null,null,null,null,null,null,0,0,-10,-10,76.333333333333329]
["Micah Hollen","GH1","Grays Harbor","2014-2015",2,"Semi",1,"I","Scott Peterson",0,2,null,1,null,null,null,null,0,0,-10,10,76.333333333333329]
["Micah Hollen","GH1","Grays Harbor","2014-2015",2,"Pre",1,17,"Scott Peterson",0,1,null,null,null,null,null,null,0,0,0,0,76.333333333333329]
["Micah Hollen","GH1","Grays Harbor","2014-2015",2,"Semi",1,"E","Scott Peterson",1,2,null,null,null,null,null,null,0,0,10,10,76.333333333333329]
["Micah Hollen","GH1","Grays Harbor","2014-2015",4,"Pre",2,50,"Jeremy Swingle",2,3,null,null,null,null,null,null,0,1,20,20,76.333333333333329]
["Micah Hollen","GH1","Grays Harbor","2014-2015",3,"Semi",1,"A","Scott Peterson",2,3,null,null,null,null,null,null,0,1,20,20,76.333333333333329]
["Micah Hollen","GH1","Grays Harbor","2014-2015",2,"Semi",1,"G","Scott Peterson",1,0,null,2,null,null,null,null,0,0,20,60,76.333333333333329]
["Micah Hollen","GH1","Grays Harbor","2014-2015",3,"Semi",1,"J","Scott Peterson",2,2,null,null,null,null,null,null,0,0,30,30,76.333333333333329]
["Micah Hollen","GH1","Grays Harbor","2014-2015",3,"Semi",1,"J","Scott Peterson",2,2,null,null,null,null,null,null,0,0,30,30,76.333333333333329]
["Micah Hollen","GH1","Grays Harbor","2014-2015",3,"Pre",3,19,"Tiffany Bye",3,3,null,null,null,null,null,null,0,1,40,40,76.333333333333329]
["Micah Hollen","GH1","Grays Harbor","2014-2015",4,"Pre",3,43,"Tony Kong",3,3,null,null,null,null,null,null,0,1,40,40,76.333333333333329]
["Micah Hollen","GH1","Grays Harbor","2014-2015",4,"Semi",1,"G","Scott Peterson",2,1,null,null,null,null,null,null,0,0,40,40,76.333333333333329]
["Micah Hollen","GH1","Grays Harbor","2014-2015",3,"Semi",1,"I","Scott Peterson",2,0,null,null,null,null,null,null,0,0,40,40,76.333333333333329]
["Micah Hollen","GH1","Grays Harbor","2014-2015",2,"Pre",3,11,"Tiffany Bye",3,2,null,null,null,null,null,null,0,0,50,50,76.333333333333329]
["Micah Hollen","GH2","Grays Harbor","2014-2015",1,"Pre",2,10,"Jeremy Swingle",3,1,null,1,null,null,null,null,0,0,60,80,76.333333333333329]
["Micah Hollen","GH1","Grays Harbor","2014-2015",4,"Semi",1,"B","Scott Peterson",3,0,null,null,null,null,null,null,0,0,60,60,76.333333333333329]
["Micah Hollen","GH1","Grays Harbor","2014-2015",4,"Pre",1,5,"Scott Peterson",4,2,null,null,null,null,null,null,1,0,70,70,76.333333333333329]
["Micah Hollen","GH1","Grays Harbor","2014-2015",4,"Pre",4,32,"Cutty Welt",4,2,null,null,null,null,null,null,1,0,70,70,76.333333333333329]
["Micah Hollen","GH2","Grays Harbor","2014-2015",1,"ConA",2,"A-J","Jeremy Swingle",4,2,null,null,null,null,null,null,1,0,70,70,76.333333333333329]
["Micah Hollen","GH1","Grays Harbor","2014-2015",3,"Pre",1,29,"Scott Peterson",4,1,null,null,null,null,null,null,1,0,80,80,76.333333333333329]
["Micah Hollen","GH2","Grays Harbor","2014-2015",1,"Pre",3,35,"Tiffany Bye",4,1,null,null,null,null,null,null,1,0,80,80,76.333333333333329]
["Micah Hollen","GH2","Grays Harbor","2014-2015",1,"Pre",2,46,"Jeremy Swingle",4,1,null,null,null,null,null,null,1,0,80,80,76.333333333333329]
["Micah Hollen","GH1","Grays Harbor","2014-2015",3,"Pre",3,47,"Tiffany Bye",4,1,null,null,null,null,null,null,1,0,80,80,76.333333333333329]
["Micah Hollen","GH1","Grays Harbor","2014-2015",2,"Pre",4,48,"Cutty Welt",4,1,null,null,null,null,null,null,1,0,80,80,76.333333333333329]
["Micah Hollen","GH1","Grays Harbor","2014-2015",2,"Semi",1,"A","Scott Peterson",4,1,null,null,null,null,null,null,1,0,80,80,76.333333333333329]
["Micah Hollen","GH2","Grays Harbor","2014-2015",1,"ConA",2,"A-G","Jeremy Swingle",4,1,null,null,null,null,null,null,1,0,80,80,76.333333333333329]
["Micah Hollen","GH1","Grays Harbor","2014-2015",3,"Semi",1,"E","Scott Peterson",4,1,null,null,null,null,null,null,1,0,80,80,76.333333333333329]
["Micah Hollen","GH1","Grays Harbor","2014-2015",3,"Semi",2,"H","Jeremy Swingle",4,1,null,1,null,null,null,null,1,0,80,100,76.333333333333329]
["Micah Hollen","GH1","Grays Harbor","2014-2015",3,"Pre",2,2,"Jeremy Swingle",4,0,null,null,null,null,null,null,1,0,90,90,76.333333333333329]
["Micah Hollen","GH1","Grays Harbor","2014-2015",3,"Pre",1,9,"Scott Peterson",4,0,null,null,null,null,null,null,1,0,90,90,76.333333333333329]
["Micah Hollen","GH2","Grays Harbor","2014-2015",1,"Pre",1,17,"Scott Peterson",4,0,null,null,null,null,null,null,1,0,{"$f":"quizscore(J2999,K2999)","v":90},90,76.333333333333329]
["Micah Hollen","GH1","Grays Harbor","2014-2015",4,"Pre",3,19,"Tony Kong",4,0,null,null,null,null,null,null,1,0,90,90,76.333333333333329]
["Micah Hollen","GH2","Grays Harbor","2014-2015",1,"Pre",4,24,"Cutty Welt",4,0,null,null,null,null,null,null,1,0,90,90,76.333333333333329]
["Micah Hollen","GH1","Grays Harbor","2014-2015",2,"Pre",2,26,"Jeremy Swingle",4,0,null,null,null,null,null,null,1,0,90,90,76.333333333333329]
["Micah Hollen","GH2","Grays Harbor","2014-2015",1,"Pre",3,31,"Tiffany Bye",4,0,null,null,null,null,null,null,1,0,90,90,76.333333333333329]
["Micah Hollen","GH1","Grays Harbor","2014-2015",2,"Pre",2,34,"Jeremy Swingle",4,0,null,null,null,null,null,null,1,0,90,90,76.333333333333329]
["Micah Hollen","GH1","Grays Harbor","2014-2015",4,"Pre",2,34,"Jeremy Swingle",4,0,null,null,null,null,null,null,1,0,90,90,76.333333333333329]
["Micah Hollen","GH1","Grays Harbor","2014-2015",2,"Pre",1,37,"Scott Peterson",4,0,null,null,null,null,null,null,1,0,90,90,76.333333333333329]
["Micah Hollen","GH1","Grays Harbor","2014-2015",3,"Pre",4,40,"Cutty Welt",4,0,null,null,null,null,null,null,1,0,90,90,76.333333333333329]
["Micah Hollen","GH2","Grays Harbor","2014-2015",1,"ConA",2,"A-C","Jeremy Swingle",4,0,null,null,null,null,null,null,1,0,90,90,76.333333333333329]
["Micah Hollen","GH2","Grays Harbor","2014-2015",1,"ConA",2,"A-D","Jeremy Swingle",4,0,null,null,null,null,null,null,1,0,90,90,76.333333333333329]
["Micah Hollen","GH2","Grays Harbor","2014-2015",1,"ConA",3,"A-I","Tiffany Bye",4,0,null,null,null,null,null,null,{"$f":"IF(J3010=4,1,0)","v":1},{"$f":"IF(K3010=3,1,0)","v":0},90,{"$f":"T3010+M3010*(20) + (SUM(O3010:Q3010)*(10)) - L3010*(5) - N3010*(5)","v":90},{"$f":"AVERAGEIFS(U:U,A:A,A3010,F:F,\"Pre\")","v":76.333333333333329}]
["Micah Hollen","GH1","Grays Harbor","2014-2015",4,"Semi",1,"J","Scott Peterson",2,1,null,1,null,null,null,null,0,0,40,60,76.333333333333329]
["Micah Hollen","GH1","Grays Harbor","2014-2015",4,"Semi",1,"J","Scott Peterson",1,2,null,null,null,null,null,null,0,0,10,10,76.333333333333329]
["Micah Hollen","GH1","Grays Harbor","2014-2015",4,"Semi",1,"J","Scott Peterson",1,2,null,null,null,null,null,null,0,0,10,10,76.333333333333329]
["Micah Hollen","GH1","Grays Harbor","2014-2015",5,"Pre",1,5,"Scott Peterson",4,0,null,null,null,null,null,null,1,0,90,90,76.333333333333329]
["Micah Hollen","GH1","Grays Harbor","2014-2015",5,"Pre",2,10,"Jeremy Swingle",3,1,null,null,null,null,null,null,0,0,60,60,76.333333333333329]
["Micah Hollen","GH1","Grays Harbor","2014-2015",5,"Pre",3,19,"Tony Kong",4,0,null,1,null,null,null,null,1,0,90,110,76.333333333333329]
["Micah Hollen","GH1","Grays Harbor","2014-2015",5,"Pre",1,25,"Scott Peterson",4,0,null,null,null,null,null,null,1,0,90,90,76.333333333333329]
["Micah Hollen","GH1","Grays Harbor","2014-2015",5,"Pre",2,30,"Jeremy Swingle",4,0,null,null,null,null,null,null,1,0,90,90,76.333333333333329]
["Micah Hollen","GH1","Grays Harbor","2014-2015",5,"Pre",4,44,"Cutty Welt",4,0,null,null,null,null,null,null,1,0,90,90,76.333333333333329]
["Micah Hollen","GH1","Grays Harbor","2014-2015",5,"Semi",1,"A","Scott Peterson",4,1,null,1,null,null,null,null,1,0,80,100,76.333333333333329]
["Micah Hollen","GH1","Grays Harbor","2014-2015",5,"Semi",2,"F","Jeremy Swingle",4,0,null,null,null,null,null,null,1,0,90,90,76.333333333333329]
["Micah Magnuson","TAC2","Tacoma","2014-2015",1,"ConA",2,"A-J","Jeremy Swingle",0,2,null,null,null,null,null,null,0,0,-10,-10,8.3333333333333339]
["Micah Magnuson","TAC2","Tacoma","2014-2015",2,"Pre",1,1,"Scott Peterson",0,0,null,null,null,null,null,null,0,0,0,0,8.3333333333333339]
["Micah Magnuson","TAC2","Tacoma","2014-2015",4,"Pre",2,2,"Jeremy Swingle",0,1,null,null,null,null,null,null,0,0,0,0,8.3333333333333339]
["Micah Magnuson","TAC2","Tacoma","2014-2015",1,"Pre",3,3,"Tiffany Bye",0,0,null,null,null,null,null,null,0,0,0,0,8.3333333333333339]
["Micah Magnuson","TAC2","Tacoma","2014-2015",3,"Pre",2,6,"Jeremy Swingle",0,0,null,null,null,null,null,null,0,0,0,0,8.3333333333333339]
["Micah Magnuson","TAC2","Tacoma","2014-2015",2,"Pre",2,10,"Jeremy Swingle",0,0,null,null,null,null,null,null,0,0,0,0,8.3333333333333339]
["Micah Magnuson","TAC2","Tacoma","2014-2015",4,"Pre",4,12,"Cutty Welt",0,0,null,null,null,null,null,null,0,0,0,0,8.3333333333333339]
["Micah Magnuson","TAC2","Tacoma","2014-2015",3,"Pre",3,15,"Tiffany Bye",0,0,null,null,null,null,null,null,0,0,0,0,8.3333333333333339]
["Micah Magnuson","TAC2","Tacoma","2014-2015",2,"Pre",3,19,"Tiffany Bye",0,1,null,null,null,null,null,null,0,0,0,0,8.3333333333333339]
["Micah Magnuson","TAC2","Tacoma","2014-2015",4,"Pre",3,19,"Tony Kong",0,0,null,null,null,null,null,null,0,0,0,0,8.3333333333333339]
["Micah Magnuson","TAC2","Tacoma","2014-2015",1,"Pre",2,26,"Jeremy Swingle",0,1,null,null,null,null,null,null,0,0,0,0,8.3333333333333339]
["Micah Magnuson","TAC2","Tacoma","2014-2015",2,"Pre",4,28,"Cutty Welt",0,0,null,null,null,null,null,null,0,0,0,0,8.3333333333333339]
["Micah Magnuson","TAC2","Tacoma","2014-2015",3,"Pre",4,32,"Cutty Welt",0,0,null,null,null,null,null,null,0,0,0,0,8.3333333333333339]
["Micah Magnuson","TAC2","Tacoma","2014-2015",1,"Pre",1,37,"Scott Peterson",0,0,null,null,null,null,null,null,0,0,0,0,8.3333333333333339]
["Micah Magnuson","TAC2","Tacoma","2014-2015",3,"Pre",1,37,"Scott Peterson",0,0,null,null,1,null,null,null,0,0,0,-5,8.3333333333333339]
["Micah Magnuson","TAC2","Tacoma","2014-2015",4,"Pre",4,40,"Cutty Welt",0,0,null,null,null,null,null,null,0,0,0,0,8.3333333333333339]
["Micah Magnuson","TAC2","Tacoma","2014-2015",2,"Pre",1,41,"Scott Peterson",0,0,1,1,null,null,null,null,0,0,0,15,8.3333333333333339]
["Micah Magnuson","TAC2","Tacoma","2014-2015",4,"Pre",1,45,"Scott Peterson",0,0,null,null,null,null,null,null,0,0,0,0,8.3333333333333339]
["Micah Magnuson","TAC2","Tacoma","2014-2015",2,"ConA",2,"A-A","Jeremy Swingle",0,0,null,null,null,null,null,null,0,0,0,0,8.3333333333333339]
["Micah Magnuson","TAC2","Tacoma","2014-2015",4,"ConA",3,"A-B","Abby Ashcraft",0,0,null,null,null,null,null,null,0,0,0,0,8.3333333333333339]
["Micah Magnuson","TAC2","Tacoma","2014-2015",4,"ConA",3,"A-I","Abby Ashcraft",0,1,null,null,null,null,null,null,0,0,0,0,8.3333333333333339]
["Micah Magnuson","TAC2","Tacoma","2014-2015",1,"Pre",4,20,"Cutty Welt",1,1,null,null,null,null,null,null,0,0,20,20,8.3333333333333339]
["Micah Magnuson","TAC2","Tacoma","2014-2015",4,"Pre",3,27,"Tony Kong",1,0,null,null,null,null,null,null,0,0,20,20,8.3333333333333339]
["Micah Magnuson","TAC2","Tacoma","2014-2015",2,"Pre",2,34,"Jeremy Swingle",1,0,null,null,null,1,null,null,0,0,20,30,8.3333333333333339]
["Micah Magnuson","TAC2","Tacoma","2014-2015",1,"Pre",2,46,"Jeremy Swingle",1,0,null,null,null,null,null,null,0,0,20,20,8.3333333333333339]
["Micah Magnuson","TAC2","Tacoma","2014-2015",1,"ConA",2,"A-D","Jeremy Swingle",1,0,null,null,null,null,null,null,0,0,20,20,8.3333333333333339]
["Micah Magnuson","TAC2","Tacoma","2014-2015",4,"ConA",3,"A-E","Abby Ashcraft",1,1,null,null,null,null,null,null,0,0,20,20,8.3333333333333339]
["Micah Magnuson","TAC2","Tacoma","2014-2015",4,"ConA",2,"A-G","Jeremy Swingle",1,1,null,null,null,null,null,null,0,0,20,20,8.3333333333333339]
["Micah Magnuson","TAC2","Tacoma","2014-2015",2,"ConA",3,"A-H","Tiffany Bye",1,0,null,null,null,null,null,null,0,0,20,20,8.3333333333333339]
["Micah Magnuson","TAC2","Tacoma","2014-2015",3,"ConA",3,"A-B","Tiffany Bye",2,2,null,null,null,null,null,null,0,0,30,30,8.3333333333333339]
["Micah Magnuson","TAC2","Tacoma","2014-2015",1,"Pre",3,11,"Tiffany Bye",2,0,null,null,null,null,null,null,0,0,40,40,8.3333333333333339]
["Micah Magnuson","TAC2","Tacoma","2014-2015",3,"Pre",1,21,"Scott Peterson",2,0,null,null,null,1,null,null,0,0,40,50,8.3333333333333339]
["Micah Magnuson","TAC2","Tacoma","2014-2015",1,"ConA",3,"A-B","Tiffany Bye",2,0,null,null,null,null,null,null,0,0,40,40,8.3333333333333339]
["Micah Magnuson","TAC2","Tacoma","2014-2015",2,"ConA",3,"A-F","Tiffany Bye",2,0,null,null,null,1,null,null,0,0,40,50,8.3333333333333339]
["Micah Magnuson","TAC2","Tacoma","2014-2015",3,"Pre",4,48,"Cutty Welt",3,1,null,null,null,null,null,null,0,0,60,60,8.3333333333333339]
["Micah Magnuson","TAC2","Tacoma","2014-2015",3,"ConA",3,"A-F","Tiffany Bye",4,0,null,null,null,null,null,null,1,0,90,90,8.3333333333333339]
["Micah Magnuson","TAC2","Tacoma","2014-2015",5,"Pre",2,6,"Jeremy Swingle",0,0,null,null,null,null,null,null,0,0,0,0,8.3333333333333339]
["Micah Magnuson","TAC2","Tacoma","2014-2015",5,"Pre",3,15,"Tony Kong",0,0,null,null,null,null,null,null,0,0,0,0,8.3333333333333339]
["Micah Magnuson","TAC2","Tacoma","2014-2015",5,"Pre",2,22,"Jeremy Swingle",0,0,null,null,null,null,null,null,0,0,0,0,8.3333333333333339]
["Micah Magnuson","TAC2","Tacoma","2014-2015",5,"Pre",3,31,"Tony Kong",0,0,null,null,null,null,null,null,0,0,0,0,8.3333333333333339]
["Micah Magnuson","TAC2","Tacoma","2014-2015",5,"Pre",1,33,"Scott Peterson",0,0,null,null,null,null,null,null,0,0,0,0,8.3333333333333339]
["Micah Magnuson","TAC2","Tacoma","2014-2015",5,"Pre",4,44,"Cutty Welt",0,0,null,null,null,null,null,null,0,0,{"$f":"quizscore(J3063,K3063)","v":0},0,8.3333333333333339]
["Micah Magnuson","TAC2","Tacoma","2014-2015",5,"ConA",2,"A-A","Jeremy Swingle",0,0,null,null,null,null,null,null,0,0,0,0,8.3333333333333339]
["Micah Magnuson","TAC2","Tacoma","2014-2015",5,"ConA",3,"A-F","Abby Ashcraft",1,1,null,null,null,null,null,null,0,0,20,20,8.3333333333333339]
["Micah Magnuson","TAC2",{"$f":"VLOOKUP(B3066,$B$2:$C$3219,2,FALSE)","v":"Tacoma"},"2014-2015",5,"ConA",3,"A-H","Abby Ashcraft",0,0,null,null,null,null,null,null,0,0,0,0,8.3333333333333339]
["Miriam Van Bergeyk","LH2","Lighthouse","2014-2015",1,"Pre",1,1,"Scott Peterson",0,1,null,null,null,null,null,null,0,0,0,0,14.375]
["Miriam Van Bergeyk","LH2","Lighthouse","2014-2015",4,"Pre",2,2,"Jeremy Swingle",0,0,null,null,null,null,null,null,0,0,0,0,14.375]
["Miriam Van Bergeyk","LH2","Lighthouse","2014-2015",2,"Pre",4,4,"Cutty Welt",0,1,null,1,null,null,null,null,0,0,0,20,14.375]
["Miriam Van Bergeyk","LH2","Lighthouse","2014-2015",2,"Pre",4,16,"Cutty Welt",0,1,null,null,null,null,null,null,0,0,0,0,14.375]
["Miriam Van Bergeyk","LH2","Lighthouse","2014-2015",1,"Pre",2,22,"Jeremy Swingle",0,1,null,null,null,null,null,null,0,0,0,0,14.375]
["Miriam Van Bergeyk","LH2","Lighthouse","2014-2015",2,"Pre",2,22,"Jeremy Swingle",0,1,null,null,null,null,null,null,0,0,0,0,14.375]
["Miriam Van Bergeyk","LH2","Lighthouse","2014-2015",4,"Pre",2,22,"Jeremy Swingle",0,0,null,null,null,null,null,null,0,0,0,0,14.375]
["Miriam Van Bergeyk","LH2","Lighthouse","2014-2015",4,"Pre",3,35,"Tony Kong",0,0,null,null,null,null,null,null,{"$f":"IF(J3074=4,1,0)","v":0},{"$f":"IF(K3074=3,1,0)","v":0},0,{"$f":"T3074+M3074*(20) + (SUM(O3074:Q3074)*(10)) - L3074*(5) - N3074*(5)","v":0},{"$f":"AVERAGEIFS(U:U,A:A,A3074,F:F,\"Pre\")","v":14.375}]
["Miriam Van Bergeyk","LH2","Lighthouse","2014-2015",2,"Pre",1,37,"Scott Peterson",0,0,1,null,null,null,null,null,0,0,0,-5,14.375]
["Miriam Van Bergeyk","LH2","Lighthouse","2014-2015",1,"ConA",3,"A-B","Tiffany Bye",0,1,null,null,null,null,null,null,0,0,0,0,14.375]
["Miriam Van Bergeyk","LH2","Lighthouse","2014-2015",4,"ConA",3,"A-F","Abby Ashcraft",0,0,null,null,null,null,null,null,0,0,0,0,14.375]
["Miriam Van Bergeyk","LH2","Lighthouse","2014-2015",2,"ConB",4,"B-1","Cutty Welt",1,2,null,null,null,1,null,null,0,0,10,20,14.375]
["Miriam Van Bergeyk","LH2","Lighthouse","2014-2015",4,"Pre",1,9,"Scott Peterson",1,0,null,null,null,null,null,null,0,0,20,20,14.375]
["Miriam Van Bergeyk","LH2","Lighthouse","2014-2015",1,"Pre",3,11,"Tiffany Bye",1,0,null,null,null,null,null,null,0,0,20,20,14.375]
["Miriam Van Bergeyk","LH2","Lighthouse","2014-2015",4,"Pre",3,15,"Tony Kong",1,0,null,null,null,null,null,null,0,0,20,20,14.375]
["Miriam Van Bergeyk","LH2","Lighthouse","2014-2015",2,"Pre",3,31,"Tiffany Bye",1,1,null,null,null,null,null,null,0,0,20,20,14.375]
["Miriam Van Bergeyk","LH2","Lighthouse","2014-2015",1,"Pre",4,44,"Cutty Welt",1,0,null,null,null,1,null,null,0,0,20,30,14.375]
["Miriam Van Bergeyk","LH2","Lighthouse","2014-2015",4,"Pre",4,44,"Cutty Welt",1,0,null,null,null,null,null,null,0,0,20,20,14.375]
["Miriam Van Bergeyk","LH2","Lighthouse","2014-2015",4,"ConA",2,"A-A","Jeremy Swingle",1,0,null,null,null,null,null,null,0,0,20,20,14.375]
["Miriam Van Bergeyk","LH2","Lighthouse","2014-2015",2,"ConB",4,"B-4","Cutty Welt",1,1,null,null,null,null,null,null,0,0,20,20,14.375]
["Miriam Van Bergeyk","LH2","Lighthouse","2014-2015",2,"ConB",4,"B-7","Cutty Welt",1,0,null,null,null,null,1,null,0,0,20,30,14.375]
["Miriam Van Bergeyk","LH2","Lighthouse","2014-2015",1,"Pre",4,16,"Cutty Welt",2,0,null,null,null,null,null,null,0,0,40,40,14.375]
["Miriam Van Bergeyk","LH2","Lighthouse","2014-2015",1,"Pre",2,34,"Jeremy Swingle",2,0,null,null,null,null,null,null,0,0,40,40,14.375]
["Miriam Van Bergeyk","LH2","Lighthouse","2014-2015",2,"Pre",3,47,"Tiffany Bye",2,1,null,null,null,null,null,null,0,0,40,40,14.375]
["Miriam Van Bergeyk","LH2","Lighthouse","2014-2015",1,"ConA",3,"A-F","Tiffany Bye",2,1,null,null,null,null,null,null,0,0,40,40,14.375]
["Miriam Van Bergeyk","LH2","Lighthouse","2014-2015",2,"ConB",4,"B-J","Cutty Welt",2,0,null,null,null,null,null,null,0,0,40,40,14.375]
["Miriam Van Bergeyk","LH2","Lighthouse","2014-2015",5,"Pre",4,12,"Cutty Welt",1,0,null,null,null,null,null,null,0,0,20,20,14.375]
["Miriam Van Bergeyk","LH2","Lighthouse","2014-2015",5,"Pre",2,18,"Jeremy Swingle",2,0,null,null,null,null,null,null,0,0,40,40,14.375]
["Miriam Van Bergeyk","LH2","Lighthouse","2014-2015",5,"Pre",1,25,"Scott Peterson",0,0,null,null,null,null,null,null,0,0,0,0,14.375]
["Miriam Van Bergeyk","LH2","Lighthouse","2014-2015",5,"Pre",1,33,"Scott Peterson",0,0,null,null,null,null,null,null,0,0,0,0,14.375]
["Miriam Van Bergeyk","LH2","Lighthouse","2014-2015",5,"Pre",3,39,"Tony Kong",1,0,null,null,null,null,null,null,0,0,20,20,14.375]
["Miriam Van Bergeyk","LH2","Lighthouse","2014-2015",5,"Pre",3,47,"Tony Kong",0,0,null,null,null,null,null,null,0,0,0,0,14.375]
["Miriam Van Bergeyk","LH2","Lighthouse","2014-2015",5,"ConA",3,"A-B","Abby Ashcraft",1,1,null,null,null,null,null,null,0,0,20,20,14.375]
["Miriam Van Bergeyk","LH2","Lighthouse","2014-2015",5,"ConA",3,"A-F","Abby Ashcraft",1,0,null,null,null,null,null,null,0,0,20,20,14.375]
["Natalie Crabtree","DAC4","Dallas","2014-2015",3,"Pre",3,47,"Tiffany Bye",0,2,null,null,1,null,null,null,0,0,-10,-15,6.5]
["Natalie Crabtree","DAC4","Dallas","2014-2015",4,"ConA",2,"A-A","Jeremy Swingle",0,2,null,null,null,null,null,null,0,0,-10,-10,6.5]
["Natalie Crabtree","DAC4","Dallas","2014-2015",3,"Pre",1,1,"Scott Peterson",0,0,null,null,null,null,null,null,0,0,0,0,6.5]
["Natalie Crabtree","DAC4","Dallas","2014-2015",1,"Pre",2,2,"Jeremy Swingle",0,0,null,null,null,null,null,null,0,0,0,0,6.5]
["Natalie Crabtree","DAC4","Dallas","2014-2015",4,"Pre",2,6,"Jeremy Swingle",0,0,null,null,null,null,null,null,0,0,0,0,6.5]
["Natalie Crabtree","DAC4","Dallas","2014-2015",2,"Pre",4,8,"Cutty Welt",0,1,null,null,null,null,null,null,0,0,0,0,6.5]
["Natalie Crabtree","DAC4","Dallas","2014-2015",3,"Pre",4,12,"Cutty Welt",0,0,null,null,null,null,null,null,0,0,0,0,6.5]
["Natalie Crabtree","DAC4","Dallas","2014-2015",4,"Pre",4,20,"Cutty Welt",0,0,null,null,null,null,null,null,0,0,0,0,6.5]
["Natalie Crabtree","DAC4","Dallas","2014-2015",3,"Pre",2,22,"Jeremy Swingle",0,0,null,null,null,null,null,null,0,0,0,0,6.5]
["Natalie Crabtree","DAC4","Dallas","2014-2015",2,"Pre",3,23,"Tiffany Bye",0,0,null,null,null,null,null,null,0,0,0,0,6.5]
["Natalie Crabtree","DAC4","Dallas","2014-2015",1,"Pre",4,24,"Cutty Welt",0,0,null,null,null,null,null,null,0,0,0,0,6.5]
["Natalie Crabtree","DAC4","Dallas","2014-2015",4,"Pre",4,28,"Cutty Welt",0,0,null,null,null,null,null,null,0,0,0,0,6.5]
["Natalie Crabtree","DAC4","Dallas","2014-2015",1,"Pre",1,29,"Scott Peterson",0,1,null,null,null,null,null,null,0,0,0,0,6.5]
["Natalie Crabtree","DAC4","Dallas","2014-2015",4,"Pre",2,30,"Jeremy Swingle",0,1,null,null,null,null,null,null,0,0,0,0,6.5]
["Natalie Crabtree","DAC4","Dallas","2014-2015",2,"Pre",4,32,"Cutty Welt",0,0,null,1,null,null,null,null,0,0,0,20,6.5]
["Natalie Crabtree","DAC4","Dallas","2014-2015",1,"Pre",1,33,"Scott Peterson",0,0,null,null,null,null,null,null,0,0,0,0,6.5]
["Natalie Crabtree","DAC4","Dallas","2014-2015",4,"Pre",1,33,"Scott Peterson",0,0,null,null,null,null,null,null,0,0,0,0,6.5]
["Natalie Crabtree","DAC4","Dallas","2014-2015",3,"Pre",2,38,"Jeremy Swingle",0,0,null,null,null,null,null,null,0,0,0,0,6.5]
["Natalie Crabtree","DAC4","Dallas","2014-2015",2,"Pre",2,42,"Jeremy Swingle",0,0,null,1,null,null,null,null,0,0,0,20,6.5]
["Natalie Crabtree","DAC4","Dallas","2014-2015",4,"Pre",3,43,"Tony Kong",0,0,null,null,null,null,null,null,0,0,0,0,6.5]
["Natalie Crabtree","DAC4","Dallas","2014-2015",2,"Semi",1,"A","Scott Peterson",0,0,null,null,null,null,null,null,0,0,0,0,6.5]
["Natalie Crabtree","DAC4","Dallas","2014-2015",3,"ConA",2,"A-A","Jeremy Swingle",0,0,null,null,null,null,null,null,0,0,0,0,6.5]
["Natalie Crabtree","DAC4","Dallas","2014-2015",3,"ConA",2,"A-D","Jeremy Swingle",0,0,null,null,null,null,null,null,0,0,0,0,6.5]
["Natalie Crabtree","DAC4","Dallas","2014-2015",4,"ConA",2,"A-D","Jeremy Swingle",0,1,null,null,null,null,null,null,0,0,0,0,6.5]
["Natalie Crabtree","DAC4","Dallas","2014-2015",4,"ConA",2,"A-G","Jeremy Swingle",0,0,null,null,null,null,null,null,0,0,0,0,6.5]
["Natalie Crabtree","DAC4","Dallas","2014-2015",3,"ConA",2,"A-J","Jeremy Swingle",0,0,null,1,null,null,null,null,0,0,0,20,6.5]
["Natalie Crabtree","DAC4","Dallas","2014-2015",1,"Semi",1,"B","Scott Peterson",0,0,null,null,null,null,null,null,0,0,{"$f":"quizscore(J3127,K3127)","v":0},0,6.5]
["Natalie Crabtree","DAC4","Dallas","2014-2015",1,"Semi",2,"F","Jeremy Swingle",0,0,null,null,null,null,null,null,0,0,0,0,6.5]
["Natalie Crabtree","DAC4","Dallas","2014-2015",2,"Semi",2,"F","Jeremy Swingle",0,0,null,null,null,null,null,null,0,0,0,0,6.5]
["Natalie Crabtree","DAC4","Dallas","2014-2015",1,"Pre",3,11,"Tiffany Bye",1,0,null,null,null,1,null,null,0,0,20,30,6.5]
["Natalie Crabtree","DAC4","Dallas","2014-2015",3,"Pre",3,31,"Tiffany Bye",1,0,null,null,null,1,null,null,0,0,20,30,6.5]
["Natalie Crabtree","DAC4","Dallas","2014-2015",1,"Pre",3,47,"Tiffany Bye",1,0,null,null,null,1,null,null,0,0,20,30,6.5]
["Natalie Crabtree","DAC4","Dallas","2014-2015",2,"Pre",3,47,"Tiffany Bye",1,1,null,null,null,null,1,null,0,0,20,30,6.5]
["Natalie Crabtree","DAC4","Dallas","2014-2015",2,"Pre",1,13,"Scott Peterson",2,0,null,null,null,1,null,null,0,0,40,50,6.5]
["Natalie Crabtree","DAC4","Dallas","2014-2015",4,"ConA",2,"A-J","Jeremy Swingle",0,0,null,null,null,null,null,null,0,0,0,0,6.5]
["Natalie Crabtree","DAC4","Dallas","2014-2015",5,"Pre",1,1,"Scott Peterson",0,0,null,null,null,null,null,null,0,0,0,0,6.5]
["Natalie Crabtree","DAC4","Dallas","2014-2015",5,"Pre",3,11,"Tony Kong",0,0,null,null,null,null,null,null,0,0,0,0,6.5]
["Natalie Crabtree","DAC4","Dallas","2014-2015",5,"Pre",3,19,"Tony Kong",0,0,null,null,null,null,null,null,{"$f":"IF(J3138=4,1,0)","v":0},{"$f":"IF(K3138=3,1,0)","v":0},0,{"$f":"T3138+M3138*(20) + (SUM(O3138:Q3138)*(10)) - L3138*(5) - N3138*(5)","v":0},{"$f":"AVERAGEIFS(U:U,A:A,A3138,F:F,\"Pre\")","v":6.5}]
["Natalie Crabtree","DAC4","Dallas","2014-2015",5,"Pre",4,32,"Cutty Welt",0,0,null,null,null,null,null,null,0,0,0,0,6.5]
["Natalie Crabtree","DAC4","Dallas","2014-2015",5,"Pre",2,38,"Jeremy Swingle",0,0,null,null,null,null,null,null,0,0,0,0,6.5]
["Natalie Crabtree","DAC4","Dallas","2014-2015",5,"Pre",2,46,"Jeremy Swingle",0,0,null,null,null,null,null,null,0,0,0,0,6.5]
["Natalie Crabtree","DAC4","Dallas","2014-2015",5,"ConA",3,"A-B","Abby Ashcraft",0,0,null,null,null,null,null,null,0,0,0,0,6.5]
["Natalie Crabtree","DAC4","Dallas","2014-2015",5,"ConA",2,"A-D","Jeremy Swingle",1,0,null,null,null,null,null,null,0,0,20,20,6.5]
["Natalie Crabtree","DAC4",{"$f":"VLOOKUP(B3144,$B$2:$C$3219,2,FALSE)","v":"Dallas"},"2014-2015",5,"ConA",3,"A-J","Abby Ashcraft",0,0,null,null,null,null,null,null,0,0,null,0,6.5]
["Nathan Bonar","EBC2","EBC","2014-2015",3,"Pre",1,13,"Scott Peterson",0,3,null,null,null,null,null,null,0,1,{"$f":"quizscore(J3145,K3145)","v":-20},-20,45.5]
["Nathan Bonar","EBC2","EBC","2014-2015",3,"Pre",1,49,"Scott Peterson",0,2,null,1,null,null,null,null,0,0,-10,10,45.5]
["Nathan Bonar","EBC2","EBC","2014-2015",2,"Semi",2,"H","Jeremy Swingle",0,2,null,1,null,null,null,null,0,0,-10,10,45.5]
["Nathan Bonar","EBC2","EBC","2014-2015",3,"Semi",2,"H","Jeremy Swingle",0,2,null,null,null,null,null,null,0,0,-10,-10,45.5]
["Nathan Bonar","EBC2","EBC","2014-2015",4,"Pre",2,6,"Jeremy Swingle",0,1,null,null,null,null,null,null,0,0,0,0,45.5]
["Nathan Bonar","EBC2","EBC","2014-2015",3,"Pre",2,22,"Jeremy Swingle",0,1,null,null,null,null,null,null,0,0,0,0,45.5]
["Nathan Bonar","EBC2","EBC","2014-2015",1,"Pre",1,37,"Scott Peterson",0,1,null,null,null,null,null,null,0,0,0,0,45.5]
["Nathan Bonar","EBC2","EBC","2014-2015",3,"Semi",1,"B","Scott Peterson",0,1,null,null,null,null,null,null,0,0,0,0,45.5]
["Nathan Bonar","EBC2","EBC","2014-2015",4,"Semi",1,"B","Scott Peterson",1,3,null,null,1,null,null,null,0,1,0,-5,45.5]
["Nathan Bonar","EBC2","EBC","2014-2015",3,"Semi",1,"E","Scott Peterson",0,1,null,null,null,null,null,null,0,0,0,0,45.5]
["Nathan Bonar","EBC2","EBC","2014-2015",4,"Semi",2,"F","Jeremy Swingle",0,1,null,null,null,null,null,null,0,0,0,0,45.5]
["Nathan Bonar","EBC2","EBC","2014-2015",2,"Pre",3,7,"Tiffany Bye",2,3,null,null,null,null,null,null,0,1,20,20,45.5]
["Nathan Bonar","EBC2","EBC","2014-2015",4,"Pre",1,13,"Scott Peterson",1,1,null,null,null,1,null,null,0,0,20,30,45.5]
["Nathan Bonar","EBC2","EBC","2014-2015",4,"Pre",1,21,"Scott Peterson",2,3,null,null,null,null,null,null,0,1,20,20,45.5]
["Nathan Bonar","EBC2","EBC","2014-2015",2,"Pre",2,50,"Jeremy Swingle",2,3,null,null,null,null,null,null,0,1,20,20,45.5]
["Nathan Bonar","EBC2","EBC","2014-2015",1,"Semi",1,"A","Scott Peterson",1,1,null,null,null,null,null,null,0,0,20,20,45.5]
["Nathan Bonar","EBC2","EBC","2014-2015",1,"Semi",2,"F","Jeremy Swingle",1,0,null,null,null,1,null,null,0,0,20,30,45.5]
["Nathan Bonar","EBC2","EBC","2014-2015",1,"Pre",3,15,"Tiffany Bye",2,2,null,null,null,null,null,null,0,0,30,30,45.5]
["Nathan Bonar","EBC2","EBC","2014-2015",1,"Pre",2,22,"Jeremy Swingle",3,3,1,null,null,null,null,null,0,1,40,35,45.5]
["Nathan Bonar","EBC2","EBC","2014-2015",4,"Pre",3,35,"Tony Kong",2,1,null,null,null,null,null,null,0,0,40,40,45.5]
["Nathan Bonar","EBC2","EBC","2014-2015",2,"Pre",4,36,"Cutty Welt",3,3,null,null,null,null,null,null,0,1,40,40,45.5]
["Nathan Bonar","EBC2","EBC","2014-2015",4,"Pre",4,40,"Cutty Welt",2,1,null,1,null,null,null,null,0,0,40,60,45.5]
["Nathan Bonar","EBC2","EBC","2014-2015",2,"Semi",1,"E","Scott Peterson",2,1,null,null,null,null,null,null,0,0,40,40,45.5]
["Nathan Bonar","EBC2","EBC","2014-2015",3,"Pre",2,30,"Jeremy Swingle",3,2,null,null,null,1,null,null,0,0,50,60,45.5]
["Nathan Bonar","EBC2","EBC","2014-2015",1,"Pre",4,8,"Cutty Welt",3,0,null,null,null,null,null,null,0,0,60,60,45.5]
["Nathan Bonar","EBC2","EBC","2014-2015",1,"Pre",3,31,"Tiffany Bye",3,1,null,null,null,null,null,null,0,0,60,60,45.5]
["Nathan Bonar","EBC2","EBC","2014-2015",4,"Pre",2,46,"Jeremy Swingle",3,1,null,1,null,null,null,null,0,0,60,80,45.5]
["Nathan Bonar","EBC2","EBC","2014-2015",2,"Semi",1,"C","Scott Peterson",3,1,null,1,null,null,null,null,0,0,60,80,45.5]
["Nathan Bonar","EBC2","EBC","2014-2015",3,"Pre",3,43,"Tiffany Bye",4,2,null,null,null,null,null,null,1,0,70,70,45.5]
["Nathan Bonar","EBC2","EBC","2014-2015",3,"Pre",4,8,"Cutty Welt",4,1,null,null,null,null,null,null,1,0,80,80,45.5]
["Nathan Bonar","EBC2","EBC","2014-2015",2,"Pre",4,16,"Cutty Welt",4,1,null,1,null,null,null,null,1,0,80,100,45.5]
["Nathan Bonar","EBC2","EBC","2014-2015",2,"Pre",1,41,"Scott Peterson",4,1,null,null,null,1,null,null,1,0,80,90,45.5]
["Nathan Bonar","EBC2","EBC","2014-2015",1,"Pre",1,45,"Scott Peterson",4,1,null,null,null,1,null,null,1,0,{"$f":"quizscore(J3177,K3177)","v":80},90,45.5]
["Nathan Bonar","EBC2","EBC","2014-2015",2,"Pre",1,25,"Scott Peterson",4,0,null,null,null,null,null,null,1,0,90,90,45.5]
["Nathan Bonar","EBC2","EBC","2014-2015",5,"Pre",3,3,"Tony Kong",4,0,null,null,1,null,null,null,1,0,90,85,45.5]
["Nathan Bonar","EBC2","EBC","2014-2015",5,"Pre",2,10,"Jeremy Swingle",0,3,null,null,null,null,null,null,0,1,-20,-20,45.5]
["Nathan Bonar","EBC2","EBC","2014-2015",5,"Pre",1,21,"Scott Peterson",4,0,null,null,1,null,null,null,1,0,90,85,45.5]
["Nathan Bonar","EBC2","EBC","2014-2015",5,"Pre",1,29,"Scott Peterson",4,0,null,null,null,null,null,null,1,0,90,90,45.5]
["Nathan Bonar","EBC2","EBC","2014-2015",5,"Pre",4,36,"Cutty Welt",0,2,null,null,null,null,null,null,0,0,-10,-10,45.5]
["Nathan Bonar","EBC2","EBC","2014-2015",5,"Pre",3,47,"Tony Kong",4,2,null,null,null,null,null,null,1,0,70,70,45.5]
["Nathan Bonar","EBC2","EBC","2014-2015",5,"Semi",1,"A","Scott Peterson",4,1,null,null,null,null,null,null,1,0,80,80,45.5]
["Nathan Bonar","EBC2","EBC","2014-2015",5,"Semi",1,"E","Scott Peterson",0,2,null,null,null,null,null,null,0,0,-10,-10,45.5]
["Nathan Bonar","EBC2","EBC","2014-2015",5,"Semi",2,"H","Jeremy Swingle",0,3,null,null,null,null,null,null,0,1,-20,-20,45.5]
["Peter Stuart","LH4","Lighthouse","2014-2015",2,"Pre",3,15,"Tiffany Bye",0,3,null,null,null,null,null,null,0,1,-20,-20,24.310344827586206]
["Peter Stuart","LH4","Lighthouse","2014-2015",4,"Pre",3,7,"Tony Kong",0,0,null,null,null,null,null,null,0,0,0,0,24.310344827586206]
["Peter Stuart","LH1","Lighthouse","2014-2015",1,"Pre",1,9,"Scott Peterson",0,0,null,null,null,null,null,null,0,0,0,0,24.310344827586206]
["Peter Stuart","LH1","Lighthouse","2014-2015",1,"Pre",3,19,"Tiffany Bye",0,0,2,null,null,null,null,null,0,0,0,-10,24.310344827586206]
["Peter Stuart","LH4","Lighthouse","2014-2015",2,"Pre",1,21,"Scott Peterson",0,0,null,null,null,null,null,null,0,0,0,0,24.310344827586206]
["Peter Stuart","LH4","Lighthouse","2014-2015",4,"Pre",1,21,"Scott Peterson",0,1,null,null,null,null,null,null,0,0,0,0,24.310344827586206]
["Peter Stuart","LH1","Lighthouse","2014-2015",1,"Pre",1,33,"Scott Peterson",0,0,null,1,null,null,null,null,0,0,0,20,24.310344827586206]
["Peter Stuart","LH4","Lighthouse","2014-2015",4,"Pre",4,36,"Cutty Welt",0,0,null,null,null,null,null,null,0,0,0,0,24.310344827586206]
["Peter Stuart","LH1","Lighthouse","2014-2015",1,"Pre",4,44,"Cutty Welt",0,1,null,null,null,null,null,null,0,0,0,0,24.310344827586206]
["Peter Stuart","LH1","Lighthouse","2014-2015",1,"ConB",4,"B-1","Cutty Welt",0,1,null,null,1,null,null,null,0,0,0,-5,24.310344827586206]
["Peter Stuart","LH4","Lighthouse","2014-2015",4,"Pre",2,14,"Jeremy Swingle",1,2,null,null,null,1,null,null,0,0,10,20,24.310344827586206]
["Peter Stuart","LH4","Lighthouse","2014-2015",3,"ConA",3,"A-H","Tiffany Bye",1,2,null,null,null,1,null,null,0,0,10,20,24.310344827586206]
["Peter Stuart","LH4","Lighthouse","2014-2015",3,"Pre",1,13,"Scott Peterson",2,3,null,null,null,null,null,null,0,1,20,20,24.310344827586206]
["Peter Stuart","LH4","Lighthouse","2014-2015",2,"Pre",3,19,"Tiffany Bye",1,0,null,1,null,1,null,null,0,0,20,50,24.310344827586206]
["Peter Stuart","LH4","Lighthouse","2014-2015",3,"Pre",4,20,"Cutty Welt",1,1,null,null,null,null,null,null,{"$f":"IF(J3202=4,1,0)","v":0},{"$f":"IF(K3202=3,1,0)","v":0},20,{"$f":"T3202+M3202*(20) + (SUM(O3202:Q3202)*(10)) - L3202*(5) - N3202*(5)","v":20},{"$f":"AVERAGEIFS(U:U,A:A,A3202,F:F,\"Pre\")","v":24.310344827586206}]
["Peter Stuart","LH4","Lighthouse","2014-2015",4,"Pre",3,27,"Tony Kong",1,0,null,null,null,null,null,null,0,0,20,20,24.310344827586206]
["Peter Stuart","LH1","Lighthouse","2014-2015",1,"Pre",4,28,"Cutty Welt",1,0,null,null,null,null,null,null,0,0,20,20,24.310344827586206]
["Peter Stuart","LH4","Lighthouse","2014-2015",3,"Pre",4,28,"Cutty Welt",1,0,null,null,null,null,null,null,0,0,20,20,24.310344827586206]
["Peter Stuart","LH4","Lighthouse","2014-2015",3,"Pre",4,44,"Cutty Welt",1,1,null,null,null,null,null,null,0,0,20,20,24.310344827586206]
["Peter Stuart","LH1","Lighthouse","2014-2015",1,"Pre",2,50,"Jeremy Swingle",1,0,null,null,null,null,null,null,0,0,20,20,24.310344827586206]
["Peter Stuart","LH4","Lighthouse","2014-2015",3,"Pre",2,50,"Jeremy Swingle",1,1,null,null,null,null,null,null,0,0,20,20,24.310344827586206]
["Peter Stuart","LH1","Lighthouse","2014-2015",1,"ConB",4,"B-4","Cutty Welt",1,1,null,null,null,null,null,null,0,0,{"$f":"quizscore(J3209,K3209)","v":20},20,24.310344827586206]
["Peter Stuart","LH1","Lighthouse","2014-2015",1,"ConB",4,"B-7","Cutty Welt",1,1,null,1,null,null,1,null,0,0,20,50,24.310344827586206]
["Peter Stuart","LH4","Lighthouse","2014-2015",3,"ConA",3,"A-B","Tiffany Bye",2,2,null,null,null,1,null,null,0,0,30,40,24.310344827586206]
["Peter Stuart","LH4","Lighthouse","2014-2015",2,"ConB",4,"B-5","Cutty Welt",2,2,null,null,null,null,null,null,0,0,30,30,24.310344827586206]
["Peter Stuart","LH4","Lighthouse","2014-2015",3,"Pre",3,31,"Tiffany Bye",2,1,1,null,null,null,null,null,0,0,40,35,24.310344827586206]
["Peter Stuart","LH4","Lighthouse","2014-2015",2,"Pre",1,33,"Scott Peterson",2,0,null,null,null,null,null,null,0,0,40,40,24.310344827586206]
["Peter Stuart","LH4","Lighthouse","2014-2015",2,"Pre",2,6,"Jeremy Swingle",3,2,null,1,null,null,null,null,0,0,50,70,24.310344827586206]
["Peter Stuart","LH4","Lighthouse","2014-2015",3,"ConA",3,"A-E","Tiffany Bye",3,1,null,null,null,null,null,null,0,0,60,60,24.310344827586206]
["Peter Stuart","LH1","Lighthouse","2014-2015",1,"ConB",4,"B-J","Cutty Welt",3,0,null,null,null,null,null,null,0,0,60,60,24.310344827586206]
["Peter Stuart","LH4","Lighthouse","2014-2015",2,"ConB",4,"B-6","Cutty Welt",4,2,null,null,null,null,null,null,1,0,70,70,24.310344827586206]
["Peter Stuart","LH4","Lighthouse","2014-2015",2,"ConB",4,"B-4","Cutty Welt",4,1,null,1,null,null,null,null,1,0,80,100,24.310344827586206]
["Peter Stuart","LH4","Lighthouse","2014-2015",2,"Pre",4,44,"Cutty Welt",4,0,null,null,null,null,null,null,1,0,90,90,24.310344827586206]
["Peter Stuart","LH4","Lighthouse","2014-2015",5,"Pre",2,2,"Jeremy Swingle",1,2,null,null,null,1,null,null,0,0,10,20,24.310344827586206]
["Peter Stuart","LH4","Lighthouse","2014-2015",5,"Pre",1,9,"Scott Peterson",3,3,null,null,null,null,null,null,0,1,40,40,24.310344827586206]
["Peter Stuart","LH4","Lighthouse","2014-2015",5,"Pre",4,16,"Cutty Welt",3,1,null,null,null,null,null,null,0,0,60,60,24.310344827586206]
["Peter Stuart","LH4","Lighthouse","2014-2015",5,"Pre",1,21,"Scott Peterson",1,2,null,null,null,null,null,null,0,0,10,10,24.310344827586206]
["Peter Stuart","LH4","Lighthouse","2014-2015",5,"Pre",3,35,"Tony Kong",2,1,null,null,null,null,null,null,0,0,40,40,24.310344827586206]
["Peter Stuart","LH4","Lighthouse","2014-2015",5,"Pre",4,44,"Cutty Welt",4,1,null,null,null,null,null,null,1,0,80,80,24.310344827586206]
["Peter Stuart","LH4","Lighthouse","2014-2015",5,"ConA",2,"A-C","Jeremy Swingle",2,2,null,null,null,null,null,null,0,0,30,30,24.310344827586206]
["Peter Stuart","LH4","Lighthouse","2014-2015",5,"ConA",2,"A-D","Jeremy Swingle",1,1,null,null,null,null,null,null,0,0,20,20,24.310344827586206]
["Peter Stuart","LH4","Lighthouse","2014-2015",5,"ConA",2,"A-G","Jeremy Swingle",3,1,null,null,null,null,null,null,0,0,60,60,24.310344827586206]
["Peter Stuart","LH4",{"$f":"VLOOKUP(B3230,$B$2:$C$3219,2,FALSE)","v":"Lighthouse"},"2014-2015",5,"ConA",3,"A-I","Abby Ashcraft",3,3,null,null,null,null,null,null,0,1,40,40,24.310344827586206]
["Peter Stuart","LH4",{"$f":"VLOOKUP(B3231,$B$2:$C$3219,2,FALSE)","v":"Lighthouse"},"2014-2015",5,"ConA",3,"A-J","Abby Ashcraft",0,3,null,null,null,null,null,null,0,1,null,0,24.310344827586206]
["Rachel Wallace","EBC1","EBC","2014-2015",2,"Pre",1,1,"Scott Peterson",0,0,null,null,1,null,null,null,0,0,{"$f":"quizscore(J3232,K3232)","v":0},-5,6.5]
["Rachel Wallace","EBC1","EBC","2014-2015",4,"Pre",1,1,"Scott Peterson",0,0,null,null,null,null,null,null,0,0,0,0,6.5]
["Rachel Wallace","EBC1","EBC","2014-2015",1,"Pre",1,5,"Scott Peterson",0,0,null,null,null,null,null,null,0,0,0,0,6.5]
["Rachel Wallace","EBC1","EBC","2014-2015",2,"Pre",1,9,"Scott Peterson",0,0,null,null,null,null,null,null,0,0,0,0,6.5]
["Rachel Wallace","EBC1","EBC","2014-2015",4,"Pre",3,11,"Tony Kong",0,0,null,null,null,null,null,null,0,0,0,0,6.5]
["Rachel Wallace","EBC1","EBC","2014-2015",1,"Pre",2,14,"Jeremy Swingle",0,0,null,null,null,null,null,null,0,0,0,0,6.5]
["Rachel Wallace","EBC1","EBC","2014-2015",4,"Pre",1,17,"Scott Peterson",0,0,null,null,null,null,null,null,0,0,0,0,6.5]
["Rachel Wallace","EBC1","EBC","2014-2015",1,"Pre",2,22,"Jeremy Swingle",0,0,null,null,null,null,null,null,0,0,0,0,6.5]
["Rachel Wallace","EBC1","EBC","2014-2015",3,"Pre",4,24,"Cutty Welt",0,0,null,null,null,null,null,null,0,0,0,0,6.5]
["Rachel Wallace","EBC1","EBC","2014-2015",4,"Pre",4,28,"Cutty Welt",0,1,null,null,null,null,null,null,0,0,0,0,6.5]
["Rachel Wallace","EBC1","EBC","2014-2015",3,"Pre",1,29,"Scott Peterson",0,0,null,null,null,null,null,null,0,0,0,0,6.5]
["Rachel Wallace","EBC1","EBC","2014-2015",4,"Pre",2,34,"Jeremy Swingle",0,0,null,null,null,null,null,null,0,0,0,0,6.5]
["Rachel Wallace","EBC1","EBC","2014-2015",3,"Pre",2,38,"Jeremy Swingle",0,0,null,null,null,null,null,null,0,0,0,0,6.5]
["Rachel Wallace","EBC1","EBC","2014-2015",1,"Pre",4,40,"Cutty Welt",0,0,null,null,null,null,null,null,0,0,0,0,6.5]
["Rachel Wallace","EBC1","EBC","2014-2015",3,"Pre",3,43,"Tiffany Bye",0,0,null,null,null,null,null,null,0,0,0,0,6.5]
["Rachel Wallace","EBC1","EBC","2014-2015",4,"Pre",4,44,"Cutty Welt",0,0,null,null,null,null,null,null,0,0,0,0,6.5]
["Rachel Wallace","EBC1","EBC","2014-2015",1,"Pre",3,47,"Tiffany Bye",0,0,null,null,null,null,null,null,0,0,0,0,6.5]
["Rachel Wallace","EBC1","EBC","2014-2015",2,"Pre",2,50,"Jeremy Swingle",0,0,null,null,null,null,null,null,0,0,0,0,6.5]
["Rachel Wallace","EBC1","EBC","2014-2015",3,"ConA",2,"A-C","Jeremy Swingle",0,0,null,null,null,null,null,null,0,0,0,0,6.5]
["Rachel Wallace","EBC1","EBC","2014-2015",1,"ConA",3,"A-F","Tiffany Bye",0,1,null,null,null,null,null,null,0,0,0,0,6.5]
["Rachel Wallace","EBC1","EBC","2014-2015",2,"ConA",3,"A-F","Tiffany Bye",0,1,null,null,null,null,null,null,0,0,0,0,6.5]
["Rachel Wallace","EBC1","EBC","2014-2015",3,"ConA",2,"A-G","Jeremy Swingle",0,0,null,null,null,null,null,null,0,0,0,0,6.5]
["Rachel Wallace","EBC1","EBC","2014-2015",3,"ConA",3,"A-I","Tiffany Bye",0,0,null,null,null,null,null,null,0,0,0,0,6.5]
["Rachel Wallace","EBC1","EBC","2014-2015",4,"ConB",4,"B-1","Cutty Welt",0,0,null,null,null,null,null,null,0,0,0,0,6.5]
["Rachel Wallace","EBC1","EBC","2014-2015",4,"ConB",4,"B-2","Cutty Welt",0,0,null,null,null,null,null,null,0,0,0,0,6.5]
["Rachel Wallace","EBC1","EBC","2014-2015",3,"Pre",2,6,"Jeremy Swingle",1,0,null,null,null,null,null,null,0,0,20,20,6.5]
["Rachel Wallace","EBC1","EBC","2014-2015",3,"Pre",4,16,"Cutty Welt",1,1,null,null,null,null,null,null,0,0,20,20,6.5]
["Rachel Wallace","EBC1","EBC","2014-2015",2,"Pre",4,24,"Cutty Welt",1,0,null,1,null,null,null,null,0,0,20,40,6.5]
["Rachel Wallace","EBC1","EBC","2014-2015",1,"Pre",4,28,"Cutty Welt",1,1,null,null,null,null,null,null,0,0,20,20,6.5]
["Rachel Wallace","EBC1","EBC","2014-2015",2,"Pre",4,44,"Cutty Welt",1,0,null,null,null,null,null,null,0,0,20,20,6.5]
["Rachel Wallace","EBC1","EBC","2014-2015",1,"ConA",2,"A-C","Jeremy Swingle",1,0,null,null,null,null,null,null,0,0,20,20,6.5]
["Rachel Wallace","EBC1","EBC","2014-2015",2,"ConA",2,"A-C","Jeremy Swingle",1,0,null,null,null,null,null,null,0,0,20,20,6.5]
["Rachel Wallace","EBC1","EBC","2014-2015",3,"ConA",3,"A-E","Tiffany Bye",1,0,null,null,null,null,null,null,0,0,20,20,6.5]
["Rachel Wallace","EBC1","EBC","2014-2015",4,"ConB",4,"B-5","Cutty Welt",1,0,null,null,null,null,null,null,0,0,20,20,6.5]
["Rachel Wallace","EBC1","EBC","2014-2015",2,"Pre",3,31,"Tiffany Bye",2,0,null,null,null,null,null,null,{"$f":"IF(J3266=4,1,0)","v":0},{"$f":"IF(K3266=3,1,0)","v":0},40,{"$f":"T3266+M3266*(20) + (SUM(O3266:Q3266)*(10)) - L3266*(5) - N3266*(5)","v":40},{"$f":"AVERAGEIFS(U:U,A:A,A3266,F:F,\"Pre\")","v":6.5}]
["Rachel Wallace","EBC1","EBC","2014-2015",5,"Pre",3,7,"Tony Kong",0,1,null,null,null,null,null,null,0,0,0,0,6.5]
["Rachel Wallace","EBC1","EBC","2014-2015",5,"Pre",2,14,"Jeremy Swingle",0,0,null,null,null,null,null,null,0,0,0,0,6.5]
["Rachel Wallace","EBC1","EBC","2014-2015",5,"Pre",2,18,"Jeremy Swingle",1,0,null,null,null,null,null,null,0,0,20,20,6.5]
["Rachel Wallace","EBC1","EBC","2014-2015",5,"Pre",4,32,"Cutty Welt",0,0,null,null,null,null,null,null,0,0,0,0,6.5]
["Rachel Wallace","EBC1","EBC","2014-2015",5,"Pre",4,40,"Cutty Welt",1,1,null,null,null,null,null,null,0,0,20,20,6.5]
["Rachel Wallace","EBC1","EBC","2014-2015",5,"Pre",1,49,"Scott Peterson",0,0,null,null,null,null,null,null,0,0,0,0,6.5]
["Rachel Wallace","EBC1",{"$f":"VLOOKUP(B3273,$B$2:$C$3219,2,FALSE)","v":"EBC"},"2014-2015",5,"ConB",4,"B-2","Cutty Welt",1,1,null,null,null,null,null,null,0,0,20,20,6.5]
["Rachel Wallace","EBC1",{"$f":"VLOOKUP(B3274,$B$2:$C$3219,2,FALSE)","v":"EBC"},"2014-2015",5,"ConB",4,"B-3","Cutty Welt",3,0,null,null,null,null,null,null,0,0,60,60,6.5]
["Rachel Wallace","EBC1",{"$f":"VLOOKUP(B3275,$B$2:$C$3219,2,FALSE)","v":"EBC"},"2014-2015",5,"ConB",4,"B-4","Cutty Welt",0,1,null,null,null,null,null,null,0,0,0,0,6.5]
["Rachel Wallace","EBC1",{"$f":"VLOOKUP(B3276,$B$2:$C$3219,2,FALSE)","v":"EBC"},"2014-2015",5,"ConB",4,"B-J","Cutty Welt",0,0,null,null,null,null,null,null,0,0,null,0,6.5]
["Roshan Truax","NSA","NSA","2014-2015",1,"ConB",4,"B-2","Cutty Welt",0,2,null,null,null,null,null,null,0,0,{"$f":"quizscore(J3277,K3277)","v":-10},-10,5.5172413793103452]
["Roshan Truax","NSA","NSA","2014-2015",1,"Pre",2,2,"Jeremy Swingle",0,0,null,null,null,null,null,null,0,0,0,0,5.5172413793103452]
["Roshan Truax","NSA","NSA","2014-2015",3,"Pre",4,4,"Cutty Welt",0,0,null,null,null,null,null,null,0,0,0,0,5.5172413793103452]
["Roshan Truax","NSA","NSA","2014-2015",4,"Pre",1,5,"Scott Peterson",0,0,null,null,null,null,null,null,0,0,0,0,5.5172413793103452]
["Roshan Truax","NSA","NSA","2014-2015",3,"Pre",3,11,"Tiffany Bye",0,0,null,null,null,null,null,null,0,0,0,0,5.5172413793103452]
["Roshan Truax","NSA","NSA","2014-2015",2,"Pre",3,15,"Tiffany Bye",0,0,null,null,null,null,null,null,0,0,0,0,5.5172413793103452]
["Roshan Truax","NSA","NSA","2014-2015",4,"Pre",4,16,"Cutty Welt",0,0,null,null,null,null,null,null,0,0,0,0,5.5172413793103452]
["Roshan Truax","NSA","NSA","2014-2015",1,"Pre",3,19,"Tiffany Bye",0,0,null,null,null,null,null,null,0,0,0,0,5.5172413793103452]
["Roshan Truax","NSA","NSA","2014-2015",3,"Pre",1,21,"Scott Peterson",0,0,null,null,null,null,null,null,0,0,0,0,5.5172413793103452]
["Roshan Truax","NSA","NSA","2014-2015",2,"Pre",4,24,"Cutty Welt",0,0,null,null,null,null,null,null,0,0,0,0,5.5172413793103452]
["Roshan Truax","NSA","NSA","2014-2015",4,"Pre",1,25,"Scott Peterson",0,1,null,null,null,null,null,null,0,0,0,0,5.5172413793103452]
["Roshan Truax","NSA","NSA","2014-2015",2,"Pre",2,26,"Jeremy Swingle",0,0,null,null,null,null,null,null,0,0,0,0,5.5172413793103452]
["Roshan Truax","NSA","NSA","2014-2015",2,"Pre",2,30,"Jeremy Swingle",0,0,null,1,null,null,null,null,0,0,0,20,5.5172413793103452]
["Roshan Truax","NSA","NSA","2014-2015",3,"Pre",2,30,"Jeremy Swingle",0,0,null,null,null,null,null,null,0,0,0,0,5.5172413793103452]
["Roshan Truax","NSA","NSA","2014-2015",4,"Pre",2,30,"Jeremy Swingle",0,0,null,null,null,null,null,null,0,0,0,0,5.5172413793103452]
["Roshan Truax","NSA","NSA","2014-2015",4,"Pre",3,39,"Tony Kong",0,0,null,null,null,null,null,null,0,0,0,0,5.5172413793103452]
["Roshan Truax","NSA","NSA","2014-2015",3,"Pre",4,40,"Cutty Welt",0,0,null,null,null,null,null,null,0,0,0,0,5.5172413793103452]
["Roshan Truax","NSA","NSA","2014-2015",1,"Pre",1,45,"Scott Peterson",0,0,null,null,null,null,null,null,0,0,0,0,5.5172413793103452]
["Roshan Truax","NSA","NSA","2014-2015",3,"Pre",2,46,"Jeremy Swingle",0,0,null,null,null,null,null,null,0,0,0,0,5.5172413793103452]
["Roshan Truax","NSA","NSA","2014-2015",4,"Pre",3,47,"Tony Kong",0,0,null,null,null,null,null,null,0,0,0,0,5.5172413793103452]
["Roshan Truax","NSA","NSA","2014-2015",1,"ConB",4,"B-3","Cutty Welt",0,1,null,null,null,null,null,null,0,0,0,0,5.5172413793103452]
["Roshan Truax","NSA","NSA","2014-2015",2,"ConB",4,"B-3","Cutty Welt",0,0,null,null,null,null,null,null,0,0,0,0,5.5172413793103452]
["Roshan Truax","NSA","NSA","2014-2015",4,"ConB",4,"B-3","Cutty Welt",0,0,null,null,null,null,null,null,0,0,0,0,5.5172413793103452]
["Roshan Truax","NSA","NSA","2014-2015",2,"ConB",4,"B-5","Cutty Welt",0,0,null,null,1,null,null,null,0,0,0,-5,5.5172413793103452]
["Roshan Truax","NSA","NSA","2014-2015",3,"ConB",4,"B-5","Cutty Welt",0,0,null,null,null,null,null,null,0,0,0,0,5.5172413793103452]
["Roshan Truax","NSA","NSA","2014-2015",4,"ConB",4,"B-5","Cutty Welt",0,0,null,null,null,null,null,null,0,0,0,0,5.5172413793103452]
["Roshan Truax","NSA","NSA","2014-2015",3,"ConB",4,"B-6","Cutty Welt",0,0,null,null,null,null,null,null,0,0,0,0,5.5172413793103452]
["Roshan Truax","NSA","NSA","2014-2015",4,"ConB",4,"B-7","Cutty Welt",0,0,null,null,null,null,null,null,0,0,0,0,5.5172413793103452]
["Roshan Truax","NSA","NSA","2014-2015",1,"Pre",2,26,"Jeremy Swingle",1,0,null,null,null,null,null,null,0,0,20,20,5.5172413793103452]
["Roshan Truax","NSA","NSA","2014-2015",2,"Pre",3,39,"Tiffany Bye",1,0,null,null,null,null,null,null,0,0,20,20,5.5172413793103452]
["Roshan Truax","NSA","NSA","2014-2015",2,"Pre",1,45,"Scott Peterson",1,1,null,null,null,null,null,null,0,0,20,20,5.5172413793103452]
["Roshan Truax","NSA","NSA","2014-2015",1,"ConB",4,"B-4","Cutty Welt",1,1,null,null,null,null,null,null,0,0,20,20,5.5172413793103452]
["Roshan Truax","NSA","NSA","2014-2015",3,"ConB",4,"B-4","Cutty Welt",1,0,null,null,null,null,null,null,0,0,20,20,5.5172413793103452]
["Roshan Truax","NSA","NSA","2014-2015",2,"ConB",4,"B-7","Cutty Welt",1,1,null,null,null,null,null,null,0,0,20,20,5.5172413793103452]
["Roshan Truax","NSA","NSA","2014-2015",1,"ConB",4,"B-J","Cutty Welt",1,0,null,null,null,null,null,null,0,0,20,20,5.5172413793103452]
["Roshan Truax","NSA","NSA","2014-2015",1,"Pre",4,12,"Cutty Welt",2,0,null,null,null,null,null,null,0,0,40,40,5.5172413793103452]
["Roshan Truax","NSA","NSA","2014-2015",1,"Pre",3,39,"Tiffany Bye",2,0,null,null,null,null,null,null,0,0,40,40,5.5172413793103452]
["Roshan Truax","NSA","NSA","2014-2015",5,"Pre",4,8,"Cutty Welt",0,0,null,null,null,null,null,null,0,0,0,0,5.5172413793103452]
["Roshan Truax","NSA","NSA","2014-2015",5,"Pre",3,15,"Tony Kong",0,0,null,null,null,null,null,null,0,0,0,0,5.5172413793103452]
["Roshan Truax","NSA","NSA","2014-2015",5,"Pre",1,21,"Scott Peterson",0,0,null,null,null,null,null,null,0,0,0,0,5.5172413793103452]
["Roshan Truax","NSA","NSA","2014-2015",5,"Pre",4,40,"Cutty Welt",0,0,null,null,null,null,null,null,0,0,0,0,5.5172413793103452]
["Roshan Truax","NSA","NSA","2014-2015",5,"Pre",4,48,"Cutty Welt",0,1,null,null,null,null,null,null,0,0,0,0,5.5172413793103452]
["Roshan Truax","NSA",{"$f":"VLOOKUP(B3319,$B$2:$C$3219,2,FALSE)","v":"NSA"},"2014-2015",5,"ConB",4,"B-1","Cutty Welt",0,1,null,null,null,null,null,null,0,0,0,0,5.5172413793103452]
["Roshan Truax","NSA",{"$f":"VLOOKUP(B3320,$B$2:$C$3219,2,FALSE)","v":"NSA"},"2014-2015",5,"ConB",4,"B-3","Cutty Welt",0,1,null,null,null,null,null,null,0,0,0,0,5.5172413793103452]
["Roshan Truax","NSA",{"$f":"VLOOKUP(B3321,$B$2:$C$3219,2,FALSE)","v":"NSA"},"2014-2015",5,"ConB",4,"B-6","Cutty Welt",1,1,null,null,null,null,null,null,0,0,20,20,5.5172413793103452]
["Ruby Borden","ABC5","ABC","2014-2015",4,"Pre",3,3,"Tony Kong",0,0,null,null,1,null,null,null,0,0,0,-5,17.333333333333332]
["Ruby Borden","ABC3","ABC","2014-2015",2,"Pre",3,11,"Tiffany Bye",0,0,null,1,null,null,null,null,0,0,0,20,17.333333333333332]
["Ruby Borden","ABC5","ABC","2014-2015",1,"Pre",1,13,"Scott Peterson",0,0,null,null,1,null,null,null,0,0,0,-5,17.333333333333332]
["Ruby Borden","ABC3","ABC","2014-2015",2,"Pre",1,21,"Scott Peterson",0,0,null,null,null,null,null,null,0,0,0,0,17.333333333333332]
["Ruby Borden","ABC5","ABC","2014-2015",4,"Pre",2,22,"Jeremy Swingle",0,0,null,null,null,null,null,null,0,0,0,0,17.333333333333332]
["Ruby Borden","ABC3","ABC","2014-2015",2,"Pre",4,36,"Cutty Welt",0,0,null,null,null,null,null,null,0,0,0,0,17.333333333333332]
["Ruby Borden","ABC5","ABC","2014-2015",3,"Pre",4,36,"Cutty Welt",0,0,null,1,null,null,null,null,0,0,0,20,17.333333333333332]
["Ruby Borden","ABC5","ABC","2014-2015",4,"Pre",1,37,"Scott Peterson",0,0,null,null,null,null,null,null,0,0,0,0,17.333333333333332]
["Ruby Borden","ABC3","ABC","2014-2015",2,"Pre",2,42,"Jeremy Swingle",0,0,null,null,null,null,null,null,{"$f":"IF(J3330=4,1,0)","v":0},{"$f":"IF(K3330=3,1,0)","v":0},0,{"$f":"T3330+M3330*(20) + (SUM(O3330:Q3330)*(10)) - L3330*(5) - N3330*(5)","v":0},{"$f":"AVERAGEIFS(U:U,A:A,A3330,F:F,\"Pre\")","v":17.333333333333332}]
["Ruby Borden","ABC5","ABC","2014-2015",3,"Pre",3,43,"Tiffany Bye",0,0,null,null,null,null,null,null,0,0,0,0,17.333333333333332]
["Ruby Borden","ABC3","ABC","2014-2015",2,"Pre",1,49,"Scott Peterson",0,1,null,null,null,null,null,null,0,0,0,0,17.333333333333332]
["Ruby Borden","ABC3","ABC","2014-2015",2,"ConA",3,"A-B","Tiffany Bye",0,0,null,null,null,null,null,null,0,0,0,0,17.333333333333332]
["Ruby Borden","ABC5","ABC","2014-2015",3,"ConA",3,"A-B","Tiffany Bye",0,0,null,null,1,null,null,null,0,0,0,-5,17.333333333333332]
["Ruby Borden","ABC3","ABC","2014-2015",2,"ConA",2,"A-D","Jeremy Swingle",0,0,null,null,null,null,null,null,0,0,0,0,17.333333333333332]
["Ruby Borden","ABC5","ABC","2014-2015",4,"ConA",3,"A-E","Abby Ashcraft",0,0,null,null,null,null,null,null,0,0,0,0,17.333333333333332]
["Ruby Borden","ABC3","ABC","2014-2015",2,"ConA",2,"A-G","Jeremy Swingle",0,1,null,1,null,null,null,null,0,0,0,20,17.333333333333332]
["Ruby Borden","ABC5","ABC","2014-2015",3,"ConA",3,"A-I","Tiffany Bye",0,0,null,null,null,null,null,null,0,0,0,0,17.333333333333332]
["Ruby Borden","ABC3","ABC","2014-2015",2,"ConA",2,"A-J","Jeremy Swingle",0,0,null,null,null,null,null,null,0,0,0,0,17.333333333333332]
["Ruby Borden","ABC5","ABC","2014-2015",3,"ConA",2,"A-J","Jeremy Swingle",0,0,null,null,null,null,null,null,0,0,0,0,17.333333333333332]
["Ruby Borden","ABC5","ABC","2014-2015",1,"ConB",4,"B-6","Cutty Welt",0,1,null,null,null,null,null,null,0,0,{"$f":"quizscore(J3341,K3341)","v":0},0,17.333333333333332]
["Ruby Borden","ABC3","ABC","2014-2015",2,"Pre",3,3,"Tiffany Bye",1,0,null,1,null,1,null,null,0,0,20,50,17.333333333333332]
["Ruby Borden","ABC5","ABC","2014-2015",3,"Pre",1,5,"Scott Peterson",1,0,null,null,null,null,null,null,0,0,20,20,17.333333333333332]
["Ruby Borden","ABC5","ABC","2014-2015",3,"Pre",2,14,"Jeremy Swingle",1,0,null,null,null,null,null,null,0,0,20,20,17.333333333333332]
["Ruby Borden","ABC5","ABC","2014-2015",4,"Pre",2,14,"Jeremy Swingle",1,0,null,null,null,1,null,null,0,0,20,30,17.333333333333332]
["Ruby Borden","ABC5","ABC","2014-2015",1,"Pre",1,17,"Scott Peterson",1,1,null,null,null,null,null,null,0,0,20,20,17.333333333333332]
["Ruby Borden","ABC5","ABC","2014-2015",3,"Pre",3,23,"Tiffany Bye",1,0,null,null,null,1,null,null,0,0,20,30,17.333333333333332]
["Ruby Borden","ABC5","ABC","2014-2015",3,"Pre",4,32,"Cutty Welt",1,0,null,null,null,null,null,null,0,0,20,20,17.333333333333332]
["Ruby Borden","ABC5","ABC","2014-2015",4,"Pre",3,47,"Tony Kong",1,0,null,null,null,null,null,null,0,0,20,20,17.333333333333332]
["Ruby Borden","ABC5","ABC","2014-2015",3,"ConA",2,"A-D","Jeremy Swingle",1,0,null,null,null,null,null,null,0,0,20,20,17.333333333333332]
["Ruby Borden","ABC5","ABC","2014-2015",3,"ConA",2,"A-G","Jeremy Swingle",1,0,null,null,null,null,null,null,0,0,20,20,17.333333333333332]
["Ruby Borden","ABC5","ABC","2014-2015",4,"ConA",3,"A-H","Abby Ashcraft",1,0,null,null,null,null,null,null,0,0,20,20,17.333333333333332]
["Ruby Borden","ABC5","ABC","2014-2015",1,"ConB",4,"B-7","Cutty Welt",1,1,null,null,null,null,null,null,0,0,20,20,17.333333333333332]
["Ruby Borden","ABC5","ABC","2014-2015",1,"Pre",4,32,"Cutty Welt",2,0,null,null,null,null,null,null,0,0,40,40,17.333333333333332]
["Ruby Borden","ABC5","ABC","2014-2015",4,"Pre",4,32,"Cutty Welt",2,0,null,1,null,null,null,null,0,0,40,60,17.333333333333332]
["Ruby Borden","ABC5","ABC","2014-2015",1,"Pre",3,47,"Tiffany Bye",2,0,null,null,null,null,null,null,0,0,40,40,17.333333333333332]
["Ruby Borden","ABC5","ABC","2014-2015",4,"ConA",2,"A-A","Jeremy Swingle",2,0,null,null,null,null,null,null,0,0,40,40,17.333333333333332]
["Ruby Borden","ABC5","ABC","2014-2015",1,"Pre",2,6,"Jeremy Swingle",3,0,null,null,null,null,null,null,0,0,60,60,17.333333333333332]
["Ruby Borden","ABC5","ABC","2014-2015",1,"Pre",2,38,"Jeremy Swingle",3,0,null,null,null,null,null,null,0,0,60,60,17.333333333333332]
["Ruby Borden","ABC5","ABC","2014-2015",1,"ConB",4,"B-2","Cutty Welt",4,0,null,null,null,null,null,null,1,0,90,90,17.333333333333332]
["Ruby Borden","ABC5","ABC","2014-2015",5,"Pre",2,2,"Jeremy Swingle",0,0,null,null,null,null,null,null,0,0,0,0,17.333333333333332]
["Ruby Borden","ABC5","ABC","2014-2015",5,"Pre",1,5,"Scott Peterson",0,0,null,null,null,null,null,null,0,0,0,0,17.333333333333332]
["Ruby Borden","ABC5","ABC","2014-2015",5,"Pre",1,13,"Scott Peterson",0,0,null,null,null,null,null,null,0,0,0,0,17.333333333333332]
["Ruby Borden","ABC5","ABC","2014-2015",5,"Pre",3,23,"Tony Kong",0,0,null,null,null,null,null,null,0,0,0,0,17.333333333333332]
["Ruby Borden","ABC5","ABC","2014-2015",5,"Pre",4,32,"Cutty Welt",1,0,null,null,null,null,null,null,0,0,20,20,17.333333333333332]
["Ruby Borden","ABC5","ABC","2014-2015",5,"Pre",3,43,"Tony Kong",0,0,null,null,null,null,null,null,0,0,0,0,17.333333333333332]
["Ruby Borden","ABC5",{"$f":"VLOOKUP(B3367,$B$2:$C$3219,2,FALSE)","v":"ABC"},"2014-2015",5,"ConB",4,"B-3","Cutty Welt",1,0,null,null,null,null,null,null,0,0,20,20,17.333333333333332]
["Ruby Borden","ABC5",{"$f":"VLOOKUP(B3368,$B$2:$C$3219,2,FALSE)","v":"ABC"},"2014-2015",5,"ConB",4,"B-5","Cutty Welt",0,0,null,null,1,null,null,null,0,0,0,-5,17.333333333333332]
["Ruby Borden","ABC5",{"$f":"VLOOKUP(B3369,$B$2:$C$3219,2,FALSE)","v":"ABC"},"2014-2015",5,"ConB",4,"B-7","Cutty Welt",2,0,null,null,null,null,null,null,0,0,40,40,17.333333333333332]
["Ruby McClung","TAC2","Tacoma","2014-2015",2,"Pre",1,1,"Scott Peterson",0,0,null,null,null,null,null,null,0,0,0,0,0]
["Ruby McClung","TAC2","Tacoma","2014-2015",4,"Pre",2,2,"Jeremy Swingle",0,0,null,null,null,null,null,null,0,0,0,0,0]
["Ruby McClung","TAC2","Tacoma","2014-2015",1,"Pre",3,3,"Tiffany Bye",0,0,null,null,null,null,null,null,0,0,0,0,0]
["Ruby McClung","TAC2","Tacoma","2014-2015",3,"Pre",2,6,"Jeremy Swingle",0,0,null,null,null,null,null,null,0,0,0,0,0]
["Ruby McClung","TAC2","Tacoma","2014-2015",2,"Pre",2,10,"Jeremy Swingle",0,0,null,null,null,null,null,null,0,0,0,0,0]
["Ruby McClung","TAC2","Tacoma","2014-2015",1,"Pre",3,11,"Tiffany Bye",0,0,null,null,null,null,null,null,0,0,0,0,0]
["Ruby McClung","TAC2","Tacoma","2014-2015",4,"Pre",4,12,"Cutty Welt",0,0,null,null,null,null,null,null,0,0,0,0,0]
["Ruby McClung","TAC2","Tacoma","2014-2015",3,"Pre",3,15,"Tiffany Bye",0,0,null,null,null,null,null,null,0,0,0,0,0]
["Ruby McClung","TAC2","Tacoma","2014-2015",2,"Pre",3,19,"Tiffany Bye",0,0,null,null,null,null,null,null,0,0,0,0,0]
["Ruby McClung","TAC2","Tacoma","2014-2015",4,"Pre",3,19,"Tony Kong",0,0,null,null,null,null,null,null,0,0,0,0,0]
["Ruby McClung","TAC2","Tacoma","2014-2015",1,"Pre",4,20,"Cutty Welt",0,0,null,null,null,null,null,null,0,0,0,0,0]
["Ruby McClung","TAC2","Tacoma","2014-2015",3,"Pre",1,21,"Scott Peterson",0,0,null,null,null,null,null,null,0,0,0,0,0]
["Ruby McClung","TAC2","Tacoma","2014-2015",1,"Pre",2,26,"Jeremy Swingle",0,0,null,null,null,null,null,null,0,0,0,0,0]
["Ruby McClung","TAC2","Tacoma","2014-2015",4,"Pre",3,27,"Tony Kong",0,0,null,null,null,null,null,null,0,0,0,0,0]
["Ruby McClung","TAC2","Tacoma","2014-2015",2,"Pre",4,28,"Cutty Welt",0,0,null,null,null,null,null,null,0,0,0,0,0]
["Ruby McClung","TAC2","Tacoma","2014-2015",3,"Pre",4,32,"Cutty Welt",0,0,null,null,null,null,null,null,0,0,0,0,0]
["Ruby McClung","TAC2","Tacoma","2014-2015",2,"Pre",2,34,"Jeremy Swingle",0,0,null,null,null,null,null,null,0,0,0,0,0]
["Ruby McClung","TAC2","Tacoma","2014-2015",1,"Pre",1,37,"Scott Peterson",0,0,null,null,null,null,null,null,0,0,0,0,0]
["Ruby McClung","TAC2","Tacoma","2014-2015",3,"Pre",1,37,"Scott Peterson",0,0,null,null,null,null,null,null,0,0,0,0,0]
["Ruby McClung","TAC2","Tacoma","2014-2015",4,"Pre",4,40,"Cutty Welt",0,0,null,null,null,null,null,null,0,0,0,0,0]
["Ruby McClung","TAC2","Tacoma","2014-2015",2,"Pre",1,41,"Scott Peterson",0,0,null,null,null,null,null,null,0,0,0,0,0]
["Ruby McClung","TAC2","Tacoma","2014-2015",4,"Pre",1,45,"Scott Peterson",0,0,null,null,null,null,null,null,0,0,0,0,0]
["Ruby McClung","TAC2","Tacoma","2014-2015",1,"Pre",2,46,"Jeremy Swingle",0,0,null,null,null,null,null,null,0,0,0,0,0]
["Ruby McClung","TAC2","Tacoma","2014-2015",3,"Pre",4,48,"Cutty Welt",0,0,null,null,null,null,null,null,0,0,0,0,0]
["Ruby McClung","TAC2","Tacoma","2014-2015",2,"ConA",2,"A-A","Jeremy Swingle",0,0,null,null,null,null,null,null,{"$f":"IF(J3394=4,1,0)","v":0},{"$f":"IF(K3394=3,1,0)","v":0},0,{"$f":"T3394+M3394*(20) + (SUM(O3394:Q3394)*(10)) - L3394*(5) - N3394*(5)","v":0},{"$f":"AVERAGEIFS(U:U,A:A,A3394,F:F,\"Pre\")","v":0}]
["Ruby McClung","TAC2","Tacoma","2014-2015",1,"ConA",3,"A-B","Tiffany Bye",0,0,null,null,1,null,null,null,0,0,0,-5,0]
["Ruby McClung","TAC2","Tacoma","2014-2015",3,"ConA",3,"A-B","Tiffany Bye",0,0,null,null,null,null,null,null,0,0,0,0,0]
["Ruby McClung","TAC2","Tacoma","2014-2015",1,"ConA",2,"A-D","Jeremy Swingle",0,0,null,null,null,null,null,null,0,0,0,0,0]
["Ruby McClung","TAC2","Tacoma","2014-2015",4,"ConA",3,"A-E","Abby Ashcraft",0,0,null,null,null,null,null,null,0,0,0,0,0]
["Ruby McClung","TAC2","Tacoma","2014-2015",2,"ConA",3,"A-F","Tiffany Bye",0,0,null,null,null,null,null,null,0,0,0,0,0]
["Ruby McClung","TAC2","Tacoma","2014-2015",3,"ConA",3,"A-F","Tiffany Bye",0,0,null,null,null,null,null,null,0,0,0,0,0]
["Ruby McClung","TAC2","Tacoma","2014-2015",4,"ConA",2,"A-G","Jeremy Swingle",0,0,null,null,null,null,null,null,0,0,0,0,0]
["Ruby McClung","TAC2","Tacoma","2014-2015",2,"ConA",3,"A-H","Tiffany Bye",0,0,null,null,null,null,null,null,0,0,0,0,0]
["Ruby McClung","TAC2","Tacoma","2014-2015",4,"ConA",3,"A-I","Abby Ashcraft",0,0,null,null,null,null,null,null,0,0,0,0,0]
["Ruby McClung","TAC2","Tacoma","2014-2015",1,"ConA",2,"A-J","Jeremy Swingle",0,0,null,null,null,null,null,null,0,0,0,0,0]
["Ruby McClung","TAC2","Tacoma","2014-2015",4,"ConA",3,"A-B","Abby Ashcraft",1,0,null,null,null,null,null,null,0,0,{"$f":"quizscore(J3405,K3405)","v":20},20,0]
["Ruby McClung","TAC2","Tacoma","2014-2015",5,"Pre",3,31,"Tony Kong",0,0,null,null,null,null,null,null,0,0,0,0,0]
["Ruby McClung","TAC2","Tacoma","2014-2015",5,"Pre",4,44,"Cutty Welt",0,0,null,null,null,null,null,null,0,0,0,0,0]
["Ruth Stuart","LH2","Lighthouse","2014-2015",3,"Pre",1,9,"Scott Peterson",0,1,null,null,1,null,null,null,0,0,0,-5,33.833333333333336]
["Ruth Stuart","LH2","Lighthouse","2014-2015",1,"Pre",4,16,"Cutty Welt",0,0,null,null,null,null,null,null,0,0,0,0,33.833333333333336]
["Ruth Stuart","LH2","Lighthouse","2014-2015",1,"Pre",2,22,"Jeremy Swingle",0,1,null,null,null,null,null,null,0,0,0,0,33.833333333333336]
["Ruth Stuart","LH2","Lighthouse","2014-2015",1,"ConA",3,"A-B","Tiffany Bye",0,1,null,null,null,null,null,null,0,0,0,0,33.833333333333336]
["Ruth Stuart","LH2","Lighthouse","2014-2015",1,"ConA",3,"A-F","Tiffany Bye",0,0,null,1,null,null,null,null,0,0,0,20,33.833333333333336]
["Ruth Stuart","LH2","Lighthouse","2014-2015",4,"Pre",2,22,"Jeremy Swingle",1,2,null,null,null,null,null,null,0,0,10,10,33.833333333333336]
["Ruth Stuart","LH2","Lighthouse","2014-2015",4,"ConA",3,"A-F","Abby Ashcraft",1,2,null,null,null,null,null,null,0,0,10,10,33.833333333333336]
["Ruth Stuart","LH2","Lighthouse","2014-2015",1,"Pre",1,1,"Scott Peterson",1,0,null,null,null,null,null,null,0,0,20,20,33.833333333333336]
["Ruth Stuart","LH2","Lighthouse","2014-2015",2,"Pre",4,16,"Cutty Welt",1,0,null,null,null,null,null,null,0,0,20,20,33.833333333333336]
["Ruth Stuart","LH2","Lighthouse","2014-2015",2,"Pre",2,22,"Jeremy Swingle",1,1,null,null,null,null,null,null,0,0,20,20,33.833333333333336]
["Ruth Stuart","LH2","Lighthouse","2014-2015",2,"Pre",3,31,"Tiffany Bye",1,1,null,null,null,null,null,null,0,0,20,20,33.833333333333336]
["Ruth Stuart","LH2","Lighthouse","2014-2015",1,"Pre",2,34,"Jeremy Swingle",1,0,null,null,null,1,null,null,0,0,20,30,33.833333333333336]
["Ruth Stuart","LH2","Lighthouse","2014-2015",4,"Pre",3,35,"Tony Kong",1,0,null,null,null,null,null,null,0,0,20,20,33.833333333333336]
["Ruth Stuart","LH2","Lighthouse","2014-2015",1,"Pre",4,44,"Cutty Welt",1,1,null,null,null,null,null,null,0,0,20,20,33.833333333333336]
["Ruth Stuart","LH2","Lighthouse","2014-2015",4,"ConA",2,"A-A","Jeremy Swingle",1,1,null,null,null,1,null,null,0,0,20,30,33.833333333333336]
["Ruth Stuart","LH2","Lighthouse","2014-2015",3,"Pre",3,27,"Tiffany Bye",2,2,null,null,null,null,null,null,0,0,30,30,33.833333333333336]
["Ruth Stuart","LH2","Lighthouse","2014-2015",3,"Pre",2,6,"Jeremy Swingle",2,1,null,null,null,null,null,null,0,0,40,40,33.833333333333336]
["Ruth Stuart","LH2","Lighthouse","2014-2015",1,"Pre",3,11,"Tiffany Bye",2,0,null,null,null,null,null,null,0,0,40,40,33.833333333333336]
["Ruth Stuart","LH2","Lighthouse","2014-2015",3,"Pre",4,20,"Cutty Welt",2,0,null,null,null,null,null,null,0,0,40,40,33.833333333333336]
["Ruth Stuart","LH2","Lighthouse","2014-2015",2,"Pre",1,37,"Scott Peterson",2,0,null,null,null,null,null,null,0,0,40,40,33.833333333333336]
["Ruth Stuart","LH2","Lighthouse","2014-2015",3,"Pre",2,42,"Jeremy Swingle",2,0,null,null,null,null,null,null,0,0,40,40,33.833333333333336]
["Ruth Stuart","LH2","Lighthouse","2014-2015",2,"Pre",3,47,"Tiffany Bye",2,0,null,null,null,null,null,null,0,0,40,40,33.833333333333336]
["Ruth Stuart","LH2","Lighthouse","2014-2015",3,"ConA",2,"A-A","Jeremy Swingle",2,0,null,null,null,null,null,null,0,0,40,40,33.833333333333336]
["Ruth Stuart","LH2","Lighthouse","2014-2015",3,"ConA",3,"A-F","Tiffany Bye",2,1,null,null,null,null,null,null,0,0,40,40,33.833333333333336]
["Ruth Stuart","LH2","Lighthouse","2014-2015",2,"ConB",4,"B-4","Cutty Welt",2,1,null,1,null,null,null,null,0,0,40,60,33.833333333333336]
["Ruth Stuart","LH2","Lighthouse","2014-2015",2,"ConB",4,"B-7","Cutty Welt",2,0,null,1,null,null,null,null,0,0,40,60,33.833333333333336]
["Ruth Stuart","LH2","Lighthouse","2014-2015",2,"ConB",4,"B-J","Cutty Welt",2,1,null,null,null,null,null,null,0,0,40,40,33.833333333333336]
["Ruth Stuart","LH2","Lighthouse","2014-2015",4,"Pre",2,2,"Jeremy Swingle",3,0,null,null,null,null,null,null,0,0,60,60,33.833333333333336]
["Ruth Stuart","LH2","Lighthouse","2014-2015",2,"Pre",4,4,"Cutty Welt",3,1,null,null,null,null,null,null,0,0,60,60,33.833333333333336]
["Ruth Stuart","LH2","Lighthouse","2014-2015",4,"Pre",3,15,"Tony Kong",3,1,null,null,null,null,null,null,0,0,60,60,33.833333333333336]
["Ruth Stuart","LH2","Lighthouse","2014-2015",3,"Pre",3,35,"Tiffany Bye",3,0,null,null,1,null,null,null,0,0,60,55,33.833333333333336]
["Ruth Stuart","LH2","Lighthouse","2014-2015",4,"Pre",4,44,"Cutty Welt",3,1,null,null,null,null,null,null,0,0,60,60,33.833333333333336]
["Ruth Stuart","LH2","Lighthouse","2014-2015",2,"ConB",4,"B-1","Cutty Welt",3,0,null,null,null,null,null,null,0,0,60,60,33.833333333333336]
["Ruth Stuart","LH2","Lighthouse","2014-2015",4,"Pre",1,9,"Scott Peterson",4,0,null,null,null,null,null,null,1,0,90,90,33.833333333333336]
["Ruth Stuart","LH2","Lighthouse","2014-2015",5,"Pre",4,12,"Cutty Welt",0,1,null,null,null,null,null,null,0,0,0,0,33.833333333333336]
["Ruth Stuart","LH2","Lighthouse","2014-2015",5,"Pre",2,18,"Jeremy Swingle",1,0,null,null,null,null,null,null,0,0,20,20,33.833333333333336]
["Ruth Stuart","LH2","Lighthouse","2014-2015",5,"Pre",1,25,"Scott Peterson",2,1,null,null,null,null,null,null,0,0,40,40,33.833333333333336]
["Ruth Stuart","LH2","Lighthouse","2014-2015",5,"Pre",1,33,"Scott Peterson",2,2,null,1,null,null,null,null,0,0,30,50,33.833333333333336]
["Ruth Stuart","LH2","Lighthouse","2014-2015",5,"Pre",3,39,"Tony Kong",4,0,null,null,null,null,null,null,1,0,90,90,33.833333333333336]
["Ruth Stuart","LH2","Lighthouse","2014-2015",5,"Pre",3,47,"Tony Kong",1,2,null,null,1,null,null,null,0,0,10,5,33.833333333333336]
["Ruth Stuart","LH2","Lighthouse","2014-2015",5,"ConA",3,"A-B","Abby Ashcraft",1,0,null,null,null,null,null,null,0,0,20,20,33.833333333333336]
["Ruth Stuart","LH2","Lighthouse","2014-2015",5,"ConA",3,"A-F","Abby Ashcraft",2,0,null,null,null,null,null,null,0,0,40,40,33.833333333333336]
["Ryan Small","FOX","Fox Island","2014-2015",2,"ConA",2,"A-D","Jeremy Swingle",0,3,null,null,null,null,null,null,0,1,-20,-20,55.333333333333336]
["Ryan Small","FOX","Fox Island","2014-2015",1,"Semi",2,"H","Jeremy Swingle",0,3,null,1,null,null,null,null,0,1,-20,0,55.333333333333336]
["Ryan Small","FOX","Fox Island","2014-2015",3,"Pre",3,19,"Tiffany Bye",0,2,null,null,null,null,null,null,0,0,-10,-10,55.333333333333336]
["Ryan Small","FOX","Fox Island","2014-2015",4,"Pre",1,29,"Scott Peterson",0,2,null,null,1,null,null,null,0,0,-10,-15,55.333333333333336]
["Ryan Small","FOX","Fox Island","2014-2015",3,"Pre",3,3,"Tiffany Bye",1,3,null,null,null,null,null,null,0,1,0,0,55.333333333333336]
["Ryan Small","FOX","Fox Island","2014-2015",3,"ConA",3,"A-E","Tiffany Bye",1,3,null,null,null,null,null,null,0,1,0,0,55.333333333333336]
["Ryan Small","FOX","Fox Island","2014-2015",4,"Pre",3,7,"Tony Kong",1,2,null,null,null,null,null,null,0,0,10,10,55.333333333333336]
["Ryan Small","FOX","Fox Island","2014-2015",4,"Pre",4,20,"Cutty Welt",1,1,null,null,null,null,null,null,0,0,20,20,55.333333333333336]
["Ryan Small","FOX","Fox Island","2014-2015",2,"Pre",3,27,"Tiffany Bye",2,3,null,null,null,null,null,null,{"$f":"IF(J3458=4,1,0)","v":0},{"$f":"IF(K3458=3,1,0)","v":1},20,{"$f":"T3458+M3458*(20) + (SUM(O3458:Q3458)*(10)) - L3458*(5) - N3458*(5)","v":20},{"$f":"AVERAGEIFS(U:U,A:A,A3458,F:F,\"Pre\")","v":55.333333333333336}]
["Ryan Small","FOX","Fox Island","2014-2015",4,"ConB",4,"B-2","Cutty Welt",1,1,null,null,null,null,null,null,0,0,20,20,55.333333333333336]
["Ryan Small","FOX","Fox Island","2014-2015",4,"ConB",4,"B-3","Cutty Welt",2,3,null,null,1,null,null,null,0,1,20,15,55.333333333333336]
["Ryan Small","FOX","Fox Island","2014-2015",4,"Pre",2,10,"Jeremy Swingle",2,2,null,null,null,null,null,null,0,0,30,30,55.333333333333336]
["Ryan Small","FOX","Fox Island","2014-2015",3,"Pre",1,41,"Scott Peterson",2,2,null,null,null,null,null,null,0,0,30,30,55.333333333333336]
["Ryan Small","FOX","Fox Island","2014-2015",4,"ConB",4,"B-4","Cutty Welt",2,2,null,null,null,null,null,null,0,0,30,30,55.333333333333336]
["Ryan Small","FOX","Fox Island","2014-2015",3,"Pre",4,32,"Cutty Welt",2,1,null,null,null,null,null,null,0,0,40,40,55.333333333333336]
["Ryan Small","FOX","Fox Island","2014-2015",2,"Pre",4,36,"Cutty Welt",2,1,null,null,null,null,null,null,0,0,40,40,55.333333333333336]
["Ryan Small","FOX","Fox Island","2014-2015",2,"Pre",2,18,"Jeremy Swingle",3,2,null,null,null,null,null,null,0,0,50,50,55.333333333333336]
["Ryan Small","FOX","Fox Island","2014-2015",3,"Pre",1,49,"Scott Peterson",3,2,null,1,null,null,null,null,0,0,50,70,55.333333333333336]
["Ryan Small","FOX","Fox Island","2014-2015",4,"Pre",1,25,"Scott Peterson",3,1,null,null,null,null,null,null,0,0,60,60,55.333333333333336]
["Ryan Small","FOX","Fox Island","2014-2015",3,"ConA",2,"A-A","Jeremy Swingle",3,1,null,1,null,null,null,null,0,0,{"$f":"quizscore(J3469,K3469)","v":60},80,55.333333333333336]
["Ryan Small","FOX","Fox Island","2014-2015",2,"Pre",1,9,"Scott Peterson",4,2,null,null,null,null,null,null,1,0,70,70,55.333333333333336]
["Ryan Small","FOX","Fox Island","2014-2015",2,"Pre",2,46,"Jeremy Swingle",4,2,null,1,null,null,null,null,1,0,70,90,55.333333333333336]
["Ryan Small","FOX","Fox Island","2014-2015",1,"Semi",1,"A","Scott Peterson",4,2,null,2,null,null,null,null,1,0,70,110,55.333333333333336]
["Ryan Small","FOX","Fox Island","2014-2015",3,"ConA",3,"A-H","Tiffany Bye",4,2,null,null,null,null,null,null,1,0,70,70,55.333333333333336]
["Ryan Small","FOX","Fox Island","2014-2015",3,"Pre",2,38,"Jeremy Swingle",4,1,null,null,null,null,null,null,1,0,80,80,55.333333333333336]
["Ryan Small","FOX","Fox Island","2014-2015",1,"Pre",2,50,"Jeremy Swingle",4,1,null,1,null,null,null,null,1,0,80,100,55.333333333333336]
["Ryan Small","FOX","Fox Island","2014-2015",2,"ConA",2,"A-C","Jeremy Swingle",4,1,null,1,null,null,null,null,1,0,80,100,55.333333333333336]
["Ryan Small","FOX","Fox Island","2014-2015",2,"ConA",2,"A-G","Jeremy Swingle",4,1,null,1,null,null,null,null,1,0,80,100,55.333333333333336]
["Ryan Small","FOX","Fox Island","2014-2015",2,"ConA",3,"A-I","Tiffany Bye",4,1,null,null,1,null,null,null,1,0,80,75,55.333333333333336]
["Ryan Small","FOX","Fox Island","2014-2015",1,"Pre",1,5,"Scott Peterson",4,0,null,1,null,null,null,null,1,0,90,110,55.333333333333336]
["Ryan Small","FOX","Fox Island","2014-2015",1,"Pre",4,16,"Cutty Welt",4,0,null,1,null,null,null,null,1,0,90,110,55.333333333333336]
["Ryan Small","FOX","Fox Island","2014-2015",1,"Pre",1,21,"Scott Peterson",4,0,null,null,1,null,null,null,1,0,90,85,55.333333333333336]
["Ryan Small","FOX","Fox Island","2014-2015",1,"Pre",4,32,"Cutty Welt",4,0,null,null,null,null,null,null,1,0,90,90,55.333333333333336]
["Ryan Small","FOX","Fox Island","2014-2015",1,"Pre",3,39,"Tiffany Bye",4,0,null,null,null,null,null,null,1,0,90,90,55.333333333333336]
["Ryan Small","FOX","Fox Island","2014-2015",2,"Pre",3,43,"Tiffany Bye",4,0,null,null,null,1,null,null,1,0,90,100,55.333333333333336]
["Ryan Small","FOX","Fox Island","2014-2015",4,"Pre",4,44,"Cutty Welt",4,0,null,null,null,null,null,null,1,0,90,90,55.333333333333336]
["Ryan Small","FOX","Fox Island","2014-2015",1,"Semi",1,"E","Scott Peterson",4,0,null,null,1,null,null,null,1,0,90,85,55.333333333333336]
["Ryan Small","FOX","Fox Island","2014-2015",4,"ConB",4,"B-J","Cutty Welt",2,2,null,null,null,null,null,null,0,0,30,30,55.333333333333336]
["Ryan Small","FOX","Fox Island","2014-2015",5,"Pre",1,9,"Scott Peterson",2,2,null,null,null,null,null,null,0,0,30,30,55.333333333333336]
["Ryan Small","FOX","Fox Island","2014-2015",5,"Pre",4,20,"Cutty Welt",3,0,null,null,null,null,null,null,0,0,60,60,55.333333333333336]
["Ryan Small","FOX","Fox Island","2014-2015",5,"Pre",3,27,"Tony Kong",2,0,null,null,null,null,null,null,0,0,40,40,55.333333333333336]
["Ryan Small","FOX","Fox Island","2014-2015",5,"Pre",4,36,"Cutty Welt",1,0,null,1,null,null,null,null,0,0,20,40,55.333333333333336]
["Ryan Small","FOX","Fox Island","2014-2015",5,"Pre",2,42,"Jeremy Swingle",1,0,null,1,null,null,null,null,0,0,20,40,55.333333333333336]
["Ryan Small","FOX","Fox Island","2014-2015",5,"Pre",2,50,"Jeremy Swingle",4,0,null,null,null,null,null,null,1,0,90,90,55.333333333333336]
["Ryan Small","FOX","Fox Island","2014-2015",5,"ConA",3,"A-B","Abby Ashcraft",2,0,null,null,2,null,null,null,0,0,40,30,55.333333333333336]
["Ryan Small","FOX","Fox Island","2014-2015",5,"ConA",3,"A-E","Abby Ashcraft",3,1,null,null,1,null,null,null,0,0,60,55,55.333333333333336]
["Ryan Small","FOX","Fox Island","2014-2015",5,"ConA",2,"A-G","Jeremy Swingle",2,2,null,null,null,null,null,null,0,0,30,30,55.333333333333336]
["Ryan Small","FOX",{"$f":"VLOOKUP(B3497,$B$2:$C$3219,2,FALSE)","v":"Fox Island"},"2014-2015",5,"ConA",3,"A-I","Abby Ashcraft",0,2,null,1,null,null,null,null,0,0,-10,10,55.333333333333336]
["Sabrina Kelsey","EBC1","EBC","2014-2015",2,"Pre",1,1,"Scott Peterson",0,1,null,null,null,null,null,null,0,0,0,0,0]
["Sabrina Kelsey","EBC1","EBC","2014-2015",4,"Pre",1,1,"Scott Peterson",0,0,null,null,null,null,null,null,0,0,0,0,0]
["Sabrina Kelsey","EBC1","EBC","2014-2015",1,"Pre",1,5,"Scott Peterson",0,0,null,null,null,null,null,null,0,0,0,0,0]
["Sabrina Kelsey","EBC1","EBC","2014-2015",3,"Pre",2,6,"Jeremy Swingle",0,0,null,null,null,null,null,null,0,0,0,0,0]
["Sabrina Kelsey","EBC1","EBC","2014-2015",2,"Pre",1,9,"Scott Peterson",0,1,null,null,null,null,null,null,0,0,0,0,0]
["Sabrina Kelsey","EBC1","EBC","2014-2015",4,"Pre",3,11,"Tony Kong",0,0,null,null,null,null,null,null,0,0,0,0,0]
["Sabrina Kelsey","EBC1","EBC","2014-2015",1,"Pre",2,14,"Jeremy Swingle",0,0,null,null,null,null,null,null,0,0,0,0,0]
["Sabrina Kelsey","EBC1","EBC","2014-2015",3,"Pre",4,16,"Cutty Welt",0,0,null,null,null,null,null,null,0,0,0,0,0]
["Sabrina Kelsey","EBC1","EBC","2014-2015",4,"Pre",1,17,"Scott Peterson",0,0,null,null,null,null,null,null,0,0,0,0,0]
["Sabrina Kelsey","EBC1","EBC","2014-2015",1,"Pre",2,22,"Jeremy Swingle",0,0,null,null,null,null,null,null,0,0,0,0,0]
["Sabrina Kelsey","EBC1","EBC","2014-2015",2,"Pre",4,24,"Cutty Welt",0,0,null,null,null,null,null,null,0,0,0,0,0]
["Sabrina Kelsey","EBC1","EBC","2014-2015",3,"Pre",4,24,"Cutty Welt",0,0,null,null,null,null,null,null,0,0,0,0,0]
["Sabrina Kelsey","EBC1","EBC","2014-2015",1,"Pre",4,28,"Cutty Welt",0,0,null,null,null,null,null,null,0,0,0,0,0]
["Sabrina Kelsey","EBC1","EBC","2014-2015",4,"Pre",4,28,"Cutty Welt",0,0,null,null,null,null,null,null,0,0,0,0,0]
["Sabrina Kelsey","EBC1","EBC","2014-2015",3,"Pre",1,29,"Scott Peterson",0,0,null,null,null,null,null,null,0,0,0,0,0]
["Sabrina Kelsey","EBC1","EBC","2014-2015",2,"Pre",3,31,"Tiffany Bye",0,0,null,null,null,null,null,null,0,0,0,0,0]
["Sabrina Kelsey","EBC1","EBC","2014-2015",4,"Pre",2,34,"Jeremy Swingle",0,0,null,null,null,null,null,null,0,0,0,0,0]
["Sabrina Kelsey","EBC1","EBC","2014-2015",3,"Pre",2,38,"Jeremy Swingle",0,0,null,null,null,null,null,null,0,0,0,0,0]
["Sabrina Kelsey","EBC1","EBC","2014-2015",1,"Pre",4,40,"Cutty Welt",0,0,null,null,null,null,null,null,0,0,0,0,0]
["Sabrina Kelsey","EBC1","EBC","2014-2015",3,"Pre",3,43,"Tiffany Bye",0,0,null,null,null,null,null,null,0,0,0,0,0]
["Sabrina Kelsey","EBC1","EBC","2014-2015",2,"Pre",4,44,"Cutty Welt",0,0,null,null,null,null,null,null,0,0,0,0,0]
["Sabrina Kelsey","EBC1","EBC","2014-2015",4,"Pre",4,44,"Cutty Welt",0,0,null,null,null,null,null,null,0,0,0,0,0]
["Sabrina Kelsey","EBC1","EBC","2014-2015",1,"Pre",3,47,"Tiffany Bye",0,0,null,null,null,null,null,null,0,0,0,0,0]
["Sabrina Kelsey","EBC1","EBC","2014-2015",2,"Pre",2,50,"Jeremy Swingle",0,0,null,null,null,null,null,null,0,0,0,0,0]
["Sabrina Kelsey","EBC1","EBC","2014-2015",1,"ConA",2,"A-C","Jeremy Swingle",0,0,null,null,null,null,null,null,{"$f":"IF(J3522=4,1,0)","v":0},{"$f":"IF(K3522=3,1,0)","v":0},0,{"$f":"T3522+M3522*(20) + (SUM(O3522:Q3522)*(10)) - L3522*(5) - N3522*(5)","v":0},{"$f":"AVERAGEIFS(U:U,A:A,A3522,F:F,\"Pre\")","v":0}]
["Sabrina Kelsey","EBC1","EBC","2014-2015",2,"ConA",2,"A-C","Jeremy Swingle",0,0,null,null,null,null,null,null,0,0,0,0,0]
["Sabrina Kelsey","EBC1","EBC","2014-2015",3,"ConA",2,"A-C","Jeremy Swingle",0,0,null,null,null,null,null,null,0,0,0,0,0]
["Sabrina Kelsey","EBC1","EBC","2014-2015",3,"ConA",3,"A-E","Tiffany Bye",0,0,null,null,null,null,null,null,0,0,0,0,0]
["Sabrina Kelsey","EBC1","EBC","2014-2015",1,"ConA",3,"A-F","Tiffany Bye",0,0,null,null,null,null,null,null,0,0,0,0,0]
["Sabrina Kelsey","EBC1","EBC","2014-2015",2,"ConA",3,"A-F","Tiffany Bye",0,0,null,null,null,null,null,null,0,0,0,0,0]
["Sabrina Kelsey","EBC1","EBC","2014-2015",3,"ConA",2,"A-G","Jeremy Swingle",0,0,null,null,null,null,null,null,0,0,0,0,0]
["Sabrina Kelsey","EBC1","EBC","2014-2015",3,"ConA",3,"A-I","Tiffany Bye",0,0,null,null,null,null,null,null,0,0,0,0,0]
["Sabrina Kelsey","EBC1","EBC","2014-2015",4,"ConB",4,"B-1","Cutty Welt",0,0,null,null,null,null,null,null,0,0,0,0,0]
["Sabrina Kelsey","EBC1","EBC","2014-2015",4,"ConB",4,"B-2","Cutty Welt",0,0,null,null,null,null,null,null,0,0,0,0,0]
["Sabrina Kelsey","EBC1","EBC","2014-2015",4,"ConB",4,"B-5","Cutty Welt",0,0,null,null,null,null,null,null,0,0,0,0,0]
["Sabrina Kelsey","EBC1","EBC","2014-2015",5,"Pre",3,7,"Tony Kong",0,0,null,null,null,null,null,null,0,0,{"$f":"quizscore(J3533,K3533)","v":0},0,0]
["Sabrina Kelsey","EBC1","EBC","2014-2015",5,"Pre",2,14,"Jeremy Swingle",0,0,null,null,null,null,null,null,0,0,0,0,0]
["Sabrina Kelsey","EBC1","EBC","2014-2015",5,"Pre",2,18,"Jeremy Swingle",0,0,null,null,null,null,null,null,0,0,0,0,0]
["Sabrina Kelsey","EBC1","EBC","2014-2015",5,"Pre",4,32,"Cutty Welt",0,0,null,null,null,null,null,null,0,0,0,0,0]
["Sabrina Kelsey","EBC1","EBC","2014-2015",5,"Pre",4,40,"Cutty Welt",0,0,null,null,null,null,null,null,0,0,0,0,0]
["Sabrina Kelsey","EBC1","EBC","2014-2015",5,"Pre",1,49,"Scott Peterson",0,0,null,null,null,null,null,null,0,0,0,0,0]
["Sabrina Kelsey","EBC1",{"$f":"VLOOKUP(B3539,$B$2:$C$3219,2,FALSE)","v":"EBC"},"2014-2015",5,"ConB",4,"B-2","Cutty Welt",0,0,null,null,null,null,null,null,0,0,0,0,0]
["Sabrina Kelsey","EBC1",{"$f":"VLOOKUP(B3540,$B$2:$C$3219,2,FALSE)","v":"EBC"},"2014-2015",5,"ConB",4,"B-3","Cutty Welt",0,0,null,null,null,null,null,null,0,0,0,0,0]
["Sabrina Kelsey","EBC1",{"$f":"VLOOKUP(B3541,$B$2:$C$3219,2,FALSE)","v":"EBC"},"2014-2015",5,"ConB",4,"B-4","Cutty Welt",1,0,null,null,null,null,null,null,0,0,20,20,0]
["Sabrina Kelsey","EBC1",{"$f":"VLOOKUP(B3542,$B$2:$C$3219,2,FALSE)","v":"EBC"},"2014-2015",5,"ConB",4,"B-J","Cutty Welt",0,1,1,null,null,null,null,null,0,0,null,-5,0]
["Sam Ashcraft","LH5","Lighthouse","2014-2015",1,"ConA",3,"A-I","Tiffany Bye",0,2,null,1,null,null,null,null,0,0,{"$f":"quizscore(J3543,K3543)","v":-10},10,27]
["Sam Ashcraft","LH5","Lighthouse","2014-2015",3,"Pre",1,1,"Scott Peterson",0,1,null,null,null,null,null,null,0,0,0,0,27]
["Sam Ashcraft","LH5","Lighthouse","2014-2015",2,"Pre",2,2,"Jeremy Swingle",0,0,null,null,1,null,null,null,0,0,0,-5,27]
["Sam Ashcraft","LH5","Lighthouse","2014-2015",2,"Pre",4,8,"Cutty Welt",0,1,null,null,null,null,null,null,0,0,0,0,27]
["Sam Ashcraft","LH5","Lighthouse","2014-2015",1,"Pre",3,15,"Tiffany Bye",0,0,null,1,null,null,null,null,0,0,0,20,27]
["Sam Ashcraft","LH5","Lighthouse","2014-2015",3,"Pre",3,15,"Tiffany Bye",0,1,null,null,null,null,null,null,0,0,0,0,27]
["Sam Ashcraft","LH5","Lighthouse","2014-2015",4,"Pre",3,19,"Tony Kong",0,0,null,null,null,null,null,null,0,0,0,0,27]
["Sam Ashcraft","LH5","Lighthouse","2014-2015",2,"Pre",2,22,"Jeremy Swingle",0,1,null,null,null,null,null,null,0,0,0,0,27]
["Sam Ashcraft","LH5","Lighthouse","2014-2015",3,"Pre",2,50,"Jeremy Swingle",1,3,null,null,null,null,null,null,0,1,0,0,27]
["Sam Ashcraft","LH5","Lighthouse","2014-2015",4,"Semi",1,"A","Scott Peterson",0,0,null,null,1,null,null,null,0,0,0,-5,27]
["Sam Ashcraft","LH5","Lighthouse","2014-2015",4,"Semi",1,"E","Scott Peterson",0,0,null,null,null,null,null,null,0,0,0,0,27]
["Sam Ashcraft","LH5","Lighthouse","2014-2015",2,"ConB",4,"B-2","Cutty Welt",1,2,null,null,null,1,null,null,0,0,10,20,27]
["Sam Ashcraft","LH5","Lighthouse","2014-2015",1,"Pre",3,7,"Tiffany Bye",1,0,null,null,null,null,null,null,0,0,20,20,27]
["Sam Ashcraft","LH5","Lighthouse","2014-2015",4,"Pre",4,8,"Cutty Welt",1,1,null,null,null,null,null,null,0,0,20,20,27]
["Sam Ashcraft","LH5","Lighthouse","2014-2015",4,"Pre",3,11,"Tony Kong",1,0,null,null,null,null,null,null,0,0,20,20,27]
["Sam Ashcraft","LH5","Lighthouse","2014-2015",1,"Pre",1,21,"Scott Peterson",1,1,1,null,null,null,null,null,0,0,20,15,27]
["Sam Ashcraft","LH5","Lighthouse","2014-2015",3,"Pre",4,24,"Cutty Welt",1,1,null,null,null,null,null,null,0,0,20,20,27]
["Sam Ashcraft","LH5","Lighthouse","2014-2015",3,"Pre",2,30,"Jeremy Swingle",1,0,null,null,null,null,null,null,0,0,20,20,27]
["Sam Ashcraft","LH5","Lighthouse","2014-2015",4,"Pre",1,37,"Scott Peterson",1,1,null,null,null,1,null,null,0,0,20,30,27]
["Sam Ashcraft","LH5","Lighthouse","2014-2015",3,"Pre",2,42,"Jeremy Swingle",1,1,null,null,null,null,null,null,0,0,20,20,27]
["Sam Ashcraft","LH5","Lighthouse","2014-2015",1,"Pre",2,46,"Jeremy Swingle",1,0,null,null,null,null,null,null,0,0,20,20,27]
["Sam Ashcraft","LH5","Lighthouse","2014-2015",4,"Pre",2,46,"Jeremy Swingle",1,1,null,null,null,1,null,null,0,0,20,30,27]
["Sam Ashcraft","LH5","Lighthouse","2014-2015",4,"Semi",2,"H","Jeremy Swingle",1,0,null,null,null,null,null,null,0,0,20,20,27]
["Sam Ashcraft","LH5","Lighthouse","2014-2015",1,"ConA",2,"A-C","Jeremy Swingle",2,2,null,null,null,null,null,null,0,0,30,30,27]
["Sam Ashcraft","LH5","Lighthouse","2014-2015",1,"Pre",1,29,"Scott Peterson",2,1,null,null,null,null,null,null,0,0,40,40,27]
["Sam Ashcraft","LH5","Lighthouse","2014-2015",4,"Pre",1,33,"Scott Peterson",2,0,null,null,null,null,null,null,0,0,40,40,27]
["Sam Ashcraft","LH5","Lighthouse","2014-2015",1,"Pre",4,40,"Cutty Welt",2,1,null,null,null,null,null,null,0,0,40,40,27]
["Sam Ashcraft","LH5","Lighthouse","2014-2015",1,"ConA",3,"A-E","Tiffany Bye",2,0,null,null,null,null,null,null,0,0,40,40,27]
["Sam Ashcraft","LH5","Lighthouse","2014-2015",1,"ConA",2,"A-G","Jeremy Swingle",2,1,null,null,null,null,null,null,0,0,40,40,27]
["Sam Ashcraft","LH5","Lighthouse","2014-2015",2,"ConB",4,"B-4","Cutty Welt",3,2,null,null,null,null,null,null,0,0,50,50,27]
["Sam Ashcraft","LH5","Lighthouse","2014-2015",2,"Pre",1,29,"Scott Peterson",3,0,null,null,null,null,null,null,0,0,60,60,27]
["Sam Ashcraft","LH5","Lighthouse","2014-2015",2,"Pre",1,41,"Scott Peterson",3,1,null,null,null,null,null,null,0,0,60,60,27]
["Sam Ashcraft","LH5","Lighthouse","2014-2015",2,"ConB",4,"B-3","Cutty Welt",3,0,1,null,null,1,null,null,0,0,{"$f":"quizscore(J3575,K3575)","v":60},65,27]
["Sam Ashcraft","LH5","Lighthouse","2014-2015",3,"ConB",4,"B-J","Cutty Welt",3,0,null,1,null,1,null,null,0,0,60,90,27]
["Sam Ashcraft","LH5","Lighthouse","2014-2015",3,"ConB",4,"B-3","Cutty Welt",4,1,null,null,null,null,null,null,1,0,80,80,27]
["Sam Ashcraft","LH5","Lighthouse","2014-2015",2,"Pre",3,39,"Tiffany Bye",4,0,null,null,null,null,null,null,1,0,90,90,27]
["Sam Ashcraft","LH5","Lighthouse","2014-2015",3,"ConB",4,"B-5","Cutty Welt",4,0,null,null,null,null,null,null,1,0,90,90,27]
["Sam Ashcraft","LH5","Lighthouse","2014-2015",3,"ConB",4,"B-7","Cutty Welt",4,0,null,null,null,null,null,null,1,0,90,90,27]
["Sam Ashcraft","LH5","Lighthouse","2014-2015",2,"ConB",4,"B-J","Cutty Welt",4,0,null,null,null,null,null,null,1,0,90,90,27]
["Sam Ashcraft","LH5","Lighthouse","2014-2015",5,"Pre",2,6,"Jeremy Swingle",3,0,null,null,null,null,null,null,0,0,60,60,27]
["Sam Ashcraft","LH5","Lighthouse","2014-2015",5,"Pre",4,16,"Cutty Welt",4,0,null,null,null,null,null,null,1,0,90,90,27]
["Sam Ashcraft","LH5","Lighthouse","2014-2015",5,"Pre",3,23,"Tony Kong",2,1,null,null,null,null,null,null,0,0,40,40,27]
["Sam Ashcraft","LH5","Lighthouse","2014-2015",5,"Pre",1,29,"Scott Peterson",0,0,null,null,null,null,null,null,0,0,0,0,27]
["Sam Ashcraft","LH5","Lighthouse","2014-2015",5,"Pre",1,41,"Scott Peterson",1,0,null,null,null,null,null,null,{"$f":"IF(J3586=4,1,0)","v":0},{"$f":"IF(K3586=3,1,0)","v":0},20,{"$f":"T3586+M3586*(20) + (SUM(O3586:Q3586)*(10)) - L3586*(5) - N3586*(5)","v":20},{"$f":"AVERAGEIFS(U:U,A:A,A3586,F:F,\"Pre\")","v":27}]
["Sam Ashcraft","LH5","Lighthouse","2014-2015",5,"Pre",2,46,"Jeremy Swingle",2,1,null,null,null,null,null,null,0,0,40,40,27]
["Sam Ashcraft","LH5","Lighthouse","2014-2015",5,"ConA",2,"A-C","Jeremy Swingle",2,1,null,null,null,null,null,null,0,0,40,40,27]
["Sam Ashcraft","LH5","Lighthouse","2014-2015",5,"ConA",3,"A-F","Abby Ashcraft",1,2,null,null,null,null,null,null,0,0,10,10,27]
["Samuel Do","ABC4","ABC","2014-2015",3,"ConB",4,"B-2","Cutty Welt",0,3,null,null,null,null,null,null,0,1,-20,-20,34.666666666666664]
["Samuel Do","ABC4","ABC","2014-2015",4,"Pre",1,9,"Scott Peterson",0,2,null,null,null,null,null,null,0,0,-10,-10,34.666666666666664]
["Samuel Do","ABC4","ABC","2014-2015",3,"Pre",1,21,"Scott Peterson",0,1,null,null,null,null,null,null,0,0,0,0,34.666666666666664]
["Samuel Do","ABC4","ABC","2014-2015",2,"Pre",4,32,"Cutty Welt",0,1,null,null,null,null,null,null,0,0,0,0,34.666666666666664]
["Samuel Do","ABC4","ABC","2014-2015",3,"Pre",2,34,"Jeremy Swingle",0,1,null,1,null,null,null,null,0,0,0,20,34.666666666666664]
["Samuel Do","ABC4","ABC","2014-2015",4,"Pre",4,36,"Cutty Welt",0,0,null,null,null,null,null,null,0,0,0,0,34.666666666666664]
["Samuel Do","ABC4","ABC","2014-2015",4,"Pre",1,41,"Scott Peterson",0,0,null,1,null,null,null,null,0,0,0,20,34.666666666666664]
["Samuel Do","ABC4","ABC","2014-2015",4,"Pre",2,46,"Jeremy Swingle",0,1,null,null,null,null,null,null,0,0,0,0,34.666666666666664]
["Samuel Do","ABC4","ABC","2014-2015",2,"ConA",3,"A-B","Tiffany Bye",0,1,null,null,null,null,null,null,0,0,0,0,34.666666666666664]
["Samuel Do","ABC4","ABC","2014-2015",4,"Pre",3,3,"Tony Kong",1,2,null,null,null,null,null,null,0,0,10,10,34.666666666666664]
["Samuel Do","ABC4","ABC","2014-2015",1,"Pre",2,18,"Jeremy Swingle",1,2,null,1,null,null,null,null,0,0,10,30,34.666666666666664]
["Samuel Do","ABC4","ABC","2014-2015",3,"Pre",1,45,"Scott Peterson",1,2,null,null,null,null,null,null,0,0,10,10,34.666666666666664]
["Samuel Do","ABC4","ABC","2014-2015",3,"Pre",4,8,"Cutty Welt",1,0,null,null,null,null,null,null,0,0,20,20,34.666666666666664]
["Samuel Do","ABC4","ABC","2014-2015",2,"Pre",2,14,"Jeremy Swingle",1,0,null,null,null,null,null,null,0,0,20,20,34.666666666666664]
["Samuel Do","ABC4","ABC","2014-2015",3,"Pre",2,14,"Jeremy Swingle",1,1,null,null,null,null,null,null,0,0,20,20,34.666666666666664]
["Samuel Do","ABC4","ABC","2014-2015",1,"Pre",4,24,"Cutty Welt",1,1,null,null,null,null,null,null,0,0,20,20,34.666666666666664]
["Samuel Do","ABC4","ABC","2014-2015",1,"Pre",4,36,"Cutty Welt",1,0,null,1,null,null,null,null,0,0,20,40,34.666666666666664]
["Samuel Do","ABC4","ABC","2014-2015",4,"ConB",4,"B-2","Cutty Welt",1,1,null,1,null,null,null,null,0,0,{"$f":"quizscore(J3607,K3607)","v":20},40,34.666666666666664]
["Samuel Do","ABC4","ABC","2014-2015",2,"Pre",3,43,"Tiffany Bye",2,0,null,null,null,null,null,null,0,0,40,40,34.666666666666664]
["Samuel Do","ABC4","ABC","2014-2015",1,"Pre",1,45,"Scott Peterson",2,1,null,null,null,null,null,null,0,0,40,40,34.666666666666664]
["Samuel Do","ABC4","ABC","2014-2015",2,"Pre",1,49,"Scott Peterson",2,1,null,null,null,null,null,null,0,0,40,40,34.666666666666664]
["Samuel Do","ABC4","ABC","2014-2015",1,"ConB",4,"B-4","Cutty Welt",2,1,null,null,null,null,null,null,0,0,40,40,34.666666666666664]
["Samuel Do","ABC4","ABC","2014-2015",2,"Pre",2,6,"Jeremy Swingle",3,1,null,1,null,null,null,null,0,0,60,80,34.666666666666664]
["Samuel Do","ABC4","ABC","2014-2015",4,"Pre",3,23,"Tony Kong",3,0,null,null,null,null,null,null,0,0,60,60,34.666666666666664]
["Samuel Do","ABC4","ABC","2014-2015",3,"Pre",3,27,"Tiffany Bye",3,1,null,null,null,null,null,null,0,0,60,60,34.666666666666664]
["Samuel Do","ABC4","ABC","2014-2015",1,"Pre",2,38,"Jeremy Swingle",3,1,null,null,null,null,null,null,0,0,60,60,34.666666666666664]
["Samuel Do","ABC4","ABC","2014-2015",2,"ConA",3,"A-F","Tiffany Bye",3,0,null,1,null,null,null,null,0,0,60,80,34.666666666666664]
["Samuel Do","ABC4","ABC","2014-2015",3,"ConB",4,"B-1","Cutty Welt",3,0,null,null,null,null,null,null,0,0,60,60,34.666666666666664]
["Samuel Do","ABC4","ABC","2014-2015",1,"ConB",4,"B-5","Cutty Welt",3,1,null,null,null,null,null,null,0,0,60,60,34.666666666666664]
["Samuel Do","ABC4","ABC","2014-2015",3,"ConB",4,"B-5","Cutty Welt",3,0,null,null,null,null,null,null,0,0,60,60,34.666666666666664]
["Samuel Do","ABC4","ABC","2014-2015",4,"ConB",4,"B-7","Cutty Welt",3,0,null,null,1,null,null,null,0,0,60,55,34.666666666666664]
["Samuel Do","ABC4","ABC","2014-2015",2,"Pre",4,24,"Cutty Welt",4,2,null,null,null,null,null,null,1,0,70,70,34.666666666666664]
["Samuel Do","ABC4","ABC","2014-2015",4,"ConB",4,"B-6","Cutty Welt",4,1,null,null,1,null,null,null,1,0,80,75,34.666666666666664]
["Samuel Do","ABC4","ABC","2014-2015",1,"Pre",3,7,"Tiffany Bye",4,0,null,null,null,null,null,null,1,0,90,90,34.666666666666664]
["Samuel Do","ABC4","ABC","2014-2015",1,"ConB",4,"B-6","Cutty Welt",4,0,null,1,null,null,null,null,1,0,90,110,34.666666666666664]
["Samuel Do","ABC4","ABC","2014-2015",4,"ConB",4,"B-J","Cutty Welt",3,0,null,null,null,null,null,null,0,0,60,60,34.666666666666664]
["Samuel Do","ABC4","ABC","2014-2015",5,"Pre",4,4,"Cutty Welt",3,0,null,null,null,null,null,null,0,0,60,60,34.666666666666664]
["Samuel Do","ABC4","ABC","2014-2015",5,"Pre",4,12,"Cutty Welt",3,0,null,null,null,null,null,null,0,0,60,60,34.666666666666664]
["Samuel Do","ABC4","ABC","2014-2015",5,"Pre",1,17,"Scott Peterson",2,1,null,null,null,null,null,null,0,0,40,40,34.666666666666664]
["Samuel Do","ABC4","ABC","2014-2015",5,"Pre",3,27,"Tony Kong",2,1,null,null,null,null,null,null,0,0,40,40,34.666666666666664]
["Samuel Do","ABC4","ABC","2014-2015",5,"Pre",2,38,"Jeremy Swingle",1,1,null,1,null,null,null,null,0,0,20,40,34.666666666666664]
["Samuel Do","ABC4","ABC","2014-2015",5,"Pre",1,49,"Scott Peterson",3,1,null,null,null,null,null,null,0,0,60,60,34.666666666666664]
["Samuel Do","ABC4","ABC","2014-2015",5,"ConA",2,"A-A","Jeremy Swingle",4,1,null,null,null,null,null,null,1,0,80,80,34.666666666666664]
["Samuel Do","ABC4","ABC","2014-2015",5,"ConA",3,"A-E","Abby Ashcraft",1,3,null,null,null,null,null,null,0,1,0,0,34.666666666666664]
["Samuel Do","ABC4","ABC","2014-2015",5,"ConA",3,"A-H","Abby Ashcraft",3,1,null,null,null,null,null,null,0,0,60,60,34.666666666666664]
["Skotland Hammerstrom","ABC5","ABC","2014-2015",2,"Pre",1,13,"Scott Peterson",0,3,null,null,null,null,null,null,0,1,-20,-20,14.5]
["Skotland Hammerstrom","ABC3","ABC","2014-2015",1,"Pre",3,7,"Tiffany Bye",0,2,null,null,null,null,null,null,0,0,-10,-10,14.5]
["Skotland Hammerstrom","ABC3","ABC","2014-2015",1,"Pre",4,4,"Cutty Welt",0,0,null,null,null,null,null,null,0,0,0,0,14.5]
["Skotland Hammerstrom","ABC5","ABC","2014-2015",3,"Pre",1,5,"Scott Peterson",0,0,null,null,null,null,null,null,0,0,0,0,14.5]
["Skotland Hammerstrom","ABC3","ABC","2014-2015",1,"Pre",2,14,"Jeremy Swingle",0,0,null,null,null,null,null,null,0,0,{"$f":"quizscore(J3639,K3639)","v":0},0,14.5]
["Skotland Hammerstrom","ABC5","ABC","2014-2015",3,"Pre",2,14,"Jeremy Swingle",0,0,null,null,null,null,null,null,0,0,0,0,14.5]
["Skotland Hammerstrom","ABC5","ABC","2014-2015",3,"Pre",4,36,"Cutty Welt",0,0,null,null,null,null,null,null,0,0,0,0,14.5]
["Skotland Hammerstrom","ABC5","ABC","2014-2015",4,"Pre",1,37,"Scott Peterson",0,1,null,null,null,null,null,null,0,0,0,0,14.5]
["Skotland Hammerstrom","ABC3","ABC","2014-2015",1,"Pre",1,41,"Scott Peterson",0,0,null,null,null,null,null,null,0,0,0,0,14.5]
["Skotland Hammerstrom","ABC3","ABC","2014-2015",1,"Pre",2,50,"Jeremy Swingle",0,1,null,null,null,null,null,null,0,0,0,0,14.5]
["Skotland Hammerstrom","ABC5","ABC","2014-2015",4,"ConA",2,"A-A","Jeremy Swingle",0,0,null,null,null,null,null,null,0,0,0,0,14.5]
["Skotland Hammerstrom","ABC5","ABC","2014-2015",3,"ConA",2,"A-D","Jeremy Swingle",0,0,null,null,null,null,null,null,0,0,0,0,14.5]
["Skotland Hammerstrom","ABC3","ABC","2014-2015",1,"Semi",1,"C","Scott Peterson",0,0,null,null,null,null,null,null,0,0,0,0,14.5]
["Skotland Hammerstrom","ABC3","ABC","2014-2015",1,"Semi",2,"F","Jeremy Swingle",0,0,null,1,null,null,null,null,0,0,0,20,14.5]
["Skotland Hammerstrom","ABC3","ABC","2014-2015",1,"Semi",2,"H","Jeremy Swingle",0,0,null,null,null,null,null,null,0,0,0,0,14.5]
["Skotland Hammerstrom","ABC3","ABC","2014-2015",1,"Semi",1,"I","Scott Peterson",0,0,null,null,null,null,null,null,{"$f":"IF(J3650=4,1,0)","v":0},{"$f":"IF(K3650=3,1,0)","v":0},0,{"$f":"T3650+M3650*(20) + (SUM(O3650:Q3650)*(10)) - L3650*(5) - N3650*(5)","v":0},{"$f":"AVERAGEIFS(U:U,A:A,A3650,F:F,\"Pre\")","v":14.5}]
["Skotland Hammerstrom","ABC5","ABC","2014-2015",4,"Pre",2,22,"Jeremy Swingle",1,2,null,null,1,null,null,null,0,0,10,5,14.5]
["Skotland Hammerstrom","ABC5","ABC","2014-2015",4,"ConA",3,"A-E","Abby Ashcraft",1,2,null,null,null,null,null,null,0,0,10,10,14.5]
["Skotland Hammerstrom","ABC5","ABC","2014-2015",4,"Pre",3,3,"Tony Kong",1,0,null,null,null,null,null,null,0,0,20,20,14.5]
["Skotland Hammerstrom","ABC5","ABC","2014-2015",4,"Pre",2,14,"Jeremy Swingle",1,0,null,null,null,null,null,null,0,0,20,20,14.5]
["Skotland Hammerstrom","ABC5","ABC","2014-2015",3,"Pre",3,23,"Tiffany Bye",1,1,null,null,null,null,null,null,0,0,20,20,14.5]
["Skotland Hammerstrom","ABC3","ABC","2014-2015",1,"Pre",1,25,"Scott Peterson",1,1,null,null,null,1,null,null,0,0,20,30,14.5]
["Skotland Hammerstrom","ABC5","ABC","2014-2015",4,"Pre",4,32,"Cutty Welt",1,0,null,null,null,null,null,null,0,0,20,20,14.5]
["Skotland Hammerstrom","ABC5","ABC","2014-2015",2,"Pre",3,35,"Tiffany Bye",1,1,null,null,null,null,null,null,0,0,20,20,14.5]
["Skotland Hammerstrom","ABC5","ABC","2014-2015",2,"Pre",3,43,"Tiffany Bye",1,1,null,null,null,null,null,null,0,0,20,20,14.5]
["Skotland Hammerstrom","ABC5","ABC","2014-2015",3,"Pre",3,43,"Tiffany Bye",1,0,null,null,null,1,null,null,0,0,20,30,14.5]
["Skotland Hammerstrom","ABC5","ABC","2014-2015",4,"Pre",3,47,"Tony Kong",1,0,null,null,null,null,null,null,0,0,20,20,14.5]
["Skotland Hammerstrom","ABC5","ABC","2014-2015",3,"ConA",2,"A-G","Jeremy Swingle",1,0,null,null,null,null,null,null,0,0,20,20,14.5]
["Skotland Hammerstrom","ABC5","ABC","2014-2015",4,"ConA",3,"A-H","Abby Ashcraft",1,1,null,null,null,1,null,null,0,0,20,30,14.5]
["Skotland Hammerstrom","ABC5","ABC","2014-2015",2,"ConB",4,"B-J","Cutty Welt",2,2,null,null,null,null,null,null,0,0,30,30,14.5]
["Skotland Hammerstrom","ABC5","ABC","2014-2015",2,"Pre",2,10,"Jeremy Swingle",2,1,null,null,null,null,null,null,0,0,40,40,14.5]
["Skotland Hammerstrom","ABC5","ABC","2014-2015",2,"Pre",2,26,"Jeremy Swingle",2,1,null,null,null,null,null,null,0,0,40,40,14.5]
["Skotland Hammerstrom","ABC5","ABC","2014-2015",3,"Pre",4,32,"Cutty Welt",2,0,null,null,null,null,null,null,0,0,40,40,14.5]
["Skotland Hammerstrom","ABC5","ABC","2014-2015",3,"ConA",3,"A-B","Tiffany Bye",2,1,null,null,1,null,null,null,0,0,40,35,14.5]
["Skotland Hammerstrom","ABC5","ABC","2014-2015",3,"ConA",2,"A-J","Jeremy Swingle",2,0,null,null,null,null,null,null,0,0,40,40,14.5]
["Skotland Hammerstrom","ABC5","ABC","2014-2015",2,"ConB",4,"B-1","Cutty Welt",3,2,null,null,null,null,null,null,0,0,50,50,14.5]
["Skotland Hammerstrom","ABC5","ABC","2014-2015",2,"ConB",4,"B-6","Cutty Welt",3,2,null,null,null,null,null,null,0,0,{"$f":"quizscore(J3671,K3671)","v":50},50,14.5]
["Skotland Hammerstrom","ABC5","ABC","2014-2015",2,"Pre",4,4,"Cutty Welt",3,1,null,null,null,null,null,null,0,0,60,60,14.5]
["Skotland Hammerstrom","ABC5","ABC","2014-2015",3,"ConA",3,"A-I","Tiffany Bye",3,1,null,null,1,null,null,null,0,0,60,55,14.5]
["Skotland Hammerstrom","ABC5","ABC","2014-2015",2,"ConB",4,"B-3","Cutty Welt",4,0,null,null,null,null,null,null,1,0,90,90,14.5]
["Skotland Hammerstrom","ABC5","ABC","2014-2015",5,"Pre",2,2,"Jeremy Swingle",0,0,null,1,null,null,null,null,0,0,0,20,14.5]
["Skotland Hammerstrom","ABC5","ABC","2014-2015",5,"Pre",1,5,"Scott Peterson",1,1,null,null,null,null,null,null,0,0,20,20,14.5]
["Skotland Hammerstrom","ABC5","ABC","2014-2015",5,"Pre",1,13,"Scott Peterson",0,0,null,null,null,null,null,null,0,0,0,0,14.5]
["Skotland Hammerstrom","ABC5","ABC","2014-2015",5,"Pre",3,23,"Tony Kong",0,0,null,null,null,null,null,null,0,0,0,0,14.5]
["Skotland Hammerstrom","ABC5","ABC","2014-2015",5,"Pre",4,32,"Cutty Welt",1,1,null,null,null,null,null,null,0,0,20,20,14.5]
["Skotland Hammerstrom","ABC5","ABC","2014-2015",5,"Pre",3,43,"Tony Kong",1,0,null,null,null,null,null,null,0,0,20,20,14.5]
["Skotland Hammerstrom","ABC5",{"$f":"VLOOKUP(B3681,$B$2:$C$3219,2,FALSE)","v":"ABC"},"2014-2015",5,"ConB",4,"B-3","Cutty Welt",0,3,null,null,null,null,null,null,0,1,-20,-20,14.5]
["Skotland Hammerstrom","ABC5",{"$f":"VLOOKUP(B3682,$B$2:$C$3219,2,FALSE)","v":"ABC"},"2014-2015",5,"ConB",4,"B-5","Cutty Welt",1,2,null,null,null,null,null,null,0,0,10,10,14.5]
["Skotland Hammerstrom","ABC5",{"$f":"VLOOKUP(B3683,$B$2:$C$3219,2,FALSE)","v":"ABC"},"2014-2015",5,"ConB",4,"B-7","Cutty Welt",1,1,null,null,null,null,null,null,0,0,20,20,14.5]
["Stephen Miller","DAC4","Dallas","2014-2015",3,"Pre",3,47,"Tiffany Bye",0,2,null,null,null,null,null,null,0,0,-10,-10,52.333333333333336]
["Stephen Miller","DAC4","Dallas","2014-2015",3,"Pre",2,22,"Jeremy Swingle",0,0,null,null,null,null,null,null,0,0,0,0,52.333333333333336]
["Stephen Miller","DAC4","Dallas","2014-2015",1,"Pre",1,33,"Scott Peterson",0,1,null,1,null,null,null,null,0,0,0,20,52.333333333333336]
["Stephen Miller","DAC4","Dallas","2014-2015",4,"Pre",3,43,"Tony Kong",0,0,null,1,null,null,null,null,0,0,0,20,52.333333333333336]
["Stephen Miller","DAC4","Dallas","2014-2015",4,"ConA",2,"A-D","Jeremy Swingle",0,1,null,null,null,null,null,null,0,0,0,0,52.333333333333336]
["Stephen Miller","DAC4","Dallas","2014-2015",1,"Semi",1,"B","Scott Peterson",0,1,null,null,null,null,null,null,0,0,0,0,52.333333333333336]
["Stephen Miller","DAC4","Dallas","2014-2015",1,"Semi",2,"F","Jeremy Swingle",0,0,null,null,null,null,null,null,0,0,0,0,52.333333333333336]
["Stephen Miller","DAC4","Dallas","2014-2015",3,"Pre",1,1,"Scott Peterson",1,2,null,null,null,null,null,null,0,0,10,10,52.333333333333336]
["Stephen Miller","DAC4","Dallas","2014-2015",4,"Pre",2,6,"Jeremy Swingle",1,0,null,null,null,null,null,null,0,0,20,20,52.333333333333336]
["Stephen Miller","DAC4","Dallas","2014-2015",4,"Pre",4,20,"Cutty Welt",1,0,null,null,null,null,null,null,0,0,20,20,52.333333333333336]
["Stephen Miller","DAC4","Dallas","2014-2015",2,"Pre",2,42,"Jeremy Swingle",1,0,null,null,null,null,null,null,0,0,20,20,52.333333333333336]
["Stephen Miller","DAC4","Dallas","2014-2015",2,"Semi",1,"A","Scott Peterson",1,1,null,null,null,null,null,null,0,0,20,20,52.333333333333336]
["Stephen Miller","DAC4","Dallas","2014-2015",3,"ConA",2,"A-A","Jeremy Swingle",2,3,null,null,null,null,null,null,0,1,20,20,52.333333333333336]
["Stephen Miller","DAC4","Dallas","2014-2015",3,"Pre",4,12,"Cutty Welt",2,2,null,null,null,null,null,null,0,0,30,30,52.333333333333336]
["Stephen Miller","DAC4","Dallas","2014-2015",1,"Pre",1,29,"Scott Peterson",2,2,null,null,null,null,null,null,0,0,30,30,52.333333333333336]
["Stephen Miller","DAC4","Dallas","2014-2015",1,"Pre",2,2,"Jeremy Swingle",2,1,null,null,null,null,null,null,0,0,40,40,52.333333333333336]
["Stephen Miller","DAC4","Dallas","2014-2015",4,"Pre",1,33,"Scott Peterson",2,0,null,null,null,null,null,null,0,0,40,40,52.333333333333336]
["Stephen Miller","DAC4","Dallas","2014-2015",3,"Pre",2,38,"Jeremy Swingle",2,1,null,null,null,null,null,null,0,0,40,40,52.333333333333336]
["Stephen Miller","DAC4","Dallas","2014-2015",2,"Semi",2,"F","Jeremy Swingle",2,0,null,null,null,null,null,null,0,0,40,40,52.333333333333336]
["Stephen Miller","DAC4","Dallas","2014-2015",4,"Pre",2,30,"Jeremy Swingle",3,1,null,null,null,null,null,null,0,0,{"$f":"quizscore(J3703,K3703)","v":60},60,52.333333333333336]
["Stephen Miller","DAC4","Dallas","2014-2015",4,"ConA",2,"A-A","Jeremy Swingle",3,0,null,null,null,null,null,null,0,0,60,60,52.333333333333336]
["Stephen Miller","DAC4","Dallas","2014-2015",3,"Pre",3,31,"Tiffany Bye",4,2,null,null,null,null,null,null,1,0,70,70,52.333333333333336]
["Stephen Miller","DAC4","Dallas","2014-2015",1,"Pre",4,24,"Cutty Welt",4,1,null,null,null,null,null,null,1,0,80,80,52.333333333333336]
["Stephen Miller","DAC4","Dallas","2014-2015",2,"Pre",4,8,"Cutty Welt",4,0,null,null,null,null,null,null,1,0,90,90,52.333333333333336]
["Stephen Miller","DAC4","Dallas","2014-2015",1,"Pre",3,11,"Tiffany Bye",4,0,null,null,null,null,null,null,1,0,90,90,52.333333333333336]
["Stephen Miller","DAC4","Dallas","2014-2015",2,"Pre",1,13,"Scott Peterson",4,0,null,null,null,null,null,null,1,0,90,90,52.333333333333336]
["Stephen Miller","DAC4","Dallas","2014-2015",2,"Pre",3,23,"Tiffany Bye",4,0,null,null,null,null,null,null,1,0,90,90,52.333333333333336]
["Stephen Miller","DAC4","Dallas","2014-2015",4,"Pre",4,28,"Cutty Welt",4,0,null,null,null,null,null,null,1,0,90,90,52.333333333333336]
["Stephen Miller","DAC4","Dallas","2014-2015",2,"Pre",4,32,"Cutty Welt",4,0,null,null,null,null,null,null,1,0,90,90,52.333333333333336]
["Stephen Miller","DAC4","Dallas","2014-2015",1,"Pre",3,47,"Tiffany Bye",4,0,null,null,null,null,null,null,1,0,90,90,52.333333333333336]
["Stephen Miller","DAC4","Dallas","2014-2015",2,"Pre",3,47,"Tiffany Bye",4,0,null,null,null,null,null,null,{"$f":"IF(J3714=4,1,0)","v":1},{"$f":"IF(K3714=3,1,0)","v":0},90,{"$f":"T3714+M3714*(20) + (SUM(O3714:Q3714)*(10)) - L3714*(5) - N3714*(5)","v":90},{"$f":"AVERAGEIFS(U:U,A:A,A3714,F:F,\"Pre\")","v":52.333333333333336}]
["Stephen Miller","DAC4","Dallas","2014-2015",3,"ConA",2,"A-D","Jeremy Swingle",4,0,null,null,null,null,null,null,1,0,90,90,52.333333333333336]
["Stephen Miller","DAC4","Dallas","2014-2015",4,"ConA",2,"A-G","Jeremy Swingle",4,0,null,null,null,null,null,null,1,0,90,90,52.333333333333336]
["Stephen Miller","DAC4","Dallas","2014-2015",3,"ConA",2,"A-J","Jeremy Swingle",4,0,null,null,null,null,null,null,1,0,90,90,52.333333333333336]
["Stephen Miller","DAC4","Dallas","2014-2015",4,"ConA",2,"A-J","Jeremy Swingle",3,1,null,null,null,null,null,null,0,0,60,60,52.333333333333336]
["Stephen Miller","DAC4","Dallas","2014-2015",5,"Pre",1,1,"Scott Peterson",0,0,null,null,null,null,null,null,0,0,0,0,52.333333333333336]
["Stephen Miller","DAC4","Dallas","2014-2015",5,"Pre",3,11,"Tony Kong",3,1,null,null,null,null,null,null,0,0,60,60,52.333333333333336]
["Stephen Miller","DAC4","Dallas","2014-2015",5,"Pre",3,19,"Tony Kong",2,1,null,null,null,null,null,null,0,0,40,40,52.333333333333336]
["Stephen Miller","DAC4","Dallas","2014-2015",5,"Pre",4,32,"Cutty Welt",4,1,null,null,null,null,null,null,1,0,80,80,52.333333333333336]
["Stephen Miller","DAC4","Dallas","2014-2015",5,"Pre",2,38,"Jeremy Swingle",4,0,null,null,null,null,null,null,1,0,90,90,52.333333333333336]
["Stephen Miller","DAC4","Dallas","2014-2015",5,"Pre",2,46,"Jeremy Swingle",4,0,null,null,null,null,null,null,1,0,90,90,52.333333333333336]
["Stephen Miller","DAC4","Dallas","2014-2015",5,"ConA",3,"A-B","Abby Ashcraft",1,2,null,null,null,null,null,null,0,0,10,10,52.333333333333336]
["Stephen Miller","DAC4","Dallas","2014-2015",5,"ConA",2,"A-D","Jeremy Swingle",2,2,null,null,null,1,null,null,0,0,30,40,52.333333333333336]
["Stephen Miller","DAC4",{"$f":"VLOOKUP(B3727,$B$2:$C$3219,2,FALSE)","v":"Dallas"},"2014-2015",5,"ConA",3,"A-J","Abby Ashcraft",1,2,null,null,null,null,null,null,0,0,null,0,52.333333333333336]
["Stephen Nguyen","ABC3","ABC","2014-2015",4,"Pre",4,12,"Cutty Welt",0,3,null,1,null,null,null,null,0,1,{"$f":"quizscore(J3728,K3728)","v":-20},0,58.5]
["Stephen Nguyen","ABC3","ABC","2014-2015",4,"Semi",2,"H","Jeremy Swingle",0,3,null,null,null,null,null,null,0,1,-20,-20,58.5]
["Stephen Nguyen","ABC3","ABC","2014-2015",3,"Pre",2,34,"Jeremy Swingle",1,3,null,1,null,null,null,null,0,1,0,20,58.5]
["Stephen Nguyen","ABC3","ABC","2014-2015",3,"Pre",2,10,"Jeremy Swingle",1,2,null,null,null,null,null,null,0,0,10,10,58.5]
["Stephen Nguyen","ABC3","ABC","2014-2015",2,"Pre",3,3,"Tiffany Bye",2,3,null,null,null,null,null,null,0,1,20,20,58.5]
["Stephen Nguyen","ABC3","ABC","2014-2015",4,"Pre",3,35,"Tony Kong",2,3,null,null,null,null,null,null,0,1,20,20,58.5]
["Stephen Nguyen","ABC3","ABC","2014-2015",2,"Pre",1,49,"Scott Peterson",2,3,null,null,null,null,null,null,0,1,20,20,58.5]
["Stephen Nguyen","ABC3","ABC","2014-2015",2,"ConA",2,"A-D","Jeremy Swingle",2,3,null,1,null,null,null,null,0,1,20,40,58.5]
["Stephen Nguyen","ABC3","ABC","2014-2015",1,"Semi",1,"I","Scott Peterson",1,1,null,null,1,null,null,null,0,0,20,15,58.5]
["Stephen Nguyen","ABC3","ABC","2014-2015",3,"Pre",4,28,"Cutty Welt",3,3,null,null,null,null,null,null,0,1,40,40,58.5]
["Stephen Nguyen","ABC3","ABC","2014-2015",1,"Pre",1,41,"Scott Peterson",3,3,null,null,null,null,null,null,0,1,40,40,58.5]
["Stephen Nguyen","ABC3","ABC","2014-2015",2,"Pre",2,42,"Jeremy Swingle",2,1,null,1,null,null,null,null,0,0,40,60,58.5]
["Stephen Nguyen","ABC3","ABC","2014-2015",4,"Semi",1,"C","Scott Peterson",2,1,null,1,null,null,null,null,0,0,40,60,58.5]
["Stephen Nguyen","ABC3","ABC","2014-2015",3,"Semi",1,"D","Scott Peterson",2,1,null,null,null,null,null,null,0,0,40,40,58.5]
["Stephen Nguyen","ABC3","ABC","2014-2015",4,"Semi",1,"E","Scott Peterson",3,3,null,null,null,null,null,null,0,1,40,40,58.5]
["Stephen Nguyen","ABC3","ABC","2014-2015",3,"Semi",1,"A","Scott Peterson",3,2,null,null,1,null,null,null,0,0,50,45,58.5]
["Stephen Nguyen","ABC3","ABC","2014-2015",1,"Semi",2,"F","Jeremy Swingle",3,2,null,null,null,null,null,null,0,0,50,50,58.5]
["Stephen Nguyen","ABC3","ABC","2014-2015",3,"Semi",1,"G","Scott Peterson",3,2,null,null,null,null,null,null,0,0,50,50,58.5]
["Stephen Nguyen","ABC3","ABC","2014-2015",2,"Pre",1,21,"Scott Peterson",3,1,null,null,null,null,null,null,0,0,60,60,58.5]
["Stephen Nguyen","ABC3","ABC","2014-2015",3,"Semi",1,"I","Scott Peterson",3,1,null,1,null,null,null,null,0,0,60,80,58.5]
["Stephen Nguyen","ABC3","ABC","2014-2015",2,"Pre",3,11,"Tiffany Bye",4,2,null,null,null,null,null,null,1,0,70,70,58.5]
["Stephen Nguyen","ABC3","ABC","2014-2015",1,"Pre",2,14,"Jeremy Swingle",4,2,null,null,null,null,null,null,1,0,70,70,58.5]
["Stephen Nguyen","ABC3","ABC","2014-2015",3,"Pre",3,19,"Tiffany Bye",4,2,null,null,null,null,null,null,1,0,70,70,58.5]
["Stephen Nguyen","ABC3","ABC","2014-2015",4,"Pre",1,25,"Scott Peterson",4,2,null,null,null,null,null,null,1,0,70,70,58.5]
["Stephen Nguyen","ABC3","ABC","2014-2015",1,"Pre",2,50,"Jeremy Swingle",4,2,null,1,null,null,null,null,1,0,70,90,58.5]
["Stephen Nguyen","ABC3","ABC","2014-2015",1,"Semi",1,"C","Scott Peterson",4,2,null,null,null,null,null,null,1,0,70,70,58.5]
["Stephen Nguyen","ABC3","ABC","2014-2015",1,"Semi",2,"H","Jeremy Swingle",4,2,null,1,null,null,null,null,1,0,70,90,58.5]
["Stephen Nguyen","ABC3","ABC","2014-2015",4,"Pre",3,3,"Tony Kong",4,1,null,null,null,null,null,null,1,0,80,80,58.5]
["Stephen Nguyen","ABC3","ABC","2014-2015",2,"Pre",4,36,"Cutty Welt",4,1,null,null,1,null,null,null,1,0,80,75,58.5]
["Stephen Nguyen","ABC3","ABC","2014-2015",4,"Pre",2,42,"Jeremy Swingle",4,1,null,null,null,null,null,null,1,0,80,80,58.5]
["Stephen Nguyen","ABC3","ABC","2014-2015",3,"Pre",4,48,"Cutty Welt",4,1,null,1,null,null,null,null,1,0,80,100,58.5]
["Stephen Nguyen","ABC3","ABC","2014-2015",2,"ConA",2,"A-J","Jeremy Swingle",4,1,null,null,null,null,null,null,1,0,80,80,58.5]
["Stephen Nguyen","ABC3","ABC","2014-2015",3,"Pre",1,1,"Scott Peterson",4,0,null,null,null,null,null,null,1,0,90,90,58.5]
["Stephen Nguyen","ABC3","ABC","2014-2015",1,"Pre",4,4,"Cutty Welt",4,0,null,null,null,null,null,null,1,0,90,90,58.5]
["Stephen Nguyen","ABC3","ABC","2014-2015",1,"Pre",3,7,"Tiffany Bye",4,0,null,null,null,null,null,null,1,0,90,90,58.5]
["Stephen Nguyen","ABC3","ABC","2014-2015",4,"Pre",1,17,"Scott Peterson",4,0,null,null,null,null,null,null,1,0,90,90,58.5]
["Stephen Nguyen","ABC3","ABC","2014-2015",1,"Pre",1,25,"Scott Peterson",4,0,null,null,null,null,null,null,1,0,90,90,58.5]
["Stephen Nguyen","ABC3","ABC","2014-2015",2,"ConA",3,"A-B","Tiffany Bye",4,0,null,null,1,null,null,null,1,0,90,85,58.5]
["Stephen Nguyen","ABC3","ABC","2014-2015",2,"ConA",2,"A-G","Jeremy Swingle",4,0,null,null,null,null,null,null,1,0,90,90,58.5]
["Stephen Nguyen","ABC3","ABC","2014-2015",5,"Pre",3,7,"Tony Kong",2,3,null,1,null,null,null,null,0,1,20,40,58.5]
["Stephen Nguyen","ABC3","ABC","2014-2015",5,"Pre",4,16,"Cutty Welt",4,1,null,null,null,null,null,null,1,0,80,80,58.5]
["Stephen Nguyen","ABC3","ABC","2014-2015",5,"Pre",4,24,"Cutty Welt",2,3,null,null,null,null,null,null,0,1,20,20,58.5]
["Stephen Nguyen","ABC3","ABC","2014-2015",5,"Pre",3,31,"Tony Kong",1,2,null,null,null,null,null,null,0,0,10,10,58.5]
["Stephen Nguyen","ABC3","ABC","2014-2015",5,"Pre",2,38,"Jeremy Swingle",3,2,null,null,null,null,null,null,0,0,50,50,58.5]
["Stephen Nguyen","ABC3","ABC","2014-2015",5,"Pre",4,48,"Cutty Welt",4,0,null,1,null,null,null,null,1,0,90,110,58.5]
["Stephen Nguyen","ABC3","ABC","2014-2015",5,"Semi",1,"B","Scott Peterson",3,0,null,2,null,null,null,null,0,0,60,100,58.5]
["Stephen Nguyen","ABC3","ABC","2014-2015",5,"Semi",1,"D","Scott Peterson",2,3,null,null,null,null,null,null,0,1,20,20,58.5]
["Stephen Nguyen","ABC3","ABC","2014-2015",5,"Semi",1,"G","Scott Peterson",3,1,null,1,null,null,null,null,0,0,60,80,58.5]
["Stephen Nguyen","ABC3","ABC","2014-2015",5,"Semi",1,"I","Scott Peterson",2,0,null,null,null,null,null,null,0,0,40,40,58.5]
["Teresa Derr","CH1","Chapel Hill","2014-2015",1,"Pre",4,8,"Cutty Welt",0,0,null,null,null,null,null,null,0,0,0,0,32.5]
["Teresa Derr","CH1","Chapel Hill","2014-2015",3,"Pre",2,18,"Jeremy Swingle",0,0,null,null,null,null,null,null,{"$f":"IF(J3778=4,1,0)","v":0},{"$f":"IF(K3778=3,1,0)","v":0},0,{"$f":"T3778+M3778*(20) + (SUM(O3778:Q3778)*(10)) - L3778*(5) - N3778*(5)","v":0},{"$f":"AVERAGEIFS(U:U,A:A,A3778,F:F,\"Pre\")","v":32.5}]
["Teresa Derr","CH1","Chapel Hill","2014-2015",1,"Pre",4,36,"Cutty Welt",0,0,null,null,null,null,null,null,0,0,0,0,32.5]
["Teresa Derr","CH1","Chapel Hill","2014-2015",1,"Pre",3,43,"Tiffany Bye",0,0,null,1,null,null,null,null,0,0,0,20,32.5]
["Teresa Derr","CH1","Chapel Hill","2014-2015",2,"Pre",2,46,"Jeremy Swingle",0,0,null,1,null,null,null,null,0,0,0,20,32.5]
["Teresa Derr","CH1","Chapel Hill","2014-2015",1,"Pre",2,14,"Jeremy Swingle",1,2,null,null,null,null,null,null,0,0,10,10,32.5]
["Teresa Derr","CH1","Chapel Hill","2014-2015",4,"Pre",2,30,"Jeremy Swingle",1,2,null,null,1,null,null,null,0,0,10,5,32.5]
["Teresa Derr","CH1","Chapel Hill","2014-2015",3,"Pre",1,41,"Scott Peterson",1,2,null,null,null,null,null,null,0,0,10,10,32.5]
["Teresa Derr","CH1","Chapel Hill","2014-2015",1,"ConA",3,"A-H","Tiffany Bye",1,2,null,null,null,null,null,null,0,0,10,10,32.5]
["Teresa Derr","CH1","Chapel Hill","2014-2015",2,"Pre",4,4,"Cutty Welt",1,0,null,null,null,null,null,null,0,0,20,20,32.5]
["Teresa Derr","CH1","Chapel Hill","2014-2015",3,"Pre",4,12,"Cutty Welt",1,0,null,null,null,null,null,null,0,0,20,20,32.5]
["Teresa Derr","CH1","Chapel Hill","2014-2015",2,"Pre",3,19,"Tiffany Bye",1,0,null,null,null,null,null,null,0,0,20,20,32.5]
["Teresa Derr","CH1","Chapel Hill","2014-2015",1,"Pre",3,27,"Tiffany Bye",1,1,null,null,null,null,null,null,0,0,20,20,32.5]
["Teresa Derr","CH1","Chapel Hill","2014-2015",2,"Pre",1,29,"Scott Peterson",1,1,null,null,1,null,null,null,0,0,20,15,32.5]
["Teresa Derr","CH1","Chapel Hill","2014-2015",3,"Pre",1,33,"Scott Peterson",1,1,null,null,null,null,null,null,0,0,20,20,32.5]
["Teresa Derr","CH1","Chapel Hill","2014-2015",4,"ConA",2,"A-C","Jeremy Swingle",1,0,null,null,null,null,null,null,0,0,{"$f":"quizscore(J3792,K3792)","v":20},20,32.5]
["Teresa Derr","CH1","Chapel Hill","2014-2015",2,"ConA",2,"A-D","Jeremy Swingle",1,0,null,2,1,null,null,null,0,0,20,55,32.5]
["Teresa Derr","CH1","Chapel Hill","2014-2015",2,"ConA",2,"A-J","Jeremy Swingle",1,0,null,1,1,null,null,null,0,0,20,35,32.5]
["Teresa Derr","CH1","Chapel Hill","2014-2015",3,"ConB",4,"B-3","Cutty Welt",1,1,null,1,null,null,null,null,0,0,20,40,32.5]
["Teresa Derr","CH1","Chapel Hill","2014-2015",3,"ConB",4,"B-J","Cutty Welt",1,0,null,null,null,null,null,null,0,0,20,20,32.5]
["Teresa Derr","CH1","Chapel Hill","2014-2015",3,"Pre",4,4,"Cutty Welt",2,1,null,null,null,null,null,null,0,0,40,40,32.5]
["Teresa Derr","CH1","Chapel Hill","2014-2015",4,"Pre",2,10,"Jeremy Swingle",2,1,null,null,null,null,null,null,0,0,40,40,32.5]
["Teresa Derr","CH1","Chapel Hill","2014-2015",2,"Pre",3,11,"Tiffany Bye",2,0,null,null,1,null,null,null,0,0,40,35,32.5]
["Teresa Derr","CH1","Chapel Hill","2014-2015",4,"Pre",3,15,"Tony Kong",2,1,null,null,null,null,null,null,0,0,40,40,32.5]
["Teresa Derr","CH1","Chapel Hill","2014-2015",4,"Pre",4,24,"Cutty Welt",2,0,null,null,1,null,null,null,0,0,40,35,32.5]
["Teresa Derr","CH1","Chapel Hill","2014-2015",2,"Pre",4,40,"Cutty Welt",2,0,null,null,null,null,null,null,0,0,40,40,32.5]
["Teresa Derr","CH1","Chapel Hill","2014-2015",4,"Pre",4,48,"Cutty Welt",2,0,null,null,null,null,null,null,0,0,40,40,32.5]
["Teresa Derr","CH1","Chapel Hill","2014-2015",1,"Pre",1,49,"Scott Peterson",2,0,null,null,null,null,null,null,0,0,40,40,32.5]
["Teresa Derr","CH1","Chapel Hill","2014-2015",1,"ConA",2,"A-A","Jeremy Swingle",2,0,null,null,null,null,null,null,0,0,40,40,32.5]
["Teresa Derr","CH1","Chapel Hill","2014-2015",1,"ConA",3,"A-E","Tiffany Bye",2,1,null,null,1,null,null,null,0,0,40,35,32.5]
["Teresa Derr","CH1","Chapel Hill","2014-2015",3,"ConB",4,"B-2","Cutty Welt",2,0,null,null,1,null,null,null,0,0,40,35,32.5]
["Teresa Derr","CH1","Chapel Hill","2014-2015",3,"ConB",4,"B-4","Cutty Welt",2,1,null,null,null,null,null,null,0,0,40,40,32.5]
["Teresa Derr","CH1","Chapel Hill","2014-2015",2,"ConA",2,"A-A","Jeremy Swingle",3,0,null,null,null,null,null,null,0,0,60,60,32.5]
["Teresa Derr","CH1","Chapel Hill","2014-2015",3,"Pre",3,27,"Tiffany Bye",4,0,null,null,null,null,null,null,1,0,90,90,32.5]
["Teresa Derr","CH1","Chapel Hill","2014-2015",4,"Pre",1,37,"Scott Peterson",4,0,null,null,1,null,null,null,1,0,90,85,32.5]
["Teresa Derr","CH1","Chapel Hill","2014-2015",4,"ConA",3,"A-E","Abby Ashcraft",4,0,null,null,null,null,null,null,1,0,90,90,32.5]
["Teresa Derr","CH1","Chapel Hill","2014-2015",4,"ConA",3,"A-H","Abby Ashcraft",4,0,null,null,1,null,null,null,1,0,90,85,32.5]
["Teresa Derr","CH1","Chapel Hill","2014-2015",5,"Pre",1,5,"Scott Peterson",2,0,null,1,null,null,null,null,0,0,40,60,32.5]
["Teresa Derr","CH1","Chapel Hill","2014-2015",5,"Pre",4,20,"Cutty Welt",0,3,null,null,null,null,null,null,0,1,-20,-20,32.5]
["Teresa Derr","CH1","Chapel Hill","2014-2015",5,"Pre",2,26,"Jeremy Swingle",4,1,null,null,null,null,null,null,1,0,80,80,32.5]
["Teresa Derr","CH1","Chapel Hill","2014-2015",5,"Pre",2,34,"Jeremy Swingle",3,1,null,null,null,null,null,null,0,0,60,60,32.5]
["Teresa Derr","CH1","Chapel Hill","2014-2015",5,"Pre",3,39,"Tony Kong",2,1,null,null,null,null,null,null,0,0,40,40,32.5]
["Teresa Derr","CH1","Chapel Hill","2014-2015",5,"Pre",4,48,"Cutty Welt",4,0,null,null,null,null,null,null,1,0,90,90,32.5]
["Teresa Derr","CH1","Chapel Hill","2014-2015",5,"ConA",2,"A-C","Jeremy Swingle",1,1,null,1,1,null,null,null,0,0,20,35,32.5]
["Teresa Derr","CH1","Chapel Hill","2014-2015",5,"ConA",3,"A-E","Abby Ashcraft",4,0,null,null,null,null,null,null,1,0,90,90,32.5]
["Teresa Derr","CH1","Chapel Hill","2014-2015",5,"ConA",3,"A-H","Abby Ashcraft",4,0,null,null,null,null,null,null,1,0,90,90,32.5]
["Teresa Derr","CH1",{"$f":"VLOOKUP(B3823,$B$2:$C$3219,2,FALSE)","v":"Chapel Hill"},"2014-2015",5,"ConA",3,"A-I","Abby Ashcraft",3,0,null,1,null,null,null,null,0,0,60,80,32.5]
["Tyler Marchese","GH2","Grays Harbor","2014-2015",4,"Pre",1,1,"Scott Peterson",0,0,null,null,null,null,null,null,0,0,0,0,11.833333333333334]
["Tyler Marchese","GH2","Grays Harbor","2014-2015",2,"Pre",3,3,"Tiffany Bye",0,0,null,null,null,null,null,null,0,0,0,0,11.833333333333334]
["Tyler Marchese","GH2","Grays Harbor","2014-2015",3,"Pre",3,7,"Tiffany Bye",0,0,null,null,null,null,null,null,0,0,0,0,11.833333333333334]
["Tyler Marchese","GH2","Grays Harbor","2014-2015",1,"Pre",2,10,"Jeremy Swingle",0,0,null,null,null,null,null,null,0,0,0,0,11.833333333333334]
["Tyler Marchese","GH2","Grays Harbor","2014-2015",4,"Pre",4,12,"Cutty Welt",0,0,null,null,1,null,null,null,0,0,0,-5,11.833333333333334]
["Tyler Marchese","GH2","Grays Harbor","2014-2015",2,"Pre",3,23,"Tiffany Bye",0,0,null,null,null,null,null,null,0,0,0,0,11.833333333333334]
["Tyler Marchese","GH2","Grays Harbor","2014-2015",1,"Pre",3,31,"Tiffany Bye",0,1,null,null,null,null,null,null,0,0,0,0,11.833333333333334]
["Tyler Marchese","GH2","Grays Harbor","2014-2015",2,"Pre",1,33,"Scott Peterson",0,0,null,null,null,null,null,null,0,0,0,0,11.833333333333334]
["Tyler Marchese","GH2","Grays Harbor","2014-2015",1,"Pre",3,35,"Tiffany Bye",0,0,null,null,null,null,null,null,0,0,0,0,11.833333333333334]
["Tyler Marchese","GH2","Grays Harbor","2014-2015",3,"Pre",4,36,"Cutty Welt",0,0,null,null,null,null,null,null,0,0,0,0,11.833333333333334]
["Tyler Marchese","GH2","Grays Harbor","2014-2015",4,"Pre",1,41,"Scott Peterson",0,0,null,null,null,null,null,null,0,0,0,0,11.833333333333334]
["Tyler Marchese","GH2","Grays Harbor","2014-2015",1,"Pre",2,46,"Jeremy Swingle",0,1,null,null,null,null,null,null,0,0,0,0,11.833333333333334]
["Tyler Marchese","GH2","Grays Harbor","2014-2015",3,"Pre",3,47,"Tiffany Bye",0,0,null,null,null,null,null,null,0,0,0,0,11.833333333333334]
["Tyler Marchese","GH2","Grays Harbor","2014-2015",2,"Pre",4,48,"Cutty Welt",0,0,null,null,null,null,null,null,0,0,0,0,11.833333333333334]
["Tyler Marchese","GH2","Grays Harbor","2014-2015",4,"ConA",3,"A-B","Abby Ashcraft",0,1,null,null,null,null,null,null,0,0,0,0,11.833333333333334]
["Tyler Marchese","GH2","Grays Harbor","2014-2015",1,"ConA",2,"A-D","Jeremy Swingle",0,0,null,null,null,null,null,null,0,0,0,0,11.833333333333334]
["Tyler Marchese","GH2","Grays Harbor","2014-2015",4,"ConA",2,"A-D","Jeremy Swingle",0,0,null,null,null,null,null,null,0,0,0,0,11.833333333333334]
["Tyler Marchese","GH2","Grays Harbor","2014-2015",1,"ConA",2,"A-G","Jeremy Swingle",0,0,null,null,1,null,null,null,0,0,0,-5,11.833333333333334]
["Tyler Marchese","GH2","Grays Harbor","2014-2015",1,"ConA",3,"A-I","Tiffany Bye",0,0,null,1,null,null,null,null,{"$f":"IF(J3842=4,1,0)","v":0},{"$f":"IF(K3842=3,1,0)","v":0},0,{"$f":"T3842+M3842*(20) + (SUM(O3842:Q3842)*(10)) - L3842*(5) - N3842*(5)","v":20},{"$f":"AVERAGEIFS(U:U,A:A,A3842,F:F,\"Pre\")","v":11.833333333333334}]
["Tyler Marchese","GH2","Grays Harbor","2014-2015",1,"ConA",2,"A-J","Jeremy Swingle",0,0,null,null,null,null,null,null,0,0,0,0,11.833333333333334]
["Tyler Marchese","GH2","Grays Harbor","2014-2015",2,"Semi",1,"C","Scott Peterson",0,0,null,null,null,null,null,null,0,0,0,0,11.833333333333334]
["Tyler Marchese","GH2","Grays Harbor","2014-2015",3,"Semi",1,"C","Scott Peterson",0,0,null,null,null,null,null,null,0,0,0,0,11.833333333333334]
["Tyler Marchese","GH2","Grays Harbor","2014-2015",2,"Semi",2,"F","Jeremy Swingle",0,0,null,1,null,null,null,null,0,0,0,20,11.833333333333334]
["Tyler Marchese","GH2","Grays Harbor","2014-2015",3,"Semi",2,"F","Jeremy Swingle",0,0,null,null,null,null,null,null,0,0,0,0,11.833333333333334]
["Tyler Marchese","GH2","Grays Harbor","2014-2015",1,"Pre",1,17,"Scott Peterson",1,0,null,null,null,1,null,null,0,0,20,30,11.833333333333334]
["Tyler Marchese","GH2","Grays Harbor","2014-2015",3,"Pre",2,18,"Jeremy Swingle",1,1,null,null,null,1,null,null,0,0,20,30,11.833333333333334]
["Tyler Marchese","GH2","Grays Harbor","2014-2015",1,"Pre",4,24,"Cutty Welt",1,1,null,null,null,null,null,null,0,0,20,20,11.833333333333334]
["Tyler Marchese","GH2","Grays Harbor","2014-2015",3,"Pre",4,28,"Cutty Welt",1,0,null,null,null,1,null,null,0,0,20,30,11.833333333333334]
["Tyler Marchese","GH2","Grays Harbor","2014-2015",2,"Pre",2,30,"Jeremy Swingle",1,1,null,null,null,null,null,null,0,0,20,20,11.833333333333334]
["Tyler Marchese","GH2","Grays Harbor","2014-2015",4,"Pre",3,31,"Tony Kong",1,0,null,null,null,1,null,null,0,0,20,30,11.833333333333334]
["Tyler Marchese","GH2","Grays Harbor","2014-2015",3,"Pre",1,37,"Scott Peterson",1,1,null,null,null,1,null,null,0,0,20,30,11.833333333333334]
["Tyler Marchese","GH2","Grays Harbor","2014-2015",2,"Pre",2,10,"Jeremy Swingle",2,0,null,null,null,1,null,null,0,0,40,50,11.833333333333334]
["Tyler Marchese","GH2","Grays Harbor","2014-2015",4,"Pre",4,20,"Cutty Welt",2,0,null,null,null,1,null,null,0,0,{"$f":"quizscore(J3856,K3856)","v":40},50,11.833333333333334]
["Tyler Marchese","GH2","Grays Harbor","2014-2015",4,"Pre",2,50,"Jeremy Swingle",2,1,null,null,null,null,null,null,0,0,40,40,11.833333333333334]
["Tyler Marchese","GH2","Grays Harbor","2014-2015",1,"ConA",2,"A-C","Jeremy Swingle",2,0,null,null,null,null,null,null,0,0,40,40,11.833333333333334]
["Tyler Marchese","GH2","Grays Harbor","2014-2015",4,"ConA",2,"A-J","Jeremy Swingle",1,0,null,null,null,null,null,null,0,0,20,20,11.833333333333334]
["Tyler Marchese","GH2","Grays Harbor","2014-2015",5,"Pre",4,4,"Cutty Welt",0,1,null,null,null,null,null,null,0,0,0,0,11.833333333333334]
["Tyler Marchese","GH2","Grays Harbor","2014-2015",5,"Pre",3,11,"Tony Kong",1,0,null,null,null,null,null,null,0,0,20,20,11.833333333333334]
["Tyler Marchese","GH2","Grays Harbor","2014-2015",5,"Pre",2,18,"Jeremy Swingle",0,2,null,null,null,null,null,null,0,0,-10,-10,11.833333333333334]
["Tyler Marchese","GH2","Grays Harbor","2014-2015",5,"Pre",1,29,"Scott Peterson",1,0,null,null,null,1,null,null,0,0,20,30,11.833333333333334]
["Tyler Marchese","GH2","Grays Harbor","2014-2015",5,"Pre",3,43,"Tony Kong",0,0,null,null,null,null,null,null,0,0,0,0,11.833333333333334]
["Tyler Marchese","GH2","Grays Harbor","2014-2015",5,"Pre",2,50,"Jeremy Swingle",0,2,null,null,null,null,null,null,0,0,-10,-10,11.833333333333334]
["Tyler Marchese","GH2","Grays Harbor","2014-2015",5,"Semi",1,"C","Scott Peterson",0,0,null,null,null,null,null,null,0,0,0,0,11.833333333333334]
["Tyler Marchese","GH2","Grays Harbor","2014-2015",5,"Semi",1,"E","Scott Peterson",0,0,null,null,null,null,null,null,0,0,0,0,11.833333333333334]
["Tyler Marchese","GH2","Grays Harbor","2014-2015",5,"Semi",2,"H","Jeremy Swingle",0,1,null,null,null,null,null,null,0,0,0,0,11.833333333333334]
["Tyler Slothower","CH1","Chapel Hill","2014-2015",3,"Pre",4,4,"Cutty Welt",0,2,null,null,null,null,null,null,0,0,-10,-10,3.3333333333333335]
["Tyler Slothower","CH1","Chapel Hill","2014-2015",1,"Pre",4,8,"Cutty Welt",0,0,null,null,null,null,null,null,0,0,0,0,3.3333333333333335]
["Tyler Slothower","CH1","Chapel Hill","2014-2015",2,"Pre",3,11,"Tiffany Bye",0,0,null,null,null,null,null,null,0,0,0,0,3.3333333333333335]
["Tyler Slothower","CH1","Chapel Hill","2014-2015",3,"Pre",4,12,"Cutty Welt",0,0,null,null,null,null,null,null,0,0,0,0,3.3333333333333335]
["Tyler Slothower","CH1","Chapel Hill","2014-2015",1,"Pre",2,14,"Jeremy Swingle",0,0,null,null,null,null,null,null,0,0,0,0,3.3333333333333335]
["Tyler Slothower","CH1","Chapel Hill","2014-2015",4,"Pre",3,15,"Tony Kong",0,0,1,null,null,null,null,null,0,0,0,-5,3.3333333333333335]
["Tyler Slothower","CH1","Chapel Hill","2014-2015",3,"Pre",2,18,"Jeremy Swingle",0,1,null,null,null,null,null,null,0,0,0,0,3.3333333333333335]
["Tyler Slothower","CH1","Chapel Hill","2014-2015",2,"Pre",3,19,"Tiffany Bye",0,1,null,null,null,null,null,null,0,0,0,0,3.3333333333333335]
["Tyler Slothower","CH1","Chapel Hill","2014-2015",4,"Pre",4,24,"Cutty Welt",0,0,null,null,null,null,null,null,0,0,0,0,3.3333333333333335]
["Tyler Slothower","CH1","Chapel Hill","2014-2015",1,"Pre",3,27,"Tiffany Bye",0,0,null,null,null,null,null,null,0,0,0,0,3.3333333333333335]
["Tyler Slothower","CH1","Chapel Hill","2014-2015",2,"Pre",1,29,"Scott Peterson",0,0,1,null,null,null,null,null,0,0,0,-5,3.3333333333333335]
["Tyler Slothower","CH1","Chapel Hill","2014-2015",4,"Pre",2,30,"Jeremy Swingle",0,0,null,null,null,null,null,null,0,0,0,0,3.3333333333333335]
["Tyler Slothower","CH1","Chapel Hill","2014-2015",1,"Pre",4,36,"Cutty Welt",0,0,null,null,null,null,null,null,0,0,0,0,3.3333333333333335]
["Tyler Slothower","CH1","Chapel Hill","2014-2015",2,"Pre",4,40,"Cutty Welt",0,0,null,null,null,null,null,null,0,0,0,0,3.3333333333333335]
["Tyler Slothower","CH1","Chapel Hill","2014-2015",3,"Pre",1,41,"Scott Peterson",0,0,null,null,null,null,null,null,0,0,0,0,3.3333333333333335]
["Tyler Slothower","CH1","Chapel Hill","2014-2015",1,"Pre",3,43,"Tiffany Bye",0,0,null,null,null,null,null,null,0,0,0,0,3.3333333333333335]
["Tyler Slothower","CH1","Chapel Hill","2014-2015",2,"Pre",2,46,"Jeremy Swingle",0,1,null,null,null,null,null,null,0,0,0,0,3.3333333333333335]
["Tyler Slothower","CH1","Chapel Hill","2014-2015",4,"Pre",4,48,"Cutty Welt",0,1,null,null,null,null,null,null,0,0,0,0,3.3333333333333335]
["Tyler Slothower","CH1","Chapel Hill","2014-2015",1,"Pre",1,49,"Scott Peterson",0,0,null,null,null,null,null,null,0,0,0,0,3.3333333333333335]
["Tyler Slothower","CH1","Chapel Hill","2014-2015",1,"ConA",2,"A-A","Jeremy Swingle",0,1,null,null,null,null,null,null,0,0,0,0,3.3333333333333335]
["Tyler Slothower","CH1","Chapel Hill","2014-2015",2,"ConA",2,"A-A","Jeremy Swingle",0,0,null,null,null,null,null,null,0,0,0,0,3.3333333333333335]
["Tyler Slothower","CH1","Chapel Hill","2014-2015",2,"ConA",2,"A-D","Jeremy Swingle",0,0,null,null,null,null,null,null,0,0,0,0,3.3333333333333335]
["Tyler Slothower","CH1","Chapel Hill","2014-2015",1,"ConA",3,"A-E","Tiffany Bye",0,0,null,null,null,null,null,null,0,0,0,0,3.3333333333333335]
["Tyler Slothower","CH1","Chapel Hill","2014-2015",4,"ConA",3,"A-E","Abby Ashcraft",0,0,null,null,null,null,null,null,0,0,0,0,3.3333333333333335]
["Tyler Slothower","CH1","Chapel Hill","2014-2015",1,"ConA",3,"A-H","Tiffany Bye",0,1,null,null,null,null,null,null,0,0,0,0,3.3333333333333335]
["Tyler Slothower","CH1","Chapel Hill","2014-2015",4,"ConA",3,"A-H","Abby Ashcraft",0,1,null,null,null,null,null,null,0,0,0,0,3.3333333333333335]
["Tyler Slothower","CH1","Chapel Hill","2014-2015",2,"ConA",2,"A-J","Jeremy Swingle",0,0,null,null,null,null,null,null,0,0,0,0,3.3333333333333335]
["Tyler Slothower","CH1","Chapel Hill","2014-2015",3,"ConB",4,"B-J","Cutty Welt",0,1,null,null,null,null,null,null,0,0,0,0,3.3333333333333335]
["Tyler Slothower","CH1","Chapel Hill","2014-2015",2,"Pre",4,4,"Cutty Welt",1,1,null,null,null,null,null,null,0,0,20,20,3.3333333333333335]
["Tyler Slothower","CH1","Chapel Hill","2014-2015",4,"Pre",2,10,"Jeremy Swingle",1,0,null,null,null,null,null,null,0,0,20,20,3.3333333333333335]
["Tyler Slothower","CH1","Chapel Hill","2014-2015",3,"Pre",3,27,"Tiffany Bye",1,1,null,null,null,null,null,null,0,0,20,20,3.3333333333333335]
["Tyler Slothower","CH1","Chapel Hill","2014-2015",3,"Pre",1,33,"Scott Peterson",1,1,null,null,null,null,null,null,0,0,20,20,3.3333333333333335]
["Tyler Slothower","CH1","Chapel Hill","2014-2015",4,"Pre",1,37,"Scott Peterson",1,0,null,null,null,1,null,null,0,0,20,30,3.3333333333333335]
["Tyler Slothower","CH1","Chapel Hill","2014-2015",4,"ConA",2,"A-C","Jeremy Swingle",1,0,null,null,null,1,null,null,0,0,20,30,3.3333333333333335]
["Tyler Slothower","CH1","Chapel Hill","2014-2015",3,"ConB",4,"B-2","Cutty Welt",1,0,null,null,null,1,null,null,0,0,20,30,3.3333333333333335]
["Tyler Slothower","CH1","Chapel Hill","2014-2015",3,"ConB",4,"B-3","Cutty Welt",1,1,null,null,null,null,null,null,0,0,20,20,3.3333333333333335]
["Tyler Slothower","CH1","Chapel Hill","2014-2015",3,"ConB",4,"B-4","Cutty Welt",1,1,null,null,null,null,null,null,0,0,20,20,3.3333333333333335]
["Tyler Slothower","CH1","Chapel Hill","2014-2015",5,"Pre",1,5,"Scott Peterson",0,0,null,null,null,null,null,null,{"$f":"IF(J3906=4,1,0)","v":0},{"$f":"IF(K3906=3,1,0)","v":0},0,{"$f":"T3906+M3906*(20) + (SUM(O3906:Q3906)*(10)) - L3906*(5) - N3906*(5)","v":0},{"$f":"AVERAGEIFS(U:U,A:A,A3906,F:F,\"Pre\")","v":3.3333333333333335}]
["Tyler Slothower","CH1","Chapel Hill","2014-2015",5,"Pre",4,20,"Cutty Welt",0,1,null,null,null,null,null,null,0,0,0,0,3.3333333333333335]
["Tyler Slothower","CH1","Chapel Hill","2014-2015",5,"Pre",2,26,"Jeremy Swingle",0,0,null,null,null,null,null,null,0,0,0,0,3.3333333333333335]
["Tyler Slothower","CH1","Chapel Hill","2014-2015",5,"Pre",2,34,"Jeremy Swingle",1,1,null,null,null,null,null,null,0,0,20,20,3.3333333333333335]
["Tyler Slothower","CH1","Chapel Hill","2014-2015",5,"Pre",3,39,"Tony Kong",0,0,null,null,null,null,null,null,0,0,0,0,3.3333333333333335]
["Tyler Slothower","CH1","Chapel Hill","2014-2015",5,"Pre",4,48,"Cutty Welt",0,2,null,null,null,null,null,null,0,0,-10,-10,3.3333333333333335]
["Tyler Slothower","CH1","Chapel Hill","2014-2015",5,"ConA",2,"A-C","Jeremy Swingle",0,0,null,null,null,null,null,null,0,0,0,0,3.3333333333333335]
["Tyler Slothower","CH1","Chapel Hill","2014-2015",5,"ConA",3,"A-E","Abby Ashcraft",0,1,null,null,null,null,null,null,0,0,0,0,3.3333333333333335]
["Tyler Slothower","CH1","Chapel Hill","2014-2015",5,"ConA",3,"A-H","Abby Ashcraft",0,0,null,null,null,null,null,null,0,0,0,0,3.3333333333333335]
["Tyler Slothower","CH1",{"$f":"VLOOKUP(B3915,$B$2:$C$3219,2,FALSE)","v":"Chapel Hill"},"2014-2015",5,"ConA",3,"A-I","Abby Ashcraft",0,0,null,null,null,null,null,null,0,0,0,0,3.3333333333333335]
["Zak Swanson","LH5","Lighthouse","2014-2015",1,"Pre",3,7,"Tiffany Bye",0,1,null,null,null,null,null,null,0,0,0,0,10.833333333333334]
["Zak Swanson","LH5","Lighthouse","2014-2015",1,"Pre",3,15,"Tiffany Bye",0,0,null,null,1,null,null,null,0,0,0,-5,10.833333333333334]
["Zak Swanson","LH5","Lighthouse","2014-2015",1,"Pre",1,21,"Scott Peterson",0,0,null,null,null,null,null,null,0,0,0,0,10.833333333333334]
["Zak Swanson","LH5","Lighthouse","2014-2015",1,"Pre",1,29,"Scott Peterson",0,0,null,1,null,null,null,null,0,0,0,20,10.833333333333334]
["Zak Swanson","LH5","Lighthouse","2014-2015",1,"ConA",3,"A-E","Tiffany Bye",0,0,null,2,null,null,null,null,0,0,{"$f":"quizscore(J3920,K3920)","v":0},40,10.833333333333334]
["Zak Swanson","LH5","Lighthouse","2014-2015",1,"ConA",2,"A-G","Jeremy Swingle",0,0,null,null,null,null,null,null,0,0,0,0,10.833333333333334]
["Zak Swanson","LH5","Lighthouse","2014-2015",1,"ConA",3,"A-I","Tiffany Bye",0,0,null,null,null,null,null,null,0,0,0,0,10.833333333333334]
["Zak Swanson","LH5","Lighthouse","2014-2015",1,"Pre",2,46,"Jeremy Swingle",1,2,null,null,null,1,null,null,0,0,10,20,10.833333333333334]
["Zak Swanson","LH5","Lighthouse","2014-2015",1,"Pre",4,40,"Cutty Welt",1,1,null,null,null,null,1,null,0,0,20,30,10.833333333333334]
["Zak Swanson","LH5","Lighthouse","2014-2015",1,"ConA",2,"A-C","Jeremy Swingle",1,0,null,null,null,1,null,null,0,0,20,30,10.833333333333334]
["Zoe Walters","LH3","Lighthouse","2014-2015",3,"Pre",2,2,"Jeremy Swingle",0,0,null,null,null,null,null,null,0,0,0,0,17.666666666666668]
["Zoe Walters","LH3","Lighthouse","2014-2015",4,"Pre",4,4,"Cutty Welt",0,0,null,null,null,null,null,null,0,0,0,0,17.666666666666668]
["Zoe Walters","LH3","Lighthouse","2014-2015",4,"Pre",2,18,"Jeremy Swingle",0,1,null,null,2,null,null,null,0,0,0,-10,17.666666666666668]
["Zoe Walters","LH3","Lighthouse","2014-2015",3,"Pre",2,26,"Jeremy Swingle",0,0,null,null,2,null,null,null,0,0,0,-10,17.666666666666668]
["Zoe Walters","LH3","Lighthouse","2014-2015",2,"Pre",4,28,"Cutty Welt",0,0,null,1,1,null,null,null,0,0,0,15,17.666666666666668]
["Zoe Walters","LH3","Lighthouse","2014-2015",3,"Pre",1,33,"Scott Peterson",0,0,null,null,1,null,null,null,0,0,0,-5,17.666666666666668]
["Zoe Walters","LH3","Lighthouse","2014-2015",1,"Pre",3,35,"Tiffany Bye",0,0,null,null,null,null,null,null,0,0,0,0,17.666666666666668]
["Zoe Walters","LH3","Lighthouse","2014-2015",1,"Pre",4,40,"Cutty Welt",0,1,null,null,null,null,null,null,0,0,0,0,17.666666666666668]
["Zoe Walters","LH3","Lighthouse","2014-2015",4,"Pre",1,45,"Scott Peterson",0,1,null,null,1,null,null,null,0,0,0,-5,17.666666666666668]
["Zoe Walters","LH3","Lighthouse","2014-2015",1,"Pre",4,48,"Cutty Welt",0,0,null,null,null,null,null,null,0,0,0,0,17.666666666666668]
["Zoe Walters","LH3","Lighthouse","2014-2015",3,"Pre",4,48,"Cutty Welt",0,0,null,null,null,null,null,null,0,0,0,0,17.666666666666668]
["Zoe Walters","LH3","Lighthouse","2014-2015",1,"ConB",4,"B-1","Cutty Welt",0,0,null,null,null,null,null,null,0,0,0,0,17.666666666666668]
["Zoe Walters","LH3","Lighthouse","2014-2015",3,"ConB",4,"B-3","Cutty Welt",0,1,null,null,null,null,null,null,0,0,0,0,17.666666666666668]
["Zoe Walters","LH3","Lighthouse","2014-2015",3,"Pre",3,23,"Tiffany Bye",1,2,null,null,null,null,null,null,0,0,10,10,17.666666666666668]
["Zoe Walters","LH3","Lighthouse","2014-2015",1,"Pre",2,6,"Jeremy Swingle",1,0,null,null,null,null,null,null,0,0,20,20,17.666666666666668]
["Zoe Walters","LH3","Lighthouse","2014-2015",2,"Pre",3,7,"Tiffany Bye",1,0,null,null,1,null,null,null,0,0,20,15,17.666666666666668]
["Zoe Walters","LH3","Lighthouse","2014-2015",2,"Pre",1,13,"Scott Peterson",1,0,null,null,null,null,null,null,0,0,20,20,17.666666666666668]
["Zoe Walters","LH3","Lighthouse","2014-2015",3,"Pre",1,13,"Scott Peterson",1,1,null,null,null,null,null,null,0,0,20,20,17.666666666666668]
["Zoe Walters","LH3","Lighthouse","2014-2015",1,"Pre",2,18,"Jeremy Swingle",1,1,null,null,null,null,null,null,0,0,20,20,17.666666666666668]
["Zoe Walters","LH3","Lighthouse","2014-2015",1,"Pre",1,25,"Scott Peterson",1,1,null,null,null,null,null,null,0,0,20,20,17.666666666666668]
["Zoe Walters","LH3","Lighthouse","2014-2015",4,"Pre",3,39,"Tony Kong",1,1,null,null,null,null,null,null,0,0,20,20,17.666666666666668]
["Zoe Walters","LH3","Lighthouse","2014-2015",2,"Pre",1,49,"Scott Peterson",1,0,null,null,null,null,null,null,0,0,20,20,17.666666666666668]
["Zoe Walters","LH3","Lighthouse","2014-2015",1,"ConB",4,"B-2","Cutty Welt",1,1,null,null,null,null,null,null,0,0,20,20,17.666666666666668]
["Zoe Walters","LH3","Lighthouse","2014-2015",1,"ConB",4,"B-5","Cutty Welt",1,0,null,null,null,1,null,null,0,0,20,30,17.666666666666668]
["Zoe Walters","LH3","Lighthouse","2014-2015",2,"ConB",4,"B-7","Cutty Welt",1,1,null,null,null,1,null,null,0,0,20,30,17.666666666666668]
["Zoe Walters","LH3","Lighthouse","2014-2015",1,"ConB",4,"B-J","Cutty Welt",1,0,null,null,null,null,null,null,0,0,20,20,17.666666666666668]
["Zoe Walters","LH3","Lighthouse","2014-2015",4,"Pre",1,9,"Scott Peterson",2,0,null,null,null,null,null,null,0,0,40,40,17.666666666666668]
["Zoe Walters","LH3","Lighthouse","2014-2015",2,"Pre",2,18,"Jeremy Swingle",2,1,null,2,null,null,null,null,0,0,40,80,17.666666666666668]
["Zoe Walters","LH3","Lighthouse","2014-2015",4,"Pre",4,28,"Cutty Welt",2,0,null,null,null,null,null,null,0,0,40,40,17.666666666666668]
["Zoe Walters","LH3","Lighthouse","2014-2015",3,"ConB",4,"B-1","Cutty Welt",2,0,null,null,null,null,null,null,0,0,40,40,17.666666666666668]
["Zoe Walters","LH3","Lighthouse","2014-2015",2,"ConB",4,"B-2","Cutty Welt",2,1,null,null,null,null,null,null,0,0,40,40,17.666666666666668]
["Zoe Walters","LH3","Lighthouse","2014-2015",4,"ConB",4,"B-4","Cutty Welt",2,0,null,null,1,null,null,null,0,0,40,35,17.666666666666668]
["Zoe Walters","LH3","Lighthouse","2014-2015",4,"ConB",4,"B-5","Cutty Welt",2,1,null,null,null,null,null,null,0,0,40,40,17.666666666666668]
["Zoe Walters","LH3","Lighthouse","2014-2015",2,"ConB",4,"B-6","Cutty Welt",2,0,null,null,null,null,null,null,0,0,40,40,17.666666666666668]
["Zoe Walters","LH3","Lighthouse","2014-2015",3,"ConB",4,"B-6","Cutty Welt",2,0,null,null,1,null,null,null,0,0,40,35,17.666666666666668]
["Zoe Walters","LH3","Lighthouse","2014-2015",4,"ConB",4,"B-6","Cutty Welt",2,1,null,null,null,null,null,null,0,0,40,40,17.666666666666668]
["Zoe Walters","LH3","Lighthouse","2014-2015",2,"Pre",3,39,"Tiffany Bye",3,1,null,null,null,null,null,null,0,0,60,60,17.666666666666668]
["Zoe Walters","LH3","Lighthouse","2014-2015",4,"ConB",4,"B-J","Cutty Welt",1,0,null,null,null,null,null,null,0,0,20,20,17.666666666666668]
["Zoe Walters","LH3","Lighthouse","2014-2015",5,"Pre",3,3,"Tony Kong",1,1,null,null,null,null,null,null,0,0,20,20,17.666666666666668]
["Zoe Walters","LH3","Lighthouse","2014-2015",5,"Pre",1,9,"Scott Peterson",2,0,null,1,null,null,null,null,0,0,40,60,17.666666666666668]
["Zoe Walters","LH3","Lighthouse","2014-2015",5,"Pre",1,17,"Scott Peterson",0,0,null,null,null,null,null,null,0,0,0,0,17.666666666666668]
["Zoe Walters","LH3","Lighthouse","2014-2015",5,"Pre",3,31,"Tony Kong",1,1,null,null,null,null,null,null,0,0,20,20,17.666666666666668]
["Zoe Walters","LH3","Lighthouse","2014-2015",5,"Pre",4,40,"Cutty Welt",1,0,null,null,null,null,null,null,0,0,20,20,17.666666666666668]
["Zoe Walters","LH3","Lighthouse","2014-2015",5,"Pre",2,46,"Jeremy Swingle",2,0,null,null,null,null,null,null,0,0,40,40,17.666666666666668]
["Zoe Walters","LH3",{"$f":"VLOOKUP(B3970,$B$2:$C$3219,2,FALSE)","v":"Lighthouse"},"2014-2015",5,"ConB",4,"B-2","Cutty Welt",2,0,1,null,null,null,null,null,0,0,40,{"$f":"T3970+M3970*(20) + (SUM(O3970:Q3970)*(10)) - L3970*(5) - N3970*(5)","v":35},{"$f":"AVERAGEIFS(U:U,A:A,A3970,F:F,\"Pre\")","v":17.666666666666668}]
["Zoe Walters","LH3",{"$f":"VLOOKUP(B3971,$B$2:$C$3219,2,FALSE)","v":"Lighthouse"},"2014-2015",5,"ConB",4,"B-6","Cutty Welt",3,1,null,null,null,null,null,null,0,0,60,60,17.666666666666668]
["Zoe Walters","LH3",{"$f":"VLOOKUP(B3972,$B$2:$C$3219,2,FALSE)","v":"Lighthouse"},"2014-2015",5,"ConB",4,"B-7","Cutty Welt",2,0,null,null,null,null,null,null,0,0,40,40,17.666666666666668]

{"sheet":"Accuracy","index":1,"n_rows":92,"n_cols":32,"rows_kept":92,"cut":false,"hidden":false,"merged":[]}
["Rank","Name","Church","#Quizzes","Correct","Error","Jumps","Accuracy","STAT","Corr/Quiz","Foul","BonCorr","BonErr","3rd","4th","5th","QuizOut","%","ErrOut","%2","PreC","PreE","PreAcc","SemiC","SemiE","SemiAcc","ConAC","ConAE","ConAAcc","ConBC","ConBE","ConBAcc"]
[1,"Bryce Asberg","Tacoma",{"$f":"COUNTIF(DATA!$A$2:$A$9731,B2)","v":41},{"$f":"SUMIF(DATA!$A$2:$A$9077,B2,DATA!$J$2:$J$9077)","v":146},{"$f":"SUMIF(DATA!$A$2:$A$9077,B2,DATA!$K$2:$K$9077)","v":27},{"$f":"E2+F2","v":173},{"$f":"E2/(E2+F2)","v":0.84393063583815031},{"$f":"(E2+L2-F2-K2-M2)/D2","v":3.0487804878048781},{"$f":"Table1[[#This Row],[Correct]]/Table1[[#This Row],['#Quizzes]]","v":3.5609756097560976},{"$f":"SUMIF(DATA!$A$2:$A$9077,B2,DATA!$L$2:$L$9077)","v":0},{"$f":"SUMIF(DATA!$A$2:$A$9077,B2,DATA!$M$2:$M$79077)","v":9},{"$f":"SUMIF(DATA!$A$2:$A$9077,B2,DATA!$N$2:$N$9077)","v":3},{"$f":"SUMIF(DATA!$A$2:$A$9101,B2,DATA!$O$2:$O$9101)","v":0},{"$f":"SUMIF(DATA!$A$2:$A$9101,B2,DATA!$P$2:$P$9101)","v":0},{"$f":"SUMIF(DATA!$A$2:$A$9101,B2,DATA!$Q$2:$Q$9101)","v":0},{"$f":"SUMIF(DATA!$A$2:$A$9078,B2,DATA!$R$2:$R$9078)","v":32},{"$f":"Q2/D2","v":0.78048780487804881},{"$f":"SUMIF(DATA!$A$2:$A$9078,B2,DATA!$S$2:$S$9078)","v":2},{"$f":"S2/D2","v":4.878048780487805E-2},{"$f":"SUMIFS(DATA!J:J,DATA!A:A,Table1[[#This Row],[Name]],DATA!F:F,\"Pre\")","v":97},{"$f":"SUMIFS(DATA!K:K,DATA!A:A,Table1[[#This Row],[Name]],DATA!F:F,\"Pre\")","v":18},{"$f":"U2/(U2+V2)","v":0.84347826086956523},{"$f":"SUMIFS(DATA!J:J,DATA!A:A,Table1[[#This Row],[Name]],DATA!F:F,\"Semi\")","v":0},{"$f":"SUMIFS(DATA!K:K,DATA!A:A,Table1[[#This Row],[Name]],DATA!F:F,\"Semi\")","v":0},{"$f":"X2/(X2+Y2)","v":{"$error":"#DIV/0!"}},{"$f":"SUMIFS(DATA!J:J,DATA!A:A,Table1[[#This Row],[Name]],DATA!F:F,\"COnA\")","v":49},{"$f":"SUMIFS(DATA!K:K,DATA!A:A,Table1[[#This Row],[Name]],DATA!F:F,\"ConA\")","v":9},{"$f":"AA2/(AA2+AB2)","v":0.84482758620689657},{"$f":"SUMIFS(DATA!J:J,DATA!A:A,Table1[[#This Row],[Name]],DATA!F:F,\"ConB\")","v":0},{"$f":"SUMIFS(DATA!K:K,DATA!A:A,Table1[[#This Row],[Name]],DATA!F:F,\"ConB\")","v":0},{"$f":"AD2/(AD2+AE2)","v":{"$error":"#DIV/0!"}}]
[2,"Anna Kong","Woodinville",{"$f":"COUNTIF(DATA!$A$2:$A$9731,B3)","v":57},{"$f":"SUMIF(DATA!$A$2:$A$9077,B3,DATA!$J$2:$J$9077)","v":200},{"$f":"SUMIF(DATA!$A$2:$A$9077,B3,DATA!$K$2:$K$9077)","v":54},254,0.78740157480314965,2.807017543859649,{"$f":"Table1[[#This Row],[Correct]]/Table1[[#This Row],['#Quizzes]]","v":3.5087719298245612},{"$f":"SUMIF(DATA!$A$2:$A$9077,B3,DATA!$L$2:$L$9077)","v":0},{"$f":"SUMIF(DATA!$A$2:$A$9077,B3,DATA!$M$2:$M$79077)","v":17},{"$f":"SUMIF(DATA!$A$2:$A$9077,B3,DATA!$N$2:$N$9077)","v":3},{"$f":"SUMIF(DATA!$A$2:$A$9101,B3,DATA!$O$2:$O$9101)","v":0},{"$f":"SUMIF(DATA!$A$2:$A$9101,B3,DATA!$P$2:$P$9101)","v":0},{"$f":"SUMIF(DATA!$A$2:$A$9101,B3,DATA!$Q$2:$Q$9101)","v":0},{"$f":"SUMIF(DATA!$A$2:$A$9078,B3,DATA!$R$2:$R$9078)","v":45},0.78947368421052633,{"$f":"SUMIF(DATA!$A$2:$A$9078,B3,DATA!$S$2:$S$9078)","v":8},0.14035087719298245,{"$f":"SUMIFS(DATA!J:J,DATA!A:A,Table1[[#This Row],[Name]],DATA!F:F,\"Pre\")","v":109},{"$f":"SUMIFS(DATA!K:K,DATA!A:A,Table1[[#This Row],[Name]],DATA!F:F,\"Pre\")","v":19},0.8515625,{"$f":"SUMIFS(DATA!J:J,DATA!A:A,Table1[[#This Row],[Name]],DATA!F:F,\"Semi\")","v":91},{"$f":"SUMIFS(DATA!K:K,DATA!A:A,Table1[[#This Row],[Name]],DATA!F:F,\"Semi\")","v":35},0.72222222222222221,{"$f":"SUMIFS(DATA!J:J,DATA!A:A,Table1[[#This Row],[Name]],DATA!F:F,\"COnA\")","v":0},{"$f":"SUMIFS(DATA!K:K,DATA!A:A,Table1[[#This Row],[Name]],DATA!F:F,\"ConA\")","v":0},{"$error":"#DIV/0!"},{"$f":"SUMIFS(DATA!J:J,DATA!A:A,Table1[[#This Row],[Name]],DATA!F:F,\"ConB\")","v":0},{"$f":"SUMIFS(DATA!K:K,DATA!A:A,Table1[[#This Row],[Name]],DATA!F:F,\"ConB\")","v":0},{"$error":"#DIV/0!"}]
[3,"Lydia Taw","ABC",{"$f":"COUNTIF(DATA!$A$2:$A$9731,B4)","v":56},{"$f":"SUMIF(DATA!$A$2:$A$9077,B4,DATA!$J$2:$J$9077)","v":180},{"$f":"SUMIF(DATA!$A$2:$A$9077,B4,DATA!$K$2:$K$9077)","v":38},218,0.82568807339449546,2.6071428571428572,{"$f":"Table1[[#This Row],[Correct]]/Table1[[#This Row],['#Quizzes]]","v":3.2142857142857144},{"$f":"SUMIF(DATA!$A$2:$A$9077,B4,DATA!$L$2:$L$9077)","v":7},{"$f":"SUMIF(DATA!$A$2:$A$9077,B4,DATA!$M$2:$M$79077)","v":11},{"$f":"SUMIF(DATA!$A$2:$A$9077,B4,DATA!$N$2:$N$9077)","v":0},{"$f":"SUMIF(DATA!$A$2:$A$9101,B4,DATA!$O$2:$O$9101)","v":4},{"$f":"SUMIF(DATA!$A$2:$A$9101,B4,DATA!$P$2:$P$9101)","v":0},{"$f":"SUMIF(DATA!$A$2:$A$9101,B4,DATA!$Q$2:$Q$9101)","v":0},{"$f":"SUMIF(DATA!$A$2:$A$9078,B4,DATA!$R$2:$R$9078)","v":31},0.5535714285714286,{"$f":"SUMIF(DATA!$A$2:$A$9078,B4,DATA!$S$2:$S$9078)","v":2},3.5714285714285712E-2,{"$f":"SUMIFS(DATA!J:J,DATA!A:A,Table1[[#This Row],[Name]],DATA!F:F,\"Pre\")","v":108},{"$f":"SUMIFS(DATA!K:K,DATA!A:A,Table1[[#This Row],[Name]],DATA!F:F,\"Pre\")","v":18},0.8571428571428571,{"$f":"SUMIFS(DATA!J:J,DATA!A:A,Table1[[#This Row],[Name]],DATA!F:F,\"Semi\")","v":72},{"$f":"SUMIFS(DATA!K:K,DATA!A:A,Table1[[#This Row],[Name]],DATA!F:F,\"Semi\")","v":20},0.78260869565217395,{"$f":"SUMIFS(DATA!J:J,DATA!A:A,Table1[[#This Row],[Name]],DATA!F:F,\"COnA\")","v":0},{"$f":"SUMIFS(DATA!K:K,DATA!A:A,Table1[[#This Row],[Name]],DATA!F:F,\"ConA\")","v":0},{"$error":"#DIV/0!"},{"$f":"SUMIFS(DATA!J:J,DATA!A:A,Table1[[#This Row],[Name]],DATA!F:F,\"ConB\")","v":0},{"$f":"SUMIFS(DATA!K:K,DATA!A:A,Table1[[#This Row],[Name]],DATA!F:F,\"ConB\")","v":0},{"$error":"#DIV/0!"}]
[5,"Micah Hollen","Grays Harbor",{"$f":"COUNTIF(DATA!$A$2:$A$9731,B5)","v":53},{"$f":"SUMIF(DATA!$A$2:$A$9077,B5,DATA!$J$2:$J$9077)","v":168},{"$f":"SUMIF(DATA!$A$2:$A$9077,B5,DATA!$K$2:$K$9077)","v":49},217,0.77419354838709675,2.3962264150943398,{"$f":"Table1[[#This Row],[Correct]]/Table1[[#This Row],['#Quizzes]]","v":3.1698113207547172},{"$f":"SUMIF(DATA!$A$2:$A$9077,B5,DATA!$L$2:$L$9077)","v":0},{"$f":"SUMIF(DATA!$A$2:$A$9077,B5,DATA!$M$2:$M$79077)","v":8},{"$f":"SUMIF(DATA!$A$2:$A$9077,B5,DATA!$N$2:$N$9077)","v":0},{"$f":"SUMIF(DATA!$A$2:$A$9101,B5,DATA!$O$2:$O$9101)","v":0},{"$f":"SUMIF(DATA!$A$2:$A$9101,B5,DATA!$P$2:$P$9101)","v":0},{"$f":"SUMIF(DATA!$A$2:$A$9101,B5,DATA!$Q$2:$Q$9101)","v":0},{"$f":"SUMIF(DATA!$A$2:$A$9078,B5,DATA!$R$2:$R$9078)","v":33},0.62264150943396224,{"$f":"SUMIF(DATA!$A$2:$A$9078,B5,DATA!$S$2:$S$9078)","v":4},7.5471698113207544E-2,{"$f":"SUMIFS(DATA!J:J,DATA!A:A,Table1[[#This Row],[Name]],DATA!F:F,\"Pre\")","v":109},{"$f":"SUMIFS(DATA!K:K,DATA!A:A,Table1[[#This Row],[Name]],DATA!F:F,\"Pre\")","v":23},0.8257575757575758,{"$f":"SUMIFS(DATA!J:J,DATA!A:A,Table1[[#This Row],[Name]],DATA!F:F,\"Semi\")","v":39},{"$f":"SUMIFS(DATA!K:K,DATA!A:A,Table1[[#This Row],[Name]],DATA!F:F,\"Semi\")","v":23},0.62903225806451613,{"$f":"SUMIFS(DATA!J:J,DATA!A:A,Table1[[#This Row],[Name]],DATA!F:F,\"COnA\")","v":20},{"$f":"SUMIFS(DATA!K:K,DATA!A:A,Table1[[#This Row],[Name]],DATA!F:F,\"ConA\")","v":3},0.86956521739130432,{"$f":"SUMIFS(DATA!J:J,DATA!A:A,Table1[[#This Row],[Name]],DATA!F:F,\"ConB\")","v":0},{"$f":"SUMIFS(DATA!K:K,DATA!A:A,Table1[[#This Row],[Name]],DATA!F:F,\"ConB\")","v":0},{"$error":"#DIV/0!"}]
[4,"David Steinke","Dallas",{"$f":"COUNTIF(DATA!$A$2:$A$9731,B6)","v":55},{"$f":"SUMIF(DATA!$A$2:$A$9077,B6,DATA!$J$2:$J$9077)","v":189},{"$f":"SUMIF(DATA!$A$2:$A$9077,B6,DATA!$K$2:$K$9077)","v":79},268,0.70522388059701491,2.2363636363636363,{"$f":"Table1[[#This Row],[Correct]]/Table1[[#This Row],['#Quizzes]]","v":3.4363636363636365},{"$f":"SUMIF(DATA!$A$2:$A$9077,B6,DATA!$L$2:$L$9077)","v":0},{"$f":"SUMIF(DATA!$A$2:$A$9077,B6,DATA!$M$2:$M$79077)","v":14},{"$f":"SUMIF(DATA!$A$2:$A$9077,B6,DATA!$N$2:$N$9077)","v":1},{"$f":"SUMIF(DATA!$A$2:$A$9101,B6,DATA!$O$2:$O$9101)","v":0},{"$f":"SUMIF(DATA!$A$2:$A$9101,B6,DATA!$P$2:$P$9101)","v":0},{"$f":"SUMIF(DATA!$A$2:$A$9101,B6,DATA!$Q$2:$Q$9101)","v":0},{"$f":"SUMIF(DATA!$A$2:$A$9078,B6,DATA!$R$2:$R$9078)","v":35},0.63636363636363635,{"$f":"SUMIF(DATA!$A$2:$A$9078,B6,DATA!$S$2:$S$9078)","v":10},0.18181818181818182,{"$f":"SUMIFS(DATA!J:J,DATA!A:A,Table1[[#This Row],[Name]],DATA!F:F,\"Pre\")","v":113},{"$f":"SUMIFS(DATA!K:K,DATA!A:A,Table1[[#This Row],[Name]],DATA!F:F,\"Pre\")","v":35},0.76351351351351349,{"$f":"SUMIFS(DATA!J:J,DATA!A:A,Table1[[#This Row],[Name]],DATA!F:F,\"Semi\")","v":62},{"$f":"SUMIFS(DATA!K:K,DATA!A:A,Table1[[#This Row],[Name]],DATA!F:F,\"Semi\")","v":38},0.62,{"$f":"SUMIFS(DATA!J:J,DATA!A:A,Table1[[#This Row],[Name]],DATA!F:F,\"COnA\")","v":14},{"$f":"SUMIFS(DATA!K:K,DATA!A:A,Table1[[#This Row],[Name]],DATA!F:F,\"ConA\")","v":6},0.7,{"$f":"SUMIFS(DATA!J:J,DATA!A:A,Table1[[#This Row],[Name]],DATA!F:F,\"ConB\")","v":0},{"$f":"SUMIFS(DATA!K:K,DATA!A:A,Table1[[#This Row],[Name]],DATA!F:F,\"ConB\")","v":0},{"$error":"#DIV/0!"}]
[10,"Abigail Taw","ABC",{"$f":"COUNTIF(DATA!$A$2:$A$9731,B7)","v":46},{"$f":"SUMIF(DATA!$A$2:$A$9077,B7,DATA!$J$2:$J$9077)","v":139},{"$f":"SUMIF(DATA!$A$2:$A$9077,B7,DATA!$K$2:$K$9077)","v":48},187,0.74331550802139035,2,{"$f":"Table1[[#This Row],[Correct]]/Table1[[#This Row],['#Quizzes]]","v":3.0217391304347827},{"$f":"SUMIF(DATA!$A$2:$A$9077,B7,DATA!$L$2:$L$9077)","v":2},{"$f":"SUMIF(DATA!$A$2:$A$9077,B7,DATA!$M$2:$M$79077)","v":8},{"$f":"SUMIF(DATA!$A$2:$A$9077,B7,DATA!$N$2:$N$9077)","v":5},{"$f":"SUMIF(DATA!$A$2:$A$9101,B7,DATA!$O$2:$O$9101)","v":1},{"$f":"SUMIF(DATA!$A$2:$A$9101,B7,DATA!$P$2:$P$9101)","v":0},{"$f":"SUMIF(DATA!$A$2:$A$9101,B7,DATA!$Q$2:$Q$9101)","v":0},{"$f":"SUMIF(DATA!$A$2:$A$9078,B7,DATA!$R$2:$R$9078)","v":28},0.60869565217391308,{"$f":"SUMIF(DATA!$A$2:$A$9078,B7,DATA!$S$2:$S$9078)","v":6},0.13043478260869565,{"$f":"SUMIFS(DATA!J:J,DATA!A:A,Table1[[#This Row],[Name]],DATA!F:F,\"Pre\")","v":98},{"$f":"SUMIFS(DATA!K:K,DATA!A:A,Table1[[#This Row],[Name]],DATA!F:F,\"Pre\")","v":27},0.78400000000000003,{"$f":"SUMIFS(DATA!J:J,DATA!A:A,Table1[[#This Row],[Name]],DATA!F:F,\"Semi\")","v":41},{"$f":"SUMIFS(DATA!K:K,DATA!A:A,Table1[[#This Row],[Name]],DATA!F:F,\"Semi\")","v":21},0.66129032258064513,{"$f":"SUMIFS(DATA!J:J,DATA!A:A,Table1[[#This Row],[Name]],DATA!F:F,\"COnA\")","v":0},{"$f":"SUMIFS(DATA!K:K,DATA!A:A,Table1[[#This Row],[Name]],DATA!F:F,\"ConA\")","v":0},{"$error":"#DIV/0!"},{"$f":"SUMIFS(DATA!J:J,DATA!A:A,Table1[[#This Row],[Name]],DATA!F:F,\"ConB\")","v":0},{"$f":"SUMIFS(DATA!K:K,DATA!A:A,Table1[[#This Row],[Name]],DATA!F:F,\"ConB\")","v":0},{"$error":"#DIV/0!"}]
[6,"Jamie Rand","Dallas",{"$f":"COUNTIF(DATA!$A$2:$A$9731,B8)","v":44},{"$f":"SUMIF(DATA!$A$2:$A$9077,B8,DATA!$J$2:$J$9077)","v":138},{"$f":"SUMIF(DATA!$A$2:$A$9077,B8,DATA!$K$2:$K$9077)","v":51},189,0.73015873015873012,1.9772727272727273,{"$f":"Table1[[#This Row],[Correct]]/Table1[[#This Row],['#Quizzes]]","v":3.1363636363636362},{"$f":"SUMIF(DATA!$A$2:$A$9077,B8,DATA!$L$2:$L$9077)","v":0},{"$f":"SUMIF(DATA!$A$2:$A$9077,B8,DATA!$M$2:$M$79077)","v":5},{"$f":"SUMIF(DATA!$A$2:$A$9077,B8,DATA!$N$2:$N$9077)","v":5},{"$f":"SUMIF(DATA!$A$2:$A$9101,B8,DATA!$O$2:$O$9101)","v":0},{"$f":"SUMIF(DATA!$A$2:$A$9101,B8,DATA!$P$2:$P$9101)","v":0},{"$f":"SUMIF(DATA!$A$2:$A$9101,B8,DATA!$Q$2:$Q$9101)","v":0},{"$f":"SUMIF(DATA!$A$2:$A$9078,B8,DATA!$R$2:$R$9078)","v":24},0.54545454545454541,{"$f":"SUMIF(DATA!$A$2:$A$9078,B8,DATA!$S$2:$S$9078)","v":4},9.0909090909090912E-2,{"$f":"SUMIFS(DATA!J:J,DATA!A:A,Table1[[#This Row],[Name]],DATA!F:F,\"Pre\")","v":95},{"$f":"SUMIFS(DATA!K:K,DATA!A:A,Table1[[#This Row],[Name]],DATA!F:F,\"Pre\")","v":32},0.74803149606299213,{"$f":"SUMIFS(DATA!J:J,DATA!A:A,Table1[[#This Row],[Name]],DATA!F:F,\"Semi\")","v":8},{"$f":"SUMIFS(DATA!K:K,DATA!A:A,Table1[[#This Row],[Name]],DATA!F:F,\"Semi\")","v":7},0.53333333333333333,{"$f":"SUMIFS(DATA!J:J,DATA!A:A,Table1[[#This Row],[Name]],DATA!F:F,\"COnA\")","v":35},{"$f":"SUMIFS(DATA!K:K,DATA!A:A,Table1[[#This Row],[Name]],DATA!F:F,\"ConA\")","v":12},0.74468085106382975,{"$f":"SUMIFS(DATA!J:J,DATA!A:A,Table1[[#This Row],[Name]],DATA!F:F,\"ConB\")","v":0},{"$f":"SUMIFS(DATA!K:K,DATA!A:A,Table1[[#This Row],[Name]],DATA!F:F,\"ConB\")","v":0},{"$error":"#DIV/0!"}]
[7,"Kendra Gross","Grays Harbor",{"$f":"COUNTIF(DATA!$A$2:$A$9731,B9)","v":48},{"$f":"SUMIF(DATA!$A$2:$A$9077,B9,DATA!$J$2:$J$9077)","v":145},{"$f":"SUMIF(DATA!$A$2:$A$9077,B9,DATA!$K$2:$K$9077)","v":60},205,0.70731707317073167,1.8333333333333333,{"$f":"Table1[[#This Row],[Correct]]/Table1[[#This Row],['#Quizzes]]","v":3.0208333333333335},{"$f":"SUMIF(DATA!$A$2:$A$9077,B9,DATA!$L$2:$L$9077)","v":0},{"$f":"SUMIF(DATA!$A$2:$A$9077,B9,DATA!$M$2:$M$79077)","v":4},{"$f":"SUMIF(DATA!$A$2:$A$9077,B9,DATA!$N$2:$N$9077)","v":1},{"$f":"SUMIF(DATA!$A$2:$A$9101,B9,DATA!$O$2:$O$9101)","v":0},{"$f":"SUMIF(DATA!$A$2:$A$9101,B9,DATA!$P$2:$P$9101)","v":0},{"$f":"SUMIF(DATA!$A$2:$A$9101,B9,DATA!$Q$2:$Q$9101)","v":0},{"$f":"SUMIF(DATA!$A$2:$A$9078,B9,DATA!$R$2:$R$9078)","v":25},0.52083333333333337,{"$f":"SUMIF(DATA!$A$2:$A$9078,B9,DATA!$S$2:$S$9078)","v":3},6.25E-2,{"$f":"SUMIFS(DATA!J:J,DATA!A:A,Table1[[#This Row],[Name]],DATA!F:F,\"Pre\")","v":102},{"$f":"SUMIFS(DATA!K:K,DATA!A:A,Table1[[#This Row],[Name]],DATA!F:F,\"Pre\")","v":33},0.75555555555555554,{"$f":"SUMIFS(DATA!J:J,DATA!A:A,Table1[[#This Row],[Name]],DATA!F:F,\"Semi\")","v":43},{"$f":"SUMIFS(DATA!K:K,DATA!A:A,Table1[[#This Row],[Name]],DATA!F:F,\"Semi\")","v":27},0.61428571428571432,{"$f":"SUMIFS(DATA!J:J,DATA!A:A,Table1[[#This Row],[Name]],DATA!F:F,\"COnA\")","v":0},{"$f":"SUMIFS(DATA!K:K,DATA!A:A,Table1[[#This Row],[Name]],DATA!F:F,\"ConA\")","v":0},{"$error":"#DIV/0!"},{"$f":"SUMIFS(DATA!J:J,DATA!A:A,Table1[[#This Row],[Name]],DATA!F:F,\"ConB\")","v":0},{"$f":"SUMIFS(DATA!K:K,DATA!A:A,Table1[[#This Row],[Name]],DATA!F:F,\"ConB\")","v":0},{"$error":"#DIV/0!"}]
[13,"Emma Carlson","Dallas",{"$f":"COUNTIF(DATA!$A$2:$A$9731,B10)","v":55},{"$f":"SUMIF(DATA!$A$2:$A$9077,B10,DATA!$J$2:$J$9077)","v":136},{"$f":"SUMIF(DATA!$A$2:$A$9077,B10,DATA!$K$2:$K$9077)","v":44},180,0.75555555555555554,1.8,{"$f":"Table1[[#This Row],[Correct]]/Table1[[#This Row],['#Quizzes]]","v":2.4727272727272727},{"$f":"SUMIF(DATA!$A$2:$A$9077,B10,DATA!$L$2:$L$9077)","v":0},{"$f":"SUMIF(DATA!$A$2:$A$9077,B10,DATA!$M$2:$M$79077)","v":9},{"$f":"SUMIF(DATA!$A$2:$A$9077,B10,DATA!$N$2:$N$9077)","v":2},{"$f":"SUMIF(DATA!$A$2:$A$9101,B10,DATA!$O$2:$O$9101)","v":0},{"$f":"SUMIF(DATA!$A$2:$A$9101,B10,DATA!$P$2:$P$9101)","v":0},{"$f":"SUMIF(DATA!$A$2:$A$9101,B10,DATA!$Q$2:$Q$9101)","v":0},{"$f":"SUMIF(DATA!$A$2:$A$9078,B10,DATA!$R$2:$R$9078)","v":19},0.34545454545454546,{"$f":"SUMIF(DATA!$A$2:$A$9078,B10,DATA!$S$2:$S$9078)","v":1},1.8181818181818181E-2,{"$f":"SUMIFS(DATA!J:J,DATA!A:A,Table1[[#This Row],[Name]],DATA!F:F,\"Pre\")","v":90},{"$f":"SUMIFS(DATA!K:K,DATA!A:A,Table1[[#This Row],[Name]],DATA!F:F,\"Pre\")","v":30},0.75,{"$f":"SUMIFS(DATA!J:J,DATA!A:A,Table1[[#This Row],[Name]],DATA!F:F,\"Semi\")","v":34},{"$f":"SUMIFS(DATA!K:K,DATA!A:A,Table1[[#This Row],[Name]],DATA!F:F,\"Semi\")","v":11},0.75555555555555554,{"$f":"SUMIFS(DATA!J:J,DATA!A:A,Table1[[#This Row],[Name]],DATA!F:F,\"COnA\")","v":12},{"$f":"SUMIFS(DATA!K:K,DATA!A:A,Table1[[#This Row],[Name]],DATA!F:F,\"ConA\")","v":3},0.8,{"$f":"SUMIFS(DATA!J:J,DATA!A:A,Table1[[#This Row],[Name]],DATA!F:F,\"ConB\")","v":0},{"$f":"SUMIFS(DATA!K:K,DATA!A:A,Table1[[#This Row],[Name]],DATA!F:F,\"ConB\")","v":0},{"$error":"#DIV/0!"}]
[11,"Stephen Miller","Dallas",{"$f":"COUNTIF(DATA!$A$2:$A$9731,B11)","v":44},{"$f":"SUMIF(DATA!$A$2:$A$9077,B11,DATA!$J$2:$J$9077)","v":101},{"$f":"SUMIF(DATA!$A$2:$A$9077,B11,DATA!$K$2:$K$9077)","v":31},132,0.76515151515151514,1.6363636363636365,{"$f":"Table1[[#This Row],[Correct]]/Table1[[#This Row],['#Quizzes]]","v":2.2954545454545454},{"$f":"SUMIF(DATA!$A$2:$A$9077,B11,DATA!$L$2:$L$9077)","v":0},{"$f":"SUMIF(DATA!$A$2:$A$9077,B11,DATA!$M$2:$M$79077)","v":2},{"$f":"SUMIF(DATA!$A$2:$A$9077,B11,DATA!$N$2:$N$9077)","v":0},{"$f":"SUMIF(DATA!$A$2:$A$9101,B11,DATA!$O$2:$O$9101)","v":1},{"$f":"SUMIF(DATA!$A$2:$A$9101,B11,DATA!$P$2:$P$9101)","v":0},{"$f":"SUMIF(DATA!$A$2:$A$9101,B11,DATA!$Q$2:$Q$9101)","v":0},{"$f":"SUMIF(DATA!$A$2:$A$9078,B11,DATA!$R$2:$R$9078)","v":16},0.36363636363636365,{"$f":"SUMIF(DATA!$A$2:$A$9078,B11,DATA!$S$2:$S$9078)","v":1},2.2727272727272728E-2,{"$f":"SUMIFS(DATA!J:J,DATA!A:A,Table1[[#This Row],[Name]],DATA!F:F,\"Pre\")","v":74},{"$f":"SUMIFS(DATA!K:K,DATA!A:A,Table1[[#This Row],[Name]],DATA!F:F,\"Pre\")","v":18},0.80434782608695654,{"$f":"SUMIFS(DATA!J:J,DATA!A:A,Table1[[#This Row],[Name]],DATA!F:F,\"Semi\")","v":3},{"$f":"SUMIFS(DATA!K:K,DATA!A:A,Table1[[#This Row],[Name]],DATA!F:F,\"Semi\")","v":2},0.6,{"$f":"SUMIFS(DATA!J:J,DATA!A:A,Table1[[#This Row],[Name]],DATA!F:F,\"COnA\")","v":24},{"$f":"SUMIFS(DATA!K:K,DATA!A:A,Table1[[#This Row],[Name]],DATA!F:F,\"ConA\")","v":11},0.68571428571428572,{"$f":"SUMIFS(DATA!J:J,DATA!A:A,Table1[[#This Row],[Name]],DATA!F:F,\"ConB\")","v":0},{"$f":"SUMIFS(DATA!K:K,DATA!A:A,Table1[[#This Row],[Name]],DATA!F:F,\"ConB\")","v":0},{"$error":"#DIV/0!"}]
[12,"Claire Kong","Woodinville",{"$f":"COUNTIF(DATA!$A$2:$A$9731,B12)","v":57},{"$f":"SUMIF(DATA!$A$2:$A$9077,B12,DATA!$J$2:$J$9077)","v":106},{"$f":"SUMIF(DATA!$A$2:$A$9077,B12,DATA!$K$2:$K$9077)","v":22},128,0.828125,1.631578947368421,{"$f":"Table1[[#This Row],[Correct]]/Table1[[#This Row],['#Quizzes]]","v":1.8596491228070176},{"$f":"SUMIF(DATA!$A$2:$A$9077,B12,DATA!$L$2:$L$9077)","v":0},{"$f":"SUMIF(DATA!$A$2:$A$9077,B12,DATA!$M$2:$M$79077)","v":9},{"$f":"SUMIF(DATA!$A$2:$A$9077,B12,DATA!$N$2:$N$9077)","v":0},{"$f":"SUMIF(DATA!$A$2:$A$9101,B12,DATA!$O$2:$O$9101)","v":1},{"$f":"SUMIF(DATA!$A$2:$A$9101,B12,DATA!$P$2:$P$9101)","v":0},{"$f":"SUMIF(DATA!$A$2:$A$9101,B12,DATA!$Q$2:$Q$9101)","v":0},{"$f":"SUMIF(DATA!$A$2:$A$9078,B12,DATA!$R$2:$R$9078)","v":11},0.19298245614035087,{"$f":"SUMIF(DATA!$A$2:$A$9078,B12,DATA!$S$2:$S$9078)","v":0},0,{"$f":"SUMIFS(DATA!J:J,DATA!A:A,Table1[[#This Row],[Name]],DATA!F:F,\"Pre\")","v":75},{"$f":"SUMIFS(DATA!K:K,DATA!A:A,Table1[[#This Row],[Name]],DATA!F:F,\"Pre\")","v":13},0.85227272727272729,{"$f":"SUMIFS(DATA!J:J,DATA!A:A,Table1[[#This Row],[Name]],DATA!F:F,\"Semi\")","v":31},{"$f":"SUMIFS(DATA!K:K,DATA!A:A,Table1[[#This Row],[Name]],DATA!F:F,\"Semi\")","v":9},0.77500000000000002,{"$f":"SUMIFS(DATA!J:J,DATA!A:A,Table1[[#This Row],[Name]],DATA!F:F,\"COnA\")","v":0},{"$f":"SUMIFS(DATA!K:K,DATA!A:A,Table1[[#This Row],[Name]],DATA!F:F,\"ConA\")","v":0},{"$error":"#DIV/0!"},{"$f":"SUMIFS(DATA!J:J,DATA!A:A,Table1[[#This Row],[Name]],DATA!F:F,\"ConB\")","v":0},{"$f":"SUMIFS(DATA!K:K,DATA!A:A,Table1[[#This Row],[Name]],DATA!F:F,\"ConB\")","v":0},{"$error":"#DIV/0!"}]
[9,"Abi Carlson","Dallas",{"$f":"COUNTIF(DATA!$A$2:$A$9731,B13)","v":48},{"$f":"SUMIF(DATA!$A$2:$A$9077,B13,DATA!$J$2:$J$9077)","v":154},{"$f":"SUMIF(DATA!$A$2:$A$9077,B13,DATA!$K$2:$K$9077)","v":81},235,0.65531914893617016,1.625,{"$f":"Table1[[#This Row],[Correct]]/Table1[[#This Row],['#Quizzes]]","v":3.2083333333333335},{"$f":"SUMIF(DATA!$A$2:$A$9077,B13,DATA!$L$2:$L$9077)","v":0},{"$f":"SUMIF(DATA!$A$2:$A$9077,B13,DATA!$M$2:$M$79077)","v":7},{"$f":"SUMIF(DATA!$A$2:$A$9077,B13,DATA!$N$2:$N$9077)","v":2},{"$f":"SUMIF(DATA!$A$2:$A$9101,B13,DATA!$O$2:$O$9101)","v":1},{"$f":"SUMIF(DATA!$A$2:$A$9101,B13,DATA!$P$2:$P$9101)","v":0},{"$f":"SUMIF(DATA!$A$2:$A$9101,B13,DATA!$Q$2:$Q$9101)","v":0},{"$f":"SUMIF(DATA!$A$2:$A$9078,B13,DATA!$R$2:$R$9078)","v":29},0.60416666666666663,{"$f":"SUMIF(DATA!$A$2:$A$9078,B13,DATA!$S$2:$S$9078)","v":15},0.3125,{"$f":"SUMIFS(DATA!J:J,DATA!A:A,Table1[[#This Row],[Name]],DATA!F:F,\"Pre\")","v":109},{"$f":"SUMIFS(DATA!K:K,DATA!A:A,Table1[[#This Row],[Name]],DATA!F:F,\"Pre\")","v":42},0.72185430463576161,{"$f":"SUMIFS(DATA!J:J,DATA!A:A,Table1[[#This Row],[Name]],DATA!F:F,\"Semi\")","v":45},{"$f":"SUMIFS(DATA!K:K,DATA!A:A,Table1[[#This Row],[Name]],DATA!F:F,\"Semi\")","v":39},0.5357142857142857,{"$f":"SUMIFS(DATA!J:J,DATA!A:A,Table1[[#This Row],[Name]],DATA!F:F,\"COnA\")","v":0},{"$f":"SUMIFS(DATA!K:K,DATA!A:A,Table1[[#This Row],[Name]],DATA!F:F,\"ConA\")","v":0},{"$error":"#DIV/0!"},{"$f":"SUMIFS(DATA!J:J,DATA!A:A,Table1[[#This Row],[Name]],DATA!F:F,\"ConB\")","v":0},{"$f":"SUMIFS(DATA!K:K,DATA!A:A,Table1[[#This Row],[Name]],DATA!F:F,\"ConB\")","v":0},{"$error":"#DIV/0!"}]
[8,"Daniel Emme","EBC",{"$f":"COUNTIF(DATA!$A$2:$A$9731,B14)","v":43},{"$f":"SUMIF(DATA!$A$2:$A$9077,B14,DATA!$J$2:$J$9077)","v":100},{"$f":"SUMIF(DATA!$A$2:$A$9077,B14,DATA!$K$2:$K$9077)","v":33},133,0.75187969924812026,1.6046511627906976,{"$f":"Table1[[#This Row],[Correct]]/Table1[[#This Row],['#Quizzes]]","v":2.3255813953488373},{"$f":"SUMIF(DATA!$A$2:$A$9077,B14,DATA!$L$2:$L$9077)","v":0},{"$f":"SUMIF(DATA!$A$2:$A$9077,B14,DATA!$M$2:$M$79077)","v":3},{"$f":"SUMIF(DATA!$A$2:$A$9077,B14,DATA!$N$2:$N$9077)","v":1},{"$f":"SUMIF(DATA!$A$2:$A$9101,B14,DATA!$O$2:$O$9101)","v":5},{"$f":"SUMIF(DATA!$A$2:$A$9101,B14,DATA!$P$2:$P$9101)","v":0},{"$f":"SUMIF(DATA!$A$2:$A$9101,B14,DATA!$Q$2:$Q$9101)","v":0},{"$f":"SUMIF(DATA!$A$2:$A$9078,B14,DATA!$R$2:$R$9078)","v":15},0.34883720930232559,{"$f":"SUMIF(DATA!$A$2:$A$9078,B14,DATA!$S$2:$S$9078)","v":3},6.9767441860465115E-2,{"$f":"SUMIFS(DATA!J:J,DATA!A:A,Table1[[#This Row],[Name]],DATA!F:F,\"Pre\")","v":79},{"$f":"SUMIFS(DATA!K:K,DATA!A:A,Table1[[#This Row],[Name]],DATA!F:F,\"Pre\")","v":21},0.79,{"$f":"SUMIFS(DATA!J:J,DATA!A:A,Table1[[#This Row],[Name]],DATA!F:F,\"Semi\")","v":21},{"$f":"SUMIFS(DATA!K:K,DATA!A:A,Table1[[#This Row],[Name]],DATA!F:F,\"Semi\")","v":12},0.63636363636363635,{"$f":"SUMIFS(DATA!J:J,DATA!A:A,Table1[[#This Row],[Name]],DATA!F:F,\"COnA\")","v":0},{"$f":"SUMIFS(DATA!K:K,DATA!A:A,Table1[[#This Row],[Name]],DATA!F:F,\"ConA\")","v":0},{"$error":"#DIV/0!"},{"$f":"SUMIFS(DATA!J:J,DATA!A:A,Table1[[#This Row],[Name]],DATA!F:F,\"ConB\")","v":0},{"$f":"SUMIFS(DATA!K:K,DATA!A:A,Table1[[#This Row],[Name]],DATA!F:F,\"ConB\")","v":0},{"$error":"#DIV/0!"}]
[18,"Maddie Ashcraft","Lighthouse",{"$f":"COUNTIF(DATA!$A$2:$A$9731,B15)","v":49},{"$f":"SUMIF(DATA!$A$2:$A$9077,B15,DATA!$J$2:$J$9077)","v":115},{"$f":"SUMIF(DATA!$A$2:$A$9077,B15,DATA!$K$2:$K$9077)","v":34},149,0.77181208053691275,1.6326530612244898,{"$f":"Table1[[#This Row],[Correct]]/Table1[[#This Row],['#Quizzes]]","v":2.3469387755102042},{"$f":"SUMIF(DATA!$A$2:$A$9077,B15,DATA!$L$2:$L$9077)","v":0},{"$f":"SUMIF(DATA!$A$2:$A$9077,B15,DATA!$M$2:$M$79077)","v":5},{"$f":"SUMIF(DATA!$A$2:$A$9077,B15,DATA!$N$2:$N$9077)","v":6},{"$f":"SUMIF(DATA!$A$2:$A$9101,B15,DATA!$O$2:$O$9101)","v":6},{"$f":"SUMIF(DATA!$A$2:$A$9101,B15,DATA!$P$2:$P$9101)","v":0},{"$f":"SUMIF(DATA!$A$2:$A$9101,B15,DATA!$Q$2:$Q$9101)","v":0},{"$f":"SUMIF(DATA!$A$2:$A$9078,B15,DATA!$R$2:$R$9078)","v":12},0.24489795918367346,{"$f":"SUMIF(DATA!$A$2:$A$9078,B15,DATA!$S$2:$S$9078)","v":0},0,{"$f":"SUMIFS(DATA!J:J,DATA!A:A,Table1[[#This Row],[Name]],DATA!F:F,\"Pre\")","v":68},{"$f":"SUMIFS(DATA!K:K,DATA!A:A,Table1[[#This Row],[Name]],DATA!F:F,\"Pre\")","v":24},0.73913043478260865,{"$f":"SUMIFS(DATA!J:J,DATA!A:A,Table1[[#This Row],[Name]],DATA!F:F,\"Semi\")","v":0},{"$f":"SUMIFS(DATA!K:K,DATA!A:A,Table1[[#This Row],[Name]],DATA!F:F,\"Semi\")","v":0},{"$error":"#DIV/0!"},{"$f":"SUMIFS(DATA!J:J,DATA!A:A,Table1[[#This Row],[Name]],DATA!F:F,\"COnA\")","v":33},{"$f":"SUMIFS(DATA!K:K,DATA!A:A,Table1[[#This Row],[Name]],DATA!F:F,\"ConA\")","v":8},0.80487804878048785,{"$f":"SUMIFS(DATA!J:J,DATA!A:A,Table1[[#This Row],[Name]],DATA!F:F,\"ConB\")","v":14},{"$f":"SUMIFS(DATA!K:K,DATA!A:A,Table1[[#This Row],[Name]],DATA!F:F,\"ConB\")","v":2},0.875]
[15,"Stephen Nguyen","ABC",{"$f":"COUNTIF(DATA!$A$2:$A$9731,B16)","v":49},{"$f":"SUMIF(DATA!$A$2:$A$9077,B16,DATA!$J$2:$J$9077)","v":143},{"$f":"SUMIF(DATA!$A$2:$A$9077,B16,DATA!$K$2:$K$9077)","v":78},221,0.6470588235294118,1.5306122448979591,{"$f":"Table1[[#This Row],[Correct]]/Table1[[#This Row],['#Quizzes]]","v":2.9183673469387754},{"$f":"SUMIF(DATA!$A$2:$A$9077,B16,DATA!$L$2:$L$9077)","v":0},{"$f":"SUMIF(DATA!$A$2:$A$9077,B16,DATA!$M$2:$M$79077)","v":14},{"$f":"SUMIF(DATA!$A$2:$A$9077,B16,DATA!$N$2:$N$9077)","v":4},{"$f":"SUMIF(DATA!$A$2:$A$9101,B16,DATA!$O$2:$O$9101)","v":0},{"$f":"SUMIF(DATA!$A$2:$A$9101,B16,DATA!$P$2:$P$9101)","v":0},{"$f":"SUMIF(DATA!$A$2:$A$9101,B16,DATA!$Q$2:$Q$9101)","v":0},{"$f":"SUMIF(DATA!$A$2:$A$9078,B16,DATA!$R$2:$R$9078)","v":21},0.42857142857142855,{"$f":"SUMIF(DATA!$A$2:$A$9078,B16,DATA!$S$2:$S$9078)","v":13},0.26530612244897961,{"$f":"SUMIFS(DATA!J:J,DATA!A:A,Table1[[#This Row],[Name]],DATA!F:F,\"Pre\")","v":91},{"$f":"SUMIFS(DATA!K:K,DATA!A:A,Table1[[#This Row],[Name]],DATA!F:F,\"Pre\")","v":50},0.64539007092198586,{"$f":"SUMIFS(DATA!J:J,DATA!A:A,Table1[[#This Row],[Name]],DATA!F:F,\"Semi\")","v":38},{"$f":"SUMIFS(DATA!K:K,DATA!A:A,Table1[[#This Row],[Name]],DATA!F:F,\"Semi\")","v":24},0.61290322580645162,{"$f":"SUMIFS(DATA!J:J,DATA!A:A,Table1[[#This Row],[Name]],DATA!F:F,\"COnA\")","v":14},{"$f":"SUMIFS(DATA!K:K,DATA!A:A,Table1[[#This Row],[Name]],DATA!F:F,\"ConA\")","v":4},0.77777777777777779,{"$f":"SUMIFS(DATA!J:J,DATA!A:A,Table1[[#This Row],[Name]],DATA!F:F,\"ConB\")","v":0},{"$f":"SUMIFS(DATA!K:K,DATA!A:A,Table1[[#This Row],[Name]],DATA!F:F,\"ConB\")","v":0},{"$error":"#DIV/0!"}]
[17,"Inez Yoon","Tacoma",{"$f":"COUNTIF(DATA!$A$2:$A$9731,B17)","v":49},{"$f":"SUMIF(DATA!$A$2:$A$9077,B17,DATA!$J$2:$J$9077)","v":111},{"$f":"SUMIF(DATA!$A$2:$A$9077,B17,DATA!$K$2:$K$9077)","v":36},147,0.75510204081632648,1.5714285714285714,{"$f":"Table1[[#This Row],[Correct]]/Table1[[#This Row],['#Quizzes]]","v":2.2653061224489797},{"$f":"SUMIF(DATA!$A$2:$A$9077,B17,DATA!$L$2:$L$9077)","v":0},{"$f":"SUMIF(DATA!$A$2:$A$9077,B17,DATA!$M$2:$M$79077)","v":4},{"$f":"SUMIF(DATA!$A$2:$A$9077,B17,DATA!$N$2:$N$9077)","v":2},{"$f":"SUMIF(DATA!$A$2:$A$9101,B17,DATA!$O$2:$O$9101)","v":0},{"$f":"SUMIF(DATA!$A$2:$A$9101,B17,DATA!$P$2:$P$9101)","v":0},{"$f":"SUMIF(DATA!$A$2:$A$9101,B17,DATA!$Q$2:$Q$9101)","v":0},{"$f":"SUMIF(DATA!$A$2:$A$9078,B17,DATA!$R$2:$R$9078)","v":9},0.18367346938775511,{"$f":"SUMIF(DATA!$A$2:$A$9078,B17,DATA!$S$2:$S$9078)","v":2},4.0816326530612242E-2,{"$f":"SUMIFS(DATA!J:J,DATA!A:A,Table1[[#This Row],[Name]],DATA!F:F,\"Pre\")","v":65},{"$f":"SUMIFS(DATA!K:K,DATA!A:A,Table1[[#This Row],[Name]],DATA!F:F,\"Pre\")","v":19},0.77380952380952384,{"$f":"SUMIFS(DATA!J:J,DATA!A:A,Table1[[#This Row],[Name]],DATA!F:F,\"Semi\")","v":0},{"$f":"SUMIFS(DATA!K:K,DATA!A:A,Table1[[#This Row],[Name]],DATA!F:F,\"Semi\")","v":0},{"$error":"#DIV/0!"},{"$f":"SUMIFS(DATA!J:J,DATA!A:A,Table1[[#This Row],[Name]],DATA!F:F,\"COnA\")","v":26},{"$f":"SUMIFS(DATA!K:K,DATA!A:A,Table1[[#This Row],[Name]],DATA!F:F,\"ConA\")","v":8},0.76470588235294112,{"$f":"SUMIFS(DATA!J:J,DATA!A:A,Table1[[#This Row],[Name]],DATA!F:F,\"ConB\")","v":20},{"$f":"SUMIFS(DATA!K:K,DATA!A:A,Table1[[#This Row],[Name]],DATA!F:F,\"ConB\")","v":9},0.68965517241379315]
[19,"Joshua Hole","Grays Harbor",{"$f":"COUNTIF(DATA!$A$2:$A$9731,B18)","v":43},{"$f":"SUMIF(DATA!$A$2:$A$9077,B18,DATA!$J$2:$J$9077)","v":132},{"$f":"SUMIF(DATA!$A$2:$A$9077,B18,DATA!$K$2:$K$9077)","v":64},196,0.67346938775510201,1.5116279069767442,{"$f":"Table1[[#This Row],[Correct]]/Table1[[#This Row],['#Quizzes]]","v":3.0697674418604652},{"$f":"SUMIF(DATA!$A$2:$A$9077,B18,DATA!$L$2:$L$9077)","v":4},{"$f":"SUMIF(DATA!$A$2:$A$9077,B18,DATA!$M$2:$M$79077)","v":5},{"$f":"SUMIF(DATA!$A$2:$A$9077,B18,DATA!$N$2:$N$9077)","v":4},{"$f":"SUMIF(DATA!$A$2:$A$9101,B18,DATA!$O$2:$O$9101)","v":0},{"$f":"SUMIF(DATA!$A$2:$A$9101,B18,DATA!$P$2:$P$9101)","v":0},{"$f":"SUMIF(DATA!$A$2:$A$9101,B18,DATA!$Q$2:$Q$9101)","v":0},{"$f":"SUMIF(DATA!$A$2:$A$9078,B18,DATA!$R$2:$R$9078)","v":21},0.48837209302325579,{"$f":"SUMIF(DATA!$A$2:$A$9078,B18,DATA!$S$2:$S$9078)","v":9},0.20930232558139536,{"$f":"SUMIFS(DATA!J:J,DATA!A:A,Table1[[#This Row],[Name]],DATA!F:F,\"Pre\")","v":100},{"$f":"SUMIFS(DATA!K:K,DATA!A:A,Table1[[#This Row],[Name]],DATA!F:F,\"Pre\")","v":44},0.69444444444444442,{"$f":"SUMIFS(DATA!J:J,DATA!A:A,Table1[[#This Row],[Name]],DATA!F:F,\"Semi\")","v":21},{"$f":"SUMIFS(DATA!K:K,DATA!A:A,Table1[[#This Row],[Name]],DATA!F:F,\"Semi\")","v":15},0.58333333333333337,{"$f":"SUMIFS(DATA!J:J,DATA!A:A,Table1[[#This Row],[Name]],DATA!F:F,\"COnA\")","v":11},{"$f":"SUMIFS(DATA!K:K,DATA!A:A,Table1[[#This Row],[Name]],DATA!F:F,\"ConA\")","v":5},0.6875,{"$f":"SUMIFS(DATA!J:J,DATA!A:A,Table1[[#This Row],[Name]],DATA!F:F,\"ConB\")","v":0},{"$f":"SUMIFS(DATA!K:K,DATA!A:A,Table1[[#This Row],[Name]],DATA!F:F,\"ConB\")","v":0},{"$error":"#DIV/0!"}]
[16,"Andrew Borden","ABC",{"$f":"COUNTIF(DATA!$A$2:$A$9731,B19)","v":49},{"$f":"SUMIF(DATA!$A$2:$A$9077,B19,DATA!$J$2:$J$9077)","v":114},{"$f":"SUMIF(DATA!$A$2:$A$9077,B19,DATA!$K$2:$K$9077)","v":47},161,0.70807453416149069,1.4693877551020409,{"$f":"Table1[[#This Row],[Correct]]/Table1[[#This Row],['#Quizzes]]","v":2.3265306122448979},{"$f":"SUMIF(DATA!$A$2:$A$9077,B19,DATA!$L$2:$L$9077)","v":1},{"$f":"SUMIF(DATA!$A$2:$A$9077,B19,DATA!$M$2:$M$79077)","v":6},{"$f":"SUMIF(DATA!$A$2:$A$9077,B19,DATA!$N$2:$N$9077)","v":0},{"$f":"SUMIF(DATA!$A$2:$A$9101,B19,DATA!$O$2:$O$9101)","v":0},{"$f":"SUMIF(DATA!$A$2:$A$9101,B19,DATA!$P$2:$P$9101)","v":0},{"$f":"SUMIF(DATA!$A$2:$A$9101,B19,DATA!$Q$2:$Q$9101)","v":0},{"$f":"SUMIF(DATA!$A$2:$A$9078,B19,DATA!$R$2:$R$9078)","v":14},0.2857142857142857,{"$f":"SUMIF(DATA!$A$2:$A$9078,B19,DATA!$S$2:$S$9078)","v":4},8.1632653061224483E-2,{"$f":"SUMIFS(DATA!J:J,DATA!A:A,Table1[[#This Row],[Name]],DATA!F:F,\"Pre\")","v":86},{"$f":"SUMIFS(DATA!K:K,DATA!A:A,Table1[[#This Row],[Name]],DATA!F:F,\"Pre\")","v":24},0.78181818181818186,{"$f":"SUMIFS(DATA!J:J,DATA!A:A,Table1[[#This Row],[Name]],DATA!F:F,\"Semi\")","v":20},{"$f":"SUMIFS(DATA!K:K,DATA!A:A,Table1[[#This Row],[Name]],DATA!F:F,\"Semi\")","v":17},0.54054054054054057,{"$f":"SUMIFS(DATA!J:J,DATA!A:A,Table1[[#This Row],[Name]],DATA!F:F,\"COnA\")","v":8},{"$f":"SUMIFS(DATA!K:K,DATA!A:A,Table1[[#This Row],[Name]],DATA!F:F,\"ConA\")","v":6},0.5714285714285714,{"$f":"SUMIFS(DATA!J:J,DATA!A:A,Table1[[#This Row],[Name]],DATA!F:F,\"ConB\")","v":0},{"$f":"SUMIFS(DATA!K:K,DATA!A:A,Table1[[#This Row],[Name]],DATA!F:F,\"ConB\")","v":0},{"$error":"#DIV/0!"}]
[14,"Esther Derr","Chapel Hill",{"$f":"COUNTIF(DATA!$A$2:$A$9731,B20)","v":50},{"$f":"SUMIF(DATA!$A$2:$A$9077,B20,DATA!$J$2:$J$9077)","v":136},{"$f":"SUMIF(DATA!$A$2:$A$9077,B20,DATA!$K$2:$K$9077)","v":57},193,0.70466321243523311,1.52,{"$f":"Table1[[#This Row],[Correct]]/Table1[[#This Row],['#Quizzes]]","v":2.72},{"$f":"SUMIF(DATA!$A$2:$A$9077,B20,DATA!$L$2:$L$9077)","v":1},{"$f":"SUMIF(DATA!$A$2:$A$9077,B20,DATA!$M$2:$M$79077)","v":0},{"$f":"SUMIF(DATA!$A$2:$A$9077,B20,DATA!$N$2:$N$9077)","v":2},{"$f":"SUMIF(DATA!$A$2:$A$9101,B20,DATA!$O$2:$O$9101)","v":1},{"$f":"SUMIF(DATA!$A$2:$A$9101,B20,DATA!$P$2:$P$9101)","v":0},{"$f":"SUMIF(DATA!$A$2:$A$9101,B20,DATA!$Q$2:$Q$9101)","v":0},{"$f":"SUMIF(DATA!$A$2:$A$9078,B20,DATA!$R$2:$R$9078)","v":21},0.42,{"$f":"SUMIF(DATA!$A$2:$A$9078,B20,DATA!$S$2:$S$9078)","v":2},0.04,{"$f":"SUMIFS(DATA!J:J,DATA!A:A,Table1[[#This Row],[Name]],DATA!F:F,\"Pre\")","v":74},{"$f":"SUMIFS(DATA!K:K,DATA!A:A,Table1[[#This Row],[Name]],DATA!F:F,\"Pre\")","v":35},0.67889908256880738,{"$f":"SUMIFS(DATA!J:J,DATA!A:A,Table1[[#This Row],[Name]],DATA!F:F,\"Semi\")","v":0},{"$f":"SUMIFS(DATA!K:K,DATA!A:A,Table1[[#This Row],[Name]],DATA!F:F,\"Semi\")","v":0},{"$error":"#DIV/0!"},{"$f":"SUMIFS(DATA!J:J,DATA!A:A,Table1[[#This Row],[Name]],DATA!F:F,\"COnA\")","v":49},{"$f":"SUMIFS(DATA!K:K,DATA!A:A,Table1[[#This Row],[Name]],DATA!F:F,\"ConA\")","v":18},0.73134328358208955,{"$f":"SUMIFS(DATA!J:J,DATA!A:A,Table1[[#This Row],[Name]],DATA!F:F,\"ConB\")","v":13},{"$f":"SUMIFS(DATA!K:K,DATA!A:A,Table1[[#This Row],[Name]],DATA!F:F,\"ConB\")","v":4},0.76470588235294112]
[20,"Ryan Small","Fox Island",{"$f":"COUNTIF(DATA!$A$2:$A$9731,B21)","v":48},{"$f":"SUMIF(DATA!$A$2:$A$9077,B21,DATA!$J$2:$J$9077)","v":121},{"$f":"SUMIF(DATA!$A$2:$A$9077,B21,DATA!$K$2:$K$9077)","v":62},183,0.66120218579234968,1.3541666666666667,{"$f":"Table1[[#This Row],[Correct]]/Table1[[#This Row],['#Quizzes]]","v":2.5208333333333335},{"$f":"SUMIF(DATA!$A$2:$A$9077,B21,DATA!$L$2:$L$9077)","v":0},{"$f":"SUMIF(DATA!$A$2:$A$9077,B21,DATA!$M$2:$M$79077)","v":14},{"$f":"SUMIF(DATA!$A$2:$A$9077,B21,DATA!$N$2:$N$9077)","v":8},{"$f":"SUMIF(DATA!$A$2:$A$9101,B21,DATA!$O$2:$O$9101)","v":1},{"$f":"SUMIF(DATA!$A$2:$A$9101,B21,DATA!$P$2:$P$9101)","v":0},{"$f":"SUMIF(DATA!$A$2:$A$9101,B21,DATA!$Q$2:$Q$9101)","v":0},{"$f":"SUMIF(DATA!$A$2:$A$9078,B21,DATA!$R$2:$R$9078)","v":18},0.375,{"$f":"SUMIF(DATA!$A$2:$A$9078,B21,DATA!$S$2:$S$9078)","v":6},0.125,{"$f":"SUMIFS(DATA!J:J,DATA!A:A,Table1[[#This Row],[Name]],DATA!F:F,\"Pre\")","v":79},{"$f":"SUMIFS(DATA!K:K,DATA!A:A,Table1[[#This Row],[Name]],DATA!F:F,\"Pre\")","v":32},0.71171171171171166,{"$f":"SUMIFS(DATA!J:J,DATA!A:A,Table1[[#This Row],[Name]],DATA!F:F,\"Semi\")","v":8},{"$f":"SUMIFS(DATA!K:K,DATA!A:A,Table1[[#This Row],[Name]],DATA!F:F,\"Semi\")","v":5},0.61538461538461542,{"$f":"SUMIFS(DATA!J:J,DATA!A:A,Table1[[#This Row],[Name]],DATA!F:F,\"COnA\")","v":27},{"$f":"SUMIFS(DATA!K:K,DATA!A:A,Table1[[#This Row],[Name]],DATA!F:F,\"ConA\")","v":17},0.61363636363636365,{"$f":"SUMIFS(DATA!J:J,DATA!A:A,Table1[[#This Row],[Name]],DATA!F:F,\"ConB\")","v":7},{"$f":"SUMIFS(DATA!K:K,DATA!A:A,Table1[[#This Row],[Name]],DATA!F:F,\"ConB\")","v":8},0.46666666666666667]
[21,"Emilee Pope","Dallas",{"$f":"COUNTIF(DATA!$A$2:$A$9731,B22)","v":48},{"$f":"SUMIF(DATA!$A$2:$A$9077,B22,DATA!$J$2:$J$9077)","v":113},{"$f":"SUMIF(DATA!$A$2:$A$9077,B22,DATA!$K$2:$K$9077)","v":56},169,0.66863905325443784,1.2083333333333333,{"$f":"Table1[[#This Row],[Correct]]/Table1[[#This Row],['#Quizzes]]","v":2.3541666666666665},{"$f":"SUMIF(DATA!$A$2:$A$9077,B22,DATA!$L$2:$L$9077)","v":1},{"$f":"SUMIF(DATA!$A$2:$A$9077,B22,DATA!$M$2:$M$79077)","v":3},{"$f":"SUMIF(DATA!$A$2:$A$9077,B22,DATA!$N$2:$N$9077)","v":1},{"$f":"SUMIF(DATA!$A$2:$A$9101,B22,DATA!$O$2:$O$9101)","v":3},{"$f":"SUMIF(DATA!$A$2:$A$9101,B22,DATA!$P$2:$P$9101)","v":0},{"$f":"SUMIF(DATA!$A$2:$A$9101,B22,DATA!$Q$2:$Q$9101)","v":0},{"$f":"SUMIF(DATA!$A$2:$A$9078,B22,DATA!$R$2:$R$9078)","v":14},0.29166666666666669,{"$f":"SUMIF(DATA!$A$2:$A$9078,B22,DATA!$S$2:$S$9078)","v":3},6.25E-2,{"$f":"SUMIFS(DATA!J:J,DATA!A:A,Table1[[#This Row],[Name]],DATA!F:F,\"Pre\")","v":87},{"$f":"SUMIFS(DATA!K:K,DATA!A:A,Table1[[#This Row],[Name]],DATA!F:F,\"Pre\")","v":39},0.69047619047619047,{"$f":"SUMIFS(DATA!J:J,DATA!A:A,Table1[[#This Row],[Name]],DATA!F:F,\"Semi\")","v":26},{"$f":"SUMIFS(DATA!K:K,DATA!A:A,Table1[[#This Row],[Name]],DATA!F:F,\"Semi\")","v":17},0.60465116279069764,{"$f":"SUMIFS(DATA!J:J,DATA!A:A,Table1[[#This Row],[Name]],DATA!F:F,\"COnA\")","v":0},{"$f":"SUMIFS(DATA!K:K,DATA!A:A,Table1[[#This Row],[Name]],DATA!F:F,\"ConA\")","v":0},{"$error":"#DIV/0!"},{"$f":"SUMIFS(DATA!J:J,DATA!A:A,Table1[[#This Row],[Name]],DATA!F:F,\"ConB\")","v":0},{"$f":"SUMIFS(DATA!K:K,DATA!A:A,Table1[[#This Row],[Name]],DATA!F:F,\"ConB\")","v":0},{"$error":"#DIV/0!"}]
[22,"Samuel Do","ABC",{"$f":"COUNTIF(DATA!$A$2:$A$9731,B23)","v":45},{"$f":"SUMIF(DATA!$A$2:$A$9077,B23,DATA!$J$2:$J$9077)","v":85},{"$f":"SUMIF(DATA!$A$2:$A$9077,B23,DATA!$K$2:$K$9077)","v":38},123,0.69105691056910568,1.2,{"$f":"Table1[[#This Row],[Correct]]/Table1[[#This Row],['#Quizzes]]","v":1.8888888888888888},{"$f":"SUMIF(DATA!$A$2:$A$9077,B23,DATA!$L$2:$L$9077)","v":0},{"$f":"SUMIF(DATA!$A$2:$A$9077,B23,DATA!$M$2:$M$79077)","v":9},{"$f":"SUMIF(DATA!$A$2:$A$9077,B23,DATA!$N$2:$N$9077)","v":2},{"$f":"SUMIF(DATA!$A$2:$A$9101,B23,DATA!$O$2:$O$9101)","v":0},{"$f":"SUMIF(DATA!$A$2:$A$9101,B23,DATA!$P$2:$P$9101)","v":0},{"$f":"SUMIF(DATA!$A$2:$A$9101,B23,DATA!$Q$2:$Q$9101)","v":0},{"$f":"SUMIF(DATA!$A$2:$A$9078,B23,DATA!$R$2:$R$9078)","v":5},0.1111111111111111,{"$f":"SUMIF(DATA!$A$2:$A$9078,B23,DATA!$S$2:$S$9078)","v":2},4.4444444444444446E-2,{"$f":"SUMIFS(DATA!J:J,DATA!A:A,Table1[[#This Row],[Name]],DATA!F:F,\"Pre\")","v":48},{"$f":"SUMIFS(DATA!K:K,DATA!A:A,Table1[[#This Row],[Name]],DATA!F:F,\"Pre\")","v":25},0.65753424657534243,{"$f":"SUMIFS(DATA!J:J,DATA!A:A,Table1[[#This Row],[Name]],DATA!F:F,\"Semi\")","v":0},{"$f":"SUMIFS(DATA!K:K,DATA!A:A,Table1[[#This Row],[Name]],DATA!F:F,\"Semi\")","v":0},{"$error":"#DIV/0!"},{"$f":"SUMIFS(DATA!J:J,DATA!A:A,Table1[[#This Row],[Name]],DATA!F:F,\"COnA\")","v":11},{"$f":"SUMIFS(DATA!K:K,DATA!A:A,Table1[[#This Row],[Name]],DATA!F:F,\"ConA\")","v":6},0.6470588235294118,{"$f":"SUMIFS(DATA!J:J,DATA!A:A,Table1[[#This Row],[Name]],DATA!F:F,\"ConB\")","v":26},{"$f":"SUMIFS(DATA!K:K,DATA!A:A,Table1[[#This Row],[Name]],DATA!F:F,\"ConB\")","v":7},0.78787878787878785]
[24,"Teresa Derr","Chapel Hill",{"$f":"COUNTIF(DATA!$A$2:$A$9731,B24)","v":47},{"$f":"SUMIF(DATA!$A$2:$A$9077,B24,DATA!$J$2:$J$9077)","v":85},{"$f":"SUMIF(DATA!$A$2:$A$9077,B24,DATA!$K$2:$K$9077)","v":24},109,0.77981651376146788,1.2553191489361701,{"$f":"Table1[[#This Row],[Correct]]/Table1[[#This Row],['#Quizzes]]","v":1.8085106382978724},{"$f":"SUMIF(DATA!$A$2:$A$9077,B24,DATA!$L$2:$L$9077)","v":0},{"$f":"SUMIF(DATA!$A$2:$A$9077,B24,DATA!$M$2:$M$79077)","v":9},{"$f":"SUMIF(DATA!$A$2:$A$9077,B24,DATA!$N$2:$N$9077)","v":11},{"$f":"SUMIF(DATA!$A$2:$A$9101,B24,DATA!$O$2:$O$9101)","v":0},{"$f":"SUMIF(DATA!$A$2:$A$9101,B24,DATA!$P$2:$P$9101)","v":0},{"$f":"SUMIF(DATA!$A$2:$A$9101,B24,DATA!$Q$2:$Q$9101)","v":0},{"$f":"SUMIF(DATA!$A$2:$A$9078,B24,DATA!$R$2:$R$9078)","v":8},0.1702127659574468,{"$f":"SUMIF(DATA!$A$2:$A$9078,B24,DATA!$S$2:$S$9078)","v":1},2.1276595744680851E-2,{"$f":"SUMIFS(DATA!J:J,DATA!A:A,Table1[[#This Row],[Name]],DATA!F:F,\"Pre\")","v":48},{"$f":"SUMIFS(DATA!K:K,DATA!A:A,Table1[[#This Row],[Name]],DATA!F:F,\"Pre\")","v":18},0.72727272727272729,{"$f":"SUMIFS(DATA!J:J,DATA!A:A,Table1[[#This Row],[Name]],DATA!F:F,\"Semi\")","v":0},{"$f":"SUMIFS(DATA!K:K,DATA!A:A,Table1[[#This Row],[Name]],DATA!F:F,\"Semi\")","v":0},{"$error":"#DIV/0!"},{"$f":"SUMIFS(DATA!J:J,DATA!A:A,Table1[[#This Row],[Name]],DATA!F:F,\"COnA\")","v":31},{"$f":"SUMIFS(DATA!K:K,DATA!A:A,Table1[[#This Row],[Name]],DATA!F:F,\"ConA\")","v":4},0.88571428571428568,{"$f":"SUMIFS(DATA!J:J,DATA!A:A,Table1[[#This Row],[Name]],DATA!F:F,\"ConB\")","v":6},{"$f":"SUMIFS(DATA!K:K,DATA!A:A,Table1[[#This Row],[Name]],DATA!F:F,\"ConB\")","v":2},0.75]
[23,"Kimberly Bonar","EBC",{"$f":"COUNTIF(DATA!$A$2:$A$9731,B25)","v":45},{"$f":"SUMIF(DATA!$A$2:$A$9077,B25,DATA!$J$2:$J$9077)","v":99},{"$f":"SUMIF(DATA!$A$2:$A$9077,B25,DATA!$K$2:$K$9077)","v":50},149,0.66442953020134232,1.2222222222222223,{"$f":"Table1[[#This Row],[Correct]]/Table1[[#This Row],['#Quizzes]]","v":2.2000000000000002},{"$f":"SUMIF(DATA!$A$2:$A$9077,B25,DATA!$L$2:$L$9077)","v":2},{"$f":"SUMIF(DATA!$A$2:$A$9077,B25,DATA!$M$2:$M$79077)","v":8},{"$f":"SUMIF(DATA!$A$2:$A$9077,B25,DATA!$N$2:$N$9077)","v":0},{"$f":"SUMIF(DATA!$A$2:$A$9101,B25,DATA!$O$2:$O$9101)","v":2},{"$f":"SUMIF(DATA!$A$2:$A$9101,B25,DATA!$P$2:$P$9101)","v":0},{"$f":"SUMIF(DATA!$A$2:$A$9101,B25,DATA!$Q$2:$Q$9101)","v":0},{"$f":"SUMIF(DATA!$A$2:$A$9078,B25,DATA!$R$2:$R$9078)","v":10},0.22222222222222221,{"$f":"SUMIF(DATA!$A$2:$A$9078,B25,DATA!$S$2:$S$9078)","v":3},6.6666666666666666E-2,{"$f":"SUMIFS(DATA!J:J,DATA!A:A,Table1[[#This Row],[Name]],DATA!F:F,\"Pre\")","v":58},{"$f":"SUMIFS(DATA!K:K,DATA!A:A,Table1[[#This Row],[Name]],DATA!F:F,\"Pre\")","v":29},0.66666666666666663,{"$f":"SUMIFS(DATA!J:J,DATA!A:A,Table1[[#This Row],[Name]],DATA!F:F,\"Semi\")","v":1},{"$f":"SUMIFS(DATA!K:K,DATA!A:A,Table1[[#This Row],[Name]],DATA!F:F,\"Semi\")","v":2},0.33333333333333331,{"$f":"SUMIFS(DATA!J:J,DATA!A:A,Table1[[#This Row],[Name]],DATA!F:F,\"COnA\")","v":17},{"$f":"SUMIFS(DATA!K:K,DATA!A:A,Table1[[#This Row],[Name]],DATA!F:F,\"ConA\")","v":8},0.68,{"$f":"SUMIFS(DATA!J:J,DATA!A:A,Table1[[#This Row],[Name]],DATA!F:F,\"ConB\")","v":23},{"$f":"SUMIFS(DATA!K:K,DATA!A:A,Table1[[#This Row],[Name]],DATA!F:F,\"ConB\")","v":11},0.67647058823529416]
[25,"Ruth Stuart","Lighthouse",{"$f":"COUNTIF(DATA!$A$2:$A$9731,B26)","v":42},{"$f":"SUMIF(DATA!$A$2:$A$9077,B26,DATA!$J$2:$J$9077)","v":69},{"$f":"SUMIF(DATA!$A$2:$A$9077,B26,DATA!$K$2:$K$9077)","v":26},95,0.72631578947368425,1.0476190476190477,{"$f":"Table1[[#This Row],[Correct]]/Table1[[#This Row],['#Quizzes]]","v":1.6428571428571428},{"$f":"SUMIF(DATA!$A$2:$A$9077,B26,DATA!$L$2:$L$9077)","v":0},{"$f":"SUMIF(DATA!$A$2:$A$9077,B26,DATA!$M$2:$M$79077)","v":4},{"$f":"SUMIF(DATA!$A$2:$A$9077,B26,DATA!$N$2:$N$9077)","v":3},{"$f":"SUMIF(DATA!$A$2:$A$9101,B26,DATA!$O$2:$O$9101)","v":2},{"$f":"SUMIF(DATA!$A$2:$A$9101,B26,DATA!$P$2:$P$9101)","v":0},{"$f":"SUMIF(DATA!$A$2:$A$9101,B26,DATA!$Q$2:$Q$9101)","v":0},{"$f":"SUMIF(DATA!$A$2:$A$9078,B26,DATA!$R$2:$R$9078)","v":2},4.7619047619047616E-2,{"$f":"SUMIF(DATA!$A$2:$A$9078,B26,DATA!$S$2:$S$9078)","v":0},0,{"$f":"SUMIFS(DATA!J:J,DATA!A:A,Table1[[#This Row],[Name]],DATA!F:F,\"Pre\")","v":51},{"$f":"SUMIFS(DATA!K:K,DATA!A:A,Table1[[#This Row],[Name]],DATA!F:F,\"Pre\")","v":19},0.72857142857142854,{"$f":"SUMIFS(DATA!J:J,DATA!A:A,Table1[[#This Row],[Name]],DATA!F:F,\"Semi\")","v":0},{"$f":"SUMIFS(DATA!K:K,DATA!A:A,Table1[[#This Row],[Name]],DATA!F:F,\"Semi\")","v":0},{"$error":"#DIV/0!"},{"$f":"SUMIFS(DATA!J:J,DATA!A:A,Table1[[#This Row],[Name]],DATA!F:F,\"COnA\")","v":9},{"$f":"SUMIFS(DATA!K:K,DATA!A:A,Table1[[#This Row],[Name]],DATA!F:F,\"ConA\")","v":5},0.6428571428571429,{"$f":"SUMIFS(DATA!J:J,DATA!A:A,Table1[[#This Row],[Name]],DATA!F:F,\"ConB\")","v":9},{"$f":"SUMIFS(DATA!K:K,DATA!A:A,Table1[[#This Row],[Name]],DATA!F:F,\"ConB\")","v":2},0.81818181818181823]
[27,"James Taw","ABC",{"$f":"COUNTIF(DATA!$A$2:$A$9731,B27)","v":46},{"$f":"SUMIF(DATA!$A$2:$A$9077,B27,DATA!$J$2:$J$9077)","v":86},{"$f":"SUMIF(DATA!$A$2:$A$9077,B27,DATA!$K$2:$K$9077)","v":42},128,0.671875,1.0217391304347827,{"$f":"Table1[[#This Row],[Correct]]/Table1[[#This Row],['#Quizzes]]","v":1.8695652173913044},{"$f":"SUMIF(DATA!$A$2:$A$9077,B27,DATA!$L$2:$L$9077)","v":3},{"$f":"SUMIF(DATA!$A$2:$A$9077,B27,DATA!$M$2:$M$79077)","v":6},{"$f":"SUMIF(DATA!$A$2:$A$9077,B27,DATA!$N$2:$N$9077)","v":0},{"$f":"SUMIF(DATA!$A$2:$A$9101,B27,DATA!$O$2:$O$9101)","v":8},{"$f":"SUMIF(DATA!$A$2:$A$9101,B27,DATA!$P$2:$P$9101)","v":0},{"$f":"SUMIF(DATA!$A$2:$A$9101,B27,DATA!$Q$2:$Q$9101)","v":0},{"$f":"SUMIF(DATA!$A$2:$A$9078,B27,DATA!$R$2:$R$9078)","v":8},0.17391304347826086,{"$f":"SUMIF(DATA!$A$2:$A$9078,B27,DATA!$S$2:$S$9078)","v":1},2.1739130434782608E-2,{"$f":"SUMIFS(DATA!J:J,DATA!A:A,Table1[[#This Row],[Name]],DATA!F:F,\"Pre\")","v":68},{"$f":"SUMIFS(DATA!K:K,DATA!A:A,Table1[[#This Row],[Name]],DATA!F:F,\"Pre\")","v":32},0.68,{"$f":"SUMIFS(DATA!J:J,DATA!A:A,Table1[[#This Row],[Name]],DATA!F:F,\"Semi\")","v":18},{"$f":"SUMIFS(DATA!K:K,DATA!A:A,Table1[[#This Row],[Name]],DATA!F:F,\"Semi\")","v":10},0.6428571428571429,{"$f":"SUMIFS(DATA!J:J,DATA!A:A,Table1[[#This Row],[Name]],DATA!F:F,\"COnA\")","v":0},{"$f":"SUMIFS(DATA!K:K,DATA!A:A,Table1[[#This Row],[Name]],DATA!F:F,\"ConA\")","v":0},{"$error":"#DIV/0!"},{"$f":"SUMIFS(DATA!J:J,DATA!A:A,Table1[[#This Row],[Name]],DATA!F:F,\"ConB\")","v":0},{"$f":"SUMIFS(DATA!K:K,DATA!A:A,Table1[[#This Row],[Name]],DATA!F:F,\"ConB\")","v":0},{"$error":"#DIV/0!"}]
[28,"Ashly Barrios","EBC",{"$f":"COUNTIF(DATA!$A$2:$A$9731,B28)","v":43},{"$f":"SUMIF(DATA!$A$2:$A$9077,B28,DATA!$J$2:$J$9077)","v":74},{"$f":"SUMIF(DATA!$A$2:$A$9077,B28,DATA!$K$2:$K$9077)","v":31},105,0.70476190476190481,0.95348837209302328,{"$f":"Table1[[#This Row],[Correct]]/Table1[[#This Row],['#Quizzes]]","v":1.7209302325581395},{"$f":"SUMIF(DATA!$A$2:$A$9077,B28,DATA!$L$2:$L$9077)","v":2},{"$f":"SUMIF(DATA!$A$2:$A$9077,B28,DATA!$M$2:$M$79077)","v":2},{"$f":"SUMIF(DATA!$A$2:$A$9077,B28,DATA!$N$2:$N$9077)","v":2},{"$f":"SUMIF(DATA!$A$2:$A$9101,B28,DATA!$O$2:$O$9101)","v":4},{"$f":"SUMIF(DATA!$A$2:$A$9101,B28,DATA!$P$2:$P$9101)","v":0},{"$f":"SUMIF(DATA!$A$2:$A$9101,B28,DATA!$Q$2:$Q$9101)","v":0},{"$f":"SUMIF(DATA!$A$2:$A$9078,B28,DATA!$R$2:$R$9078)","v":10},0.23255813953488372,{"$f":"SUMIF(DATA!$A$2:$A$9078,B28,DATA!$S$2:$S$9078)","v":2},4.6511627906976744E-2,{"$f":"SUMIFS(DATA!J:J,DATA!A:A,Table1[[#This Row],[Name]],DATA!F:F,\"Pre\")","v":59},{"$f":"SUMIFS(DATA!K:K,DATA!A:A,Table1[[#This Row],[Name]],DATA!F:F,\"Pre\")","v":24},0.71084337349397586,{"$f":"SUMIFS(DATA!J:J,DATA!A:A,Table1[[#This Row],[Name]],DATA!F:F,\"Semi\")","v":7},{"$f":"SUMIFS(DATA!K:K,DATA!A:A,Table1[[#This Row],[Name]],DATA!F:F,\"Semi\")","v":4},0.63636363636363635,{"$f":"SUMIFS(DATA!J:J,DATA!A:A,Table1[[#This Row],[Name]],DATA!F:F,\"COnA\")","v":8},{"$f":"SUMIFS(DATA!K:K,DATA!A:A,Table1[[#This Row],[Name]],DATA!F:F,\"ConA\")","v":3},0.72727272727272729,{"$f":"SUMIFS(DATA!J:J,DATA!A:A,Table1[[#This Row],[Name]],DATA!F:F,\"ConB\")","v":0},{"$f":"SUMIFS(DATA!K:K,DATA!A:A,Table1[[#This Row],[Name]],DATA!F:F,\"ConB\")","v":0},{"$error":"#DIV/0!"}]
[26,"Sam Ashcraft","Lighthouse",{"$f":"COUNTIF(DATA!$A$2:$A$9731,B29)","v":47},{"$f":"SUMIF(DATA!$A$2:$A$9077,B29,DATA!$J$2:$J$9077)","v":75},{"$f":"SUMIF(DATA!$A$2:$A$9077,B29,DATA!$K$2:$K$9077)","v":31},106,0.70754716981132071,0.91489361702127658,{"$f":"Table1[[#This Row],[Correct]]/Table1[[#This Row],['#Quizzes]]","v":1.5957446808510638},{"$f":"SUMIF(DATA!$A$2:$A$9077,B29,DATA!$L$2:$L$9077)","v":2},{"$f":"SUMIF(DATA!$A$2:$A$9077,B29,DATA!$M$2:$M$79077)","v":3},{"$f":"SUMIF(DATA!$A$2:$A$9077,B29,DATA!$N$2:$N$9077)","v":2},{"$f":"SUMIF(DATA!$A$2:$A$9101,B29,DATA!$O$2:$O$9101)","v":5},{"$f":"SUMIF(DATA!$A$2:$A$9101,B29,DATA!$P$2:$P$9101)","v":0},{"$f":"SUMIF(DATA!$A$2:$A$9101,B29,DATA!$Q$2:$Q$9101)","v":0},{"$f":"SUMIF(DATA!$A$2:$A$9078,B29,DATA!$R$2:$R$9078)","v":6},0.1276595744680851,{"$f":"SUMIF(DATA!$A$2:$A$9078,B29,DATA!$S$2:$S$9078)","v":1},2.1276595744680851E-2,{"$f":"SUMIFS(DATA!J:J,DATA!A:A,Table1[[#This Row],[Name]],DATA!F:F,\"Pre\")","v":39},{"$f":"SUMIFS(DATA!K:K,DATA!A:A,Table1[[#This Row],[Name]],DATA!F:F,\"Pre\")","v":18},0.68421052631578949,{"$f":"SUMIFS(DATA!J:J,DATA!A:A,Table1[[#This Row],[Name]],DATA!F:F,\"Semi\")","v":1},{"$f":"SUMIFS(DATA!K:K,DATA!A:A,Table1[[#This Row],[Name]],DATA!F:F,\"Semi\")","v":0},1,{"$f":"SUMIFS(DATA!J:J,DATA!A:A,Table1[[#This Row],[Name]],DATA!F:F,\"COnA\")","v":9},{"$f":"SUMIFS(DATA!K:K,DATA!A:A,Table1[[#This Row],[Name]],DATA!F:F,\"ConA\")","v":8},0.52941176470588236,{"$f":"SUMIFS(DATA!J:J,DATA!A:A,Table1[[#This Row],[Name]],DATA!F:F,\"ConB\")","v":26},{"$f":"SUMIFS(DATA!K:K,DATA!A:A,Table1[[#This Row],[Name]],DATA!F:F,\"ConB\")","v":5},0.83870967741935487]
[30,"Daniel Do","ABC",{"$f":"COUNTIF(DATA!$A$2:$A$9731,B30)","v":56},{"$f":"SUMIF(DATA!$A$2:$A$9077,B30,DATA!$J$2:$J$9077)","v":108},{"$f":"SUMIF(DATA!$A$2:$A$9077,B30,DATA!$K$2:$K$9077)","v":60},168,0.6428571428571429,0.8392857142857143,{"$f":"Table1[[#This Row],[Correct]]/Table1[[#This Row],['#Quizzes]]","v":1.9285714285714286},{"$f":"SUMIF(DATA!$A$2:$A$9077,B30,DATA!$L$2:$L$9077)","v":0},{"$f":"SUMIF(DATA!$A$2:$A$9077,B30,DATA!$M$2:$M$79077)","v":2},{"$f":"SUMIF(DATA!$A$2:$A$9077,B30,DATA!$N$2:$N$9077)","v":3},{"$f":"SUMIF(DATA!$A$2:$A$9101,B30,DATA!$O$2:$O$9101)","v":16},{"$f":"SUMIF(DATA!$A$2:$A$9101,B30,DATA!$P$2:$P$9101)","v":0},{"$f":"SUMIF(DATA!$A$2:$A$9101,B30,DATA!$Q$2:$Q$9101)","v":0},{"$f":"SUMIF(DATA!$A$2:$A$9078,B30,DATA!$R$2:$R$9078)","v":7},0.125,{"$f":"SUMIF(DATA!$A$2:$A$9078,B30,DATA!$S$2:$S$9078)","v":4},7.1428571428571425E-2,{"$f":"SUMIFS(DATA!J:J,DATA!A:A,Table1[[#This Row],[Name]],DATA!F:F,\"Pre\")","v":64},{"$f":"SUMIFS(DATA!K:K,DATA!A:A,Table1[[#This Row],[Name]],DATA!F:F,\"Pre\")","v":39},0.62135922330097082,{"$f":"SUMIFS(DATA!J:J,DATA!A:A,Table1[[#This Row],[Name]],DATA!F:F,\"Semi\")","v":44},{"$f":"SUMIFS(DATA!K:K,DATA!A:A,Table1[[#This Row],[Name]],DATA!F:F,\"Semi\")","v":21},0.67692307692307696,{"$f":"SUMIFS(DATA!J:J,DATA!A:A,Table1[[#This Row],[Name]],DATA!F:F,\"COnA\")","v":0},{"$f":"SUMIFS(DATA!K:K,DATA!A:A,Table1[[#This Row],[Name]],DATA!F:F,\"ConA\")","v":0},{"$error":"#DIV/0!"},{"$f":"SUMIFS(DATA!J:J,DATA!A:A,Table1[[#This Row],[Name]],DATA!F:F,\"ConB\")","v":0},{"$f":"SUMIFS(DATA!K:K,DATA!A:A,Table1[[#This Row],[Name]],DATA!F:F,\"ConB\")","v":0},{"$error":"#DIV/0!"}]
[31,"Aidan McKee","Lighthouse",{"$f":"COUNTIF(DATA!$A$2:$A$9731,B31)","v":47},{"$f":"SUMIF(DATA!$A$2:$A$9077,B31,DATA!$J$2:$J$9077)","v":53},{"$f":"SUMIF(DATA!$A$2:$A$9077,B31,DATA!$K$2:$K$9077)","v":16},69,0.76811594202898548,0.78723404255319152,{"$f":"Table1[[#This Row],[Correct]]/Table1[[#This Row],['#Quizzes]]","v":1.1276595744680851},{"$f":"SUMIF(DATA!$A$2:$A$9077,B31,DATA!$L$2:$L$9077)","v":0},{"$f":"SUMIF(DATA!$A$2:$A$9077,B31,DATA!$M$2:$M$79077)","v":3},{"$f":"SUMIF(DATA!$A$2:$A$9077,B31,DATA!$N$2:$N$9077)","v":3},{"$f":"SUMIF(DATA!$A$2:$A$9101,B31,DATA!$O$2:$O$9101)","v":2},{"$f":"SUMIF(DATA!$A$2:$A$9101,B31,DATA!$P$2:$P$9101)","v":1},{"$f":"SUMIF(DATA!$A$2:$A$9101,B31,DATA!$Q$2:$Q$9101)","v":0},{"$f":"SUMIF(DATA!$A$2:$A$9078,B31,DATA!$R$2:$R$9078)","v":2},4.2553191489361701E-2,{"$f":"SUMIF(DATA!$A$2:$A$9078,B31,DATA!$S$2:$S$9078)","v":0},0,{"$f":"SUMIFS(DATA!J:J,DATA!A:A,Table1[[#This Row],[Name]],DATA!F:F,\"Pre\")","v":39},{"$f":"SUMIFS(DATA!K:K,DATA!A:A,Table1[[#This Row],[Name]],DATA!F:F,\"Pre\")","v":11},0.78,{"$f":"SUMIFS(DATA!J:J,DATA!A:A,Table1[[#This Row],[Name]],DATA!F:F,\"Semi\")","v":3},{"$f":"SUMIFS(DATA!K:K,DATA!A:A,Table1[[#This Row],[Name]],DATA!F:F,\"Semi\")","v":0},1,{"$f":"SUMIFS(DATA!J:J,DATA!A:A,Table1[[#This Row],[Name]],DATA!F:F,\"COnA\")","v":5},{"$f":"SUMIFS(DATA!K:K,DATA!A:A,Table1[[#This Row],[Name]],DATA!F:F,\"ConA\")","v":4},0.55555555555555558,{"$f":"SUMIFS(DATA!J:J,DATA!A:A,Table1[[#This Row],[Name]],DATA!F:F,\"ConB\")","v":6},{"$f":"SUMIFS(DATA!K:K,DATA!A:A,Table1[[#This Row],[Name]],DATA!F:F,\"ConB\")","v":1},0.8571428571428571]
[29,"Melinda Borden","ABC",{"$f":"COUNTIF(DATA!$A$2:$A$9731,B32)","v":46},{"$f":"SUMIF(DATA!$A$2:$A$9077,B32,DATA!$J$2:$J$9077)","v":54},{"$f":"SUMIF(DATA!$A$2:$A$9077,B32,DATA!$K$2:$K$9077)","v":18},72,0.75,0.78260869565217395,{"$f":"Table1[[#This Row],[Correct]]/Table1[[#This Row],['#Quizzes]]","v":1.173913043478261},{"$f":"SUMIF(DATA!$A$2:$A$9077,B32,DATA!$L$2:$L$9077)","v":0},{"$f":"SUMIF(DATA!$A$2:$A$9077,B32,DATA!$M$2:$M$79077)","v":1},{"$f":"SUMIF(DATA!$A$2:$A$9077,B32,DATA!$N$2:$N$9077)","v":1},{"$f":"SUMIF(DATA!$A$2:$A$9101,B32,DATA!$O$2:$O$9101)","v":6},{"$f":"SUMIF(DATA!$A$2:$A$9101,B32,DATA!$P$2:$P$9101)","v":0},{"$f":"SUMIF(DATA!$A$2:$A$9101,B32,DATA!$Q$2:$Q$9101)","v":0},{"$f":"SUMIF(DATA!$A$2:$A$9078,B32,DATA!$R$2:$R$9078)","v":4},8.6956521739130432E-2,{"$f":"SUMIF(DATA!$A$2:$A$9078,B32,DATA!$S$2:$S$9078)","v":0},0,{"$f":"SUMIFS(DATA!J:J,DATA!A:A,Table1[[#This Row],[Name]],DATA!F:F,\"Pre\")","v":41},{"$f":"SUMIFS(DATA!K:K,DATA!A:A,Table1[[#This Row],[Name]],DATA!F:F,\"Pre\")","v":13},0.7592592592592593,{"$f":"SUMIFS(DATA!J:J,DATA!A:A,Table1[[#This Row],[Name]],DATA!F:F,\"Semi\")","v":13},{"$f":"SUMIFS(DATA!K:K,DATA!A:A,Table1[[#This Row],[Name]],DATA!F:F,\"Semi\")","v":5},0.72222222222222221,{"$f":"SUMIFS(DATA!J:J,DATA!A:A,Table1[[#This Row],[Name]],DATA!F:F,\"COnA\")","v":0},{"$f":"SUMIFS(DATA!K:K,DATA!A:A,Table1[[#This Row],[Name]],DATA!F:F,\"ConA\")","v":0},{"$error":"#DIV/0!"},{"$f":"SUMIFS(DATA!J:J,DATA!A:A,Table1[[#This Row],[Name]],DATA!F:F,\"ConB\")","v":0},{"$f":"SUMIFS(DATA!K:K,DATA!A:A,Table1[[#This Row],[Name]],DATA!F:F,\"ConB\")","v":0},{"$error":"#DIV/0!"}]
[33,"Ruby Borden","ABC",{"$f":"COUNTIF(DATA!$A$2:$A$9731,B33)","v":48},{"$f":"SUMIF(DATA!$A$2:$A$9077,B33,DATA!$J$2:$J$9077)","v":34},{"$f":"SUMIF(DATA!$A$2:$A$9077,B33,DATA!$K$2:$K$9077)","v":5},39,0.87179487179487181,0.625,{"$f":"Table1[[#This Row],[Correct]]/Table1[[#This Row],['#Quizzes]]","v":0.70833333333333337},{"$f":"SUMIF(DATA!$A$2:$A$9077,B33,DATA!$L$2:$L$9077)","v":0},{"$f":"SUMIF(DATA!$A$2:$A$9077,B33,DATA!$M$2:$M$79077)","v":5},{"$f":"SUMIF(DATA!$A$2:$A$9077,B33,DATA!$N$2:$N$9077)","v":4},{"$f":"SUMIF(DATA!$A$2:$A$9101,B33,DATA!$O$2:$O$9101)","v":3},{"$f":"SUMIF(DATA!$A$2:$A$9101,B33,DATA!$P$2:$P$9101)","v":0},{"$f":"SUMIF(DATA!$A$2:$A$9101,B33,DATA!$Q$2:$Q$9101)","v":0},{"$f":"SUMIF(DATA!$A$2:$A$9078,B33,DATA!$R$2:$R$9078)","v":1},2.0833333333333332E-2,{"$f":"SUMIF(DATA!$A$2:$A$9078,B33,DATA!$S$2:$S$9078)","v":0},0,{"$f":"SUMIFS(DATA!J:J,DATA!A:A,Table1[[#This Row],[Name]],DATA!F:F,\"Pre\")","v":21},{"$f":"SUMIFS(DATA!K:K,DATA!A:A,Table1[[#This Row],[Name]],DATA!F:F,\"Pre\")","v":2},0.91304347826086951,{"$f":"SUMIFS(DATA!J:J,DATA!A:A,Table1[[#This Row],[Name]],DATA!F:F,\"Semi\")","v":0},{"$f":"SUMIFS(DATA!K:K,DATA!A:A,Table1[[#This Row],[Name]],DATA!F:F,\"Semi\")","v":0},{"$error":"#DIV/0!"},{"$f":"SUMIFS(DATA!J:J,DATA!A:A,Table1[[#This Row],[Name]],DATA!F:F,\"COnA\")","v":5},{"$f":"SUMIFS(DATA!K:K,DATA!A:A,Table1[[#This Row],[Name]],DATA!F:F,\"ConA\")","v":1},0.83333333333333337,{"$f":"SUMIFS(DATA!J:J,DATA!A:A,Table1[[#This Row],[Name]],DATA!F:F,\"ConB\")","v":8},{"$f":"SUMIFS(DATA!K:K,DATA!A:A,Table1[[#This Row],[Name]],DATA!F:F,\"ConB\")","v":2},0.8]
[34,"Justin Widmer","Dallas",{"$f":"COUNTIF(DATA!$A$2:$A$9731,B34)","v":46},{"$f":"SUMIF(DATA!$A$2:$A$9077,B34,DATA!$J$2:$J$9077)","v":101},{"$f":"SUMIF(DATA!$A$2:$A$9077,B34,DATA!$K$2:$K$9077)","v":66},{"$f":"E34+F34","v":167},{"$f":"E34/(E34+F34)","v":0.60479041916167664},{"$f":"(E34+L34-F34-K34-M34)/D34","v":0.73913043478260865},{"$f":"Table1[[#This Row],[Correct]]/Table1[[#This Row],['#Quizzes]]","v":2.1956521739130435},{"$f":"SUMIF(DATA!$A$2:$A$9077,B34,DATA!$L$2:$L$9077)","v":1},{"$f":"SUMIF(DATA!$A$2:$A$9077,B34,DATA!$M$2:$M$79077)","v":7},{"$f":"SUMIF(DATA!$A$2:$A$9077,B34,DATA!$N$2:$N$9077)","v":7},{"$f":"SUMIF(DATA!$A$2:$A$9101,B34,DATA!$O$2:$O$9101)","v":0},{"$f":"SUMIF(DATA!$A$2:$A$9101,B34,DATA!$P$2:$P$9101)","v":0},{"$f":"SUMIF(DATA!$A$2:$A$9101,B34,DATA!$Q$2:$Q$9101)","v":0},{"$f":"SUMIF(DATA!$A$2:$A$9078,B34,DATA!$R$2:$R$9078)","v":9},{"$f":"Q34/D34","v":0.19565217391304349},{"$f":"SUMIF(DATA!$A$2:$A$9078,B34,DATA!$S$2:$S$9078)","v":8},{"$f":"S34/D34","v":0.17391304347826086},{"$f":"SUMIFS(DATA!J:J,DATA!A:A,Table1[[#This Row],[Name]],DATA!F:F,\"Pre\")","v":51},{"$f":"SUMIFS(DATA!K:K,DATA!A:A,Table1[[#This Row],[Name]],DATA!F:F,\"Pre\")","v":43},{"$f":"U34/(U34+V34)","v":0.54255319148936165},{"$f":"SUMIFS(DATA!J:J,DATA!A:A,Table1[[#This Row],[Name]],DATA!F:F,\"Semi\")","v":0},{"$f":"SUMIFS(DATA!K:K,DATA!A:A,Table1[[#This Row],[Name]],DATA!F:F,\"Semi\")","v":0},{"$f":"X34/(X34+Y34)","v":{"$error":"#DIV/0!"}},{"$f":"SUMIFS(DATA!J:J,DATA!A:A,Table1[[#This Row],[Name]],DATA!F:F,\"COnA\")","v":0},{"$f":"SUMIFS(DATA!K:K,DATA!A:A,Table1[[#This Row],[Name]],DATA!F:F,\"ConA\")","v":0},{"$f":"AA34/(AA34+AB34)","v":{"$error":"#DIV/0!"}},{"$f":"SUMIFS(DATA!J:J,DATA!A:A,Table1[[#This Row],[Name]],DATA!F:F,\"ConB\")","v":50},{"$f":"SUMIFS(DATA!K:K,DATA!A:A,Table1[[#This Row],[Name]],DATA!F:F,\"ConB\")","v":23},{"$f":"AD34/(AD34+AE34)","v":0.68493150684931503}]
[32,"Eliana Swindler","Lighthouse",{"$f":"COUNTIF(DATA!$A$2:$A$9731,B35)","v":39},{"$f":"SUMIF(DATA!$A$2:$A$9077,B35,DATA!$J$2:$J$9077)","v":29},{"$f":"SUMIF(DATA!$A$2:$A$9077,B35,DATA!$K$2:$K$9077)","v":7},36,0.80555555555555558,0.53846153846153844,{"$f":"Table1[[#This Row],[Correct]]/Table1[[#This Row],['#Quizzes]]","v":0.74358974358974361},{"$f":"SUMIF(DATA!$A$2:$A$9077,B35,DATA!$L$2:$L$9077)","v":1},{"$f":"SUMIF(DATA!$A$2:$A$9077,B35,DATA!$M$2:$M$79077)","v":1},{"$f":"SUMIF(DATA!$A$2:$A$9077,B35,DATA!$N$2:$N$9077)","v":1},{"$f":"SUMIF(DATA!$A$2:$A$9101,B35,DATA!$O$2:$O$9101)","v":4},{"$f":"SUMIF(DATA!$A$2:$A$9101,B35,DATA!$P$2:$P$9101)","v":0},{"$f":"SUMIF(DATA!$A$2:$A$9101,B35,DATA!$Q$2:$Q$9101)","v":0},{"$f":"SUMIF(DATA!$A$2:$A$9078,B35,DATA!$R$2:$R$9078)","v":0},0,{"$f":"SUMIF(DATA!$A$2:$A$9078,B35,DATA!$S$2:$S$9078)","v":0},0,{"$f":"SUMIFS(DATA!J:J,DATA!A:A,Table1[[#This Row],[Name]],DATA!F:F,\"Pre\")","v":17},{"$f":"SUMIFS(DATA!K:K,DATA!A:A,Table1[[#This Row],[Name]],DATA!F:F,\"Pre\")","v":6},0.73913043478260865,{"$f":"SUMIFS(DATA!J:J,DATA!A:A,Table1[[#This Row],[Name]],DATA!F:F,\"Semi\")","v":0},{"$f":"SUMIFS(DATA!K:K,DATA!A:A,Table1[[#This Row],[Name]],DATA!F:F,\"Semi\")","v":0},{"$error":"#DIV/0!"},{"$f":"SUMIFS(DATA!J:J,DATA!A:A,Table1[[#This Row],[Name]],DATA!F:F,\"COnA\")","v":12},{"$f":"SUMIFS(DATA!K:K,DATA!A:A,Table1[[#This Row],[Name]],DATA!F:F,\"ConA\")","v":1},0.92307692307692313,{"$f":"SUMIFS(DATA!J:J,DATA!A:A,Table1[[#This Row],[Name]],DATA!F:F,\"ConB\")","v":0},{"$f":"SUMIFS(DATA!K:K,DATA!A:A,Table1[[#This Row],[Name]],DATA!F:F,\"ConB\")","v":0},{"$error":"#DIV/0!"}]
[41,"Benjamin Malchert","Grays Harbor",{"$f":"COUNTIF(DATA!$A$2:$A$9731,B36)","v":45},{"$f":"SUMIF(DATA!$A$2:$A$9077,B36,DATA!$J$2:$J$9077)","v":84},{"$f":"SUMIF(DATA!$A$2:$A$9077,B36,DATA!$K$2:$K$9077)","v":53},137,0.61313868613138689,0.57777777777777772,{"$f":"Table1[[#This Row],[Correct]]/Table1[[#This Row],['#Quizzes]]","v":1.8666666666666667},{"$f":"SUMIF(DATA!$A$2:$A$9077,B36,DATA!$L$2:$L$9077)","v":5},{"$f":"SUMIF(DATA!$A$2:$A$9077,B36,DATA!$M$2:$M$79077)","v":0},{"$f":"SUMIF(DATA!$A$2:$A$9077,B36,DATA!$N$2:$N$9077)","v":0},{"$f":"SUMIF(DATA!$A$2:$A$9101,B36,DATA!$O$2:$O$9101)","v":7},{"$f":"SUMIF(DATA!$A$2:$A$9101,B36,DATA!$P$2:$P$9101)","v":0},{"$f":"SUMIF(DATA!$A$2:$A$9101,B36,DATA!$Q$2:$Q$9101)","v":0},{"$f":"SUMIF(DATA!$A$2:$A$9078,B36,DATA!$R$2:$R$9078)","v":7},0.15555555555555556,{"$f":"SUMIF(DATA!$A$2:$A$9078,B36,DATA!$S$2:$S$9078)","v":5},0.1111111111111111,{"$f":"SUMIFS(DATA!J:J,DATA!A:A,Table1[[#This Row],[Name]],DATA!F:F,\"Pre\")","v":65},{"$f":"SUMIFS(DATA!K:K,DATA!A:A,Table1[[#This Row],[Name]],DATA!F:F,\"Pre\")","v":36},0.64356435643564358,{"$f":"SUMIFS(DATA!J:J,DATA!A:A,Table1[[#This Row],[Name]],DATA!F:F,\"Semi\")","v":8},{"$f":"SUMIFS(DATA!K:K,DATA!A:A,Table1[[#This Row],[Name]],DATA!F:F,\"Semi\")","v":9},0.47058823529411764,{"$f":"SUMIFS(DATA!J:J,DATA!A:A,Table1[[#This Row],[Name]],DATA!F:F,\"COnA\")","v":11},{"$f":"SUMIFS(DATA!K:K,DATA!A:A,Table1[[#This Row],[Name]],DATA!F:F,\"ConA\")","v":8},0.57894736842105265,{"$f":"SUMIFS(DATA!J:J,DATA!A:A,Table1[[#This Row],[Name]],DATA!F:F,\"ConB\")","v":0},{"$f":"SUMIFS(DATA!K:K,DATA!A:A,Table1[[#This Row],[Name]],DATA!F:F,\"ConB\")","v":0},{"$error":"#DIV/0!"}]
[37,"Peter Stuart","Lighthouse",{"$f":"COUNTIF(DATA!$A$2:$A$9731,B37)","v":44},{"$f":"SUMIF(DATA!$A$2:$A$9077,B37,DATA!$J$2:$J$9077)","v":66},{"$f":"SUMIF(DATA!$A$2:$A$9077,B37,DATA!$K$2:$K$9077)","v":49},115,0.57391304347826089,0.40909090909090912,{"$f":"Table1[[#This Row],[Correct]]/Table1[[#This Row],['#Quizzes]]","v":1.5},{"$f":"SUMIF(DATA!$A$2:$A$9077,B37,DATA!$L$2:$L$9077)","v":3},{"$f":"SUMIF(DATA!$A$2:$A$9077,B37,DATA!$M$2:$M$79077)","v":5},{"$f":"SUMIF(DATA!$A$2:$A$9077,B37,DATA!$N$2:$N$9077)","v":1},{"$f":"SUMIF(DATA!$A$2:$A$9101,B37,DATA!$O$2:$O$9101)","v":5},{"$f":"SUMIF(DATA!$A$2:$A$9101,B37,DATA!$P$2:$P$9101)","v":1},{"$f":"SUMIF(DATA!$A$2:$A$9101,B37,DATA!$Q$2:$Q$9101)","v":0},{"$f":"SUMIF(DATA!$A$2:$A$9078,B37,DATA!$R$2:$R$9078)","v":4},9.0909090909090912E-2,{"$f":"SUMIF(DATA!$A$2:$A$9078,B37,DATA!$S$2:$S$9078)","v":5},0.11363636363636363,{"$f":"SUMIFS(DATA!J:J,DATA!A:A,Table1[[#This Row],[Name]],DATA!F:F,\"Pre\")","v":36},{"$f":"SUMIFS(DATA!K:K,DATA!A:A,Table1[[#This Row],[Name]],DATA!F:F,\"Pre\")","v":26},0.58064516129032262,{"$f":"SUMIFS(DATA!J:J,DATA!A:A,Table1[[#This Row],[Name]],DATA!F:F,\"Semi\")","v":0},{"$f":"SUMIFS(DATA!K:K,DATA!A:A,Table1[[#This Row],[Name]],DATA!F:F,\"Semi\")","v":0},{"$error":"#DIV/0!"},{"$f":"SUMIFS(DATA!J:J,DATA!A:A,Table1[[#This Row],[Name]],DATA!F:F,\"COnA\")","v":15},{"$f":"SUMIFS(DATA!K:K,DATA!A:A,Table1[[#This Row],[Name]],DATA!F:F,\"ConA\")","v":15},0.5,{"$f":"SUMIFS(DATA!J:J,DATA!A:A,Table1[[#This Row],[Name]],DATA!F:F,\"ConB\")","v":15},{"$f":"SUMIFS(DATA!K:K,DATA!A:A,Table1[[#This Row],[Name]],DATA!F:F,\"ConB\")","v":8},0.65217391304347827]
[36,"Nathan Bonar","EBC",{"$f":"COUNTIF(DATA!$A$2:$A$9731,B38)","v":43},{"$f":"SUMIF(DATA!$A$2:$A$9077,B38,DATA!$J$2:$J$9077)","v":83},{"$f":"SUMIF(DATA!$A$2:$A$9077,B38,DATA!$K$2:$K$9077)","v":64},147,0.56462585034013602,0.48837209302325579,{"$f":"Table1[[#This Row],[Correct]]/Table1[[#This Row],['#Quizzes]]","v":1.930232558139535},{"$f":"SUMIF(DATA!$A$2:$A$9077,B38,DATA!$L$2:$L$9077)","v":1},{"$f":"SUMIF(DATA!$A$2:$A$9077,B38,DATA!$M$2:$M$79077)","v":6},{"$f":"SUMIF(DATA!$A$2:$A$9077,B38,DATA!$N$2:$N$9077)","v":3},{"$f":"SUMIF(DATA!$A$2:$A$9101,B38,DATA!$O$2:$O$9101)","v":5},{"$f":"SUMIF(DATA!$A$2:$A$9101,B38,DATA!$P$2:$P$9101)","v":0},{"$f":"SUMIF(DATA!$A$2:$A$9101,B38,DATA!$Q$2:$Q$9101)","v":0},{"$f":"SUMIF(DATA!$A$2:$A$9078,B38,DATA!$R$2:$R$9078)","v":11},0.2558139534883721,{"$f":"SUMIF(DATA!$A$2:$A$9078,B38,DATA!$S$2:$S$9078)","v":9},0.20930232558139536,{"$f":"SUMIFS(DATA!J:J,DATA!A:A,Table1[[#This Row],[Name]],DATA!F:F,\"Pre\")","v":71},{"$f":"SUMIFS(DATA!K:K,DATA!A:A,Table1[[#This Row],[Name]],DATA!F:F,\"Pre\")","v":45},0.61206896551724133,{"$f":"SUMIFS(DATA!J:J,DATA!A:A,Table1[[#This Row],[Name]],DATA!F:F,\"Semi\")","v":12},{"$f":"SUMIFS(DATA!K:K,DATA!A:A,Table1[[#This Row],[Name]],DATA!F:F,\"Semi\")","v":19},0.38709677419354838,{"$f":"SUMIFS(DATA!J:J,DATA!A:A,Table1[[#This Row],[Name]],DATA!F:F,\"COnA\")","v":0},{"$f":"SUMIFS(DATA!K:K,DATA!A:A,Table1[[#This Row],[Name]],DATA!F:F,\"ConA\")","v":0},{"$error":"#DIV/0!"},{"$f":"SUMIFS(DATA!J:J,DATA!A:A,Table1[[#This Row],[Name]],DATA!F:F,\"ConB\")","v":0},{"$f":"SUMIFS(DATA!K:K,DATA!A:A,Table1[[#This Row],[Name]],DATA!F:F,\"ConB\")","v":0},{"$error":"#DIV/0!"}]
[35,"Isabel Bammer","ABC",{"$f":"COUNTIF(DATA!$A$2:$A$9731,B39)","v":56},{"$f":"SUMIF(DATA!$A$2:$A$9077,B39,DATA!$J$2:$J$9077)","v":109},{"$f":"SUMIF(DATA!$A$2:$A$9077,B39,DATA!$K$2:$K$9077)","v":80},189,0.57671957671957674,0.44642857142857145,{"$f":"Table1[[#This Row],[Correct]]/Table1[[#This Row],['#Quizzes]]","v":1.9464285714285714},{"$f":"SUMIF(DATA!$A$2:$A$9077,B39,DATA!$L$2:$L$9077)","v":3},{"$f":"SUMIF(DATA!$A$2:$A$9077,B39,DATA!$M$2:$M$79077)","v":0},{"$f":"SUMIF(DATA!$A$2:$A$9077,B39,DATA!$N$2:$N$9077)","v":1},{"$f":"SUMIF(DATA!$A$2:$A$9101,B39,DATA!$O$2:$O$9101)","v":19},{"$f":"SUMIF(DATA!$A$2:$A$9101,B39,DATA!$P$2:$P$9101)","v":0},{"$f":"SUMIF(DATA!$A$2:$A$9101,B39,DATA!$Q$2:$Q$9101)","v":0},{"$f":"SUMIF(DATA!$A$2:$A$9078,B39,DATA!$R$2:$R$9078)","v":10},0.17857142857142858,{"$f":"SUMIF(DATA!$A$2:$A$9078,B39,DATA!$S$2:$S$9078)","v":6},0.10714285714285714,{"$f":"SUMIFS(DATA!J:J,DATA!A:A,Table1[[#This Row],[Name]],DATA!F:F,\"Pre\")","v":68},{"$f":"SUMIFS(DATA!K:K,DATA!A:A,Table1[[#This Row],[Name]],DATA!F:F,\"Pre\")","v":44},0.6071428571428571,{"$f":"SUMIFS(DATA!J:J,DATA!A:A,Table1[[#This Row],[Name]],DATA!F:F,\"Semi\")","v":41},{"$f":"SUMIFS(DATA!K:K,DATA!A:A,Table1[[#This Row],[Name]],DATA!F:F,\"Semi\")","v":36},0.53246753246753242,{"$f":"SUMIFS(DATA!J:J,DATA!A:A,Table1[[#This Row],[Name]],DATA!F:F,\"COnA\")","v":0},{"$f":"SUMIFS(DATA!K:K,DATA!A:A,Table1[[#This Row],[Name]],DATA!F:F,\"ConA\")","v":0},{"$error":"#DIV/0!"},{"$f":"SUMIFS(DATA!J:J,DATA!A:A,Table1[[#This Row],[Name]],DATA!F:F,\"ConB\")","v":0},{"$f":"SUMIFS(DATA!K:K,DATA!A:A,Table1[[#This Row],[Name]],DATA!F:F,\"ConB\")","v":0},{"$error":"#DIV/0!"}]
[40,"Zoe Walters","Lighthouse",{"$f":"COUNTIF(DATA!$A$2:$A$9731,B40)","v":47},{"$f":"SUMIF(DATA!$A$2:$A$9077,B40,DATA!$J$2:$J$9077)","v":51},{"$f":"SUMIF(DATA!$A$2:$A$9077,B40,DATA!$K$2:$K$9077)","v":20},71,0.71830985915492962,0.51063829787234039,{"$f":"Table1[[#This Row],[Correct]]/Table1[[#This Row],['#Quizzes]]","v":1.0851063829787233},{"$f":"SUMIF(DATA!$A$2:$A$9077,B40,DATA!$L$2:$L$9077)","v":1},{"$f":"SUMIF(DATA!$A$2:$A$9077,B40,DATA!$M$2:$M$79077)","v":4},{"$f":"SUMIF(DATA!$A$2:$A$9077,B40,DATA!$N$2:$N$9077)","v":10},{"$f":"SUMIF(DATA!$A$2:$A$9101,B40,DATA!$O$2:$O$9101)","v":2},{"$f":"SUMIF(DATA!$A$2:$A$9101,B40,DATA!$P$2:$P$9101)","v":0},{"$f":"SUMIF(DATA!$A$2:$A$9101,B40,DATA!$Q$2:$Q$9101)","v":0},{"$f":"SUMIF(DATA!$A$2:$A$9078,B40,DATA!$R$2:$R$9078)","v":0},0,{"$f":"SUMIF(DATA!$A$2:$A$9078,B40,DATA!$S$2:$S$9078)","v":0},0,{"$f":"SUMIFS(DATA!J:J,DATA!A:A,Table1[[#This Row],[Name]],DATA!F:F,\"Pre\")","v":25},{"$f":"SUMIFS(DATA!K:K,DATA!A:A,Table1[[#This Row],[Name]],DATA!F:F,\"Pre\")","v":13},0.65789473684210531,{"$f":"SUMIFS(DATA!J:J,DATA!A:A,Table1[[#This Row],[Name]],DATA!F:F,\"Semi\")","v":0},{"$f":"SUMIFS(DATA!K:K,DATA!A:A,Table1[[#This Row],[Name]],DATA!F:F,\"Semi\")","v":0},{"$error":"#DIV/0!"},{"$f":"SUMIFS(DATA!J:J,DATA!A:A,Table1[[#This Row],[Name]],DATA!F:F,\"COnA\")","v":0},{"$f":"SUMIFS(DATA!K:K,DATA!A:A,Table1[[#This Row],[Name]],DATA!F:F,\"ConA\")","v":0},{"$error":"#DIV/0!"},{"$f":"SUMIFS(DATA!J:J,DATA!A:A,Table1[[#This Row],[Name]],DATA!F:F,\"ConB\")","v":26},{"$f":"SUMIFS(DATA!K:K,DATA!A:A,Table1[[#This Row],[Name]],DATA!F:F,\"ConB\")","v":7},0.78787878787878785]
[38,"Kate Sweborg","Lighthouse",{"$f":"COUNTIF(DATA!$A$2:$A$9731,B41)","v":38},{"$f":"SUMIF(DATA!$A$2:$A$9077,B41,DATA!$J$2:$J$9077)","v":28},{"$f":"SUMIF(DATA!$A$2:$A$9077,B41,DATA!$K$2:$K$9077)","v":13},41,0.68292682926829273,0.42105263157894735,{"$f":"Table1[[#This Row],[Correct]]/Table1[[#This Row],['#Quizzes]]","v":0.73684210526315785},{"$f":"SUMIF(DATA!$A$2:$A$9077,B41,DATA!$L$2:$L$9077)","v":1},{"$f":"SUMIF(DATA!$A$2:$A$9077,B41,DATA!$M$2:$M$79077)","v":2},{"$f":"SUMIF(DATA!$A$2:$A$9077,B41,DATA!$N$2:$N$9077)","v":0},{"$f":"SUMIF(DATA!$A$2:$A$9101,B41,DATA!$O$2:$O$9101)","v":0},{"$f":"SUMIF(DATA!$A$2:$A$9101,B41,DATA!$P$2:$P$9101)","v":1},{"$f":"SUMIF(DATA!$A$2:$A$9101,B41,DATA!$Q$2:$Q$9101)","v":0},{"$f":"SUMIF(DATA!$A$2:$A$9078,B41,DATA!$R$2:$R$9078)","v":0},0,{"$f":"SUMIF(DATA!$A$2:$A$9078,B41,DATA!$S$2:$S$9078)","v":0},0,{"$f":"SUMIFS(DATA!J:J,DATA!A:A,Table1[[#This Row],[Name]],DATA!F:F,\"Pre\")","v":12},{"$f":"SUMIFS(DATA!K:K,DATA!A:A,Table1[[#This Row],[Name]],DATA!F:F,\"Pre\")","v":5},0.70588235294117652,{"$f":"SUMIFS(DATA!J:J,DATA!A:A,Table1[[#This Row],[Name]],DATA!F:F,\"Semi\")","v":0},{"$f":"SUMIFS(DATA!K:K,DATA!A:A,Table1[[#This Row],[Name]],DATA!F:F,\"Semi\")","v":0},{"$error":"#DIV/0!"},{"$f":"SUMIFS(DATA!J:J,DATA!A:A,Table1[[#This Row],[Name]],DATA!F:F,\"COnA\")","v":0},{"$f":"SUMIFS(DATA!K:K,DATA!A:A,Table1[[#This Row],[Name]],DATA!F:F,\"ConA\")","v":0},{"$error":"#DIV/0!"},{"$f":"SUMIFS(DATA!J:J,DATA!A:A,Table1[[#This Row],[Name]],DATA!F:F,\"ConB\")","v":16},{"$f":"SUMIFS(DATA!K:K,DATA!A:A,Table1[[#This Row],[Name]],DATA!F:F,\"ConB\")","v":8},0.66666666666666663]
[43,"Miriam Van Bergeyk","Lighthouse",{"$f":"COUNTIF(DATA!$A$2:$A$9731,B42)","v":34},{"$f":"SUMIF(DATA!$A$2:$A$9077,B42,DATA!$J$2:$J$9077)","v":26},{"$f":"SUMIF(DATA!$A$2:$A$9077,B42,DATA!$K$2:$K$9077)","v":13},39,0.66666666666666663,0.38235294117647056,{"$f":"Table1[[#This Row],[Correct]]/Table1[[#This Row],['#Quizzes]]","v":0.76470588235294112},{"$f":"SUMIF(DATA!$A$2:$A$9077,B42,DATA!$L$2:$L$9077)","v":1},{"$f":"SUMIF(DATA!$A$2:$A$9077,B42,DATA!$M$2:$M$79077)","v":1},{"$f":"SUMIF(DATA!$A$2:$A$9077,B42,DATA!$N$2:$N$9077)","v":0},{"$f":"SUMIF(DATA!$A$2:$A$9101,B42,DATA!$O$2:$O$9101)","v":2},{"$f":"SUMIF(DATA!$A$2:$A$9101,B42,DATA!$P$2:$P$9101)","v":1},{"$f":"SUMIF(DATA!$A$2:$A$9101,B42,DATA!$Q$2:$Q$9101)","v":0},{"$f":"SUMIF(DATA!$A$2:$A$9078,B42,DATA!$R$2:$R$9078)","v":0},0,{"$f":"SUMIF(DATA!$A$2:$A$9078,B42,DATA!$S$2:$S$9078)","v":0},0,{"$f":"SUMIFS(DATA!J:J,DATA!A:A,Table1[[#This Row],[Name]],DATA!F:F,\"Pre\")","v":16},{"$f":"SUMIFS(DATA!K:K,DATA!A:A,Table1[[#This Row],[Name]],DATA!F:F,\"Pre\")","v":7},0.69565217391304346,{"$f":"SUMIFS(DATA!J:J,DATA!A:A,Table1[[#This Row],[Name]],DATA!F:F,\"Semi\")","v":0},{"$f":"SUMIFS(DATA!K:K,DATA!A:A,Table1[[#This Row],[Name]],DATA!F:F,\"Semi\")","v":0},{"$error":"#DIV/0!"},{"$f":"SUMIFS(DATA!J:J,DATA!A:A,Table1[[#This Row],[Name]],DATA!F:F,\"COnA\")","v":5},{"$f":"SUMIFS(DATA!K:K,DATA!A:A,Table1[[#This Row],[Name]],DATA!F:F,\"ConA\")","v":3},0.625,{"$f":"SUMIFS(DATA!J:J,DATA!A:A,Table1[[#This Row],[Name]],DATA!F:F,\"ConB\")","v":5},{"$f":"SUMIFS(DATA!K:K,DATA!A:A,Table1[[#This Row],[Name]],DATA!F:F,\"ConB\")","v":3},0.625]
[39,"Daniel Newman","NSA",{"$f":"COUNTIF(DATA!$A$2:$A$9731,B43)","v":46},{"$f":"SUMIF(DATA!$A$2:$A$9077,B43,DATA!$J$2:$J$9077)","v":72},{"$f":"SUMIF(DATA!$A$2:$A$9077,B43,DATA!$K$2:$K$9077)","v":44},116,0.62068965517241381,0.41304347826086957,{"$f":"Table1[[#This Row],[Correct]]/Table1[[#This Row],['#Quizzes]]","v":1.5652173913043479},{"$f":"SUMIF(DATA!$A$2:$A$9077,B43,DATA!$L$2:$L$9077)","v":0},{"$f":"SUMIF(DATA!$A$2:$A$9077,B43,DATA!$M$2:$M$79077)","v":6},{"$f":"SUMIF(DATA!$A$2:$A$9077,B43,DATA!$N$2:$N$9077)","v":15},{"$f":"SUMIF(DATA!$A$2:$A$9101,B43,DATA!$O$2:$O$9101)","v":0},{"$f":"SUMIF(DATA!$A$2:$A$9101,B43,DATA!$P$2:$P$9101)","v":0},{"$f":"SUMIF(DATA!$A$2:$A$9101,B43,DATA!$Q$2:$Q$9101)","v":0},{"$f":"SUMIF(DATA!$A$2:$A$9078,B43,DATA!$R$2:$R$9078)","v":2},4.3478260869565216E-2,{"$f":"SUMIF(DATA!$A$2:$A$9078,B43,DATA!$S$2:$S$9078)","v":2},4.3478260869565216E-2,{"$f":"SUMIFS(DATA!J:J,DATA!A:A,Table1[[#This Row],[Name]],DATA!F:F,\"Pre\")","v":34},{"$f":"SUMIFS(DATA!K:K,DATA!A:A,Table1[[#This Row],[Name]],DATA!F:F,\"Pre\")","v":32},0.51515151515151514,{"$f":"SUMIFS(DATA!J:J,DATA!A:A,Table1[[#This Row],[Name]],DATA!F:F,\"Semi\")","v":0},{"$f":"SUMIFS(DATA!K:K,DATA!A:A,Table1[[#This Row],[Name]],DATA!F:F,\"Semi\")","v":0},{"$error":"#DIV/0!"},{"$f":"SUMIFS(DATA!J:J,DATA!A:A,Table1[[#This Row],[Name]],DATA!F:F,\"COnA\")","v":0},{"$f":"SUMIFS(DATA!K:K,DATA!A:A,Table1[[#This Row],[Name]],DATA!F:F,\"ConA\")","v":0},{"$error":"#DIV/0!"},{"$f":"SUMIFS(DATA!J:J,DATA!A:A,Table1[[#This Row],[Name]],DATA!F:F,\"ConB\")","v":38},{"$f":"SUMIFS(DATA!K:K,DATA!A:A,Table1[[#This Row],[Name]],DATA!F:F,\"ConB\")","v":12},0.76]
[42,"JoePaul Appockal","Tacoma",{"$f":"COUNTIF(DATA!$A$2:$A$9731,B44)","v":45},{"$f":"SUMIF(DATA!$A$2:$A$9077,B44,DATA!$J$2:$J$9077)","v":27},{"$f":"SUMIF(DATA!$A$2:$A$9077,B44,DATA!$K$2:$K$9077)","v":11},38,0.71052631578947367,0.33333333333333331,{"$f":"Table1[[#This Row],[Correct]]/Table1[[#This Row],['#Quizzes]]","v":0.6},{"$f":"SUMIF(DATA!$A$2:$A$9077,B44,DATA!$L$2:$L$9077)","v":1},{"$f":"SUMIF(DATA!$A$2:$A$9077,B44,DATA!$M$2:$M$79077)","v":0},{"$f":"SUMIF(DATA!$A$2:$A$9077,B44,DATA!$N$2:$N$9077)","v":0},{"$f":"SUMIF(DATA!$A$2:$A$9101,B44,DATA!$O$2:$O$9101)","v":4},{"$f":"SUMIF(DATA!$A$2:$A$9101,B44,DATA!$P$2:$P$9101)","v":0},{"$f":"SUMIF(DATA!$A$2:$A$9101,B44,DATA!$Q$2:$Q$9101)","v":0},{"$f":"SUMIF(DATA!$A$2:$A$9078,B44,DATA!$R$2:$R$9078)","v":1},2.2222222222222223E-2,{"$f":"SUMIF(DATA!$A$2:$A$9078,B44,DATA!$S$2:$S$9078)","v":0},0,{"$f":"SUMIFS(DATA!J:J,DATA!A:A,Table1[[#This Row],[Name]],DATA!F:F,\"Pre\")","v":19},{"$f":"SUMIFS(DATA!K:K,DATA!A:A,Table1[[#This Row],[Name]],DATA!F:F,\"Pre\")","v":7},0.73076923076923073,{"$f":"SUMIFS(DATA!J:J,DATA!A:A,Table1[[#This Row],[Name]],DATA!F:F,\"Semi\")","v":0},{"$f":"SUMIFS(DATA!K:K,DATA!A:A,Table1[[#This Row],[Name]],DATA!F:F,\"Semi\")","v":0},{"$error":"#DIV/0!"},{"$f":"SUMIFS(DATA!J:J,DATA!A:A,Table1[[#This Row],[Name]],DATA!F:F,\"COnA\")","v":8},{"$f":"SUMIFS(DATA!K:K,DATA!A:A,Table1[[#This Row],[Name]],DATA!F:F,\"ConA\")","v":4},0.66666666666666663,{"$f":"SUMIFS(DATA!J:J,DATA!A:A,Table1[[#This Row],[Name]],DATA!F:F,\"ConB\")","v":0},{"$f":"SUMIFS(DATA!K:K,DATA!A:A,Table1[[#This Row],[Name]],DATA!F:F,\"ConB\")","v":0},{"$error":"#DIV/0!"}]
[45,"Skotland Hammerstrom","ABC",{"$f":"COUNTIF(DATA!$A$2:$A$9731,B45)","v":49},{"$f":"SUMIF(DATA!$A$2:$A$9077,B45,DATA!$J$2:$J$9077)","v":46},{"$f":"SUMIF(DATA!$A$2:$A$9077,B45,DATA!$K$2:$K$9077)","v":35},81,0.5679012345679012,0.20408163265306123,{"$f":"Table1[[#This Row],[Correct]]/Table1[[#This Row],['#Quizzes]]","v":0.93877551020408168},{"$f":"SUMIF(DATA!$A$2:$A$9077,B45,DATA!$L$2:$L$9077)","v":0},{"$f":"SUMIF(DATA!$A$2:$A$9077,B45,DATA!$M$2:$M$79077)","v":2},{"$f":"SUMIF(DATA!$A$2:$A$9077,B45,DATA!$N$2:$N$9077)","v":3},{"$f":"SUMIF(DATA!$A$2:$A$9101,B45,DATA!$O$2:$O$9101)","v":3},{"$f":"SUMIF(DATA!$A$2:$A$9101,B45,DATA!$P$2:$P$9101)","v":0},{"$f":"SUMIF(DATA!$A$2:$A$9101,B45,DATA!$Q$2:$Q$9101)","v":0},{"$f":"SUMIF(DATA!$A$2:$A$9078,B45,DATA!$R$2:$R$9078)","v":1},2.0408163265306121E-2,{"$f":"SUMIF(DATA!$A$2:$A$9078,B45,DATA!$S$2:$S$9078)","v":2},4.0816326530612242E-2,{"$f":"SUMIFS(DATA!J:J,DATA!A:A,Table1[[#This Row],[Name]],DATA!F:F,\"Pre\")","v":22},{"$f":"SUMIFS(DATA!K:K,DATA!A:A,Table1[[#This Row],[Name]],DATA!F:F,\"Pre\")","v":18},0.55000000000000004,{"$f":"SUMIFS(DATA!J:J,DATA!A:A,Table1[[#This Row],[Name]],DATA!F:F,\"Semi\")","v":0},{"$f":"SUMIFS(DATA!K:K,DATA!A:A,Table1[[#This Row],[Name]],DATA!F:F,\"Semi\")","v":0},{"$error":"#DIV/0!"},{"$f":"SUMIFS(DATA!J:J,DATA!A:A,Table1[[#This Row],[Name]],DATA!F:F,\"COnA\")","v":10},{"$f":"SUMIFS(DATA!K:K,DATA!A:A,Table1[[#This Row],[Name]],DATA!F:F,\"ConA\")","v":5},0.66666666666666663,{"$f":"SUMIFS(DATA!J:J,DATA!A:A,Table1[[#This Row],[Name]],DATA!F:F,\"ConB\")","v":14},{"$f":"SUMIFS(DATA!K:K,DATA!A:A,Table1[[#This Row],[Name]],DATA!F:F,\"ConB\")","v":12},0.53846153846153844]
[44,"Micah Magnuson","Tacoma",{"$f":"COUNTIF(DATA!$A$2:$A$9731,B46)","v":45},{"$f":"SUMIF(DATA!$A$2:$A$9077,B46,DATA!$J$2:$J$9077)","v":26},{"$f":"SUMIF(DATA!$A$2:$A$9077,B46,DATA!$K$2:$K$9077)","v":13},39,0.66666666666666663,0.26666666666666666,{"$f":"Table1[[#This Row],[Correct]]/Table1[[#This Row],['#Quizzes]]","v":0.57777777777777772},{"$f":"SUMIF(DATA!$A$2:$A$9077,B46,DATA!$L$2:$L$9077)","v":1},{"$f":"SUMIF(DATA!$A$2:$A$9077,B46,DATA!$M$2:$M$79077)","v":1},{"$f":"SUMIF(DATA!$A$2:$A$9077,B46,DATA!$N$2:$N$9077)","v":1},{"$f":"SUMIF(DATA!$A$2:$A$9101,B46,DATA!$O$2:$O$9101)","v":3},{"$f":"SUMIF(DATA!$A$2:$A$9101,B46,DATA!$P$2:$P$9101)","v":0},{"$f":"SUMIF(DATA!$A$2:$A$9101,B46,DATA!$Q$2:$Q$9101)","v":0},{"$f":"SUMIF(DATA!$A$2:$A$9078,B46,DATA!$R$2:$R$9078)","v":1},2.2222222222222223E-2,{"$f":"SUMIF(DATA!$A$2:$A$9078,B46,DATA!$S$2:$S$9078)","v":0},0,{"$f":"SUMIFS(DATA!J:J,DATA!A:A,Table1[[#This Row],[Name]],DATA!F:F,\"Pre\")","v":11},{"$f":"SUMIFS(DATA!K:K,DATA!A:A,Table1[[#This Row],[Name]],DATA!F:F,\"Pre\")","v":5},0.6875,{"$f":"SUMIFS(DATA!J:J,DATA!A:A,Table1[[#This Row],[Name]],DATA!F:F,\"Semi\")","v":0},{"$f":"SUMIFS(DATA!K:K,DATA!A:A,Table1[[#This Row],[Name]],DATA!F:F,\"Semi\")","v":0},{"$error":"#DIV/0!"},{"$f":"SUMIFS(DATA!J:J,DATA!A:A,Table1[[#This Row],[Name]],DATA!F:F,\"COnA\")","v":15},{"$f":"SUMIFS(DATA!K:K,DATA!A:A,Table1[[#This Row],[Name]],DATA!F:F,\"ConA\")","v":8},0.65217391304347827,{"$f":"SUMIFS(DATA!J:J,DATA!A:A,Table1[[#This Row],[Name]],DATA!F:F,\"ConB\")","v":0},{"$f":"SUMIFS(DATA!K:K,DATA!A:A,Table1[[#This Row],[Name]],DATA!F:F,\"ConB\")","v":0},{"$error":"#DIV/0!"}]
[52,"Makya Warren","ABC",{"$f":"COUNTIF(DATA!$A$2:$A$9731,B47)","v":46},{"$f":"SUMIF(DATA!$A$2:$A$9077,B47,DATA!$J$2:$J$9077)","v":23},{"$f":"SUMIF(DATA!$A$2:$A$9077,B47,DATA!$K$2:$K$9077)","v":14},37,0.6216216216216216,0.2391304347826087,{"$f":"Table1[[#This Row],[Correct]]/Table1[[#This Row],['#Quizzes]]","v":0.5},{"$f":"SUMIF(DATA!$A$2:$A$9077,B47,DATA!$L$2:$L$9077)","v":0},{"$f":"SUMIF(DATA!$A$2:$A$9077,B47,DATA!$M$2:$M$79077)","v":2},{"$f":"SUMIF(DATA!$A$2:$A$9077,B47,DATA!$N$2:$N$9077)","v":0},{"$f":"SUMIF(DATA!$A$2:$A$9101,B47,DATA!$O$2:$O$9101)","v":0},{"$f":"SUMIF(DATA!$A$2:$A$9101,B47,DATA!$P$2:$P$9101)","v":0},{"$f":"SUMIF(DATA!$A$2:$A$9101,B47,DATA!$Q$2:$Q$9101)","v":0},{"$f":"SUMIF(DATA!$A$2:$A$9078,B47,DATA!$R$2:$R$9078)","v":1},2.1739130434782608E-2,{"$f":"SUMIF(DATA!$A$2:$A$9078,B47,DATA!$S$2:$S$9078)","v":0},0,{"$f":"SUMIFS(DATA!J:J,DATA!A:A,Table1[[#This Row],[Name]],DATA!F:F,\"Pre\")","v":11},{"$f":"SUMIFS(DATA!K:K,DATA!A:A,Table1[[#This Row],[Name]],DATA!F:F,\"Pre\")","v":6},0.6470588235294118,{"$f":"SUMIFS(DATA!J:J,DATA!A:A,Table1[[#This Row],[Name]],DATA!F:F,\"Semi\")","v":0},{"$f":"SUMIFS(DATA!K:K,DATA!A:A,Table1[[#This Row],[Name]],DATA!F:F,\"Semi\")","v":1},0,{"$f":"SUMIFS(DATA!J:J,DATA!A:A,Table1[[#This Row],[Name]],DATA!F:F,\"COnA\")","v":4},{"$f":"SUMIFS(DATA!K:K,DATA!A:A,Table1[[#This Row],[Name]],DATA!F:F,\"ConA\")","v":3},0.5714285714285714,{"$f":"SUMIFS(DATA!J:J,DATA!A:A,Table1[[#This Row],[Name]],DATA!F:F,\"ConB\")","v":8},{"$f":"SUMIFS(DATA!K:K,DATA!A:A,Table1[[#This Row],[Name]],DATA!F:F,\"ConB\")","v":4},0.66666666666666663]
[55,"Jason Small","Fox Island",{"$f":"COUNTIF(DATA!$A$2:$A$9731,B48)","v":48},{"$f":"SUMIF(DATA!$A$2:$A$9077,B48,DATA!$J$2:$J$9077)","v":27},{"$f":"SUMIF(DATA!$A$2:$A$9077,B48,DATA!$K$2:$K$9077)","v":16},43,0.62790697674418605,0.20833333333333334,{"$f":"Table1[[#This Row],[Correct]]/Table1[[#This Row],['#Quizzes]]","v":0.5625},{"$f":"SUMIF(DATA!$A$2:$A$9077,B48,DATA!$L$2:$L$9077)","v":1},{"$f":"SUMIF(DATA!$A$2:$A$9077,B48,DATA!$M$2:$M$79077)","v":1},{"$f":"SUMIF(DATA!$A$2:$A$9077,B48,DATA!$N$2:$N$9077)","v":1},{"$f":"SUMIF(DATA!$A$2:$A$9101,B48,DATA!$O$2:$O$9101)","v":4},{"$f":"SUMIF(DATA!$A$2:$A$9101,B48,DATA!$P$2:$P$9101)","v":0},{"$f":"SUMIF(DATA!$A$2:$A$9101,B48,DATA!$Q$2:$Q$9101)","v":0},{"$f":"SUMIF(DATA!$A$2:$A$9078,B48,DATA!$R$2:$R$9078)","v":0},0,{"$f":"SUMIF(DATA!$A$2:$A$9078,B48,DATA!$S$2:$S$9078)","v":0},0,{"$f":"SUMIFS(DATA!J:J,DATA!A:A,Table1[[#This Row],[Name]],DATA!F:F,\"Pre\")","v":19},{"$f":"SUMIFS(DATA!K:K,DATA!A:A,Table1[[#This Row],[Name]],DATA!F:F,\"Pre\")","v":12},0.61290322580645162,{"$f":"SUMIFS(DATA!J:J,DATA!A:A,Table1[[#This Row],[Name]],DATA!F:F,\"Semi\")","v":0},{"$f":"SUMIFS(DATA!K:K,DATA!A:A,Table1[[#This Row],[Name]],DATA!F:F,\"Semi\")","v":0},{"$error":"#DIV/0!"},{"$f":"SUMIFS(DATA!J:J,DATA!A:A,Table1[[#This Row],[Name]],DATA!F:F,\"COnA\")","v":6},{"$f":"SUMIFS(DATA!K:K,DATA!A:A,Table1[[#This Row],[Name]],DATA!F:F,\"ConA\")","v":3},0.66666666666666663,{"$f":"SUMIFS(DATA!J:J,DATA!A:A,Table1[[#This Row],[Name]],DATA!F:F,\"ConB\")","v":2},{"$f":"SUMIFS(DATA!K:K,DATA!A:A,Table1[[#This Row],[Name]],DATA!F:F,\"ConB\")","v":1},0.66666666666666663]
[46,"Isaiah Magnuson","Tacoma",{"$f":"COUNTIF(DATA!$A$2:$A$9731,B49)","v":49},{"$f":"SUMIF(DATA!$A$2:$A$9077,B49,DATA!$J$2:$J$9077)","v":45},{"$f":"SUMIF(DATA!$A$2:$A$9077,B49,DATA!$K$2:$K$9077)","v":38},83,0.54216867469879515,8.1632653061224483E-2,{"$f":"Table1[[#This Row],[Correct]]/Table1[[#This Row],['#Quizzes]]","v":0.91836734693877553},{"$f":"SUMIF(DATA!$A$2:$A$9077,B49,DATA!$L$2:$L$9077)","v":0},{"$f":"SUMIF(DATA!$A$2:$A$9077,B49,DATA!$M$2:$M$79077)","v":1},{"$f":"SUMIF(DATA!$A$2:$A$9077,B49,DATA!$N$2:$N$9077)","v":4},{"$f":"SUMIF(DATA!$A$2:$A$9101,B49,DATA!$O$2:$O$9101)","v":3},{"$f":"SUMIF(DATA!$A$2:$A$9101,B49,DATA!$P$2:$P$9101)","v":0},{"$f":"SUMIF(DATA!$A$2:$A$9101,B49,DATA!$Q$2:$Q$9101)","v":0},{"$f":"SUMIF(DATA!$A$2:$A$9078,B49,DATA!$R$2:$R$9078)","v":2},4.0816326530612242E-2,{"$f":"SUMIF(DATA!$A$2:$A$9078,B49,DATA!$S$2:$S$9078)","v":1},2.0408163265306121E-2,{"$f":"SUMIFS(DATA!J:J,DATA!A:A,Table1[[#This Row],[Name]],DATA!F:F,\"Pre\")","v":22},{"$f":"SUMIFS(DATA!K:K,DATA!A:A,Table1[[#This Row],[Name]],DATA!F:F,\"Pre\")","v":18},0.55000000000000004,{"$f":"SUMIFS(DATA!J:J,DATA!A:A,Table1[[#This Row],[Name]],DATA!F:F,\"Semi\")","v":0},{"$f":"SUMIFS(DATA!K:K,DATA!A:A,Table1[[#This Row],[Name]],DATA!F:F,\"Semi\")","v":0},{"$error":"#DIV/0!"},{"$f":"SUMIFS(DATA!J:J,DATA!A:A,Table1[[#This Row],[Name]],DATA!F:F,\"COnA\")","v":15},{"$f":"SUMIFS(DATA!K:K,DATA!A:A,Table1[[#This Row],[Name]],DATA!F:F,\"ConA\")","v":9},0.625,{"$f":"SUMIFS(DATA!J:J,DATA!A:A,Table1[[#This Row],[Name]],DATA!F:F,\"ConB\")","v":8},{"$f":"SUMIFS(DATA!K:K,DATA!A:A,Table1[[#This Row],[Name]],DATA!F:F,\"ConB\")","v":11},0.42105263157894735]
[47,"Kaden Meredith","Lighthouse",{"$f":"COUNTIF(DATA!$A$2:$A$9731,B50)","v":37},{"$f":"SUMIF(DATA!$A$2:$A$9077,B50,DATA!$J$2:$J$9077)","v":11},{"$f":"SUMIF(DATA!$A$2:$A$9077,B50,DATA!$K$2:$K$9077)","v":5},16,0.6875,0.1891891891891892,{"$f":"Table1[[#This Row],[Correct]]/Table1[[#This Row],['#Quizzes]]","v":0.29729729729729731},{"$f":"SUMIF(DATA!$A$2:$A$9077,B50,DATA!$L$2:$L$9077)","v":1},{"$f":"SUMIF(DATA!$A$2:$A$9077,B50,DATA!$M$2:$M$79077)","v":3},{"$f":"SUMIF(DATA!$A$2:$A$9077,B50,DATA!$N$2:$N$9077)","v":1},{"$f":"SUMIF(DATA!$A$2:$A$9101,B50,DATA!$O$2:$O$9101)","v":0},{"$f":"SUMIF(DATA!$A$2:$A$9101,B50,DATA!$P$2:$P$9101)","v":0},{"$f":"SUMIF(DATA!$A$2:$A$9101,B50,DATA!$Q$2:$Q$9101)","v":0},{"$f":"SUMIF(DATA!$A$2:$A$9078,B50,DATA!$R$2:$R$9078)","v":0},0,{"$f":"SUMIF(DATA!$A$2:$A$9078,B50,DATA!$S$2:$S$9078)","v":0},0,{"$f":"SUMIFS(DATA!J:J,DATA!A:A,Table1[[#This Row],[Name]],DATA!F:F,\"Pre\")","v":3},{"$f":"SUMIFS(DATA!K:K,DATA!A:A,Table1[[#This Row],[Name]],DATA!F:F,\"Pre\")","v":4},0.42857142857142855,{"$f":"SUMIFS(DATA!J:J,DATA!A:A,Table1[[#This Row],[Name]],DATA!F:F,\"Semi\")","v":1},{"$f":"SUMIFS(DATA!K:K,DATA!A:A,Table1[[#This Row],[Name]],DATA!F:F,\"Semi\")","v":0},1,{"$f":"SUMIFS(DATA!J:J,DATA!A:A,Table1[[#This Row],[Name]],DATA!F:F,\"COnA\")","v":0},{"$f":"SUMIFS(DATA!K:K,DATA!A:A,Table1[[#This Row],[Name]],DATA!F:F,\"ConA\")","v":0},{"$error":"#DIV/0!"},{"$f":"SUMIFS(DATA!J:J,DATA!A:A,Table1[[#This Row],[Name]],DATA!F:F,\"ConB\")","v":7},{"$f":"SUMIFS(DATA!K:K,DATA!A:A,Table1[[#This Row],[Name]],DATA!F:F,\"ConB\")","v":1},0.875]
[51,"Joshua Miller","Dallas",{"$f":"COUNTIF(DATA!$A$2:$A$9731,B51)","v":46},{"$f":"SUMIF(DATA!$A$2:$A$9077,B51,DATA!$J$2:$J$9077)","v":8},{"$f":"SUMIF(DATA!$A$2:$A$9077,B51,DATA!$K$2:$K$9077)","v":2},10,0.8,0.15217391304347827,{"$f":"Table1[[#This Row],[Correct]]/Table1[[#This Row],['#Quizzes]]","v":0.17391304347826086},{"$f":"SUMIF(DATA!$A$2:$A$9077,B51,DATA!$L$2:$L$9077)","v":0},{"$f":"SUMIF(DATA!$A$2:$A$9077,B51,DATA!$M$2:$M$79077)","v":1},{"$f":"SUMIF(DATA!$A$2:$A$9077,B51,DATA!$N$2:$N$9077)","v":0},{"$f":"SUMIF(DATA!$A$2:$A$9101,B51,DATA!$O$2:$O$9101)","v":0},{"$f":"SUMIF(DATA!$A$2:$A$9101,B51,DATA!$P$2:$P$9101)","v":0},{"$f":"SUMIF(DATA!$A$2:$A$9101,B51,DATA!$Q$2:$Q$9101)","v":0},{"$f":"SUMIF(DATA!$A$2:$A$9078,B51,DATA!$R$2:$R$9078)","v":0},0,{"$f":"SUMIF(DATA!$A$2:$A$9078,B51,DATA!$S$2:$S$9078)","v":0},0,{"$f":"SUMIFS(DATA!J:J,DATA!A:A,Table1[[#This Row],[Name]],DATA!F:F,\"Pre\")","v":5},{"$f":"SUMIFS(DATA!K:K,DATA!A:A,Table1[[#This Row],[Name]],DATA!F:F,\"Pre\")","v":1},0.83333333333333337,{"$f":"SUMIFS(DATA!J:J,DATA!A:A,Table1[[#This Row],[Name]],DATA!F:F,\"Semi\")","v":0},{"$f":"SUMIFS(DATA!K:K,DATA!A:A,Table1[[#This Row],[Name]],DATA!F:F,\"Semi\")","v":0},{"$error":"#DIV/0!"},{"$f":"SUMIFS(DATA!J:J,DATA!A:A,Table1[[#This Row],[Name]],DATA!F:F,\"COnA\")","v":0},{"$f":"SUMIFS(DATA!K:K,DATA!A:A,Table1[[#This Row],[Name]],DATA!F:F,\"ConA\")","v":0},{"$error":"#DIV/0!"},{"$f":"SUMIFS(DATA!J:J,DATA!A:A,Table1[[#This Row],[Name]],DATA!F:F,\"ConB\")","v":3},{"$f":"SUMIFS(DATA!K:K,DATA!A:A,Table1[[#This Row],[Name]],DATA!F:F,\"ConB\")","v":1},0.75]
[54,"Rachel Wallace","EBC",{"$f":"COUNTIF(DATA!$A$2:$A$9731,B52)","v":45},{"$f":"SUMIF(DATA!$A$2:$A$9077,B52,DATA!$J$2:$J$9077)","v":17},{"$f":"SUMIF(DATA!$A$2:$A$9077,B52,DATA!$K$2:$K$9077)","v":9},26,0.65384615384615385,0.17777777777777778,{"$f":"Table1[[#This Row],[Correct]]/Table1[[#This Row],['#Quizzes]]","v":0.37777777777777777},{"$f":"SUMIF(DATA!$A$2:$A$9077,B52,DATA!$L$2:$L$9077)","v":0},{"$f":"SUMIF(DATA!$A$2:$A$9077,B52,DATA!$M$2:$M$79077)","v":1},{"$f":"SUMIF(DATA!$A$2:$A$9077,B52,DATA!$N$2:$N$9077)","v":1},{"$f":"SUMIF(DATA!$A$2:$A$9101,B52,DATA!$O$2:$O$9101)","v":0},{"$f":"SUMIF(DATA!$A$2:$A$9101,B52,DATA!$P$2:$P$9101)","v":0},{"$f":"SUMIF(DATA!$A$2:$A$9101,B52,DATA!$Q$2:$Q$9101)","v":0},{"$f":"SUMIF(DATA!$A$2:$A$9078,B52,DATA!$R$2:$R$9078)","v":0},0,{"$f":"SUMIF(DATA!$A$2:$A$9078,B52,DATA!$S$2:$S$9078)","v":0},0,{"$f":"SUMIFS(DATA!J:J,DATA!A:A,Table1[[#This Row],[Name]],DATA!F:F,\"Pre\")","v":9},{"$f":"SUMIFS(DATA!K:K,DATA!A:A,Table1[[#This Row],[Name]],DATA!F:F,\"Pre\")","v":5},0.6428571428571429,{"$f":"SUMIFS(DATA!J:J,DATA!A:A,Table1[[#This Row],[Name]],DATA!F:F,\"Semi\")","v":0},{"$f":"SUMIFS(DATA!K:K,DATA!A:A,Table1[[#This Row],[Name]],DATA!F:F,\"Semi\")","v":0},{"$error":"#DIV/0!"},{"$f":"SUMIFS(DATA!J:J,DATA!A:A,Table1[[#This Row],[Name]],DATA!F:F,\"COnA\")","v":3},{"$f":"SUMIFS(DATA!K:K,DATA!A:A,Table1[[#This Row],[Name]],DATA!F:F,\"ConA\")","v":2},0.6,{"$f":"SUMIFS(DATA!J:J,DATA!A:A,Table1[[#This Row],[Name]],DATA!F:F,\"ConB\")","v":5},{"$f":"SUMIFS(DATA!K:K,DATA!A:A,Table1[[#This Row],[Name]],DATA!F:F,\"ConB\")","v":2},0.7142857142857143]
[50,"Emily Van Bergeyk","Lighthouse",{"$f":"COUNTIF(DATA!$A$2:$A$9731,B53)","v":49},{"$f":"SUMIF(DATA!$A$2:$A$9077,B53,DATA!$J$2:$J$9077)","v":41},{"$f":"SUMIF(DATA!$A$2:$A$9077,B53,DATA!$K$2:$K$9077)","v":26},67,0.61194029850746268,0.16326530612244897,{"$f":"Table1[[#This Row],[Correct]]/Table1[[#This Row],['#Quizzes]]","v":0.83673469387755106},{"$f":"SUMIF(DATA!$A$2:$A$9077,B53,DATA!$L$2:$L$9077)","v":6},{"$f":"SUMIF(DATA!$A$2:$A$9077,B53,DATA!$M$2:$M$79077)","v":0},{"$f":"SUMIF(DATA!$A$2:$A$9077,B53,DATA!$N$2:$N$9077)","v":1},{"$f":"SUMIF(DATA!$A$2:$A$9101,B53,DATA!$O$2:$O$9101)","v":5},{"$f":"SUMIF(DATA!$A$2:$A$9101,B53,DATA!$P$2:$P$9101)","v":1},{"$f":"SUMIF(DATA!$A$2:$A$9101,B53,DATA!$Q$2:$Q$9101)","v":0},{"$f":"SUMIF(DATA!$A$2:$A$9078,B53,DATA!$R$2:$R$9078)","v":1},2.0408163265306121E-2,{"$f":"SUMIF(DATA!$A$2:$A$9078,B53,DATA!$S$2:$S$9078)","v":1},2.0408163265306121E-2,{"$f":"SUMIFS(DATA!J:J,DATA!A:A,Table1[[#This Row],[Name]],DATA!F:F,\"Pre\")","v":19},{"$f":"SUMIFS(DATA!K:K,DATA!A:A,Table1[[#This Row],[Name]],DATA!F:F,\"Pre\")","v":15},0.55882352941176472,{"$f":"SUMIFS(DATA!J:J,DATA!A:A,Table1[[#This Row],[Name]],DATA!F:F,\"Semi\")","v":0},{"$f":"SUMIFS(DATA!K:K,DATA!A:A,Table1[[#This Row],[Name]],DATA!F:F,\"Semi\")","v":0},{"$error":"#DIV/0!"},{"$f":"SUMIFS(DATA!J:J,DATA!A:A,Table1[[#This Row],[Name]],DATA!F:F,\"COnA\")","v":14},{"$f":"SUMIFS(DATA!K:K,DATA!A:A,Table1[[#This Row],[Name]],DATA!F:F,\"ConA\")","v":6},0.7,{"$f":"SUMIFS(DATA!J:J,DATA!A:A,Table1[[#This Row],[Name]],DATA!F:F,\"ConB\")","v":8},{"$f":"SUMIFS(DATA!K:K,DATA!A:A,Table1[[#This Row],[Name]],DATA!F:F,\"ConB\")","v":5},0.61538461538461542]
[62,"Camden Kositzky","Lighthouse",{"$f":"COUNTIF(DATA!$A$2:$A$9731,B54)","v":46},{"$f":"SUMIF(DATA!$A$2:$A$9077,B54,DATA!$J$2:$J$9077)","v":24},{"$f":"SUMIF(DATA!$A$2:$A$9077,B54,DATA!$K$2:$K$9077)","v":18},42,0.5714285714285714,0.13043478260869565,{"$f":"Table1[[#This Row],[Correct]]/Table1[[#This Row],['#Quizzes]]","v":0.52173913043478259},{"$f":"SUMIF(DATA!$A$2:$A$9077,B54,DATA!$L$2:$L$9077)","v":1},{"$f":"SUMIF(DATA!$A$2:$A$9077,B54,DATA!$M$2:$M$79077)","v":2},{"$f":"SUMIF(DATA!$A$2:$A$9077,B54,DATA!$N$2:$N$9077)","v":1},{"$f":"SUMIF(DATA!$A$2:$A$9101,B54,DATA!$O$2:$O$9101)","v":5},{"$f":"SUMIF(DATA!$A$2:$A$9101,B54,DATA!$P$2:$P$9101)","v":0},{"$f":"SUMIF(DATA!$A$2:$A$9101,B54,DATA!$Q$2:$Q$9101)","v":0},{"$f":"SUMIF(DATA!$A$2:$A$9078,B54,DATA!$R$2:$R$9078)","v":0},0,{"$f":"SUMIF(DATA!$A$2:$A$9078,B54,DATA!$S$2:$S$9078)","v":0},0,{"$f":"SUMIFS(DATA!J:J,DATA!A:A,Table1[[#This Row],[Name]],DATA!F:F,\"Pre\")","v":15},{"$f":"SUMIFS(DATA!K:K,DATA!A:A,Table1[[#This Row],[Name]],DATA!F:F,\"Pre\")","v":12},0.55555555555555558,{"$f":"SUMIFS(DATA!J:J,DATA!A:A,Table1[[#This Row],[Name]],DATA!F:F,\"Semi\")","v":0},{"$f":"SUMIFS(DATA!K:K,DATA!A:A,Table1[[#This Row],[Name]],DATA!F:F,\"Semi\")","v":0},{"$error":"#DIV/0!"},{"$f":"SUMIFS(DATA!J:J,DATA!A:A,Table1[[#This Row],[Name]],DATA!F:F,\"COnA\")","v":4},{"$f":"SUMIFS(DATA!K:K,DATA!A:A,Table1[[#This Row],[Name]],DATA!F:F,\"ConA\")","v":4},0.5,{"$f":"SUMIFS(DATA!J:J,DATA!A:A,Table1[[#This Row],[Name]],DATA!F:F,\"ConB\")","v":5},{"$f":"SUMIFS(DATA!K:K,DATA!A:A,Table1[[#This Row],[Name]],DATA!F:F,\"ConB\")","v":2},0.7142857142857143]
[59,"Lexi Swanson","Lighthouse",{"$f":"COUNTIF(DATA!$A$2:$A$9731,B55)","v":28},{"$f":"SUMIF(DATA!$A$2:$A$9077,B55,DATA!$J$2:$J$9077)","v":27},{"$f":"SUMIF(DATA!$A$2:$A$9077,B55,DATA!$K$2:$K$9077)","v":20},47,0.57446808510638303,0.21428571428571427,{"$f":"Table1[[#This Row],[Correct]]/Table1[[#This Row],['#Quizzes]]","v":0.9642857142857143},{"$f":"SUMIF(DATA!$A$2:$A$9077,B55,DATA!$L$2:$L$9077)","v":0},{"$f":"SUMIF(DATA!$A$2:$A$9077,B55,DATA!$M$2:$M$79077)","v":1},{"$f":"SUMIF(DATA!$A$2:$A$9077,B55,DATA!$N$2:$N$9077)","v":2},{"$f":"SUMIF(DATA!$A$2:$A$9101,B55,DATA!$O$2:$O$9101)","v":3},{"$f":"SUMIF(DATA!$A$2:$A$9101,B55,DATA!$P$2:$P$9101)","v":0},{"$f":"SUMIF(DATA!$A$2:$A$9101,B55,DATA!$Q$2:$Q$9101)","v":0},{"$f":"SUMIF(DATA!$A$2:$A$9078,B55,DATA!$R$2:$R$9078)","v":0},0,{"$f":"SUMIF(DATA!$A$2:$A$9078,B55,DATA!$S$2:$S$9078)","v":0},0,{"$f":"SUMIFS(DATA!J:J,DATA!A:A,Table1[[#This Row],[Name]],DATA!F:F,\"Pre\")","v":17},{"$f":"SUMIFS(DATA!K:K,DATA!A:A,Table1[[#This Row],[Name]],DATA!F:F,\"Pre\")","v":10},0.62962962962962965,{"$f":"SUMIFS(DATA!J:J,DATA!A:A,Table1[[#This Row],[Name]],DATA!F:F,\"Semi\")","v":0},{"$f":"SUMIFS(DATA!K:K,DATA!A:A,Table1[[#This Row],[Name]],DATA!F:F,\"Semi\")","v":0},{"$error":"#DIV/0!"},{"$f":"SUMIFS(DATA!J:J,DATA!A:A,Table1[[#This Row],[Name]],DATA!F:F,\"COnA\")","v":0},{"$f":"SUMIFS(DATA!K:K,DATA!A:A,Table1[[#This Row],[Name]],DATA!F:F,\"ConA\")","v":0},{"$error":"#DIV/0!"},{"$f":"SUMIFS(DATA!J:J,DATA!A:A,Table1[[#This Row],[Name]],DATA!F:F,\"ConB\")","v":10},{"$f":"SUMIFS(DATA!K:K,DATA!A:A,Table1[[#This Row],[Name]],DATA!F:F,\"ConB\")","v":10},0.5]
[56,"Maddy Foster","Lighthouse",{"$f":"COUNTIF(DATA!$A$2:$A$9731,B56)","v":19},{"$f":"SUMIF(DATA!$A$2:$A$9077,B56,DATA!$J$2:$J$9077)","v":2},{"$f":"SUMIF(DATA!$A$2:$A$9077,B56,DATA!$K$2:$K$9077)","v":0},2,1,0.10526315789473684,{"$f":"Table1[[#This Row],[Correct]]/Table1[[#This Row],['#Quizzes]]","v":0.10526315789473684},{"$f":"SUMIF(DATA!$A$2:$A$9077,B56,DATA!$L$2:$L$9077)","v":0},{"$f":"SUMIF(DATA!$A$2:$A$9077,B56,DATA!$M$2:$M$79077)","v":0},{"$f":"SUMIF(DATA!$A$2:$A$9077,B56,DATA!$N$2:$N$9077)","v":0},{"$f":"SUMIF(DATA!$A$2:$A$9101,B56,DATA!$O$2:$O$9101)","v":1},{"$f":"SUMIF(DATA!$A$2:$A$9101,B56,DATA!$P$2:$P$9101)","v":0},{"$f":"SUMIF(DATA!$A$2:$A$9101,B56,DATA!$Q$2:$Q$9101)","v":0},{"$f":"SUMIF(DATA!$A$2:$A$9078,B56,DATA!$R$2:$R$9078)","v":0},0,{"$f":"SUMIF(DATA!$A$2:$A$9078,B56,DATA!$S$2:$S$9078)","v":0},0,{"$f":"SUMIFS(DATA!J:J,DATA!A:A,Table1[[#This Row],[Name]],DATA!F:F,\"Pre\")","v":0},{"$f":"SUMIFS(DATA!K:K,DATA!A:A,Table1[[#This Row],[Name]],DATA!F:F,\"Pre\")","v":0},{"$error":"#DIV/0!"},{"$f":"SUMIFS(DATA!J:J,DATA!A:A,Table1[[#This Row],[Name]],DATA!F:F,\"Semi\")","v":0},{"$f":"SUMIFS(DATA!K:K,DATA!A:A,Table1[[#This Row],[Name]],DATA!F:F,\"Semi\")","v":0},{"$error":"#DIV/0!"},{"$f":"SUMIFS(DATA!J:J,DATA!A:A,Table1[[#This Row],[Name]],DATA!F:F,\"COnA\")","v":0},{"$f":"SUMIFS(DATA!K:K,DATA!A:A,Table1[[#This Row],[Name]],DATA!F:F,\"ConA\")","v":0},{"$error":"#DIV/0!"},{"$f":"SUMIFS(DATA!J:J,DATA!A:A,Table1[[#This Row],[Name]],DATA!F:F,\"ConB\")","v":2},{"$f":"SUMIFS(DATA!K:K,DATA!A:A,Table1[[#This Row],[Name]],DATA!F:F,\"ConB\")","v":0},1]
[58,"Zak Swanson","Lighthouse",{"$f":"COUNTIF(DATA!$A$2:$A$9731,B57)","v":10},{"$f":"SUMIF(DATA!$A$2:$A$9077,B57,DATA!$J$2:$J$9077)","v":3},{"$f":"SUMIF(DATA!$A$2:$A$9077,B57,DATA!$K$2:$K$9077)","v":4},7,0.42857142857142855,0.1,{"$f":"Table1[[#This Row],[Correct]]/Table1[[#This Row],['#Quizzes]]","v":0.3},{"$f":"SUMIF(DATA!$A$2:$A$9077,B57,DATA!$L$2:$L$9077)","v":0},{"$f":"SUMIF(DATA!$A$2:$A$9077,B57,DATA!$M$2:$M$79077)","v":3},{"$f":"SUMIF(DATA!$A$2:$A$9077,B57,DATA!$N$2:$N$9077)","v":1},{"$f":"SUMIF(DATA!$A$2:$A$9101,B57,DATA!$O$2:$O$9101)","v":2},{"$f":"SUMIF(DATA!$A$2:$A$9101,B57,DATA!$P$2:$P$9101)","v":1},{"$f":"SUMIF(DATA!$A$2:$A$9101,B57,DATA!$Q$2:$Q$9101)","v":0},{"$f":"SUMIF(DATA!$A$2:$A$9078,B57,DATA!$R$2:$R$9078)","v":0},0,{"$f":"SUMIF(DATA!$A$2:$A$9078,B57,DATA!$S$2:$S$9078)","v":0},0,{"$f":"SUMIFS(DATA!J:J,DATA!A:A,Table1[[#This Row],[Name]],DATA!F:F,\"Pre\")","v":2},{"$f":"SUMIFS(DATA!K:K,DATA!A:A,Table1[[#This Row],[Name]],DATA!F:F,\"Pre\")","v":4},0.33333333333333331,{"$f":"SUMIFS(DATA!J:J,DATA!A:A,Table1[[#This Row],[Name]],DATA!F:F,\"Semi\")","v":0},{"$f":"SUMIFS(DATA!K:K,DATA!A:A,Table1[[#This Row],[Name]],DATA!F:F,\"Semi\")","v":0},{"$error":"#DIV/0!"},{"$f":"SUMIFS(DATA!J:J,DATA!A:A,Table1[[#This Row],[Name]],DATA!F:F,\"COnA\")","v":1},{"$f":"SUMIFS(DATA!K:K,DATA!A:A,Table1[[#This Row],[Name]],DATA!F:F,\"ConA\")","v":0},1,{"$f":"SUMIFS(DATA!J:J,DATA!A:A,Table1[[#This Row],[Name]],DATA!F:F,\"ConB\")","v":0},{"$f":"SUMIFS(DATA!K:K,DATA!A:A,Table1[[#This Row],[Name]],DATA!F:F,\"ConB\")","v":0},{"$error":"#DIV/0!"}]
[48,"Jonathon Derr","Chapel Hill",{"$f":"COUNTIF(DATA!$A$2:$A$9731,B58)","v":42},{"$f":"SUMIF(DATA!$A$2:$A$9077,B58,DATA!$J$2:$J$9077)","v":45},{"$f":"SUMIF(DATA!$A$2:$A$9077,B58,DATA!$K$2:$K$9077)","v":42},87,0.51724137931034486,7.1428571428571425E-2,{"$f":"Table1[[#This Row],[Correct]]/Table1[[#This Row],['#Quizzes]]","v":1.0714285714285714},{"$f":"SUMIF(DATA!$A$2:$A$9077,B58,DATA!$L$2:$L$9077)","v":2},{"$f":"SUMIF(DATA!$A$2:$A$9077,B58,DATA!$M$2:$M$79077)","v":2},{"$f":"SUMIF(DATA!$A$2:$A$9077,B58,DATA!$N$2:$N$9077)","v":0},{"$f":"SUMIF(DATA!$A$2:$A$9101,B58,DATA!$O$2:$O$9101)","v":3},{"$f":"SUMIF(DATA!$A$2:$A$9101,B58,DATA!$P$2:$P$9101)","v":0},{"$f":"SUMIF(DATA!$A$2:$A$9101,B58,DATA!$Q$2:$Q$9101)","v":0},{"$f":"SUMIF(DATA!$A$2:$A$9078,B58,DATA!$R$2:$R$9078)","v":2},4.7619047619047616E-2,{"$f":"SUMIF(DATA!$A$2:$A$9078,B58,DATA!$S$2:$S$9078)","v":4},9.5238095238095233E-2,{"$f":"SUMIFS(DATA!J:J,DATA!A:A,Table1[[#This Row],[Name]],DATA!F:F,\"Pre\")","v":32},{"$f":"SUMIFS(DATA!K:K,DATA!A:A,Table1[[#This Row],[Name]],DATA!F:F,\"Pre\")","v":31},0.50793650793650791,{"$f":"SUMIFS(DATA!J:J,DATA!A:A,Table1[[#This Row],[Name]],DATA!F:F,\"Semi\")","v":0},{"$f":"SUMIFS(DATA!K:K,DATA!A:A,Table1[[#This Row],[Name]],DATA!F:F,\"Semi\")","v":0},{"$error":"#DIV/0!"},{"$f":"SUMIFS(DATA!J:J,DATA!A:A,Table1[[#This Row],[Name]],DATA!F:F,\"COnA\")","v":13},{"$f":"SUMIFS(DATA!K:K,DATA!A:A,Table1[[#This Row],[Name]],DATA!F:F,\"ConA\")","v":11},0.54166666666666663,{"$f":"SUMIFS(DATA!J:J,DATA!A:A,Table1[[#This Row],[Name]],DATA!F:F,\"ConB\")","v":0},{"$f":"SUMIFS(DATA!K:K,DATA!A:A,Table1[[#This Row],[Name]],DATA!F:F,\"ConB\")","v":0},{"$error":"#DIV/0!"}]
[53,"Aaron Maier","Lighthouse",{"$f":"COUNTIF(DATA!$A$2:$A$9731,B59)","v":46},{"$f":"SUMIF(DATA!$A$2:$A$9077,B59,DATA!$J$2:$J$9077)","v":42},{"$f":"SUMIF(DATA!$A$2:$A$9077,B59,DATA!$K$2:$K$9077)","v":30},72,0.58333333333333337,0.13043478260869565,{"$f":"Table1[[#This Row],[Correct]]/Table1[[#This Row],['#Quizzes]]","v":0.91304347826086951},{"$f":"SUMIF(DATA!$A$2:$A$9077,B59,DATA!$L$2:$L$9077)","v":0},{"$f":"SUMIF(DATA!$A$2:$A$9077,B59,DATA!$M$2:$M$79077)","v":3},{"$f":"SUMIF(DATA!$A$2:$A$9077,B59,DATA!$N$2:$N$9077)","v":9},{"$f":"SUMIF(DATA!$A$2:$A$9101,B59,DATA!$O$2:$O$9101)","v":2},{"$f":"SUMIF(DATA!$A$2:$A$9101,B59,DATA!$P$2:$P$9101)","v":0},{"$f":"SUMIF(DATA!$A$2:$A$9101,B59,DATA!$Q$2:$Q$9101)","v":0},{"$f":"SUMIF(DATA!$A$2:$A$9078,B59,DATA!$R$2:$R$9078)","v":1},2.1739130434782608E-2,{"$f":"SUMIF(DATA!$A$2:$A$9078,B59,DATA!$S$2:$S$9078)","v":2},4.3478260869565216E-2,{"$f":"SUMIFS(DATA!J:J,DATA!A:A,Table1[[#This Row],[Name]],DATA!F:F,\"Pre\")","v":24},{"$f":"SUMIFS(DATA!K:K,DATA!A:A,Table1[[#This Row],[Name]],DATA!F:F,\"Pre\")","v":12},0.66666666666666663,{"$f":"SUMIFS(DATA!J:J,DATA!A:A,Table1[[#This Row],[Name]],DATA!F:F,\"Semi\")","v":0},{"$f":"SUMIFS(DATA!K:K,DATA!A:A,Table1[[#This Row],[Name]],DATA!F:F,\"Semi\")","v":0},{"$error":"#DIV/0!"},{"$f":"SUMIFS(DATA!J:J,DATA!A:A,Table1[[#This Row],[Name]],DATA!F:F,\"COnA\")","v":11},{"$f":"SUMIFS(DATA!K:K,DATA!A:A,Table1[[#This Row],[Name]],DATA!F:F,\"ConA\")","v":9},0.55000000000000004,{"$f":"SUMIFS(DATA!J:J,DATA!A:A,Table1[[#This Row],[Name]],DATA!F:F,\"ConB\")","v":7},{"$f":"SUMIFS(DATA!K:K,DATA!A:A,Table1[[#This Row],[Name]],DATA!F:F,\"ConB\")","v":9},0.4375]
[61,"Lam Dang","ABC",{"$f":"COUNTIF(DATA!$A$2:$A$9731,B60)","v":45},{"$f":"SUMIF(DATA!$A$2:$A$9077,B60,DATA!$J$2:$J$9077)","v":9},{"$f":"SUMIF(DATA!$A$2:$A$9077,B60,DATA!$K$2:$K$9077)","v":5},14,0.6428571428571429,8.8888888888888892E-2,{"$f":"Table1[[#This Row],[Correct]]/Table1[[#This Row],['#Quizzes]]","v":0.2},{"$f":"SUMIF(DATA!$A$2:$A$9077,B60,DATA!$L$2:$L$9077)","v":0},{"$f":"SUMIF(DATA!$A$2:$A$9077,B60,DATA!$M$2:$M$79077)","v":2},{"$f":"SUMIF(DATA!$A$2:$A$9077,B60,DATA!$N$2:$N$9077)","v":2},{"$f":"SUMIF(DATA!$A$2:$A$9101,B60,DATA!$O$2:$O$9101)","v":2},{"$f":"SUMIF(DATA!$A$2:$A$9101,B60,DATA!$P$2:$P$9101)","v":0},{"$f":"SUMIF(DATA!$A$2:$A$9101,B60,DATA!$Q$2:$Q$9101)","v":0},{"$f":"SUMIF(DATA!$A$2:$A$9078,B60,DATA!$R$2:$R$9078)","v":0},0,{"$f":"SUMIF(DATA!$A$2:$A$9078,B60,DATA!$S$2:$S$9078)","v":0},0,{"$f":"SUMIFS(DATA!J:J,DATA!A:A,Table1[[#This Row],[Name]],DATA!F:F,\"Pre\")","v":4},{"$f":"SUMIFS(DATA!K:K,DATA!A:A,Table1[[#This Row],[Name]],DATA!F:F,\"Pre\")","v":1},0.8,{"$f":"SUMIFS(DATA!J:J,DATA!A:A,Table1[[#This Row],[Name]],DATA!F:F,\"Semi\")","v":0},{"$f":"SUMIFS(DATA!K:K,DATA!A:A,Table1[[#This Row],[Name]],DATA!F:F,\"Semi\")","v":0},{"$error":"#DIV/0!"},{"$f":"SUMIFS(DATA!J:J,DATA!A:A,Table1[[#This Row],[Name]],DATA!F:F,\"COnA\")","v":0},{"$f":"SUMIFS(DATA!K:K,DATA!A:A,Table1[[#This Row],[Name]],DATA!F:F,\"ConA\")","v":0},{"$error":"#DIV/0!"},{"$f":"SUMIFS(DATA!J:J,DATA!A:A,Table1[[#This Row],[Name]],DATA!F:F,\"ConB\")","v":5},{"$f":"SUMIFS(DATA!K:K,DATA!A:A,Table1[[#This Row],[Name]],DATA!F:F,\"ConB\")","v":4},0.55555555555555558]
[49,"Tyler Marchese","Grays Harbor",{"$f":"COUNTIF(DATA!$A$2:$A$9731,B61)","v":45},{"$f":"SUMIF(DATA!$A$2:$A$9077,B61,DATA!$J$2:$J$9077)","v":18},{"$f":"SUMIF(DATA!$A$2:$A$9077,B61,DATA!$K$2:$K$9077)","v":14},32,0.5625,8.8888888888888892E-2,{"$f":"Table1[[#This Row],[Correct]]/Table1[[#This Row],['#Quizzes]]","v":0.4},{"$f":"SUMIF(DATA!$A$2:$A$9077,B61,DATA!$L$2:$L$9077)","v":0},{"$f":"SUMIF(DATA!$A$2:$A$9077,B61,DATA!$M$2:$M$79077)","v":2},{"$f":"SUMIF(DATA!$A$2:$A$9077,B61,DATA!$N$2:$N$9077)","v":2},{"$f":"SUMIF(DATA!$A$2:$A$9101,B61,DATA!$O$2:$O$9101)","v":8},{"$f":"SUMIF(DATA!$A$2:$A$9101,B61,DATA!$P$2:$P$9101)","v":0},{"$f":"SUMIF(DATA!$A$2:$A$9101,B61,DATA!$Q$2:$Q$9101)","v":0},{"$f":"SUMIF(DATA!$A$2:$A$9078,B61,DATA!$R$2:$R$9078)","v":0},0,{"$f":"SUMIF(DATA!$A$2:$A$9078,B61,DATA!$S$2:$S$9078)","v":0},0,{"$f":"SUMIFS(DATA!J:J,DATA!A:A,Table1[[#This Row],[Name]],DATA!F:F,\"Pre\")","v":15},{"$f":"SUMIFS(DATA!K:K,DATA!A:A,Table1[[#This Row],[Name]],DATA!F:F,\"Pre\")","v":12},0.55555555555555558,{"$f":"SUMIFS(DATA!J:J,DATA!A:A,Table1[[#This Row],[Name]],DATA!F:F,\"Semi\")","v":0},{"$f":"SUMIFS(DATA!K:K,DATA!A:A,Table1[[#This Row],[Name]],DATA!F:F,\"Semi\")","v":1},0,{"$f":"SUMIFS(DATA!J:J,DATA!A:A,Table1[[#This Row],[Name]],DATA!F:F,\"COnA\")","v":3},{"$f":"SUMIFS(DATA!K:K,DATA!A:A,Table1[[#This Row],[Name]],DATA!F:F,\"ConA\")","v":1},0.75,{"$f":"SUMIFS(DATA!J:J,DATA!A:A,Table1[[#This Row],[Name]],DATA!F:F,\"ConB\")","v":0},{"$f":"SUMIFS(DATA!K:K,DATA!A:A,Table1[[#This Row],[Name]],DATA!F:F,\"ConB\")","v":0},{"$error":"#DIV/0!"}]
[57,"Roshan Truax","NSA",{"$f":"COUNTIF(DATA!$A$2:$A$9731,B62)","v":45},{"$f":"SUMIF(DATA!$A$2:$A$9077,B62,DATA!$J$2:$J$9077)","v":12},{"$f":"SUMIF(DATA!$A$2:$A$9077,B62,DATA!$K$2:$K$9077)","v":11},23,0.52173913043478259,2.2222222222222223E-2,{"$f":"Table1[[#This Row],[Correct]]/Table1[[#This Row],['#Quizzes]]","v":0.26666666666666666},{"$f":"SUMIF(DATA!$A$2:$A$9077,B62,DATA!$L$2:$L$9077)","v":0},{"$f":"SUMIF(DATA!$A$2:$A$9077,B62,DATA!$M$2:$M$79077)","v":1},{"$f":"SUMIF(DATA!$A$2:$A$9077,B62,DATA!$N$2:$N$9077)","v":1},{"$f":"SUMIF(DATA!$A$2:$A$9101,B62,DATA!$O$2:$O$9101)","v":0},{"$f":"SUMIF(DATA!$A$2:$A$9101,B62,DATA!$P$2:$P$9101)","v":0},{"$f":"SUMIF(DATA!$A$2:$A$9101,B62,DATA!$Q$2:$Q$9101)","v":0},{"$f":"SUMIF(DATA!$A$2:$A$9078,B62,DATA!$R$2:$R$9078)","v":0},0,{"$f":"SUMIF(DATA!$A$2:$A$9078,B62,DATA!$S$2:$S$9078)","v":0},0,{"$f":"SUMIFS(DATA!J:J,DATA!A:A,Table1[[#This Row],[Name]],DATA!F:F,\"Pre\")","v":7},{"$f":"SUMIFS(DATA!K:K,DATA!A:A,Table1[[#This Row],[Name]],DATA!F:F,\"Pre\")","v":3},0.7,{"$f":"SUMIFS(DATA!J:J,DATA!A:A,Table1[[#This Row],[Name]],DATA!F:F,\"Semi\")","v":0},{"$f":"SUMIFS(DATA!K:K,DATA!A:A,Table1[[#This Row],[Name]],DATA!F:F,\"Semi\")","v":0},{"$error":"#DIV/0!"},{"$f":"SUMIFS(DATA!J:J,DATA!A:A,Table1[[#This Row],[Name]],DATA!F:F,\"COnA\")","v":0},{"$f":"SUMIFS(DATA!K:K,DATA!A:A,Table1[[#This Row],[Name]],DATA!F:F,\"ConA\")","v":0},{"$error":"#DIV/0!"},{"$f":"SUMIFS(DATA!J:J,DATA!A:A,Table1[[#This Row],[Name]],DATA!F:F,\"ConB\")","v":5},{"$f":"SUMIFS(DATA!K:K,DATA!A:A,Table1[[#This Row],[Name]],DATA!F:F,\"ConB\")","v":8},0.38461538461538464]
[65,"Jacob Pope","Dallas",{"$f":"COUNTIF(DATA!$A$2:$A$9731,B63)","v":46},{"$f":"SUMIF(DATA!$A$2:$A$9077,B63,DATA!$J$2:$J$9077)","v":7},{"$f":"SUMIF(DATA!$A$2:$A$9077,B63,DATA!$K$2:$K$9077)","v":5},12,0.58333333333333337,4.3478260869565216E-2,{"$f":"Table1[[#This Row],[Correct]]/Table1[[#This Row],['#Quizzes]]","v":0.15217391304347827},{"$f":"SUMIF(DATA!$A$2:$A$9077,B63,DATA!$L$2:$L$9077)","v":0},{"$f":"SUMIF(DATA!$A$2:$A$9077,B63,DATA!$M$2:$M$79077)","v":1},{"$f":"SUMIF(DATA!$A$2:$A$9077,B63,DATA!$N$2:$N$9077)","v":1},{"$f":"SUMIF(DATA!$A$2:$A$9101,B63,DATA!$O$2:$O$9101)","v":0},{"$f":"SUMIF(DATA!$A$2:$A$9101,B63,DATA!$P$2:$P$9101)","v":0},{"$f":"SUMIF(DATA!$A$2:$A$9101,B63,DATA!$Q$2:$Q$9101)","v":0},{"$f":"SUMIF(DATA!$A$2:$A$9078,B63,DATA!$R$2:$R$9078)","v":0},0,{"$f":"SUMIF(DATA!$A$2:$A$9078,B63,DATA!$S$2:$S$9078)","v":0},0,{"$f":"SUMIFS(DATA!J:J,DATA!A:A,Table1[[#This Row],[Name]],DATA!F:F,\"Pre\")","v":4},{"$f":"SUMIFS(DATA!K:K,DATA!A:A,Table1[[#This Row],[Name]],DATA!F:F,\"Pre\")","v":3},0.5714285714285714,{"$f":"SUMIFS(DATA!J:J,DATA!A:A,Table1[[#This Row],[Name]],DATA!F:F,\"Semi\")","v":0},{"$f":"SUMIFS(DATA!K:K,DATA!A:A,Table1[[#This Row],[Name]],DATA!F:F,\"Semi\")","v":0},{"$error":"#DIV/0!"},{"$f":"SUMIFS(DATA!J:J,DATA!A:A,Table1[[#This Row],[Name]],DATA!F:F,\"COnA\")","v":0},{"$f":"SUMIFS(DATA!K:K,DATA!A:A,Table1[[#This Row],[Name]],DATA!F:F,\"ConA\")","v":0},{"$error":"#DIV/0!"},{"$f":"SUMIFS(DATA!J:J,DATA!A:A,Table1[[#This Row],[Name]],DATA!F:F,\"ConB\")","v":3},{"$f":"SUMIFS(DATA!K:K,DATA!A:A,Table1[[#This Row],[Name]],DATA!F:F,\"ConB\")","v":2},0.6]
[60,"Ethan Shipps","Woodinville",{"$f":"COUNTIF(DATA!$A$2:$A$9731,B64)","v":44},{"$f":"SUMIF(DATA!$A$2:$A$9077,B64,DATA!$J$2:$J$9077)","v":1},{"$f":"SUMIF(DATA!$A$2:$A$9077,B64,DATA!$K$2:$K$9077)","v":0},1,1,4.5454545454545456E-2,{"$f":"Table1[[#This Row],[Correct]]/Table1[[#This Row],['#Quizzes]]","v":2.2727272727272728E-2},{"$f":"SUMIF(DATA!$A$2:$A$9077,B64,DATA!$L$2:$L$9077)","v":0},{"$f":"SUMIF(DATA!$A$2:$A$9077,B64,DATA!$M$2:$M$79077)","v":1},{"$f":"SUMIF(DATA!$A$2:$A$9077,B64,DATA!$N$2:$N$9077)","v":0},{"$f":"SUMIF(DATA!$A$2:$A$9101,B64,DATA!$O$2:$O$9101)","v":0},{"$f":"SUMIF(DATA!$A$2:$A$9101,B64,DATA!$P$2:$P$9101)","v":0},{"$f":"SUMIF(DATA!$A$2:$A$9101,B64,DATA!$Q$2:$Q$9101)","v":0},{"$f":"SUMIF(DATA!$A$2:$A$9078,B64,DATA!$R$2:$R$9078)","v":0},0,{"$f":"SUMIF(DATA!$A$2:$A$9078,B64,DATA!$S$2:$S$9078)","v":0},0,{"$f":"SUMIFS(DATA!J:J,DATA!A:A,Table1[[#This Row],[Name]],DATA!F:F,\"Pre\")","v":1},{"$f":"SUMIFS(DATA!K:K,DATA!A:A,Table1[[#This Row],[Name]],DATA!F:F,\"Pre\")","v":0},1,{"$f":"SUMIFS(DATA!J:J,DATA!A:A,Table1[[#This Row],[Name]],DATA!F:F,\"Semi\")","v":0},{"$f":"SUMIFS(DATA!K:K,DATA!A:A,Table1[[#This Row],[Name]],DATA!F:F,\"Semi\")","v":0},{"$error":"#DIV/0!"},{"$f":"SUMIFS(DATA!J:J,DATA!A:A,Table1[[#This Row],[Name]],DATA!F:F,\"COnA\")","v":0},{"$f":"SUMIFS(DATA!K:K,DATA!A:A,Table1[[#This Row],[Name]],DATA!F:F,\"ConA\")","v":0},{"$error":"#DIV/0!"},{"$f":"SUMIFS(DATA!J:J,DATA!A:A,Table1[[#This Row],[Name]],DATA!F:F,\"ConB\")","v":0},{"$f":"SUMIFS(DATA!K:K,DATA!A:A,Table1[[#This Row],[Name]],DATA!F:F,\"ConB\")","v":0},{"$error":"#DIV/0!"}]
[66,"Blake Camacho","Lighthouse",{"$f":"COUNTIF(DATA!$A$2:$A$9731,B65)","v":39},{"$f":"SUMIF(DATA!$A$2:$A$9077,B65,DATA!$J$2:$J$9077)","v":16},{"$f":"SUMIF(DATA!$A$2:$A$9077,B65,DATA!$K$2:$K$9077)","v":18},34,0.47058823529411764,2.564102564102564E-2,{"$f":"Table1[[#This Row],[Correct]]/Table1[[#This Row],['#Quizzes]]","v":0.41025641025641024},{"$f":"SUMIF(DATA!$A$2:$A$9077,B65,DATA!$L$2:$L$9077)","v":0},{"$f":"SUMIF(DATA!$A$2:$A$9077,B65,DATA!$M$2:$M$79077)","v":4},{"$f":"SUMIF(DATA!$A$2:$A$9077,B65,DATA!$N$2:$N$9077)","v":1},{"$f":"SUMIF(DATA!$A$2:$A$9101,B65,DATA!$O$2:$O$9101)","v":3},{"$f":"SUMIF(DATA!$A$2:$A$9101,B65,DATA!$P$2:$P$9101)","v":1},{"$f":"SUMIF(DATA!$A$2:$A$9101,B65,DATA!$Q$2:$Q$9101)","v":0},{"$f":"SUMIF(DATA!$A$2:$A$9078,B65,DATA!$R$2:$R$9078)","v":0},0,{"$f":"SUMIF(DATA!$A$2:$A$9078,B65,DATA!$S$2:$S$9078)","v":0},0,{"$f":"SUMIFS(DATA!J:J,DATA!A:A,Table1[[#This Row],[Name]],DATA!F:F,\"Pre\")","v":4},{"$f":"SUMIFS(DATA!K:K,DATA!A:A,Table1[[#This Row],[Name]],DATA!F:F,\"Pre\")","v":9},0.30769230769230771,{"$f":"SUMIFS(DATA!J:J,DATA!A:A,Table1[[#This Row],[Name]],DATA!F:F,\"Semi\")","v":3},{"$f":"SUMIFS(DATA!K:K,DATA!A:A,Table1[[#This Row],[Name]],DATA!F:F,\"Semi\")","v":1},0.75,{"$f":"SUMIFS(DATA!J:J,DATA!A:A,Table1[[#This Row],[Name]],DATA!F:F,\"COnA\")","v":1},{"$f":"SUMIFS(DATA!K:K,DATA!A:A,Table1[[#This Row],[Name]],DATA!F:F,\"ConA\")","v":3},0.25,{"$f":"SUMIFS(DATA!J:J,DATA!A:A,Table1[[#This Row],[Name]],DATA!F:F,\"ConB\")","v":8},{"$f":"SUMIFS(DATA!K:K,DATA!A:A,Table1[[#This Row],[Name]],DATA!F:F,\"ConB\")","v":5},0.61538461538461542]
[63,"David Swindler","Lighthouse",{"$f":"COUNTIF(DATA!$A$2:$A$9731,B66)","v":47},{"$f":"SUMIF(DATA!$A$2:$A$9077,B66,DATA!$J$2:$J$9077)","v":15},{"$f":"SUMIF(DATA!$A$2:$A$9077,B66,DATA!$K$2:$K$9077)","v":11},{"$f":"E66+F66","v":26},{"$f":"E66/(E66+F66)","v":0.57692307692307687},{"$f":"(E66+L66-F66-K66-M66)/D66","v":6.3829787234042548E-2},{"$f":"Table1[[#This Row],[Correct]]/Table1[[#This Row],['#Quizzes]]","v":0.31914893617021278},{"$f":"SUMIF(DATA!$A$2:$A$9077,B66,DATA!$L$2:$L$9077)","v":1},{"$f":"SUMIF(DATA!$A$2:$A$9077,B66,DATA!$M$2:$M$79077)","v":1},{"$f":"SUMIF(DATA!$A$2:$A$9077,B66,DATA!$N$2:$N$9077)","v":1},{"$f":"SUMIF(DATA!$A$2:$A$9101,B66,DATA!$O$2:$O$9101)","v":4},{"$f":"SUMIF(DATA!$A$2:$A$9101,B66,DATA!$P$2:$P$9101)","v":1},{"$f":"SUMIF(DATA!$A$2:$A$9101,B66,DATA!$Q$2:$Q$9101)","v":0},{"$f":"SUMIF(DATA!$A$2:$A$9078,B66,DATA!$R$2:$R$9078)","v":0},{"$f":"Q66/D66","v":0},{"$f":"SUMIF(DATA!$A$2:$A$9078,B66,DATA!$S$2:$S$9078)","v":0},{"$f":"S66/D66","v":0},{"$f":"SUMIFS(DATA!J:J,DATA!A:A,Table1[[#This Row],[Name]],DATA!F:F,\"Pre\")","v":7},{"$f":"SUMIFS(DATA!K:K,DATA!A:A,Table1[[#This Row],[Name]],DATA!F:F,\"Pre\")","v":6},{"$f":"U66/(U66+V66)","v":0.53846153846153844},{"$f":"SUMIFS(DATA!J:J,DATA!A:A,Table1[[#This Row],[Name]],DATA!F:F,\"Semi\")","v":0},{"$f":"SUMIFS(DATA!K:K,DATA!A:A,Table1[[#This Row],[Name]],DATA!F:F,\"Semi\")","v":0},{"$f":"X66/(X66+Y66)","v":{"$error":"#DIV/0!"}},{"$f":"SUMIFS(DATA!J:J,DATA!A:A,Table1[[#This Row],[Name]],DATA!F:F,\"COnA\")","v":5},{"$f":"SUMIFS(DATA!K:K,DATA!A:A,Table1[[#This Row],[Name]],DATA!F:F,\"ConA\")","v":2},{"$f":"AA66/(AA66+AB66)","v":0.7142857142857143},{"$f":"SUMIFS(DATA!J:J,DATA!A:A,Table1[[#This Row],[Name]],DATA!F:F,\"ConB\")","v":3},{"$f":"SUMIFS(DATA!K:K,DATA!A:A,Table1[[#This Row],[Name]],DATA!F:F,\"ConB\")","v":3},{"$f":"AD66/(AD66+AE66)","v":0.5}]
[67,"Jonathan Steinke","Dallas",{"$f":"COUNTIF(DATA!$A$2:$A$9731,B67)","v":48},{"$f":"SUMIF(DATA!$A$2:$A$9077,B67,DATA!$J$2:$J$9077)","v":13},{"$f":"SUMIF(DATA!$A$2:$A$9077,B67,DATA!$K$2:$K$9077)","v":17},30,0.43333333333333335,0,{"$f":"Table1[[#This Row],[Correct]]/Table1[[#This Row],['#Quizzes]]","v":0.27083333333333331},{"$f":"SUMIF(DATA!$A$2:$A$9077,B67,DATA!$L$2:$L$9077)","v":0},{"$f":"SUMIF(DATA!$A$2:$A$9077,B67,DATA!$M$2:$M$79077)","v":4},{"$f":"SUMIF(DATA!$A$2:$A$9077,B67,DATA!$N$2:$N$9077)","v":0},{"$f":"SUMIF(DATA!$A$2:$A$9101,B67,DATA!$O$2:$O$9101)","v":6},{"$f":"SUMIF(DATA!$A$2:$A$9101,B67,DATA!$P$2:$P$9101)","v":0},{"$f":"SUMIF(DATA!$A$2:$A$9101,B67,DATA!$Q$2:$Q$9101)","v":0},{"$f":"SUMIF(DATA!$A$2:$A$9078,B67,DATA!$R$2:$R$9078)","v":0},0,{"$f":"SUMIF(DATA!$A$2:$A$9078,B67,DATA!$S$2:$S$9078)","v":0},0,{"$f":"SUMIFS(DATA!J:J,DATA!A:A,Table1[[#This Row],[Name]],DATA!F:F,\"Pre\")","v":12},{"$f":"SUMIFS(DATA!K:K,DATA!A:A,Table1[[#This Row],[Name]],DATA!F:F,\"Pre\")","v":13},0.48,{"$f":"SUMIFS(DATA!J:J,DATA!A:A,Table1[[#This Row],[Name]],DATA!F:F,\"Semi\")","v":1},{"$f":"SUMIFS(DATA!K:K,DATA!A:A,Table1[[#This Row],[Name]],DATA!F:F,\"Semi\")","v":4},0.2,{"$f":"SUMIFS(DATA!J:J,DATA!A:A,Table1[[#This Row],[Name]],DATA!F:F,\"COnA\")","v":0},{"$f":"SUMIFS(DATA!K:K,DATA!A:A,Table1[[#This Row],[Name]],DATA!F:F,\"ConA\")","v":0},{"$error":"#DIV/0!"},{"$f":"SUMIFS(DATA!J:J,DATA!A:A,Table1[[#This Row],[Name]],DATA!F:F,\"ConB\")","v":0},{"$f":"SUMIFS(DATA!K:K,DATA!A:A,Table1[[#This Row],[Name]],DATA!F:F,\"ConB\")","v":0},{"$error":"#DIV/0!"}]
[73,"Iliana Hammerstrom","ABC",{"$f":"COUNTIF(DATA!$A$2:$A$9731,B68)","v":48},{"$f":"SUMIF(DATA!$A$2:$A$9077,B68,DATA!$J$2:$J$9077)","v":7},{"$f":"SUMIF(DATA!$A$2:$A$9077,B68,DATA!$K$2:$K$9077)","v":5},12,0.58333333333333337,-2.0833333333333332E-2,{"$f":"Table1[[#This Row],[Correct]]/Table1[[#This Row],['#Quizzes]]","v":0.14583333333333334},{"$f":"SUMIF(DATA!$A$2:$A$9077,B68,DATA!$L$2:$L$9077)","v":0},{"$f":"SUMIF(DATA!$A$2:$A$9077,B68,DATA!$M$2:$M$79077)","v":0},{"$f":"SUMIF(DATA!$A$2:$A$9077,B68,DATA!$N$2:$N$9077)","v":3},{"$f":"SUMIF(DATA!$A$2:$A$9101,B68,DATA!$O$2:$O$9101)","v":2},{"$f":"SUMIF(DATA!$A$2:$A$9101,B68,DATA!$P$2:$P$9101)","v":0},{"$f":"SUMIF(DATA!$A$2:$A$9101,B68,DATA!$Q$2:$Q$9101)","v":0},{"$f":"SUMIF(DATA!$A$2:$A$9078,B68,DATA!$R$2:$R$9078)","v":0},0,{"$f":"SUMIF(DATA!$A$2:$A$9078,B68,DATA!$S$2:$S$9078)","v":0},0,{"$f":"SUMIFS(DATA!J:J,DATA!A:A,Table1[[#This Row],[Name]],DATA!F:F,\"Pre\")","v":5},{"$f":"SUMIFS(DATA!K:K,DATA!A:A,Table1[[#This Row],[Name]],DATA!F:F,\"Pre\")","v":2},0.7142857142857143,{"$f":"SUMIFS(DATA!J:J,DATA!A:A,Table1[[#This Row],[Name]],DATA!F:F,\"Semi\")","v":0},{"$f":"SUMIFS(DATA!K:K,DATA!A:A,Table1[[#This Row],[Name]],DATA!F:F,\"Semi\")","v":0},{"$error":"#DIV/0!"},{"$f":"SUMIFS(DATA!J:J,DATA!A:A,Table1[[#This Row],[Name]],DATA!F:F,\"COnA\")","v":0},{"$f":"SUMIFS(DATA!K:K,DATA!A:A,Table1[[#This Row],[Name]],DATA!F:F,\"ConA\")","v":2},0,{"$f":"SUMIFS(DATA!J:J,DATA!A:A,Table1[[#This Row],[Name]],DATA!F:F,\"ConB\")","v":2},{"$f":"SUMIFS(DATA!K:K,DATA!A:A,Table1[[#This Row],[Name]],DATA!F:F,\"ConB\")","v":1},0.66666666666666663]
[70,"Marcus Pettersen","Lighthouse",{"$f":"COUNTIF(DATA!$A$2:$A$9731,B69)","v":9},{"$f":"SUMIF(DATA!$A$2:$A$9077,B69,DATA!$J$2:$J$9077)","v":2},{"$f":"SUMIF(DATA!$A$2:$A$9077,B69,DATA!$K$2:$K$9077)","v":2},4,0.5,0,{"$f":"Table1[[#This Row],[Correct]]/Table1[[#This Row],['#Quizzes]]","v":0.22222222222222221},{"$f":"SUMIF(DATA!$A$2:$A$9077,B69,DATA!$L$2:$L$9077)","v":0},{"$f":"SUMIF(DATA!$A$2:$A$9077,B69,DATA!$M$2:$M$79077)","v":0},{"$f":"SUMIF(DATA!$A$2:$A$9077,B69,DATA!$N$2:$N$9077)","v":0},{"$f":"SUMIF(DATA!$A$2:$A$9101,B69,DATA!$O$2:$O$9101)","v":0},{"$f":"SUMIF(DATA!$A$2:$A$9101,B69,DATA!$P$2:$P$9101)","v":0},{"$f":"SUMIF(DATA!$A$2:$A$9101,B69,DATA!$Q$2:$Q$9101)","v":0},{"$f":"SUMIF(DATA!$A$2:$A$9078,B69,DATA!$R$2:$R$9078)","v":0},0,{"$f":"SUMIF(DATA!$A$2:$A$9078,B69,DATA!$S$2:$S$9078)","v":0},0,{"$f":"SUMIFS(DATA!J:J,DATA!A:A,Table1[[#This Row],[Name]],DATA!F:F,\"Pre\")","v":1},{"$f":"SUMIFS(DATA!K:K,DATA!A:A,Table1[[#This Row],[Name]],DATA!F:F,\"Pre\")","v":0},1,{"$f":"SUMIFS(DATA!J:J,DATA!A:A,Table1[[#This Row],[Name]],DATA!F:F,\"Semi\")","v":0},{"$f":"SUMIFS(DATA!K:K,DATA!A:A,Table1[[#This Row],[Name]],DATA!F:F,\"Semi\")","v":0},{"$error":"#DIV/0!"},{"$f":"SUMIFS(DATA!J:J,DATA!A:A,Table1[[#This Row],[Name]],DATA!F:F,\"COnA\")","v":0},{"$f":"SUMIFS(DATA!K:K,DATA!A:A,Table1[[#This Row],[Name]],DATA!F:F,\"ConA\")","v":0},{"$error":"#DIV/0!"},{"$f":"SUMIFS(DATA!J:J,DATA!A:A,Table1[[#This Row],[Name]],DATA!F:F,\"ConB\")","v":1},{"$f":"SUMIFS(DATA!K:K,DATA!A:A,Table1[[#This Row],[Name]],DATA!F:F,\"ConB\")","v":2},0.33333333333333331]
[72,"Ruby McClung","Tacoma",{"$f":"COUNTIF(DATA!$A$2:$A$9731,B70)","v":38},{"$f":"SUMIF(DATA!$A$2:$A$9077,B70,DATA!$J$2:$J$9077)","v":1},{"$f":"SUMIF(DATA!$A$2:$A$9077,B70,DATA!$K$2:$K$9077)","v":0},1,1,0,{"$f":"Table1[[#This Row],[Correct]]/Table1[[#This Row],['#Quizzes]]","v":2.6315789473684209E-2},{"$f":"SUMIF(DATA!$A$2:$A$9077,B70,DATA!$L$2:$L$9077)","v":0},{"$f":"SUMIF(DATA!$A$2:$A$9077,B70,DATA!$M$2:$M$79077)","v":0},{"$f":"SUMIF(DATA!$A$2:$A$9077,B70,DATA!$N$2:$N$9077)","v":1},{"$f":"SUMIF(DATA!$A$2:$A$9101,B70,DATA!$O$2:$O$9101)","v":0},{"$f":"SUMIF(DATA!$A$2:$A$9101,B70,DATA!$P$2:$P$9101)","v":0},{"$f":"SUMIF(DATA!$A$2:$A$9101,B70,DATA!$Q$2:$Q$9101)","v":0},{"$f":"SUMIF(DATA!$A$2:$A$9078,B70,DATA!$R$2:$R$9078)","v":0},0,{"$f":"SUMIF(DATA!$A$2:$A$9078,B70,DATA!$S$2:$S$9078)","v":0},0,{"$f":"SUMIFS(DATA!J:J,DATA!A:A,Table1[[#This Row],[Name]],DATA!F:F,\"Pre\")","v":0},{"$f":"SUMIFS(DATA!K:K,DATA!A:A,Table1[[#This Row],[Name]],DATA!F:F,\"Pre\")","v":0},{"$error":"#DIV/0!"},{"$f":"SUMIFS(DATA!J:J,DATA!A:A,Table1[[#This Row],[Name]],DATA!F:F,\"Semi\")","v":0},{"$f":"SUMIFS(DATA!K:K,DATA!A:A,Table1[[#This Row],[Name]],DATA!F:F,\"Semi\")","v":0},{"$error":"#DIV/0!"},{"$f":"SUMIFS(DATA!J:J,DATA!A:A,Table1[[#This Row],[Name]],DATA!F:F,\"COnA\")","v":1},{"$f":"SUMIFS(DATA!K:K,DATA!A:A,Table1[[#This Row],[Name]],DATA!F:F,\"ConA\")","v":0},1,{"$f":"SUMIFS(DATA!J:J,DATA!A:A,Table1[[#This Row],[Name]],DATA!F:F,\"ConB\")","v":0},{"$f":"SUMIFS(DATA!K:K,DATA!A:A,Table1[[#This Row],[Name]],DATA!F:F,\"ConB\")","v":0},{"$error":"#DIV/0!"}]
[69,"Joseph Winters","Dallas",{"$f":"COUNTIF(DATA!$A$2:$A$9731,B71)","v":37},{"$f":"SUMIF(DATA!$A$2:$A$9077,B71,DATA!$J$2:$J$9077)","v":7},{"$f":"SUMIF(DATA!$A$2:$A$9077,B71,DATA!$K$2:$K$9077)","v":7},14,0.5,0,{"$f":"Table1[[#This Row],[Correct]]/Table1[[#This Row],['#Quizzes]]","v":0.1891891891891892},{"$f":"SUMIF(DATA!$A$2:$A$9077,B71,DATA!$L$2:$L$9077)","v":0},{"$f":"SUMIF(DATA!$A$2:$A$9077,B71,DATA!$M$2:$M$79077)","v":0},{"$f":"SUMIF(DATA!$A$2:$A$9077,B71,DATA!$N$2:$N$9077)","v":0},{"$f":"SUMIF(DATA!$A$2:$A$9101,B71,DATA!$O$2:$O$9101)","v":5},{"$f":"SUMIF(DATA!$A$2:$A$9101,B71,DATA!$P$2:$P$9101)","v":1},{"$f":"SUMIF(DATA!$A$2:$A$9101,B71,DATA!$Q$2:$Q$9101)","v":0},{"$f":"SUMIF(DATA!$A$2:$A$9078,B71,DATA!$R$2:$R$9078)","v":0},0,{"$f":"SUMIF(DATA!$A$2:$A$9078,B71,DATA!$S$2:$S$9078)","v":1},2.7027027027027029E-2,{"$f":"SUMIFS(DATA!J:J,DATA!A:A,Table1[[#This Row],[Name]],DATA!F:F,\"Pre\")","v":6},{"$f":"SUMIFS(DATA!K:K,DATA!A:A,Table1[[#This Row],[Name]],DATA!F:F,\"Pre\")","v":6},0.5,{"$f":"SUMIFS(DATA!J:J,DATA!A:A,Table1[[#This Row],[Name]],DATA!F:F,\"Semi\")","v":1},{"$f":"SUMIFS(DATA!K:K,DATA!A:A,Table1[[#This Row],[Name]],DATA!F:F,\"Semi\")","v":1},0.5,{"$f":"SUMIFS(DATA!J:J,DATA!A:A,Table1[[#This Row],[Name]],DATA!F:F,\"COnA\")","v":0},{"$f":"SUMIFS(DATA!K:K,DATA!A:A,Table1[[#This Row],[Name]],DATA!F:F,\"ConA\")","v":0},{"$error":"#DIV/0!"},{"$f":"SUMIFS(DATA!J:J,DATA!A:A,Table1[[#This Row],[Name]],DATA!F:F,\"ConB\")","v":0},{"$f":"SUMIFS(DATA!K:K,DATA!A:A,Table1[[#This Row],[Name]],DATA!F:F,\"ConB\")","v":0},{"$error":"#DIV/0!"}]
[71,"Kyndal Holcomb","Grays Harbor",{"$f":"COUNTIF(DATA!$A$2:$A$9731,B72)","v":9},{"$f":"SUMIF(DATA!$A$2:$A$9077,B72,DATA!$J$2:$J$9077)","v":0},{"$f":"SUMIF(DATA!$A$2:$A$9077,B72,DATA!$K$2:$K$9077)","v":0},0,{"$error":"#DIV/0!"},0,{"$f":"Table1[[#This Row],[Correct]]/Table1[[#This Row],['#Quizzes]]","v":0},{"$f":"SUMIF(DATA!$A$2:$A$9077,B72,DATA!$L$2:$L$9077)","v":0},{"$f":"SUMIF(DATA!$A$2:$A$9077,B72,DATA!$M$2:$M$79077)","v":0},{"$f":"SUMIF(DATA!$A$2:$A$9077,B72,DATA!$N$2:$N$9077)","v":0},{"$f":"SUMIF(DATA!$A$2:$A$9101,B72,DATA!$O$2:$O$9101)","v":0},{"$f":"SUMIF(DATA!$A$2:$A$9101,B72,DATA!$P$2:$P$9101)","v":0},{"$f":"SUMIF(DATA!$A$2:$A$9101,B72,DATA!$Q$2:$Q$9101)","v":0},{"$f":"SUMIF(DATA!$A$2:$A$9078,B72,DATA!$R$2:$R$9078)","v":0},0,{"$f":"SUMIF(DATA!$A$2:$A$9078,B72,DATA!$S$2:$S$9078)","v":0},0,{"$f":"SUMIFS(DATA!J:J,DATA!A:A,Table1[[#This Row],[Name]],DATA!F:F,\"Pre\")","v":0},{"$f":"SUMIFS(DATA!K:K,DATA!A:A,Table1[[#This Row],[Name]],DATA!F:F,\"Pre\")","v":0},{"$error":"#DIV/0!"},{"$f":"SUMIFS(DATA!J:J,DATA!A:A,Table1[[#This Row],[Name]],DATA!F:F,\"Semi\")","v":0},{"$f":"SUMIFS(DATA!K:K,DATA!A:A,Table1[[#This Row],[Name]],DATA!F:F,\"Semi\")","v":0},{"$error":"#DIV/0!"},{"$f":"SUMIFS(DATA!J:J,DATA!A:A,Table1[[#This Row],[Name]],DATA!F:F,\"COnA\")","v":0},{"$f":"SUMIFS(DATA!K:K,DATA!A:A,Table1[[#This Row],[Name]],DATA!F:F,\"ConA\")","v":0},{"$error":"#DIV/0!"},{"$f":"SUMIFS(DATA!J:J,DATA!A:A,Table1[[#This Row],[Name]],DATA!F:F,\"ConB\")","v":0},{"$f":"SUMIFS(DATA!K:K,DATA!A:A,Table1[[#This Row],[Name]],DATA!F:F,\"ConB\")","v":0},{"$error":"#DIV/0!"}]
[76,"Natalie Crabtree","Dallas",{"$f":"COUNTIF(DATA!$A$2:$A$9731,B73)","v":44},{"$f":"SUMIF(DATA!$A$2:$A$9077,B73,DATA!$J$2:$J$9077)","v":7},{"$f":"SUMIF(DATA!$A$2:$A$9077,B73,DATA!$K$2:$K$9077)","v":9},16,0.4375,0,{"$f":"Table1[[#This Row],[Correct]]/Table1[[#This Row],['#Quizzes]]","v":0.15909090909090909},{"$f":"SUMIF(DATA!$A$2:$A$9077,B73,DATA!$L$2:$L$9077)","v":0},{"$f":"SUMIF(DATA!$A$2:$A$9077,B73,DATA!$M$2:$M$79077)","v":3},{"$f":"SUMIF(DATA!$A$2:$A$9077,B73,DATA!$N$2:$N$9077)","v":1},{"$f":"SUMIF(DATA!$A$2:$A$9101,B73,DATA!$O$2:$O$9101)","v":4},{"$f":"SUMIF(DATA!$A$2:$A$9101,B73,DATA!$P$2:$P$9101)","v":1},{"$f":"SUMIF(DATA!$A$2:$A$9101,B73,DATA!$Q$2:$Q$9101)","v":0},{"$f":"SUMIF(DATA!$A$2:$A$9078,B73,DATA!$R$2:$R$9078)","v":0},0,{"$f":"SUMIF(DATA!$A$2:$A$9078,B73,DATA!$S$2:$S$9078)","v":0},0,{"$f":"SUMIFS(DATA!J:J,DATA!A:A,Table1[[#This Row],[Name]],DATA!F:F,\"Pre\")","v":6},{"$f":"SUMIFS(DATA!K:K,DATA!A:A,Table1[[#This Row],[Name]],DATA!F:F,\"Pre\")","v":6},0.5,{"$f":"SUMIFS(DATA!J:J,DATA!A:A,Table1[[#This Row],[Name]],DATA!F:F,\"Semi\")","v":0},{"$f":"SUMIFS(DATA!K:K,DATA!A:A,Table1[[#This Row],[Name]],DATA!F:F,\"Semi\")","v":0},{"$error":"#DIV/0!"},{"$f":"SUMIFS(DATA!J:J,DATA!A:A,Table1[[#This Row],[Name]],DATA!F:F,\"COnA\")","v":1},{"$f":"SUMIFS(DATA!K:K,DATA!A:A,Table1[[#This Row],[Name]],DATA!F:F,\"ConA\")","v":3},0.25,{"$f":"SUMIFS(DATA!J:J,DATA!A:A,Table1[[#This Row],[Name]],DATA!F:F,\"ConB\")","v":0},{"$f":"SUMIFS(DATA!K:K,DATA!A:A,Table1[[#This Row],[Name]],DATA!F:F,\"ConB\")","v":0},{"$error":"#DIV/0!"}]
[75,"Abigail Van Doorne","Chapel Hill",{"$f":"COUNTIF(DATA!$A$2:$A$9731,B74)","v":47},{"$f":"SUMIF(DATA!$A$2:$A$9077,B74,DATA!$J$2:$J$9077)","v":13},{"$f":"SUMIF(DATA!$A$2:$A$9077,B74,DATA!$K$2:$K$9077)","v":9},22,0.59090909090909094,0,{"$f":"Table1[[#This Row],[Correct]]/Table1[[#This Row],['#Quizzes]]","v":0.27659574468085107},{"$f":"SUMIF(DATA!$A$2:$A$9077,B74,DATA!$L$2:$L$9077)","v":7},{"$f":"SUMIF(DATA!$A$2:$A$9077,B74,DATA!$M$2:$M$79077)","v":3},{"$f":"SUMIF(DATA!$A$2:$A$9077,B74,DATA!$N$2:$N$9077)","v":0},{"$f":"SUMIF(DATA!$A$2:$A$9101,B74,DATA!$O$2:$O$9101)","v":2},{"$f":"SUMIF(DATA!$A$2:$A$9101,B74,DATA!$P$2:$P$9101)","v":0},{"$f":"SUMIF(DATA!$A$2:$A$9101,B74,DATA!$Q$2:$Q$9101)","v":0},{"$f":"SUMIF(DATA!$A$2:$A$9078,B74,DATA!$R$2:$R$9078)","v":0},0,{"$f":"SUMIF(DATA!$A$2:$A$9078,B74,DATA!$S$2:$S$9078)","v":0},0,{"$f":"SUMIFS(DATA!J:J,DATA!A:A,Table1[[#This Row],[Name]],DATA!F:F,\"Pre\")","v":6},{"$f":"SUMIFS(DATA!K:K,DATA!A:A,Table1[[#This Row],[Name]],DATA!F:F,\"Pre\")","v":6},0.5,{"$f":"SUMIFS(DATA!J:J,DATA!A:A,Table1[[#This Row],[Name]],DATA!F:F,\"Semi\")","v":0},{"$f":"SUMIFS(DATA!K:K,DATA!A:A,Table1[[#This Row],[Name]],DATA!F:F,\"Semi\")","v":0},{"$error":"#DIV/0!"},{"$f":"SUMIFS(DATA!J:J,DATA!A:A,Table1[[#This Row],[Name]],DATA!F:F,\"COnA\")","v":4},{"$f":"SUMIFS(DATA!K:K,DATA!A:A,Table1[[#This Row],[Name]],DATA!F:F,\"ConA\")","v":2},0.66666666666666663,{"$f":"SUMIFS(DATA!J:J,DATA!A:A,Table1[[#This Row],[Name]],DATA!F:F,\"ConB\")","v":3},{"$f":"SUMIFS(DATA!K:K,DATA!A:A,Table1[[#This Row],[Name]],DATA!F:F,\"ConB\")","v":1},0.75]
[64,"Emily Ashcraft","Lighthouse",{"$f":"COUNTIF(DATA!$A$2:$A$9731,B75)","v":42},{"$f":"SUMIF(DATA!$A$2:$A$9077,B75,DATA!$J$2:$J$9077)","v":15},{"$f":"SUMIF(DATA!$A$2:$A$9077,B75,DATA!$K$2:$K$9077)","v":16},31,0.4838709677419355,-2.3809523809523808E-2,{"$f":"Table1[[#This Row],[Correct]]/Table1[[#This Row],['#Quizzes]]","v":0.35714285714285715},{"$f":"SUMIF(DATA!$A$2:$A$9077,B75,DATA!$L$2:$L$9077)","v":0},{"$f":"SUMIF(DATA!$A$2:$A$9077,B75,DATA!$M$2:$M$79077)","v":4},{"$f":"SUMIF(DATA!$A$2:$A$9077,B75,DATA!$N$2:$N$9077)","v":4},{"$f":"SUMIF(DATA!$A$2:$A$9101,B75,DATA!$O$2:$O$9101)","v":3},{"$f":"SUMIF(DATA!$A$2:$A$9101,B75,DATA!$P$2:$P$9101)","v":0},{"$f":"SUMIF(DATA!$A$2:$A$9101,B75,DATA!$Q$2:$Q$9101)","v":0},{"$f":"SUMIF(DATA!$A$2:$A$9078,B75,DATA!$R$2:$R$9078)","v":0},0,{"$f":"SUMIF(DATA!$A$2:$A$9078,B75,DATA!$S$2:$S$9078)","v":0},0,{"$f":"SUMIFS(DATA!J:J,DATA!A:A,Table1[[#This Row],[Name]],DATA!F:F,\"Pre\")","v":10},{"$f":"SUMIFS(DATA!K:K,DATA!A:A,Table1[[#This Row],[Name]],DATA!F:F,\"Pre\")","v":10},0.5,{"$f":"SUMIFS(DATA!J:J,DATA!A:A,Table1[[#This Row],[Name]],DATA!F:F,\"Semi\")","v":0},{"$f":"SUMIFS(DATA!K:K,DATA!A:A,Table1[[#This Row],[Name]],DATA!F:F,\"Semi\")","v":0},{"$error":"#DIV/0!"},{"$f":"SUMIFS(DATA!J:J,DATA!A:A,Table1[[#This Row],[Name]],DATA!F:F,\"COnA\")","v":1},{"$f":"SUMIFS(DATA!K:K,DATA!A:A,Table1[[#This Row],[Name]],DATA!F:F,\"ConA\")","v":3},0.25,{"$f":"SUMIFS(DATA!J:J,DATA!A:A,Table1[[#This Row],[Name]],DATA!F:F,\"ConB\")","v":4},{"$f":"SUMIFS(DATA!K:K,DATA!A:A,Table1[[#This Row],[Name]],DATA!F:F,\"ConB\")","v":3},0.5714285714285714]
[78,"Deborah Dvorak","Chapel Hill",{"$f":"COUNTIF(DATA!$A$2:$A$9731,B76)","v":49},{"$f":"SUMIF(DATA!$A$2:$A$9077,B76,DATA!$J$2:$J$9077)","v":2},{"$f":"SUMIF(DATA!$A$2:$A$9077,B76,DATA!$K$2:$K$9077)","v":4},6,0.33333333333333331,-4.0816326530612242E-2,{"$f":"Table1[[#This Row],[Correct]]/Table1[[#This Row],['#Quizzes]]","v":4.0816326530612242E-2},{"$f":"SUMIF(DATA!$A$2:$A$9077,B76,DATA!$L$2:$L$9077)","v":1},{"$f":"SUMIF(DATA!$A$2:$A$9077,B76,DATA!$M$2:$M$79077)","v":1},{"$f":"SUMIF(DATA!$A$2:$A$9077,B76,DATA!$N$2:$N$9077)","v":0},{"$f":"SUMIF(DATA!$A$2:$A$9101,B76,DATA!$O$2:$O$9101)","v":1},{"$f":"SUMIF(DATA!$A$2:$A$9101,B76,DATA!$P$2:$P$9101)","v":1},{"$f":"SUMIF(DATA!$A$2:$A$9101,B76,DATA!$Q$2:$Q$9101)","v":0},{"$f":"SUMIF(DATA!$A$2:$A$9078,B76,DATA!$R$2:$R$9078)","v":0},0,{"$f":"SUMIF(DATA!$A$2:$A$9078,B76,DATA!$S$2:$S$9078)","v":0},0,{"$f":"SUMIFS(DATA!J:J,DATA!A:A,Table1[[#This Row],[Name]],DATA!F:F,\"Pre\")","v":1},{"$f":"SUMIFS(DATA!K:K,DATA!A:A,Table1[[#This Row],[Name]],DATA!F:F,\"Pre\")","v":3},0.25,{"$f":"SUMIFS(DATA!J:J,DATA!A:A,Table1[[#This Row],[Name]],DATA!F:F,\"Semi\")","v":0},{"$f":"SUMIFS(DATA!K:K,DATA!A:A,Table1[[#This Row],[Name]],DATA!F:F,\"Semi\")","v":0},{"$error":"#DIV/0!"},{"$f":"SUMIFS(DATA!J:J,DATA!A:A,Table1[[#This Row],[Name]],DATA!F:F,\"COnA\")","v":1},{"$f":"SUMIFS(DATA!K:K,DATA!A:A,Table1[[#This Row],[Name]],DATA!F:F,\"ConA\")","v":1},0.5,{"$f":"SUMIFS(DATA!J:J,DATA!A:A,Table1[[#This Row],[Name]],DATA!F:F,\"ConB\")","v":0},{"$f":"SUMIFS(DATA!K:K,DATA!A:A,Table1[[#This Row],[Name]],DATA!F:F,\"ConB\")","v":0},{"$error":"#DIV/0!"}]
[79,"Bryanna Hurd","ABC",{"$f":"COUNTIF(DATA!$A$2:$A$9731,B77)","v":45},{"$f":"SUMIF(DATA!$A$2:$A$9077,B77,DATA!$J$2:$J$9077)","v":3},{"$f":"SUMIF(DATA!$A$2:$A$9077,B77,DATA!$K$2:$K$9077)","v":0},3,1,-4.4444444444444446E-2,{"$f":"Table1[[#This Row],[Correct]]/Table1[[#This Row],['#Quizzes]]","v":6.6666666666666666E-2},{"$f":"SUMIF(DATA!$A$2:$A$9077,B77,DATA!$L$2:$L$9077)","v":0},{"$f":"SUMIF(DATA!$A$2:$A$9077,B77,DATA!$M$2:$M$79077)","v":1},{"$f":"SUMIF(DATA!$A$2:$A$9077,B77,DATA!$N$2:$N$9077)","v":6},{"$f":"SUMIF(DATA!$A$2:$A$9101,B77,DATA!$O$2:$O$9101)","v":0},{"$f":"SUMIF(DATA!$A$2:$A$9101,B77,DATA!$P$2:$P$9101)","v":0},{"$f":"SUMIF(DATA!$A$2:$A$9101,B77,DATA!$Q$2:$Q$9101)","v":0},{"$f":"SUMIF(DATA!$A$2:$A$9078,B77,DATA!$R$2:$R$9078)","v":0},0,{"$f":"SUMIF(DATA!$A$2:$A$9078,B77,DATA!$S$2:$S$9078)","v":0},0,{"$f":"SUMIFS(DATA!J:J,DATA!A:A,Table1[[#This Row],[Name]],DATA!F:F,\"Pre\")","v":1},{"$f":"SUMIFS(DATA!K:K,DATA!A:A,Table1[[#This Row],[Name]],DATA!F:F,\"Pre\")","v":0},1,{"$f":"SUMIFS(DATA!J:J,DATA!A:A,Table1[[#This Row],[Name]],DATA!F:F,\"Semi\")","v":0},{"$f":"SUMIFS(DATA!K:K,DATA!A:A,Table1[[#This Row],[Name]],DATA!F:F,\"Semi\")","v":0},{"$error":"#DIV/0!"},{"$f":"SUMIFS(DATA!J:J,DATA!A:A,Table1[[#This Row],[Name]],DATA!F:F,\"COnA\")","v":1},{"$f":"SUMIFS(DATA!K:K,DATA!A:A,Table1[[#This Row],[Name]],DATA!F:F,\"ConA\")","v":0},1,{"$f":"SUMIFS(DATA!J:J,DATA!A:A,Table1[[#This Row],[Name]],DATA!F:F,\"ConB\")","v":1},{"$f":"SUMIFS(DATA!K:K,DATA!A:A,Table1[[#This Row],[Name]],DATA!F:F,\"ConB\")","v":0},1]
[80,"Sabrina Kelsey","EBC",{"$f":"COUNTIF(DATA!$A$2:$A$9731,B78)","v":45},{"$f":"SUMIF(DATA!$A$2:$A$9077,B78,DATA!$J$2:$J$9077)","v":1},{"$f":"SUMIF(DATA!$A$2:$A$9077,B78,DATA!$K$2:$K$9077)","v":3},4,0.25,-6.6666666666666666E-2,{"$f":"Table1[[#This Row],[Correct]]/Table1[[#This Row],['#Quizzes]]","v":2.2222222222222223E-2},{"$f":"SUMIF(DATA!$A$2:$A$9077,B78,DATA!$L$2:$L$9077)","v":1},{"$f":"SUMIF(DATA!$A$2:$A$9077,B78,DATA!$M$2:$M$79077)","v":0},{"$f":"SUMIF(DATA!$A$2:$A$9077,B78,DATA!$N$2:$N$9077)","v":0},{"$f":"SUMIF(DATA!$A$2:$A$9101,B78,DATA!$O$2:$O$9101)","v":0},{"$f":"SUMIF(DATA!$A$2:$A$9101,B78,DATA!$P$2:$P$9101)","v":0},{"$f":"SUMIF(DATA!$A$2:$A$9101,B78,DATA!$Q$2:$Q$9101)","v":0},{"$f":"SUMIF(DATA!$A$2:$A$9078,B78,DATA!$R$2:$R$9078)","v":0},0,{"$f":"SUMIF(DATA!$A$2:$A$9078,B78,DATA!$S$2:$S$9078)","v":0},0,{"$f":"SUMIFS(DATA!J:J,DATA!A:A,Table1[[#This Row],[Name]],DATA!F:F,\"Pre\")","v":0},{"$f":"SUMIFS(DATA!K:K,DATA!A:A,Table1[[#This Row],[Name]],DATA!F:F,\"Pre\")","v":2},0,{"$f":"SUMIFS(DATA!J:J,DATA!A:A,Table1[[#This Row],[Name]],DATA!F:F,\"Semi\")","v":0},{"$f":"SUMIFS(DATA!K:K,DATA!A:A,Table1[[#This Row],[Name]],DATA!F:F,\"Semi\")","v":0},{"$error":"#DIV/0!"},{"$f":"SUMIFS(DATA!J:J,DATA!A:A,Table1[[#This Row],[Name]],DATA!F:F,\"COnA\")","v":0},{"$f":"SUMIFS(DATA!K:K,DATA!A:A,Table1[[#This Row],[Name]],DATA!F:F,\"ConA\")","v":0},{"$error":"#DIV/0!"},{"$f":"SUMIFS(DATA!J:J,DATA!A:A,Table1[[#This Row],[Name]],DATA!F:F,\"ConB\")","v":1},{"$f":"SUMIFS(DATA!K:K,DATA!A:A,Table1[[#This Row],[Name]],DATA!F:F,\"ConB\")","v":1},0.5]
[68,"Becca Derr","Chapel Hill",{"$f":"COUNTIF(DATA!$A$2:$A$9731,B79)","v":44},{"$f":"SUMIF(DATA!$A$2:$A$9077,B79,DATA!$J$2:$J$9077)","v":53},{"$f":"SUMIF(DATA!$A$2:$A$9077,B79,DATA!$K$2:$K$9077)","v":50},103,0.5145631067961165,4.5454545454545456E-2,{"$f":"Table1[[#This Row],[Correct]]/Table1[[#This Row],['#Quizzes]]","v":1.2045454545454546},{"$f":"SUMIF(DATA!$A$2:$A$9077,B79,DATA!$L$2:$L$9077)","v":2},{"$f":"SUMIF(DATA!$A$2:$A$9077,B79,DATA!$M$2:$M$79077)","v":2},{"$f":"SUMIF(DATA!$A$2:$A$9077,B79,DATA!$N$2:$N$9077)","v":1},{"$f":"SUMIF(DATA!$A$2:$A$9101,B79,DATA!$O$2:$O$9101)","v":2},{"$f":"SUMIF(DATA!$A$2:$A$9101,B79,DATA!$P$2:$P$9101)","v":0},{"$f":"SUMIF(DATA!$A$2:$A$9101,B79,DATA!$Q$2:$Q$9101)","v":0},{"$f":"SUMIF(DATA!$A$2:$A$9078,B79,DATA!$R$2:$R$9078)","v":2},4.5454545454545456E-2,{"$f":"SUMIF(DATA!$A$2:$A$9078,B79,DATA!$S$2:$S$9078)","v":5},0.11363636363636363,{"$f":"SUMIFS(DATA!J:J,DATA!A:A,Table1[[#This Row],[Name]],DATA!F:F,\"Pre\")","v":25},{"$f":"SUMIFS(DATA!K:K,DATA!A:A,Table1[[#This Row],[Name]],DATA!F:F,\"Pre\")","v":34},0.42372881355932202,{"$f":"SUMIFS(DATA!J:J,DATA!A:A,Table1[[#This Row],[Name]],DATA!F:F,\"Semi\")","v":0},{"$f":"SUMIFS(DATA!K:K,DATA!A:A,Table1[[#This Row],[Name]],DATA!F:F,\"Semi\")","v":0},{"$error":"#DIV/0!"},{"$f":"SUMIFS(DATA!J:J,DATA!A:A,Table1[[#This Row],[Name]],DATA!F:F,\"COnA\")","v":19},{"$f":"SUMIFS(DATA!K:K,DATA!A:A,Table1[[#This Row],[Name]],DATA!F:F,\"ConA\")","v":12},0.61290322580645162,{"$f":"SUMIFS(DATA!J:J,DATA!A:A,Table1[[#This Row],[Name]],DATA!F:F,\"ConB\")","v":9},{"$f":"SUMIFS(DATA!K:K,DATA!A:A,Table1[[#This Row],[Name]],DATA!F:F,\"ConB\")","v":4},0.69230769230769229]
[77,"Danny Herzog","Woodinville",{"$f":"COUNTIF(DATA!$A$2:$A$9731,B80)","v":57},{"$f":"SUMIF(DATA!$A$2:$A$9077,B80,DATA!$J$2:$J$9077)","v":0},{"$f":"SUMIF(DATA!$A$2:$A$9077,B80,DATA!$K$2:$K$9077)","v":3},3,0,-5.2631578947368418E-2,{"$f":"Table1[[#This Row],[Correct]]/Table1[[#This Row],['#Quizzes]]","v":0},{"$f":"SUMIF(DATA!$A$2:$A$9077,B80,DATA!$L$2:$L$9077)","v":0},{"$f":"SUMIF(DATA!$A$2:$A$9077,B80,DATA!$M$2:$M$79077)","v":1},{"$f":"SUMIF(DATA!$A$2:$A$9077,B80,DATA!$N$2:$N$9077)","v":1},{"$f":"SUMIF(DATA!$A$2:$A$9101,B80,DATA!$O$2:$O$9101)","v":0},{"$f":"SUMIF(DATA!$A$2:$A$9101,B80,DATA!$P$2:$P$9101)","v":0},{"$f":"SUMIF(DATA!$A$2:$A$9101,B80,DATA!$Q$2:$Q$9101)","v":0},{"$f":"SUMIF(DATA!$A$2:$A$9078,B80,DATA!$R$2:$R$9078)","v":0},0,{"$f":"SUMIF(DATA!$A$2:$A$9078,B80,DATA!$S$2:$S$9078)","v":0},0,{"$f":"SUMIFS(DATA!J:J,DATA!A:A,Table1[[#This Row],[Name]],DATA!F:F,\"Pre\")","v":0},{"$f":"SUMIFS(DATA!K:K,DATA!A:A,Table1[[#This Row],[Name]],DATA!F:F,\"Pre\")","v":3},0,{"$f":"SUMIFS(DATA!J:J,DATA!A:A,Table1[[#This Row],[Name]],DATA!F:F,\"Semi\")","v":0},{"$f":"SUMIFS(DATA!K:K,DATA!A:A,Table1[[#This Row],[Name]],DATA!F:F,\"Semi\")","v":0},{"$error":"#DIV/0!"},{"$f":"SUMIFS(DATA!J:J,DATA!A:A,Table1[[#This Row],[Name]],DATA!F:F,\"COnA\")","v":0},{"$f":"SUMIFS(DATA!K:K,DATA!A:A,Table1[[#This Row],[Name]],DATA!F:F,\"ConA\")","v":0},{"$error":"#DIV/0!"},{"$f":"SUMIFS(DATA!J:J,DATA!A:A,Table1[[#This Row],[Name]],DATA!F:F,\"ConB\")","v":0},{"$f":"SUMIFS(DATA!K:K,DATA!A:A,Table1[[#This Row],[Name]],DATA!F:F,\"ConB\")","v":0},{"$error":"#DIV/0!"}]
[82,"Annie McKee","Lighthouse",{"$f":"COUNTIF(DATA!$A$2:$A$9731,B81)","v":49},{"$f":"SUMIF(DATA!$A$2:$A$9077,B81,DATA!$J$2:$J$9077)","v":21},{"$f":"SUMIF(DATA!$A$2:$A$9077,B81,DATA!$K$2:$K$9077)","v":19},40,0.52500000000000002,-4.0816326530612242E-2,{"$f":"Table1[[#This Row],[Correct]]/Table1[[#This Row],['#Quizzes]]","v":0.42857142857142855},{"$f":"SUMIF(DATA!$A$2:$A$9077,B81,DATA!$L$2:$L$9077)","v":2},{"$f":"SUMIF(DATA!$A$2:$A$9077,B81,DATA!$M$2:$M$79077)","v":2},{"$f":"SUMIF(DATA!$A$2:$A$9077,B81,DATA!$N$2:$N$9077)","v":4},{"$f":"SUMIF(DATA!$A$2:$A$9101,B81,DATA!$O$2:$O$9101)","v":1},{"$f":"SUMIF(DATA!$A$2:$A$9101,B81,DATA!$P$2:$P$9101)","v":3},{"$f":"SUMIF(DATA!$A$2:$A$9101,B81,DATA!$Q$2:$Q$9101)","v":0},{"$f":"SUMIF(DATA!$A$2:$A$9078,B81,DATA!$R$2:$R$9078)","v":0},0,{"$f":"SUMIF(DATA!$A$2:$A$9078,B81,DATA!$S$2:$S$9078)","v":1},2.0408163265306121E-2,{"$f":"SUMIFS(DATA!J:J,DATA!A:A,Table1[[#This Row],[Name]],DATA!F:F,\"Pre\")","v":9},{"$f":"SUMIFS(DATA!K:K,DATA!A:A,Table1[[#This Row],[Name]],DATA!F:F,\"Pre\")","v":12},0.42857142857142855,{"$f":"SUMIFS(DATA!J:J,DATA!A:A,Table1[[#This Row],[Name]],DATA!F:F,\"Semi\")","v":0},{"$f":"SUMIFS(DATA!K:K,DATA!A:A,Table1[[#This Row],[Name]],DATA!F:F,\"Semi\")","v":0},{"$error":"#DIV/0!"},{"$f":"SUMIFS(DATA!J:J,DATA!A:A,Table1[[#This Row],[Name]],DATA!F:F,\"COnA\")","v":6},{"$f":"SUMIFS(DATA!K:K,DATA!A:A,Table1[[#This Row],[Name]],DATA!F:F,\"ConA\")","v":4},0.6,{"$f":"SUMIFS(DATA!J:J,DATA!A:A,Table1[[#This Row],[Name]],DATA!F:F,\"ConB\")","v":6},{"$f":"SUMIFS(DATA!K:K,DATA!A:A,Table1[[#This Row],[Name]],DATA!F:F,\"ConB\")","v":3},0.66666666666666663]
[74,"Emma Madsen","Fox Island",{"$f":"COUNTIF(DATA!$A$2:$A$9731,B82)","v":48},{"$f":"SUMIF(DATA!$A$2:$A$9077,B82,DATA!$J$2:$J$9077)","v":36},{"$f":"SUMIF(DATA!$A$2:$A$9077,B82,DATA!$K$2:$K$9077)","v":40},76,0.47368421052631576,-0.10416666666666667,{"$f":"Table1[[#This Row],[Correct]]/Table1[[#This Row],['#Quizzes]]","v":0.75},{"$f":"SUMIF(DATA!$A$2:$A$9077,B82,DATA!$L$2:$L$9077)","v":0},{"$f":"SUMIF(DATA!$A$2:$A$9077,B82,DATA!$M$2:$M$79077)","v":1},{"$f":"SUMIF(DATA!$A$2:$A$9077,B82,DATA!$N$2:$N$9077)","v":2},{"$f":"SUMIF(DATA!$A$2:$A$9101,B82,DATA!$O$2:$O$9101)","v":6},{"$f":"SUMIF(DATA!$A$2:$A$9101,B82,DATA!$P$2:$P$9101)","v":0},{"$f":"SUMIF(DATA!$A$2:$A$9101,B82,DATA!$Q$2:$Q$9101)","v":0},{"$f":"SUMIF(DATA!$A$2:$A$9078,B82,DATA!$R$2:$R$9078)","v":3},6.25E-2,{"$f":"SUMIF(DATA!$A$2:$A$9078,B82,DATA!$S$2:$S$9078)","v":0},0,{"$f":"SUMIFS(DATA!J:J,DATA!A:A,Table1[[#This Row],[Name]],DATA!F:F,\"Pre\")","v":23},{"$f":"SUMIFS(DATA!K:K,DATA!A:A,Table1[[#This Row],[Name]],DATA!F:F,\"Pre\")","v":26},0.46938775510204084,{"$f":"SUMIFS(DATA!J:J,DATA!A:A,Table1[[#This Row],[Name]],DATA!F:F,\"Semi\")","v":2},{"$f":"SUMIFS(DATA!K:K,DATA!A:A,Table1[[#This Row],[Name]],DATA!F:F,\"Semi\")","v":1},0.66666666666666663,{"$f":"SUMIFS(DATA!J:J,DATA!A:A,Table1[[#This Row],[Name]],DATA!F:F,\"COnA\")","v":5},{"$f":"SUMIFS(DATA!K:K,DATA!A:A,Table1[[#This Row],[Name]],DATA!F:F,\"ConA\")","v":10},0.33333333333333331,{"$f":"SUMIFS(DATA!J:J,DATA!A:A,Table1[[#This Row],[Name]],DATA!F:F,\"ConB\")","v":6},{"$f":"SUMIFS(DATA!K:K,DATA!A:A,Table1[[#This Row],[Name]],DATA!F:F,\"ConB\")","v":3},0.66666666666666663]
[84,"Maddy Cliffe","Lighthouse",{"$f":"COUNTIF(DATA!$A$2:$A$9731,B83)","v":42},{"$f":"SUMIF(DATA!$A$2:$A$9077,B83,DATA!$J$2:$J$9077)","v":7},{"$f":"SUMIF(DATA!$A$2:$A$9077,B83,DATA!$K$2:$K$9077)","v":10},17,0.41176470588235292,-9.5238095238095233E-2,{"$f":"Table1[[#This Row],[Correct]]/Table1[[#This Row],['#Quizzes]]","v":0.16666666666666666},{"$f":"SUMIF(DATA!$A$2:$A$9077,B83,DATA!$L$2:$L$9077)","v":1},{"$f":"SUMIF(DATA!$A$2:$A$9077,B83,DATA!$M$2:$M$79077)","v":2},{"$f":"SUMIF(DATA!$A$2:$A$9077,B83,DATA!$N$2:$N$9077)","v":2},{"$f":"SUMIF(DATA!$A$2:$A$9101,B83,DATA!$O$2:$O$9101)","v":0},{"$f":"SUMIF(DATA!$A$2:$A$9101,B83,DATA!$P$2:$P$9101)","v":0},{"$f":"SUMIF(DATA!$A$2:$A$9101,B83,DATA!$Q$2:$Q$9101)","v":0},{"$f":"SUMIF(DATA!$A$2:$A$9078,B83,DATA!$R$2:$R$9078)","v":0},0,{"$f":"SUMIF(DATA!$A$2:$A$9078,B83,DATA!$S$2:$S$9078)","v":0},0,{"$f":"SUMIFS(DATA!J:J,DATA!A:A,Table1[[#This Row],[Name]],DATA!F:F,\"Pre\")","v":5},{"$f":"SUMIFS(DATA!K:K,DATA!A:A,Table1[[#This Row],[Name]],DATA!F:F,\"Pre\")","v":8},0.38461538461538464,{"$f":"SUMIFS(DATA!J:J,DATA!A:A,Table1[[#This Row],[Name]],DATA!F:F,\"Semi\")","v":0},{"$f":"SUMIFS(DATA!K:K,DATA!A:A,Table1[[#This Row],[Name]],DATA!F:F,\"Semi\")","v":0},{"$error":"#DIV/0!"},{"$f":"SUMIFS(DATA!J:J,DATA!A:A,Table1[[#This Row],[Name]],DATA!F:F,\"COnA\")","v":1},{"$f":"SUMIFS(DATA!K:K,DATA!A:A,Table1[[#This Row],[Name]],DATA!F:F,\"ConA\")","v":1},0.5,{"$f":"SUMIFS(DATA!J:J,DATA!A:A,Table1[[#This Row],[Name]],DATA!F:F,\"ConB\")","v":1},{"$f":"SUMIFS(DATA!K:K,DATA!A:A,Table1[[#This Row],[Name]],DATA!F:F,\"ConB\")","v":1},0.5]
[81,"Anna Magnuson","Tacoma",{"$f":"COUNTIF(DATA!$A$2:$A$9731,B84)","v":49},{"$f":"SUMIF(DATA!$A$2:$A$9077,B84,DATA!$J$2:$J$9077)","v":7},{"$f":"SUMIF(DATA!$A$2:$A$9077,B84,DATA!$K$2:$K$9077)","v":8},15,0.46666666666666667,-8.1632653061224483E-2,{"$f":"Table1[[#This Row],[Correct]]/Table1[[#This Row],['#Quizzes]]","v":0.14285714285714285},{"$f":"SUMIF(DATA!$A$2:$A$9077,B84,DATA!$L$2:$L$9077)","v":2},{"$f":"SUMIF(DATA!$A$2:$A$9077,B84,DATA!$M$2:$M$79077)","v":1},{"$f":"SUMIF(DATA!$A$2:$A$9077,B84,DATA!$N$2:$N$9077)","v":2},{"$f":"SUMIF(DATA!$A$2:$A$9101,B84,DATA!$O$2:$O$9101)","v":1},{"$f":"SUMIF(DATA!$A$2:$A$9101,B84,DATA!$P$2:$P$9101)","v":2},{"$f":"SUMIF(DATA!$A$2:$A$9101,B84,DATA!$Q$2:$Q$9101)","v":0},{"$f":"SUMIF(DATA!$A$2:$A$9078,B84,DATA!$R$2:$R$9078)","v":0},0,{"$f":"SUMIF(DATA!$A$2:$A$9078,B84,DATA!$S$2:$S$9078)","v":0},0,{"$f":"SUMIFS(DATA!J:J,DATA!A:A,Table1[[#This Row],[Name]],DATA!F:F,\"Pre\")","v":1},{"$f":"SUMIFS(DATA!K:K,DATA!A:A,Table1[[#This Row],[Name]],DATA!F:F,\"Pre\")","v":4},0.2,{"$f":"SUMIFS(DATA!J:J,DATA!A:A,Table1[[#This Row],[Name]],DATA!F:F,\"Semi\")","v":0},{"$f":"SUMIFS(DATA!K:K,DATA!A:A,Table1[[#This Row],[Name]],DATA!F:F,\"Semi\")","v":0},{"$error":"#DIV/0!"},{"$f":"SUMIFS(DATA!J:J,DATA!A:A,Table1[[#This Row],[Name]],DATA!F:F,\"COnA\")","v":1},{"$f":"SUMIFS(DATA!K:K,DATA!A:A,Table1[[#This Row],[Name]],DATA!F:F,\"ConA\")","v":0},1,{"$f":"SUMIFS(DATA!J:J,DATA!A:A,Table1[[#This Row],[Name]],DATA!F:F,\"ConB\")","v":5},{"$f":"SUMIFS(DATA!K:K,DATA!A:A,Table1[[#This Row],[Name]],DATA!F:F,\"ConB\")","v":4},0.55555555555555558]
[83,"Calvin Baker","Dallas",{"$f":"COUNTIF(DATA!$A$2:$A$9731,B85)","v":26},{"$f":"SUMIF(DATA!$A$2:$A$9077,B85,DATA!$J$2:$J$9077)","v":1},{"$f":"SUMIF(DATA!$A$2:$A$9077,B85,DATA!$K$2:$K$9077)","v":4},5,0.2,-0.11538461538461539,{"$f":"Table1[[#This Row],[Correct]]/Table1[[#This Row],['#Quizzes]]","v":3.8461538461538464E-2},{"$f":"SUMIF(DATA!$A$2:$A$9077,B85,DATA!$L$2:$L$9077)","v":0},{"$f":"SUMIF(DATA!$A$2:$A$9077,B85,DATA!$M$2:$M$79077)","v":0},{"$f":"SUMIF(DATA!$A$2:$A$9077,B85,DATA!$N$2:$N$9077)","v":0},{"$f":"SUMIF(DATA!$A$2:$A$9101,B85,DATA!$O$2:$O$9101)","v":1},{"$f":"SUMIF(DATA!$A$2:$A$9101,B85,DATA!$P$2:$P$9101)","v":0},{"$f":"SUMIF(DATA!$A$2:$A$9101,B85,DATA!$Q$2:$Q$9101)","v":0},{"$f":"SUMIF(DATA!$A$2:$A$9078,B85,DATA!$R$2:$R$9078)","v":0},0,{"$f":"SUMIF(DATA!$A$2:$A$9078,B85,DATA!$S$2:$S$9078)","v":0},0,{"$f":"SUMIFS(DATA!J:J,DATA!A:A,Table1[[#This Row],[Name]],DATA!F:F,\"Pre\")","v":1},{"$f":"SUMIFS(DATA!K:K,DATA!A:A,Table1[[#This Row],[Name]],DATA!F:F,\"Pre\")","v":2},0.33333333333333331,{"$f":"SUMIFS(DATA!J:J,DATA!A:A,Table1[[#This Row],[Name]],DATA!F:F,\"Semi\")","v":0},{"$f":"SUMIFS(DATA!K:K,DATA!A:A,Table1[[#This Row],[Name]],DATA!F:F,\"Semi\")","v":2},0,{"$f":"SUMIFS(DATA!J:J,DATA!A:A,Table1[[#This Row],[Name]],DATA!F:F,\"COnA\")","v":0},{"$f":"SUMIFS(DATA!K:K,DATA!A:A,Table1[[#This Row],[Name]],DATA!F:F,\"ConA\")","v":0},{"$error":"#DIV/0!"},{"$f":"SUMIFS(DATA!J:J,DATA!A:A,Table1[[#This Row],[Name]],DATA!F:F,\"ConB\")","v":0},{"$f":"SUMIFS(DATA!K:K,DATA!A:A,Table1[[#This Row],[Name]],DATA!F:F,\"ConB\")","v":0},{"$error":"#DIV/0!"}]
[86,"Colton Berge","Tacoma",{"$f":"COUNTIF(DATA!$A$2:$A$9731,B86)","v":49},{"$f":"SUMIF(DATA!$A$2:$A$9077,B86,DATA!$J$2:$J$9077)","v":6},{"$f":"SUMIF(DATA!$A$2:$A$9077,B86,DATA!$K$2:$K$9077)","v":11},17,0.35294117647058826,-0.20408163265306123,{"$f":"Table1[[#This Row],[Correct]]/Table1[[#This Row],['#Quizzes]]","v":0.12244897959183673},{"$f":"SUMIF(DATA!$A$2:$A$9077,B86,DATA!$L$2:$L$9077)","v":4},{"$f":"SUMIF(DATA!$A$2:$A$9077,B86,DATA!$M$2:$M$79077)","v":0},{"$f":"SUMIF(DATA!$A$2:$A$9077,B86,DATA!$N$2:$N$9077)","v":1},{"$f":"SUMIF(DATA!$A$2:$A$9101,B86,DATA!$O$2:$O$9101)","v":2},{"$f":"SUMIF(DATA!$A$2:$A$9101,B86,DATA!$P$2:$P$9101)","v":0},{"$f":"SUMIF(DATA!$A$2:$A$9101,B86,DATA!$Q$2:$Q$9101)","v":0},{"$f":"SUMIF(DATA!$A$2:$A$9078,B86,DATA!$R$2:$R$9078)","v":0},0,{"$f":"SUMIF(DATA!$A$2:$A$9078,B86,DATA!$S$2:$S$9078)","v":0},0,{"$f":"SUMIFS(DATA!J:J,DATA!A:A,Table1[[#This Row],[Name]],DATA!F:F,\"Pre\")","v":2},{"$f":"SUMIFS(DATA!K:K,DATA!A:A,Table1[[#This Row],[Name]],DATA!F:F,\"Pre\")","v":8},0.2,{"$f":"SUMIFS(DATA!J:J,DATA!A:A,Table1[[#This Row],[Name]],DATA!F:F,\"Semi\")","v":0},{"$f":"SUMIFS(DATA!K:K,DATA!A:A,Table1[[#This Row],[Name]],DATA!F:F,\"Semi\")","v":0},{"$error":"#DIV/0!"},{"$f":"SUMIFS(DATA!J:J,DATA!A:A,Table1[[#This Row],[Name]],DATA!F:F,\"COnA\")","v":1},{"$f":"SUMIFS(DATA!K:K,DATA!A:A,Table1[[#This Row],[Name]],DATA!F:F,\"ConA\")","v":2},0.33333333333333331,{"$f":"SUMIFS(DATA!J:J,DATA!A:A,Table1[[#This Row],[Name]],DATA!F:F,\"ConB\")","v":3},{"$f":"SUMIFS(DATA!K:K,DATA!A:A,Table1[[#This Row],[Name]],DATA!F:F,\"ConB\")","v":1},0.75]
[88,"Johnathan Lehrkind","Grays Harbor",{"$f":"COUNTIF(DATA!$A$2:$A$9731,B87)","v":37},{"$f":"SUMIF(DATA!$A$2:$A$9077,B87,DATA!$J$2:$J$9077)","v":1},{"$f":"SUMIF(DATA!$A$2:$A$9077,B87,DATA!$K$2:$K$9077)","v":9},10,0.1,-0.24324324324324326,{"$f":"Table1[[#This Row],[Correct]]/Table1[[#This Row],['#Quizzes]]","v":2.7027027027027029E-2},{"$f":"SUMIF(DATA!$A$2:$A$9077,B87,DATA!$L$2:$L$9077)","v":1},{"$f":"SUMIF(DATA!$A$2:$A$9077,B87,DATA!$M$2:$M$79077)","v":0},{"$f":"SUMIF(DATA!$A$2:$A$9077,B87,DATA!$N$2:$N$9077)","v":0},{"$f":"SUMIF(DATA!$A$2:$A$9101,B87,DATA!$O$2:$O$9101)","v":0},{"$f":"SUMIF(DATA!$A$2:$A$9101,B87,DATA!$P$2:$P$9101)","v":0},{"$f":"SUMIF(DATA!$A$2:$A$9101,B87,DATA!$Q$2:$Q$9101)","v":0},{"$f":"SUMIF(DATA!$A$2:$A$9078,B87,DATA!$R$2:$R$9078)","v":0},0,{"$f":"SUMIF(DATA!$A$2:$A$9078,B87,DATA!$S$2:$S$9078)","v":0},0,{"$f":"SUMIFS(DATA!J:J,DATA!A:A,Table1[[#This Row],[Name]],DATA!F:F,\"Pre\")","v":1},{"$f":"SUMIFS(DATA!K:K,DATA!A:A,Table1[[#This Row],[Name]],DATA!F:F,\"Pre\")","v":7},0.125,{"$f":"SUMIFS(DATA!J:J,DATA!A:A,Table1[[#This Row],[Name]],DATA!F:F,\"Semi\")","v":0},{"$f":"SUMIFS(DATA!K:K,DATA!A:A,Table1[[#This Row],[Name]],DATA!F:F,\"Semi\")","v":0},{"$error":"#DIV/0!"},{"$f":"SUMIFS(DATA!J:J,DATA!A:A,Table1[[#This Row],[Name]],DATA!F:F,\"COnA\")","v":0},{"$f":"SUMIFS(DATA!K:K,DATA!A:A,Table1[[#This Row],[Name]],DATA!F:F,\"ConA\")","v":2},0,{"$f":"SUMIFS(DATA!J:J,DATA!A:A,Table1[[#This Row],[Name]],DATA!F:F,\"ConB\")","v":0},{"$f":"SUMIFS(DATA!K:K,DATA!A:A,Table1[[#This Row],[Name]],DATA!F:F,\"ConB\")","v":0},{"$error":"#DIV/0!"}]
[87,"Ivan Derr","Chapel Hill",{"$f":"COUNTIF(DATA!$A$2:$A$9731,B88)","v":40},{"$f":"SUMIF(DATA!$A$2:$A$9077,B88,DATA!$J$2:$J$9077)","v":14},{"$f":"SUMIF(DATA!$A$2:$A$9077,B88,DATA!$K$2:$K$9077)","v":24},38,0.36842105263157893,-0.25,{"$f":"Table1[[#This Row],[Correct]]/Table1[[#This Row],['#Quizzes]]","v":0.35},{"$f":"SUMIF(DATA!$A$2:$A$9077,B88,DATA!$L$2:$L$9077)","v":1},{"$f":"SUMIF(DATA!$A$2:$A$9077,B88,DATA!$M$2:$M$79077)","v":1},{"$f":"SUMIF(DATA!$A$2:$A$9077,B88,DATA!$N$2:$N$9077)","v":0},{"$f":"SUMIF(DATA!$A$2:$A$9101,B88,DATA!$O$2:$O$9101)","v":2},{"$f":"SUMIF(DATA!$A$2:$A$9101,B88,DATA!$P$2:$P$9101)","v":1},{"$f":"SUMIF(DATA!$A$2:$A$9101,B88,DATA!$Q$2:$Q$9101)","v":0},{"$f":"SUMIF(DATA!$A$2:$A$9078,B88,DATA!$R$2:$R$9078)","v":0},0,{"$f":"SUMIF(DATA!$A$2:$A$9078,B88,DATA!$S$2:$S$9078)","v":0},0,{"$f":"SUMIFS(DATA!J:J,DATA!A:A,Table1[[#This Row],[Name]],DATA!F:F,\"Pre\")","v":4},{"$f":"SUMIFS(DATA!K:K,DATA!A:A,Table1[[#This Row],[Name]],DATA!F:F,\"Pre\")","v":12},0.25,{"$f":"SUMIFS(DATA!J:J,DATA!A:A,Table1[[#This Row],[Name]],DATA!F:F,\"Semi\")","v":0},{"$f":"SUMIFS(DATA!K:K,DATA!A:A,Table1[[#This Row],[Name]],DATA!F:F,\"Semi\")","v":0},{"$error":"#DIV/0!"},{"$f":"SUMIFS(DATA!J:J,DATA!A:A,Table1[[#This Row],[Name]],DATA!F:F,\"COnA\")","v":10},{"$f":"SUMIFS(DATA!K:K,DATA!A:A,Table1[[#This Row],[Name]],DATA!F:F,\"ConA\")","v":12},0.45454545454545453,{"$f":"SUMIFS(DATA!J:J,DATA!A:A,Table1[[#This Row],[Name]],DATA!F:F,\"ConB\")","v":0},{"$f":"SUMIFS(DATA!K:K,DATA!A:A,Table1[[#This Row],[Name]],DATA!F:F,\"ConB\")","v":0},{"$error":"#DIV/0!"}]
[85,"Tyler Slothower","Chapel Hill",{"$f":"COUNTIF(DATA!$A$2:$A$9731,B89)","v":47},{"$f":"SUMIF(DATA!$A$2:$A$9077,B89,DATA!$J$2:$J$9077)","v":10},{"$f":"SUMIF(DATA!$A$2:$A$9077,B89,DATA!$K$2:$K$9077)","v":20},30,0.33333333333333331,-0.25531914893617019,{"$f":"Table1[[#This Row],[Correct]]/Table1[[#This Row],['#Quizzes]]","v":0.21276595744680851},{"$f":"SUMIF(DATA!$A$2:$A$9077,B89,DATA!$L$2:$L$9077)","v":2},{"$f":"SUMIF(DATA!$A$2:$A$9077,B89,DATA!$M$2:$M$79077)","v":0},{"$f":"SUMIF(DATA!$A$2:$A$9077,B89,DATA!$N$2:$N$9077)","v":0},{"$f":"SUMIF(DATA!$A$2:$A$9101,B89,DATA!$O$2:$O$9101)","v":3},{"$f":"SUMIF(DATA!$A$2:$A$9101,B89,DATA!$P$2:$P$9101)","v":0},{"$f":"SUMIF(DATA!$A$2:$A$9101,B89,DATA!$Q$2:$Q$9101)","v":0},{"$f":"SUMIF(DATA!$A$2:$A$9078,B89,DATA!$R$2:$R$9078)","v":0},0,{"$f":"SUMIF(DATA!$A$2:$A$9078,B89,DATA!$S$2:$S$9078)","v":0},0,{"$f":"SUMIFS(DATA!J:J,DATA!A:A,Table1[[#This Row],[Name]],DATA!F:F,\"Pre\")","v":6},{"$f":"SUMIFS(DATA!K:K,DATA!A:A,Table1[[#This Row],[Name]],DATA!F:F,\"Pre\")","v":13},0.31578947368421051,{"$f":"SUMIFS(DATA!J:J,DATA!A:A,Table1[[#This Row],[Name]],DATA!F:F,\"Semi\")","v":0},{"$f":"SUMIFS(DATA!K:K,DATA!A:A,Table1[[#This Row],[Name]],DATA!F:F,\"Semi\")","v":0},{"$error":"#DIV/0!"},{"$f":"SUMIFS(DATA!J:J,DATA!A:A,Table1[[#This Row],[Name]],DATA!F:F,\"COnA\")","v":1},{"$f":"SUMIFS(DATA!K:K,DATA!A:A,Table1[[#This Row],[Name]],DATA!F:F,\"ConA\")","v":4},0.2,{"$f":"SUMIFS(DATA!J:J,DATA!A:A,Table1[[#This Row],[Name]],DATA!F:F,\"ConB\")","v":3},{"$f":"SUMIFS(DATA!K:K,DATA!A:A,Table1[[#This Row],[Name]],DATA!F:F,\"ConB\")","v":3},0.5]
[89,"Ha Tien Nguyen","ABC",{"$f":"COUNTIF(DATA!$A$2:$A$9731,B90)","v":48},{"$f":"SUMIF(DATA!$A$2:$A$9077,B90,DATA!$J$2:$J$9077)","v":34},{"$f":"SUMIF(DATA!$A$2:$A$9077,B90,DATA!$K$2:$K$9077)","v":54},88,0.38636363636363635,-0.375,{"$f":"Table1[[#This Row],[Correct]]/Table1[[#This Row],['#Quizzes]]","v":0.70833333333333337},{"$f":"SUMIF(DATA!$A$2:$A$9077,B90,DATA!$L$2:$L$9077)","v":1},{"$f":"SUMIF(DATA!$A$2:$A$9077,B90,DATA!$M$2:$M$79077)","v":7},{"$f":"SUMIF(DATA!$A$2:$A$9077,B90,DATA!$N$2:$N$9077)","v":4},{"$f":"SUMIF(DATA!$A$2:$A$9101,B90,DATA!$O$2:$O$9101)","v":3},{"$f":"SUMIF(DATA!$A$2:$A$9101,B90,DATA!$P$2:$P$9101)","v":0},{"$f":"SUMIF(DATA!$A$2:$A$9101,B90,DATA!$Q$2:$Q$9101)","v":0},{"$f":"SUMIF(DATA!$A$2:$A$9078,B90,DATA!$R$2:$R$9078)","v":0},0,{"$f":"SUMIF(DATA!$A$2:$A$9078,B90,DATA!$S$2:$S$9078)","v":6},0.125,{"$f":"SUMIFS(DATA!J:J,DATA!A:A,Table1[[#This Row],[Name]],DATA!F:F,\"Pre\")","v":14},{"$f":"SUMIFS(DATA!K:K,DATA!A:A,Table1[[#This Row],[Name]],DATA!F:F,\"Pre\")","v":32},0.30434782608695654,{"$f":"SUMIFS(DATA!J:J,DATA!A:A,Table1[[#This Row],[Name]],DATA!F:F,\"Semi\")","v":0},{"$f":"SUMIFS(DATA!K:K,DATA!A:A,Table1[[#This Row],[Name]],DATA!F:F,\"Semi\")","v":0},{"$error":"#DIV/0!"},{"$f":"SUMIFS(DATA!J:J,DATA!A:A,Table1[[#This Row],[Name]],DATA!F:F,\"COnA\")","v":11},{"$f":"SUMIFS(DATA!K:K,DATA!A:A,Table1[[#This Row],[Name]],DATA!F:F,\"ConA\")","v":14},0.44,{"$f":"SUMIFS(DATA!J:J,DATA!A:A,Table1[[#This Row],[Name]],DATA!F:F,\"ConB\")","v":9},{"$f":"SUMIFS(DATA!K:K,DATA!A:A,Table1[[#This Row],[Name]],DATA!F:F,\"ConB\")","v":8},0.52941176470588236]
[90,"Austin Watkins","Dallas",{"$f":"COUNTIF(DATA!$A$2:$A$9731,B91)","v":22},{"$f":"SUMIF(DATA!$A$2:$A$9077,B91,DATA!$J$2:$J$9077)","v":1},{"$f":"SUMIF(DATA!$A$2:$A$9077,B91,DATA!$K$2:$K$9077)","v":8},9,0.1111111111111111,-0.36363636363636365,{"$f":"Table1[[#This Row],[Correct]]/Table1[[#This Row],['#Quizzes]]","v":4.5454545454545456E-2},{"$f":"SUMIF(DATA!$A$2:$A$9077,B91,DATA!$L$2:$L$9077)","v":0},{"$f":"SUMIF(DATA!$A$2:$A$9077,B91,DATA!$M$2:$M$79077)","v":0},{"$f":"SUMIF(DATA!$A$2:$A$9077,B91,DATA!$N$2:$N$9077)","v":1},{"$f":"SUMIF(DATA!$A$2:$A$9101,B91,DATA!$O$2:$O$9101)","v":1},{"$f":"SUMIF(DATA!$A$2:$A$9101,B91,DATA!$P$2:$P$9101)","v":0},{"$f":"SUMIF(DATA!$A$2:$A$9101,B91,DATA!$Q$2:$Q$9101)","v":0},{"$f":"SUMIF(DATA!$A$2:$A$9078,B91,DATA!$R$2:$R$9078)","v":0},0,{"$f":"SUMIF(DATA!$A$2:$A$9078,B91,DATA!$S$2:$S$9078)","v":0},0,{"$f":"SUMIFS(DATA!J:J,DATA!A:A,Table1[[#This Row],[Name]],DATA!F:F,\"Pre\")","v":1},{"$f":"SUMIFS(DATA!K:K,DATA!A:A,Table1[[#This Row],[Name]],DATA!F:F,\"Pre\")","v":7},0.125,{"$f":"SUMIFS(DATA!J:J,DATA!A:A,Table1[[#This Row],[Name]],DATA!F:F,\"Semi\")","v":0},{"$f":"SUMIFS(DATA!K:K,DATA!A:A,Table1[[#This Row],[Name]],DATA!F:F,\"Semi\")","v":1},0,{"$f":"SUMIFS(DATA!J:J,DATA!A:A,Table1[[#This Row],[Name]],DATA!F:F,\"COnA\")","v":0},{"$f":"SUMIFS(DATA!K:K,DATA!A:A,Table1[[#This Row],[Name]],DATA!F:F,\"ConA\")","v":0},{"$error":"#DIV/0!"},{"$f":"SUMIFS(DATA!J:J,DATA!A:A,Table1[[#This Row],[Name]],DATA!F:F,\"ConB\")","v":0},{"$f":"SUMIFS(DATA!K:K,DATA!A:A,Table1[[#This Row],[Name]],DATA!F:F,\"ConB\")","v":0},{"$error":"#DIV/0!"}]
[91,"Brennan Schwebke","Lighthouse",{"$f":"COUNTIF(DATA!$A$2:$A$9731,B92)","v":9},{"$f":"SUMIF(DATA!$A$2:$A$9077,B92,DATA!$J$2:$J$9077)","v":1},{"$f":"SUMIF(DATA!$A$2:$A$9077,B92,DATA!$K$2:$K$9077)","v":4},5,0.2,-0.66666666666666663,{"$f":"Table1[[#This Row],[Correct]]/Table1[[#This Row],['#Quizzes]]","v":0.1111111111111111},{"$f":"SUMIF(DATA!$A$2:$A$9077,B92,DATA!$L$2:$L$9077)","v":2},{"$f":"SUMIF(DATA!$A$2:$A$9077,B92,DATA!$M$2:$M$79077)","v":0},{"$f":"SUMIF(DATA!$A$2:$A$9077,B92,DATA!$N$2:$N$9077)","v":1},{"$f":"SUMIF(DATA!$A$2:$A$9101,B92,DATA!$O$2:$O$9101)","v":0},{"$f":"SUMIF(DATA!$A$2:$A$9101,B92,DATA!$P$2:$P$9101)","v":0},{"$f":"SUMIF(DATA!$A$2:$A$9101,B92,DATA!$Q$2:$Q$9101)","v":0},{"$f":"SUMIF(DATA!$A$2:$A$9078,B92,DATA!$R$2:$R$9078)","v":0},0,{"$f":"SUMIF(DATA!$A$2:$A$9078,B92,DATA!$S$2:$S$9078)","v":0},0,{"$f":"SUMIFS(DATA!J:J,DATA!A:A,Table1[[#This Row],[Name]],DATA!F:F,\"Pre\")","v":1},{"$f":"SUMIFS(DATA!K:K,DATA!A:A,Table1[[#This Row],[Name]],DATA!F:F,\"Pre\")","v":2},0.33333333333333331,{"$f":"SUMIFS(DATA!J:J,DATA!A:A,Table1[[#This Row],[Name]],DATA!F:F,\"Semi\")","v":0},{"$f":"SUMIFS(DATA!K:K,DATA!A:A,Table1[[#This Row],[Name]],DATA!F:F,\"Semi\")","v":0},{"$error":"#DIV/0!"},{"$f":"SUMIFS(DATA!J:J,DATA!A:A,Table1[[#This Row],[Name]],DATA!F:F,\"COnA\")","v":0},{"$f":"SUMIFS(DATA!K:K,DATA!A:A,Table1[[#This Row],[Name]],DATA!F:F,\"ConA\")","v":0},{"$error":"#DIV/0!"},{"$f":"SUMIFS(DATA!J:J,DATA!A:A,Table1[[#This Row],[Name]],DATA!F:F,\"ConB\")","v":0},{"$f":"SUMIFS(DATA!K:K,DATA!A:A,Table1[[#This Row],[Name]],DATA!F:F,\"ConB\")","v":2},0]

{"sheet":"Reports","index":2,"n_rows":31,"n_cols":30,"rows_kept":31,"cut":false,"hidden":false,"merged":[]}
[null,"Quiz","Correct","Error","Accuracy",null,null,"QM","Correct","Error","Accuracy",null,"QM","Fouls",null,null,null,null,"Year","Meet","Pre","Semi","ConA","ConB","SUM","Quiz Out","Error Out","BonCorr","BonErr","Foul"]
[null,"E",{"$f":"SUMIF(DATA!$H$2:$H$9077,B2,DATA!$J$2:$J$9093)","v":69},{"$f":"SUMIF(DATA!$H$2:$H$9093,B2,DATA!$K$2:$K$9093)","v":27},{"$f":"C2/(C2+D2)","v":0.71875},null,null,"Tiffany Bye",{"$f":"SUMIF(DATA!$I$2:$I$9732,H2,DATA!$J$2:$J$9732)","v":714},{"$f":"SUMIF(DATA!$I$2:$I$9732,H2,DATA!$K$2:$K$9732)","v":308},{"$f":"I2/(I2+J2)","v":0.69863013698630139},null,"Scott Peterson",{"$f":"SUMIF(DATA!$I$2:$I$9732,M2,DATA!$L$2:$L$9732)","v":31},null,null,null,null,"2011-2012",1,54,12,10,10,86,216,8]
[null,"B",{"$f":"SUMIF(DATA!$H$2:$H$9077,B3,DATA!$J$2:$J$9093)","v":71},{"$f":"SUMIF(DATA!$H$2:$H$9093,B3,DATA!$K$2:$K$9093)","v":32},0.68932038834951459,null,null,"Cutty Welt",{"$f":"SUMIF(DATA!$I$2:$I$9732,H3,DATA!$J$2:$J$9732)","v":1279},{"$f":"SUMIF(DATA!$I$2:$I$9732,H3,DATA!$K$2:$K$9732)","v":558},0.69624387588459447,null,"Jeremy Swingle",{"$f":"SUMIF(DATA!$I$2:$I$9732,M3,DATA!$L$2:$L$9732)","v":20},null,null,null,null,"2011-2012",2,54,12,10,10,86,192,18]
[null,"G",{"$f":"SUMIF(DATA!$H$2:$H$9077,B4,DATA!$J$2:$J$9093)","v":65},{"$f":"SUMIF(DATA!$H$2:$H$9093,B4,DATA!$K$2:$K$9093)","v":36},0.64356435643564358,null,null,"Abby Ashcraft",{"$f":"SUMIF(DATA!$I$2:$I$9732,H4,DATA!$J$2:$J$9732)","v":134},{"$f":"SUMIF(DATA!$I$2:$I$9732,H4,DATA!$K$2:$K$9732)","v":68},0.6633663366336634,null,"Tiffany Bye",{"$f":"SUMIF(DATA!$I$2:$I$9732,M4,DATA!$L$2:$L$9732)","v":15},null,null,null,null,"2011-2012",3,52,12,10,9,83,180,21]
[null,"C",{"$f":"SUMIF(DATA!$H$2:$H$9077,B5,DATA!$J$2:$J$9093)","v":64},{"$f":"SUMIF(DATA!$H$2:$H$9093,B5,DATA!$K$2:$K$9093)","v":36},0.64,null,null,"Tony Kong",{"$f":"SUMIF(DATA!$I$2:$I$9732,H5,DATA!$J$2:$J$9732)","v":287},{"$f":"SUMIF(DATA!$I$2:$I$9732,H5,DATA!$K$2:$K$9732)","v":143},0.66744186046511633,null,"Cutty Welt",{"$f":"SUMIF(DATA!$I$2:$I$9732,M5,DATA!$L$2:$L$9732)","v":14},null,null,null,null,"2011-2012",4,48,12,10,7,77,178,21]
[null,"J",{"$f":"SUMIF(DATA!$H$2:$H$9077,B6,DATA!$J$2:$J$9093)","v":178},{"$f":"SUMIF(DATA!$H$2:$H$9093,B6,DATA!$K$2:$K$9093)","v":102},0.63571428571428568,null,null,"Scott Peterson",{"$f":"SUMIF(DATA!$I$2:$I$9732,H6,DATA!$J$2:$J$9732)","v":1481},{"$f":"SUMIF(DATA!$I$2:$I$9732,H6,DATA!$K$2:$K$9732)","v":742},0.66621682411156091,null,"Tony Kong",{"$f":"SUMIF(DATA!$I$2:$I$9732,M6,DATA!$L$2:$L$9732)","v":2},null,null,null,null,"2011-2012",5,50,12,10,8,80,162,31]
[null,"D",{"$f":"SUMIF(DATA!$H$2:$H$9077,B7,DATA!$J$2:$J$9093)","v":65},{"$f":"SUMIF(DATA!$H$2:$H$9093,B7,DATA!$K$2:$K$9093)","v":38},0.6310679611650486,null,null,"Jeremy Swingle",{"$f":"SUMIF(DATA!$I$2:$I$9732,H7,DATA!$J$2:$J$9732)","v":1218},{"$f":"SUMIF(DATA!$I$2:$I$9732,H7,DATA!$K$2:$K$9732)","v":665},0.64684014869888473,null,"Abby Ashcraft",{"$f":"SUMIF(DATA!$I$2:$I$9732,M7,DATA!$L$2:$L$9732)","v":1},null,null,null,null,"2011-2012","DC",48,11,10,0,69,157,26]
[null,"I",{"$f":"SUMIF(DATA!$H$2:$H$9077,B8,DATA!$J$2:$J$9093)","v":65},{"$f":"SUMIF(DATA!$H$2:$H$9093,B8,DATA!$K$2:$K$9093)","v":38},0.6310679611650486,null,null,null,null,null,null,null,null,null,null,null,null,null,"2012-2013",1,58,12,10,12,92,203,30]
[null,"A",{"$f":"SUMIF(DATA!$H$2:$H$9077,B9,DATA!$J$2:$J$9093)","v":64},{"$f":"SUMIF(DATA!$H$2:$H$9093,B9,DATA!$K$2:$K$9093)","v":43},0.59813084112149528,null,null,"Church","Correct","Error","Accuracy","Fouls","BonCorr","BonErr","3rd","4th","5th",null,"2012-2013",2,54,12,10,10,86,149,38]
[null,"H",{"$f":"SUMIF(DATA!$H$2:$H$9077,B10,DATA!$J$2:$J$9093)","v":59},{"$f":"SUMIF(DATA!$H$2:$H$9093,B10,DATA!$K$2:$K$9093)","v":44},0.57281553398058249,null,null,"Woodinville",{"$f":"SUMIF(DATA!$C$2:$C$9731,H10,DATA!$J$2:$J$9731)","v":307},{"$f":"SUMIF(DATA!$C$2:$C$9732,H10,DATA!$K$2:$K$9732)","v":79},{"$f":"I10/(I10+J10)","v":0.79533678756476689},{"$f":"SUMIF(DATA!$C$2:$C$9732,H10,DATA!$L$2:$L$9732)","v":0},{"$f":"SUMIF(DATA!$C$2:$C$9732,H10,DATA!$M$2:$M$9732)","v":28},{"$f":"SUMIF(DATA!$C$2:$C$9732,H10,DATA!$N$2:$N$9732)","v":4},{"$f":"SUMIF(DATA!$C$2:$C$9732,H10,DATA!$O$2:$O$9732)","v":1},{"$f":"SUMIF(DATA!$C$2:$C$9732,H10,DATA!$P$2:$P$9732)","v":0},{"$f":"SUMIF(DATA!$C$2:$C$9732,H10,DATA!$Q$2:$Q$9732)","v":0},null,"2012-2013",3,54,12,10,10,86,153,38]
[null,"F",{"$f":"SUMIF(DATA!$H$2:$H$9077,B11,DATA!$J$2:$J$9093)","v":59},{"$f":"SUMIF(DATA!$H$2:$H$9093,B11,DATA!$K$2:$K$9093)","v":44},0.57281553398058249,null,null,"Tacoma",{"$f":"SUMIF(DATA!$C$2:$C$9731,H11,DATA!$J$2:$J$9731)","v":369},{"$f":"SUMIF(DATA!$C$2:$C$9732,H11,DATA!$K$2:$K$9732)","v":144},0.7192982456140351,{"$f":"SUMIF(DATA!$C$2:$C$9732,H11,DATA!$L$2:$L$9732)","v":8},{"$f":"SUMIF(DATA!$C$2:$C$9732,H11,DATA!$M$2:$M$9732)","v":16},{"$f":"SUMIF(DATA!$C$2:$C$9732,H11,DATA!$N$2:$N$9732)","v":14},{"$f":"SUMIF(DATA!$C$2:$C$9732,H11,DATA!$O$2:$O$9732)","v":13},{"$f":"SUMIF(DATA!$C$2:$C$9732,H11,DATA!$P$2:$P$9732)","v":2},{"$f":"SUMIF(DATA!$C$2:$C$9732,H11,DATA!$Q$2:$Q$9732)","v":0},null,"2012-2013",4,54,11,10,10,85,153,42]
[null,"A-F",{"$f":"SUMIF(DATA!$H$2:$H$9077,B12,DATA!$J$2:$J$9093)","v":66},{"$f":"SUMIF(DATA!$H$2:$H$9093,B12,DATA!$K$2:$K$9093)","v":22},0.75,null,null,"Grays Harbor",{"$f":"SUMIF(DATA!$C$2:$C$9731,H12,DATA!$J$2:$J$9731)","v":548},{"$f":"SUMIF(DATA!$C$2:$C$9732,H12,DATA!$K$2:$K$9732)","v":249},0.68757841907151818,{"$f":"SUMIF(DATA!$C$2:$C$9732,H12,DATA!$L$2:$L$9732)","v":10},{"$f":"SUMIF(DATA!$C$2:$C$9732,H12,DATA!$M$2:$M$9732)","v":19},{"$f":"SUMIF(DATA!$C$2:$C$9732,H12,DATA!$N$2:$N$9732)","v":7},{"$f":"SUMIF(DATA!$C$2:$C$9732,H12,DATA!$O$2:$O$9732)","v":15},{"$f":"SUMIF(DATA!$C$2:$C$9732,H12,DATA!$P$2:$P$9732)","v":0},{"$f":"SUMIF(DATA!$C$2:$C$9732,H12,DATA!$Q$2:$Q$9732)","v":0},null,"2012-2013",5,54,9,10,10,83,143,51]
[null,"A-A",{"$f":"SUMIF(DATA!$H$2:$H$9077,B13,DATA!$J$2:$J$9093)","v":74},{"$f":"SUMIF(DATA!$H$2:$H$9093,B13,DATA!$K$2:$K$9093)","v":25},0.74747474747474751,null,null,"Dallas",{"$f":"SUMIF(DATA!$C$2:$C$9731,H13,DATA!$J$2:$J$9731)","v":976},{"$f":"SUMIF(DATA!$C$2:$C$9732,H13,DATA!$K$2:$K$9732)","v":460},0.67966573816155984,{"$f":"SUMIF(DATA!$C$2:$C$9732,H13,DATA!$L$2:$L$9732)","v":2},{"$f":"SUMIF(DATA!$C$2:$C$9732,H13,DATA!$M$2:$M$9732)","v":56},{"$f":"SUMIF(DATA!$C$2:$C$9732,H13,DATA!$N$2:$N$9732)","v":21},{"$f":"SUMIF(DATA!$C$2:$C$9732,H13,DATA!$O$2:$O$9732)","v":22},{"$f":"SUMIF(DATA!$C$2:$C$9732,H13,DATA!$P$2:$P$9732)","v":2},{"$f":"SUMIF(DATA!$C$2:$C$9732,H13,DATA!$Q$2:$Q$9732)","v":0},null,"2012-2013","DC",48,12,9,0,69,140,32]
[null,"A-H",{"$f":"SUMIF(DATA!$H$2:$H$9077,B14,DATA!$J$2:$J$9093)","v":70},{"$f":"SUMIF(DATA!$H$2:$H$9093,B14,DATA!$K$2:$K$9093)","v":31},0.69306930693069302,null,null,"ABC",{"$f":"SUMIF(DATA!$C$2:$C$9731,H14,DATA!$J$2:$J$9731)","v":1174},{"$f":"SUMIF(DATA!$C$2:$C$9732,H14,DATA!$K$2:$K$9732)","v":567},0.67432510051694428,{"$f":"SUMIF(DATA!$C$2:$C$9732,H14,DATA!$L$2:$L$9732)","v":17},{"$f":"SUMIF(DATA!$C$2:$C$9732,H14,DATA!$M$2:$M$9732)","v":76},{"$f":"SUMIF(DATA!$C$2:$C$9732,H14,DATA!$N$2:$N$9732)","v":38},{"$f":"SUMIF(DATA!$C$2:$C$9732,H14,DATA!$O$2:$O$9732)","v":67},{"$f":"SUMIF(DATA!$C$2:$C$9732,H14,DATA!$P$2:$P$9732)","v":0},{"$f":"SUMIF(DATA!$C$2:$C$9732,H14,DATA!$Q$2:$Q$9732)","v":0},null,"2013-2014",1,60,12,10,13,95,229,29]
[null,"A-C",{"$f":"SUMIF(DATA!$H$2:$H$9077,B15,DATA!$J$2:$J$9093)","v":62},{"$f":"SUMIF(DATA!$H$2:$H$9093,B15,DATA!$K$2:$K$9093)","v":28},0.68888888888888888,null,null,"EBC",{"$f":"SUMIF(DATA!$C$2:$C$9731,H15,DATA!$J$2:$J$9731)","v":374},{"$f":"SUMIF(DATA!$C$2:$C$9732,H15,DATA!$K$2:$K$9732)","v":190},0.66312056737588654,{"$f":"SUMIF(DATA!$C$2:$C$9732,H15,DATA!$L$2:$L$9732)","v":6},{"$f":"SUMIF(DATA!$C$2:$C$9732,H15,DATA!$M$2:$M$9732)","v":20},{"$f":"SUMIF(DATA!$C$2:$C$9732,H15,DATA!$N$2:$N$9732)","v":7},{"$f":"SUMIF(DATA!$C$2:$C$9732,H15,DATA!$O$2:$O$9732)","v":16},{"$f":"SUMIF(DATA!$C$2:$C$9732,H15,DATA!$P$2:$P$9732)","v":0},{"$f":"SUMIF(DATA!$C$2:$C$9732,H15,DATA!$Q$2:$Q$9732)","v":0},null,"2013-2014",2,58,12,10,12,92,193,33]
[null,"A-I",{"$f":"SUMIF(DATA!$H$2:$H$9077,B16,DATA!$J$2:$J$9093)","v":61},{"$f":"SUMIF(DATA!$H$2:$H$9093,B16,DATA!$K$2:$K$9093)","v":32},0.65591397849462363,null,null,"Lighthouse",{"$f":"SUMIF(DATA!$C$2:$C$9731,H16,DATA!$J$2:$J$9731)","v":739},{"$f":"SUMIF(DATA!$C$2:$C$9732,H16,DATA!$K$2:$K$9732)","v":392},0.65340406719717059,{"$f":"SUMIF(DATA!$C$2:$C$9732,H16,DATA!$L$2:$L$9732)","v":23},{"$f":"SUMIF(DATA!$C$2:$C$9732,H16,DATA!$M$2:$M$9732)","v":53},{"$f":"SUMIF(DATA!$C$2:$C$9732,H16,DATA!$N$2:$N$9732)","v":54},{"$f":"SUMIF(DATA!$C$2:$C$9732,H16,DATA!$O$2:$O$9732)","v":57},{"$f":"SUMIF(DATA!$C$2:$C$9732,H16,DATA!$P$2:$P$9732)","v":11},{"$f":"SUMIF(DATA!$C$2:$C$9732,H16,DATA!$Q$2:$Q$9732)","v":0},null,"2013-2014",3,56,12,10,11,89,144,27]
[null,"A-G",{"$f":"SUMIF(DATA!$H$2:$H$9077,B17,DATA!$J$2:$J$9093)","v":67},{"$f":"SUMIF(DATA!$H$2:$H$9093,B17,DATA!$K$2:$K$9093)","v":35},0.65686274509803921,null,null,"Fox Island",{"$f":"SUMIF(DATA!$C$2:$C$9731,H17,DATA!$J$2:$J$9731)","v":184},{"$f":"SUMIF(DATA!$C$2:$C$9732,H17,DATA!$K$2:$K$9732)","v":118},0.60927152317880795,{"$f":"SUMIF(DATA!$C$2:$C$9732,H17,DATA!$L$2:$L$9732)","v":1},{"$f":"SUMIF(DATA!$C$2:$C$9732,H17,DATA!$M$2:$M$9732)","v":16},{"$f":"SUMIF(DATA!$C$2:$C$9732,H17,DATA!$N$2:$N$9732)","v":11},{"$f":"SUMIF(DATA!$C$2:$C$9732,H17,DATA!$O$2:$O$9732)","v":11},{"$f":"SUMIF(DATA!$C$2:$C$9732,H17,DATA!$P$2:$P$9732)","v":0},{"$f":"SUMIF(DATA!$C$2:$C$9732,H17,DATA!$Q$2:$Q$9732)","v":0},null,"2013-2014",4,50,11,10,8,79,128,37]
[null,"A-B",{"$f":"SUMIF(DATA!$H$2:$H$9077,B18,DATA!$J$2:$J$9093)","v":62},{"$f":"SUMIF(DATA!$H$2:$H$9093,B18,DATA!$K$2:$K$9093)","v":34},0.64583333333333337,null,null,"NSA",{"$f":"SUMIF(DATA!$C$2:$C$9731,H18,DATA!$J$2:$J$9731)","v":84},{"$f":"SUMIF(DATA!$C$2:$C$9732,H18,DATA!$K$2:$K$9732)","v":55},0.60431654676258995,{"$f":"SUMIF(DATA!$C$2:$C$9732,H18,DATA!$L$2:$L$9732)","v":0},{"$f":"SUMIF(DATA!$C$2:$C$9732,H18,DATA!$M$2:$M$9732)","v":7},{"$f":"SUMIF(DATA!$C$2:$C$9732,H18,DATA!$N$2:$N$9732)","v":16},{"$f":"SUMIF(DATA!$C$2:$C$9732,H18,DATA!$O$2:$O$9732)","v":0},{"$f":"SUMIF(DATA!$C$2:$C$9732,H18,DATA!$P$2:$P$9732)","v":0},{"$f":"SUMIF(DATA!$C$2:$C$9732,H18,DATA!$Q$2:$Q$9732)","v":0},null,"2013-2014",5,54,11,10,10,85,150,33]
[null,"A-J",{"$f":"SUMIF(DATA!$H$2:$H$9077,B19,DATA!$J$2:$J$9093)","v":65},{"$f":"SUMIF(DATA!$H$2:$H$9093,B19,DATA!$K$2:$K$9093)","v":38},0.6310679611650486,null,null,"Chapel Hill",{"$f":"SUMIF(DATA!$C$2:$C$9731,H19,DATA!$J$2:$J$9731)","v":358},{"$f":"SUMIF(DATA!$C$2:$C$9732,H19,DATA!$K$2:$K$9732)","v":230},0.608843537414966,{"$f":"SUMIF(DATA!$C$2:$C$9732,H19,DATA!$L$2:$L$9732)","v":16},{"$f":"SUMIF(DATA!$C$2:$C$9732,H19,DATA!$M$2:$M$9732)","v":18},{"$f":"SUMIF(DATA!$C$2:$C$9732,H19,DATA!$N$2:$N$9732)","v":14},{"$f":"SUMIF(DATA!$C$2:$C$9732,H19,DATA!$O$2:$O$9732)","v":14},{"$f":"SUMIF(DATA!$C$2:$C$9732,H19,DATA!$P$2:$P$9732)","v":2},{"$f":"SUMIF(DATA!$C$2:$C$9732,H19,DATA!$Q$2:$Q$9732)","v":0},null,"2013-2014","DC",48,13,10,0,71,125,31]
[null,"A-E",{"$f":"SUMIF(DATA!$H$2:$H$9077,B20,DATA!$J$2:$J$9093)","v":56},{"$f":"SUMIF(DATA!$H$2:$H$9093,B20,DATA!$K$2:$K$9093)","v":36},0.60869565217391308,null,null,null,null,null,null,null,null,null,null,null,null,null,"2014-2015",1,50,13,10,8,{"$f":"SUM(U20:X20)","v":81},{"$f":"SUMIF(DATA!$E$2:$E$2293,T20,DATA!$R$2:$R$2293)","v":100},{"$f":"SUMIF(DATA!$E$2:$E$2293,T20,DATA!$S$2:$S$2293)","v":16},{"$f":"SUMIF(DATA!E:E,1,DATA!M:M)","v":66},{"$f":"SUMIF(DATA!E:E,1,DATA!N:N)","v":29},{"$f":"SUMIF(DATA!E:E,1,DATA!L:L)","v":25}]
[null,"A-D",{"$f":"SUMIF(DATA!$H$2:$H$9077,B21,DATA!$J$2:$J$9093)","v":54},{"$f":"SUMIF(DATA!$H$2:$H$9093,B21,DATA!$K$2:$K$9093)","v":37},0.59340659340659341,null,null,"Type","Correct","Error","Accuracy",null,"Church","Quizzes",null,null,null,null,"2014-2015",2,50,11,10,8,79,{"$f":"SUMIF(DATA!$E$2:$E$9265,T21,DATA!$R$2:$R$9265)","v":121},{"$f":"SUMIF(DATA!$E$2:$E$9265,T21,DATA!$S$2:$S$9265)","v":43},{"$f":"SUMIF(DATA!E:E,2,DATA!M:M)","v":87},{"$f":"SUMIF(DATA!E:E,2,DATA!N:N)","v":31},{"$f":"SUMIF(DATA!E:E,2,DATA!L:L)","v":30}]
[null,null,null,null,null,null,null,"TieB",{"$f":"SUMIF(DATA!$F$2:$F$9732,H22,DATA!$J$2:$J$9732)","v":0},{"$f":"SUMIF(DATA!$F$2:$F$9732,H22,DATA!$K$2:$K$9732)","v":0},{"$f":"I22/(I22+J22)","v":{"$error":"#DIV/0!"}},null,"ABC",227,null,null,null,null,"2014-2015",3,50,11,10,8,79,{"$f":"SUMIF(DATA!$E$2:$E$9265,T22,DATA!$R$2:$R$9265)","v":110},{"$f":"SUMIF(DATA!$E$2:$E$9265,T22,DATA!$S$2:$S$9265)","v":34},{"$f":"SUMIF(DATA!E:E,3,DATA!M:M)","v":60},{"$f":"SUMIF(DATA!E:E,3,DATA!N:N)","v":39},{"$f":"SUMIF(DATA!E:E,3,DATA!L:L)","v":5}]
[null,null,null,null,null,null,null,"Pre",{"$f":"SUMIF(DATA!$F$2:$F$9732,H23,DATA!$J$2:$J$9732)","v":3252},{"$f":"SUMIF(DATA!$F$2:$F$9732,H23,DATA!$K$2:$K$9732)","v":1495},{"$f":"I23/(I23+J23)","v":0.6850642511059617},null,"Lighthouse",224,null,null,null,null,"2014-2015",4,50,12,10,8,80,{"$f":"SUMIF(DATA!$E$2:$E$9265,T23,DATA!$R$2:$R$9265)","v":90},{"$f":"SUMIF(DATA!$E$2:$E$9265,T23,DATA!$S$2:$S$9265)","v":40},{"$f":"SUMIF(DATA!E:E,4,DATA!M:M)","v":56},{"$f":"SUMIF(DATA!E:E,4,DATA!N:N)","v":48},{"$f":"SUMIF(DATA!E:E,4,DATA!L:L)","v":15}]
[null,null,null,null,null,null,null,"ConA",{"$f":"SUMIF(DATA!$F$2:$F$9732,H24,DATA!$J$2:$J$9732)","v":637},{"$f":"SUMIF(DATA!$F$2:$F$9732,H24,DATA!$K$2:$K$9732)","v":318},{"$f":"I24/(I24+J24)","v":0.66701570680628275},null,"Dallas",182,null,null,null,null,"2014-2015",5,50,11,10,8,79,{"$f":"SUMIF(DATA!$E$2:$E$9265,T24,DATA!$R$2:$R$9265)","v":114},{"$f":"SUMIF(DATA!$E$2:$E$9265,T24,DATA!$S$2:$S$9265)","v":31},{"$f":"SUMIF(DATA!E:E,5,DATA!M:M)","v":40},{"$f":"SUMIF(DATA!E:E,5,DATA!N:N)","v":39},{"$f":"SUMIF(DATA!E:E,5,DATA!L:L)","v":8}]
[null,null,null,null,null,null,null,"ConB",{"$f":"SUMIF(DATA!$F$2:$F$9732,H25,DATA!$J$2:$J$9732)","v":465},{"$f":"SUMIF(DATA!$F$2:$F$9732,H25,DATA!$K$2:$K$9732)","v":231},{"$f":"I25/(I25+J25)","v":0.6681034482758621},null,"Grays Harbor",89,null,null,null,null,"2014-2015","DC",null,null,null,null,0,{"$f":"SUMIF(DATA!$E$2:$E$9265,T25,DATA!$R$2:$R$9265)","v":0},{"$f":"SUMIF(DATA!$E$2:$E$9265,T25,DATA!$S$2:$S$9265)","v":0}]
[null,null,null,null,null,null,null,"Semi",{"$f":"SUMIF(DATA!$F$2:$F$9732,H26,DATA!$J$2:$J$9732)","v":759},{"$f":"SUMIF(DATA!$F$2:$F$9732,H26,DATA!$K$2:$K$9732)","v":440},{"$f":"I26/(I26+J26)","v":0.6330275229357798},null,"Chapel Hill",94]
[null,null,null,null,null,null,null,null,null,null,null,null,"Tacoma",91]
[null,null,null,null,null,null,null,null,null,null,null,null,"EBC",88]
[null,null,null,null,null,null,null,null,null,null,null,null,"Woodinville",50]
[null,null,null,null,null,null,null,null,null,null,null,null,"Fox Island",47]
[null,null,null,null,null,null,null,null,null,null,null,null,"NSA",45]